Workbook

Sheet 요금
A1: 서구 개인서비스요금
A2: 구분 | B2: 품목명 | C2: 규격 및 단위 | D2: 전월가격 (원) | E2: 금월가격 (원) | F2: 등락가격 (원) | H2: 등락율(%) | I2: 평균가격
A3: 외 식 비 (24종) | B3: 설 렁 탕 | C3: 1인분 (고기는 한우로 조사, 원산지 기재) | E3: =AVERAGE('업소별 가격'!D4:I4) -> 11000
B4: 냉 면 | C4: 물냉면, 1인분 | E4: =AVERAGE('업소별 가격'!D6:I6) -> 9416.6667
B5: 비 빔 밥 | C5: 1인분(보통) | E5: =AVERAGE('업소별 가격'!D8:I8) -> 9583.3333
B6: 갈 비 탕 | C6: 1인분 (고기는 한우로 조사, 원산지 기재) | E6: =AVERAGE('업소별 가격'!D10:I10) -> 16833.333
B7: 삼 계 탕 | C7: 1인분(보통) (국내산으로 조사, 원산지 기재) | E7: =AVERAGE('업소별 가격'!D12:I12) -> 17833.333
B8: 김치찌개 | C8: 1인분 (전골이 아닌 백반으로 조사-공기밥포함) | E8: =AVERAGE('업소별 가격'!D14:I14) -> 9150
B9: 된장찌개 | C9: 1인분 (전골이 아닌 백반으로 조사-공기밥포함) | E9: =AVERAGE('업소별 가격'!D16:I16) -> 8083.3333
B10: 불 고 기 | C10: 1인분(한우로 조사하되 원산지 기재 / 정확한 g 기재) | E10: =AVERAGE('업소별 가격'!D18:I18) -> 16750
B11: 소고기 | C11: 1인분(한우로 조사하되 원산지 기재 / 정확한 g 기재) | E11: =AVERAGE('업소별 가격'!D20:I20) -> 28583.333
B12: 양념돼지갈비 | C12: 1인분(국내산으로로 조사하되 원산지 기재 / 정확한 g 기재) | E12: =AVERAGE('업소별 가격'!D22:I22) -> 17000
B13: 삼 겹 살 | C13: 1인분(국내산으로로 조사하되 원산지 기재 / 정확한 g 기재) | E13: =AVERAGE('업소별 가격'!D24:I24) -> 17000
B14: 자 장 면 | C14: 1그릇(배달이 아닌 업소내 판매가격) | E14: =AVERAGE('업소별 가격'!D26:I26) -> 7500
B15: 짬 뽕 | C15: 1그릇(배달이 아닌 업소내 판매가격) | E15: =AVERAGE('업소별 가격'!D28:I28) -> 9750
B16: 탕 수 육 | C16: 1접시(보통), 돼지고기 (국내산으로 조사하되, 원산지기재) | E16: =AVERAGE('업소별 가격'!D30:I30) -> 18316.667
B17: 돈 까 스 | C17: 1인분(일반돈가스, 돼지고기) (국내산으로 조사하되, 원산지기재) | E17: =AVERAGE('업소별 가격'!D32:I32) -> 10816.667
B18: 생선초밥 | C18: 1인분(보통, 활어기준) | E18: =AVERAGE('업소별 가격'!D34:I34) -> 14465
B19: 치킨 | C19: 1마리(튀김통닭, 후라이드) (국내산으로 조사하되, 원산지기재) | E19: =AVERAGE('업소별 가격'!D36:I36) -> 22116.667
B20: 햄 버 거 | C20: 1개(기본형, 불고기버거) | E20: =AVERAGE('업소별 가격'!D38:I38) -> 4983.3333
B21: 피 자 | C21: 1개(기본형, 불고기피자, 레귤러) | E21: =AVERAGE('업소별 가격'!D40:I40) -> 18866.667
B22: 칼 국 수 | C22: 1그릇 | E22: =AVERAGE('업소별 가격'!D42:I42) -> 8250
B23: 라면(외식) | C23: 1인분(일반보통라면) | E23: =AVERAGE('업소별 가격'!D44:I44) -> 4333.3333
B24: 김 밥 | C24: 1인분(일반김밥) | E24: =AVERAGE('업소별 가격'!D46:I46) -> 3500
B25: 커피(외식) | C25: 1잔(일반원두커피) (전문업소가 아닌 일반업소) | E25: =AVERAGE('업소별 가격'!D48:I48) -> 2833.3333
B26: 국 산 차(외식) | C26: 1잔(녹차) (전문업소가 아닌 일반업소) | E26: =AVERAGE('업소별 가격'!D50:I50) -> 3333.3333
A27: 기 타 서 비 스 (21종) | B27: 양복세탁료 | C27: 1회(신사복 상하 드라이크리닝 (정장1벌) 다림질 포함) | E27: =AVERAGE('업소별 가격'!D52:I52) -> 9916.6667
B28: 의복수선료 | C28: 1회(신사복 하의길이 수선- 바지밑단 줄임) | E28: =AVERAGE('업소별 가격'!D54:I54) -> 5666.6667
B29: 공동주택관리비 | C29: 1개원(아파트 개별부과금 제외한 전금액(1m 요금) | E29: =IFERROR(AVERAGE('업소별 가격'!D56:I56),0) -> 0
B30: 택배이용료 | C30: 1회 (크기:중형(가로+세로+높이=140cm) (무게:20kg이하, 타지역(특수지제외) | E30: =AVERAGE('업소별 가격'!D58:I58) -> 10583.333
B31: 운동경기관람료 | C31: 1회(경기장입장료(성인,일반석)) | E31: =IFERROR(AVERAGE('업소별 가격'!D60:I60),0) -> 0
B32: 수영장 이용료 | C32: 1회(성인일반 1회 입장료(실내수영장)) | E32: =AVERAGE('업소별 가격'!D62:I62) -> 13500
B33: 볼링장 이용료 | C33: 1회(일반인 평일,1게임, 오후기준, 신발대여료 제외) | E33: =AVERAGE('업소별 가격'!D64:I64) -> 5000
B34: 골프연습장이용료 | C34: 1개월(초급반(남자) 회원) | E34: =AVERAGE('업소별 가격'!D66:I66) -> 192000
B35: 당구장 이용료 | C35: 1시간(일반인, 저녁시간대) | E35: =AVERAGE('업소별 가격'!D68:I68) -> 11333.333
B36: 노래방 이용료 | C36: 1시간(성인, 저녁시간대,일반실) | E36: =AVERAGE('업소별 가격'!D70:I70) -> 26166.667
B37: PC방 이용료 | C37: 1시간 | E37: =AVERAGE('업소별 가격'!D72:I72) -> 1366.6667
B38: 영화관람료 | C38: 1회(상영시간 100분정도, 조조,심야,3D제외) | E38: =AVERAGE('업소별 가격'!D74:I74) -> 14000
B39: 사진촬영료 | C39: 1조(반명함판칼라(3*4cm)) | E39: =AVERAGE('업소별 가격'!D76:I76) -> 22166.667
B40: 사진인화료 | C40: 사이즈 3.5×5(8.9*12.7cm) 사진인화요금, 현상료 제외 | E40: =IFERROR(AVERAGE('업소별 가격'!D78:I78),0) -> 0
...

Sheet 업소별 가격
A1: 서구 개인서비스요금
A2: 구분 | B2: 품목명 | C2: 규격 및 단위 | D2: 심곡동 | E2: 검암동 | F2: 청라동 | G2: 가정동 | H2: 원당동 | I2: 당하동
A3: 외 식 비 (24종) | B3: 설 렁 탕 | C3: 1인분 (고기는 한우로 조사, 원산지 기재) | D3: 김정문설렁탕 | E3: 3일정성가마솥설렁탕 | F3: 구옥수 | G3: 한촌설렁탕 | H3: 원조양평서울해장국 | I3: 곡리의국수
D4: 11000 | E4: 11000 | F4: 12000 | G4: 11000 | H4: 10000 | I4: 11000
B5: 냉 면 | C5: 물냉면, 1인분 | D5: 신비면옥 | E5: 함흥면옥 | F5: 먹보한우 | G5: 화평동세수대야냉면 | H5: 함흥냉면 | I5: 촌장골
D6: 9000 | E6: 9500 | F6: 9000 | G6: 7000 | H6: 10000 | I6: 12000
B7: 비 빔 밥 | C7: 1인분(보통) | D7: 곤드레밥 | E7: 짱김밥 | F7: 라임김밥 | G7: 풍전식당 | H7: 김밥천국 | I7: 본죽비빔밥
D8: 13000 | E8: 8000 | F8: 8500 | G8: 10000 | H8: 7500 | I8: 10500
B9: 갈 비 탕 | C9: 1인분 (고기는 한우로 조사, 원산지 기재) | D9: 김정문설렁탕 | E9: 3일정성가마솥설렁탕 | F9: 먹보한우 | G9: 풍전식당 | H9: 동남집 | I9: 촌장골
D10: 17000 | E10: 15000 | F10: 17000 | G10: 16000 | H10: 17000 | I10: 19000
B11: 삼 계 탕 | C11: 1인분(보통) (국내산으로 조사, 원산지 기재) | D11: 김정문설렁탕 | E11: 시굴집 | F11: 경복궁삼계탕 | G11: 백년토종삼계탕 | H11: 김종구닭칼국수 | I11: 송화삼계탕
D12: 17000 | E12: 18000 | F12: 18000 | G12: 18000 | H12: 20000 | I12: 16000
B13: 김치찌개 | C13: 1인분 (전골이 아닌 백반으로 조사-공기밥포함) | D13: 신신옥 | E13: 24시누름돌생고기김치찌개 | F13: 밥한민국 | G13: 신김밥천국 | H13: 연남수라 | I13: 천하갈비
D14: 9000 | E14: 8000 | F14: 9900 | G14: 8000 | H14: 12000 | I14: 8000
B15: 된장찌개 | C15: 1인분 (전골이 아닌 백반으로 조사-공기밥포함) | D15: 신신옥 | E15: 짱김밥 | F15: 라임김밥 | G15: 신김밥천국 | H15: 김가네김밥 | I15: 천하갈비
D16: 9000 | E16: 7000 | F16: 7000 | G16: 8000 | H16: 9500 | I16: 8000
B17: 불 고 기 | C17: 1인분(한우로 조사하되 원산지 기재 / 정확한 g 기재) | D17: 백년불고기 | E17: 함흥면옥 | F17: 경성한우청라점 | G17: 신김밥천국 | H17: 동남집 | I17: 횡성한우정육식당
D18: 17000 | E18: 16000 | F18: 21000 | G18: 9000 | H18: 12000 | I18: 25500
B19: 쇠 고 기 | C19: 1인분(한우로 조사하되 원산지 기재 / 정확한 g 기재) | D19: 참숯한우천국 | E19: 한우전문점 | F19: 경성한우청라점 | G19: 갈비메이트 | H19: 동남집 | I19: 횡성한우정육식당
D20: 49000 | E20: 38000 | F20: 21000 | G20: 23000 | H20: 18000 | I20: 22500
B21: 양념돼지갈비 | C21: 1인분(국내산으로로 조사하되 원산지 기재 / 정확한 g 기재) | D21: 태백산 | E21: 함흥면옥 | F21: 먹보한우 | G21: 갈비메이트 | H21: 원당아라육길 숯불고기 | I21: 낙원갈비
D22: 21000 | E22: 19000 | F22: 14000 | G22: 18000 | H22: 14000 | I22: 16000
B23: 삼 겹 살 | C23: 1인분(국내산으로로 조사하되 원산지 기재 / 정확한 g 기재) | D23: 신신옥 | E23: 마장동고기집 | F23: 봉다리삼겹살 | G23: 갈비메이트 | H23: 할매솥뚜껑 | I23: 삼겹식당
D24: 15000 | E24: 15000 | F24: 11000 | G24: 14000 | H24: 33000 | I24: 14000
B25: 자 장 면 | C25: 1그릇(배달이 아닌 업소내 판매가격) | D25: 희래등 | E25: 홍콩반점 | F25: 24청도반점 | G25: 천월반점 | H25: 쭘마반점 | I25: 순정반점
D26: 8000 | E26: 6000 | F26: 8000 | G26: 9000 | H26: 6000 | I26: 8000
B27: 짬 뽕 | C27: 1그릇(배달이 아닌 업소내 판매가격) | D27: 희래등 | E27: 홍콩반점 | F27: 24청도반점 | G27: 천월반점 | H27: 쭘마반점 | I27: 순정반점
D28: 11000 | E28: 7000 | F28: 10000 | G28: 11000 | H28: 8000 | I28: 11500
B29: 탕 수 육 | C29: 1접시(보통), 돼지고기 (국내산으로 조사하되, 원산지기재) | D29: 희래등 | E29: 홍콩반점 | F29: 24청도반점 | G29: 천월반점 | H29: 쭘마반점 | I29: 순정반점
D30: 22000 | E30: 14900 | F30: 15000 | G30: 24000 | H30: 16000 | I30: 18000
B31: 돈 까 스 | C31: 1인분(일반돈가스, 돼지고기) (국내산으로 조사하되, 원산지기재) | D31: 풀하우스 | E31: 짱김밥 | F31: 진심왕돈까스 | G31: 이루다제면소 | H31: 김가네김밥 | I31: 설카츠
D32: 10000 | E32: 9000 | F32: 10900 | G32: 13500 | H32: 9500 | I32: 12000
B33: 생선초밥 | C33: 1인분(보통, 활어기준) | D33: 고촌 | E33: 스시웨이 | F33: 수안초밥 | G33: 스시초이스 | H33: 스시센세 | I33: 광스시
D34: 20000 | E34: 11000 | F34: 1790 | G34: 20000 | H34: 20000 | I34: 14000
B35: 치 킨 | C35: 1마리(튀김통닭, 후라이드) (국내산으로 조사하되, 원산지기재) | D35: 보드람치킨 | E35: BBQ치킨 | F35: KFC | G35: 멕시카나 | H35: 청성골통닭 | I35: 가마꿉
D36: 21000 | E36: 23000 | F36: 23800 | G36: 21000 | H36: 22000 | I36: 21900
B37: 햄 버 거 | C37: 1개(기본형, 불고기버거) | D37: 롯데리아 | E37: 롯데리아 | F37: 버거리 | G37: 롯데리아 | H37: 롯데리아 | I37: 롯데리아
D38: 5000 | E38: 4700 | F38: 5200 | G38: 5000 | H38: 5000 | I38: 5000
B39: 피 자 | C39: 1개(기본형, 불고기피자, 레귤러) | D39: 오구쌀피자 | E39: 도미노피자 | F39: 피자마루 | G39: 피자마루 | H39: 피자스쿨 | I39: 파파존스
D40: 22500 | E40: 22500 | F40: 12900 | G40: 13900 | H40: 11900 | I40: 29500
...
