Workbook

Sheet 요금
A1: 서구 개인서비스요금
A2: 구분 | B2: 품목명 | C2: 규격 및 단위 | D2: 전월가격 (원) | E2: 금월가격 (원) | F2: 등락가격 (원) | H2: 등락율(%) | I2: 평균가격
A3: 외 식 비 (24종) | B3: 설 렁 탕 | C3: 1인분 (고기는 한우로 조사, 원산지 기재) | D3: 10600 | E3: =AVERAGE('업소별 가격'!D4:H4) -> 11000 | F3: =IF((D3-E3)<0,"↑",IF((D3-E3)>0,"↓","")) -> ↑ | G3: =ABS(D3-E3) -> 400 | H3: =IFERROR(ROUND(((D3-E3)/E3)*100,1),"-") -> -3.6 | I3: =SUM(D3:E3)/2 -> 10800
B4: 냉 면 | C4: 물냉면, 1인분 | D4: 7600 | E4: =AVERAGE('업소별 가격'!D6:H6) -> 8100 | F4: =IF((D4-E4)<0,"↑",IF((D4-E4)>0,"↓","")) -> ↑ | G4: =ABS(D4-E4) -> 500 | H4: =IFERROR(ROUND(((D4-E4)/E4)*100,1),"-") -> -6.2 | I4: =SUM(D4:E4)/2 -> 7850
B5: 비 빔 밥 | C5: 1인분(보통) | D5: 7500 | E5: =AVERAGE('업소별 가격'!D8:H8) -> 7250 | F5: =IF((D5-E5)<0,"↑",IF((D5-E5)>0,"↓","")) -> ↓ | G5: =ABS(D5-E5) -> 250 | H5: =IFERROR(ROUND(((D5-E5)/E5)*100,1),"-") -> 3.4 | I5: =SUM(D5:E5)/2 -> 7375
B6: 갈 비 탕 | C6: 1인분 (고기는 한우로 조사, 원산지 기재) | D6: 11600 | E6: =AVERAGE('업소별 가격'!D10:H10) -> 15400 | F6: =IF((D6-E6)<0,"↑",IF((D6-E6)>0,"↓","")) -> ↑ | G6: =ABS(D6-E6) -> 3800 | H6: =IFERROR(ROUND(((D6-E6)/E6)*100,1),"-") -> -24.7 | I6: =SUM(D6:E6)/2 -> 13500
B7: 삼 계 탕 | C7: 1인분(보통) (국내산으로 조사, 원산지 기재) | D7: 18600 | E7: =AVERAGE('업소별 가격'!D12:H12) -> 17400 | F7: =IF((D7-E7)<0,"↑",IF((D7-E7)>0,"↓","")) -> ↓ | G7: =ABS(D7-E7) -> 1200 | H7: =IFERROR(ROUND(((D7-E7)/E7)*100,1),"-") -> 6.9 | I7: =SUM(D7:E7)/2 -> 18000
B8: 김치찌개 | C8: 1인분 (전골이 아닌 백반으로 조사-공기밥포함) | D8: 7400 | E8: =AVERAGE('업소별 가격'!D14:H14) -> 7400 | F8: =IF((D8-E8)<0,"↑",IF((D8-E8)>0,"↓","")) | G8: =ABS(D8-E8) -> 0 | H8: =IFERROR(ROUND(((D8-E8)/E8)*100,1),"-") -> 0 | I8: =SUM(D8:E8)/2 -> 7400
B9: 된장찌개 | C9: 1인분 (전골이 아닌 백반으로 조사-공기밥포함) | D9: 7200 | E9: =AVERAGE('업소별 가격'!D16:H16) -> 7400 | F9: =IF((D9-E9)<0,"↑",IF((D9-E9)>0,"↓","")) -> ↑ | G9: =ABS(D9-E9) -> 200 | H9: =IFERROR(ROUND(((D9-E9)/E9)*100,1),"-") -> -2.7 | I9: =SUM(D9:E9)/2 -> 7300
B10: 불 고 기 | C10: 1인분(한우로 조사하되 원산지 기재 / 정확한 g 기재) | D10: 10700 | E10: =AVERAGE('업소별 가격'!D18:H18) -> 14700 | F10: =IF((D10-E10)<0,"↑",IF((D10-E10)>0,"↓","")) -> ↑ | G10: =ABS(D10-E10) -> 4000 | H10: =IFERROR(ROUND(((D10-E10)/E10)*100,1),"-") -> -27.2 | I10: =SUM(D10:E10)/2 -> 12700
B11: 소고기 | C11: 1인분(한우로 조사하되 원산지 기재 / 정확한 g 기재) | D11: 38000 | E11: =AVERAGE('업소별 가격'!D20:H20) -> 43800 | F11: =IF((D11-E11)<0,"↑",IF((D11-E11)>0,"↓","")) -> ↑ | G11: =ABS(D11-E11) -> 5800 | H11: =IFERROR(ROUND(((D11-E11)/E11)*100,1),"-") -> -13.2 | I11: =SUM(D11:E11)/2 -> 40900
B12: 양념돼지갈비 | C12: 1인분(국내산으로로 조사하되 원산지 기재 / 정확한 g 기재) | D12: 19000 | E12: =AVERAGE('업소별 가격'!D22:H22) -> 17600 | F12: =IF((D12-E12)<0,"↑",IF((D12-E12)>0,"↓","")) -> ↓ | G12: =ABS(D12-E12) -> 1400 | H12: =IFERROR(ROUND(((D12-E12)/E12)*100,1),"-") -> 8 | I12: =SUM(D12:E12)/2 -> 18300
B13: 삼 겹 살 | C13: 1인분(국내산으로로 조사하되 원산지 기재 / 정확한 g 기재) | D13: 15780 | E13: =AVERAGE('업소별 가격'!D24:H24) -> 13980 | F13: =IF((D13-E13)<0,"↑",IF((D13-E13)>0,"↓","")) -> ↓ | G13: =ABS(D13-E13) -> 1800 | H13: =IFERROR(ROUND(((D13-E13)/E13)*100,1),"-") -> 12.9 | I13: =SUM(D13:E13)/2 -> 14880
B14: 자 장 면 | C14: 1그릇(배달이 아닌 업소내 판매가격) | D14: 7800 | E14: =AVERAGE('업소별 가격'!D26:H26) -> 7600 | F14: =IF((D14-E14)<0,"↑",IF((D14-E14)>0,"↓","")) -> ↓ | G14: =ABS(D14-E14) -> 200 | H14: =IFERROR(ROUND(((D14-E14)/E14)*100,1),"-") -> 2.6 | I14: =SUM(D14:E14)/2 -> 7700
B15: 짬 뽕 | C15: 1그릇(배달이 아닌 업소내 판매가격) | D15: 9000 | E15: =AVERAGE('업소별 가격'!D28:H28) -> 9200 | F15: =IF((D15-E15)<0,"↑",IF((D15-E15)>0,"↓","")) -> ↑ | G15: =ABS(D15-E15) -> 200 | H15: =IFERROR(ROUND(((D15-E15)/E15)*100,1),"-") -> -2.2 | I15: =SUM(D15:E15)/2 -> 9100
B16: 탕 수 육 | C16: 1접시(보통), 돼지고기 (국내산으로 조사하되, 원산지기재) | D16: 18400 | E16: =AVERAGE('업소별 가격'!D30:H30) -> 19600 | F16: =IF((D16-E16)<0,"↑",IF((D16-E16)>0,"↓","")) -> ↑ | G16: =ABS(D16-E16) -> 1200 | H16: =IFERROR(ROUND(((D16-E16)/E16)*100,1),"-") -> -6.1 | I16: =SUM(D16:E16)/2 -> 19000
B17: 돈 까 스 | C17: 1인분(일반돈가스, 돼지고기) (국내산으로 조사하되, 원산지기재) | D17: 10560 | E17: =AVERAGE('업소별 가격'!D32:H32) -> 9400 | F17: =IF((D17-E17)<0,"↑",IF((D17-E17)>0,"↓","")) -> ↓ | G17: =ABS(D17-E17) -> 1160 | H17: =IFERROR(ROUND(((D17-E17)/E17)*100,1),"-") -> 12.3 | I17: =SUM(D17:E17)/2 -> 9980
B18: 생선초밥 | C18: 1인분(보통, 활어기준) | D18: 14980 | E18: =AVERAGE('업소별 가격'!D34:H34) -> 16400 | F18: =IF((D18-E18)<0,"↑",IF((D18-E18)>0,"↓","")) -> ↑ | G18: =ABS(D18-E18) -> 1420 | H18: =IFERROR(ROUND(((D18-E18)/E18)*100,1),"-") -> -8.7 | I18: =SUM(D18:E18)/2 -> 15690
B19: 치킨 | C19: 1마리(튀김통닭, 후라이드) (국내산으로 조사하되, 원산지기재) | D19: 17520 | E19: =AVERAGE('업소별 가격'!D36:H36) -> 16480 | F19: =IF((D19-E19)<0,"↑",IF((D19-E19)>0,"↓","")) -> ↓ | G19: =ABS(D19-E19) -> 1040 | H19: =IFERROR(ROUND(((D19-E19)/E19)*100,1),"-") -> 6.3 | I19: =SUM(D19:E19)/2 -> 17000
B20: 햄 버 거 | C20: 1개(기본형, 불고기버거) | D20: 6540 | E20: =AVERAGE('업소별 가격'!D38:H38) -> 6080 | F20: =IF((D20-E20)<0,"↑",IF((D20-E20)>0,"↓","")) -> ↓ | G20: =ABS(D20-E20) -> 460 | H20: =IFERROR(ROUND(((D20-E20)/E20)*100,1),"-") -> 7.6 | I20: =SUM(D20:E20)/2 -> 6310
B21: 피 자 | C21: 1개(기본형, 불고기피자, 레귤러) | D21: 15040 | E21: =AVERAGE('업소별 가격'!D40:H40) -> 15740 | F21: =IF((D21-E21)<0,"↑",IF((D21-E21)>0,"↓","")) -> ↑ | G21: =ABS(D21-E21) -> 700 | H21: =IFERROR(ROUND(((D21-E21)/E21)*100,1),"-") -> -4.4 | I21: =SUM(D21:E21)/2 -> 15390
B22: 칼 국 수 | C22: 1그릇 | D22: 7900 | E22: =AVERAGE('업소별 가격'!D42:H42) -> 7000 | F22: =IF((D22-E22)<0,"↑",IF((D22-E22)>0,"↓","")) -> ↓ | G22: =ABS(D22-E22) -> 900 | H22: =IFERROR(ROUND(((D22-E22)/E22)*100,1),"-") -> 12.9 | I22: =SUM(D22:E22)/2 -> 7450
B23: 라면(외식) | C23: 1인분(일반보통라면) | D23: 4300 | E23: =AVERAGE('업소별 가격'!D44:H44) -> 4400 | F23: =IF((D23-E23)<0,"↑",IF((D23-E23)>0,"↓","")) -> ↑ | G23: =ABS(D23-E23) -> 100 | H23: =IFERROR(ROUND(((D23-E23)/E23)*100,1),"-") -> -2.3 | I23: =SUM(D23:E23)/2 -> 4350
B24: 김 밥 | C24: 1인분(일반김밥) | D24: 3200 | E24: =AVERAGE('업소별 가격'!D46:H46) -> 3700 | F24: =IF((D24-E24)<0,"↑",IF((D24-E24)>0,"↓","")) -> ↑ | G24: =ABS(D24-E24) -> 500 | H24: =IFERROR(ROUND(((D24-E24)/E24)*100,1),"-") -> -13.5 | I24: =SUM(D24:E24)/2 -> 3450
B25: 커피(외식) | C25: 1잔(일반원두커피) (전문업소가 아닌 일반업소) | D25: 4160 | E25: =AVERAGE('업소별 가격'!D48:H48) -> 3320 | F25: =IF((D25-E25)<0,"↑",IF((D25-E25)>0,"↓","")) -> ↓ | G25: =ABS(D25-E25) -> 840 | H25: =IFERROR(ROUND(((D25-E25)/E25)*100,1),"-") -> 25.3 | I25: =SUM(D25:E25)/2 -> 3740
B26: 국 산 차(외식) | C26: 1잔(녹차) (전문업소가 아닌 일반업소) | D26: 4100 | E26: =AVERAGE('업소별 가격'!D50:H50) -> 4760 | F26: =IF((D26-E26)<0,"↑",IF((D26-E26)>0,"↓","")) -> ↑ | G26: =ABS(D26-E26) -> 660 | H26: =IFERROR(ROUND(((D26-E26)/E26)*100,1),"-") -> -13.9 | I26: =SUM(D26:E26)/2 -> 4430
A27: 기 타 서 비 스 (21종) | B27: 양복세탁료 | C27: 1회(신사복 상하 드라이크리닝 (정장1벌) 다림질 포함) | D27: 8000 | E27: =AVERAGE('업소별 가격'!D52:H52) -> 7480 | F27: =IF((D27-E27)<0,"↑",IF((D27-E27)>0,"↓","")) -> ↓ | G27: =ABS(D27-E27) -> 520 | H27: =IFERROR(ROUND(((D27-E27)/E27)*100,1),"-") -> 7 | I27: =SUM(D27:E27)/2 -> 7740
B28: 의복수선료 | C28: 1회(신사복 하의길이 수선- 바지밑단 줄임) | D28: 4600 | E28: =AVERAGE('업소별 가격'!D54:H54) -> 3700 | F28: =IF((D28-E28)<0,"↑",IF((D28-E28)>0,"↓","")) -> ↓ | G28: =ABS(D28-E28) -> 900 | H28: =IFERROR(ROUND(((D28-E28)/E28)*100,1),"-") -> 24.3 | I28: =SUM(D28:E28)/2 -> 4150
B29: 공동주택관리비 | C29: 1개원(아파트 개별부과금 제외한 전금액(1m 요금) | D29: 0 | E29: =IFERROR(AVERAGE('업소별 가격'!D56:H56),0) -> 0 | H29: =IFERROR(ROUND(((D29-E29)/E29)*100,1),"-") -> - | I29: =SUM(D29:E29)/2 -> 0
B30: 택배이용료 | C30: 1회 (크기:중형(가로+세로+높이=140cm) (무게:20kg이하, 타지역(특수지제외) | D30: 7600 | E30: =AVERAGE('업소별 가격'!D58:H58) -> 7240 | F30: =IF((D30-E30)<0,"↑",IF((D30-E30)>0,"↓","")) -> ↓ | G30: =ABS(D30-E30) -> 360 | H30: =IFERROR(ROUND(((D30-E30)/E30)*100,1),"-") -> 5 | I30: =SUM(D30:E30)/2 -> 7420
B31: 운동경기관람료 | C31: 1회(경기장입장료(성인,일반석)) | D31: 0 | E31: =IFERROR(AVERAGE('업소별 가격'!D60:H60),0) -> 0 | I31: =SUM(D31:E31)/2 -> 0
B32: 수영장 이용료 | C32: 1회(성인일반 1회 입장료(실내수영장)) | D32: 22000 | E32: =AVERAGE('업소별 가격'!D62:H62) -> 13500 | F32: =IF((D32-E32)<0,"↑",IF((D32-E32)>0,"↓","")) -> ↓ | G32: =ABS(D32-E32) -> 8500 | H32: =IFERROR(ROUND(((D32-E32)/E32)*100,1),"-") -> 63 | I32: =SUM(D32:E32)/2 -> 17750
B33: 볼링장 이용료 | C33: 1회(일반인 평일,1게임, 오후기준, 신발대여료 제외) | D33: 4500 | E33: =AVERAGE('업소별 가격'!D64:H64) -> 4000 | F33: =IF((D33-E33)<0,"↑",IF((D33-E33)>0,"↓","")) -> ↓ | G33: =ABS(D33-E33) -> 500 | H33: =IFERROR(ROUND(((D33-E33)/E33)*100,1),"-") -> 12.5 | I33: =SUM(D33:E33)/2 -> 4250
B34: 골프연습장이용료 | C34: 1개월(초급반(남자) 회원) | D34: 130000 | E34: =AVERAGE('업소별 가격'!D66:H66) -> 130000 | F34: =IF((D34-E34)<0,"↑",IF((D34-E34)>0,"↓","")) | G34: =ABS(D34-E34) -> 0 | H34: =IFERROR(ROUND(((D34-E34)/E34)*100,1),"-") -> 0 | I34: =SUM(D34:E34)/2 -> 130000
B35: 당구장 이용료 | C35: 1시간(일반인, 저녁시간대) | D35: 10160 | E35: =AVERAGE('업소별 가격'!D68:H68) -> 9360 | F35: =IF((D35-E35)<0,"↑",IF((D35-E35)>0,"↓","")) -> ↓ | G35: =ABS(D35-E35) -> 800 | H35: =IFERROR(ROUND(((D35-E35)/E35)*100,1),"-") -> 8.5 | I35: =SUM(D35:E35)/2 -> 9760
B36: 노래방 이용료 | C36: 1시간(성인, 저녁시간대,일반실) | D36: 35000 | E36: =AVERAGE('업소별 가격'!D70:H70) -> 35000 | F36: =IF((D36-E36)<0,"↑",IF((D36-E36)>0,"↓","")) | G36: =ABS(D36-E36) -> 0 | H36: =IFERROR(ROUND(((D36-E36)/E36)*100,1),"-") -> 0 | I36: =SUM(D36:E36)/2 -> 35000
B37: PC방 이용료 | C37: 1시간 | D37: 1000 | E37: =AVERAGE('업소별 가격'!D72:H72) -> 1050 | F37: =IF((D37-E37)<0,"↑",IF((D37-E37)>0,"↓","")) -> ↑ | G37: =ABS(D37-E37) -> 50 | H37: =IFERROR(ROUND(((D37-E37)/E37)*100,1),"-") -> -4.8 | I37: =SUM(D37:E37)/2 -> 1025
B38: 영화관람료 | C38: 1회(상영시간 100분정도, 조조,심야,3D제외) | D38: 10000 | E38: =AVERAGE('업소별 가격'!D74:H74) -> 10000 | F38: =IF((D38-E38)<0,"↑",IF((D38-E38)>0,"↓","")) | G38: =ABS(D38-E38) -> 0 | H38: =IFERROR(ROUND(((D38-E38)/E38)*100,1),"-") -> 0 | I38: =SUM(D38:E38)/2 -> 10000
B39: 사진촬영료 | C39: 1조(반명함판칼라(3*4cm)) | D39: 24600 | E39: =AVERAGE('업소별 가격'!D76:H76) -> 23000 | F39: =IF((D39-E39)<0,"↑",IF((D39-E39)>0,"↓","")) -> ↓ | G39: =ABS(D39-E39) -> 1600 | H39: =IFERROR(ROUND(((D39-E39)/E39)*100,1),"-") -> 7 | I39: =SUM(D39:E39)/2 -> 23800
B40: 사진인화료 | C40: 사이즈 3.5×5(8.9*12.7cm) 사진인화요금, 현상료 제외 | D40: 0 | E40: =IFERROR(AVERAGE('업소별 가격'!D78:H78),0) -> 0 | F40: =IF((D40-E40)<0,"↑",IF((D40-E40)>0,"↓","")) | H40: =IFERROR(ROUND(((D40-E40)/E40)*100,1),"-") -> - | I40: =SUM(D40:E40)/2 -> 0
...

Sheet 업소별 가격
A1: 서구 개인서비스요금(7월)
A2: 구분 | B2: 품목명 | C2: 규격 및 단위 | D2: 가정동 | E2: 심곡동 | F2: 청라동 | G2: 검암동 | H2: 원당동
A3: 외 식 비 (24종) | B3: 설 렁 탕 | C3: 1인분 (고기는 한우로 조사, 원산지 기재) | D3: 한촌설렁탕 | E3: 배꼽탕탕탕 | F3: 구수옥설렁탕 | G3: 한보옥 | H3: 서울해장국
D4: 11000 | E4: 10000 | F4: 12000 | G4: 12000 | H4: 10000
B5: 냉 면 | C5: 물냉면, 1인분 | D5: 돼지야 | E5: 김밥천국 | F5: 김밥천국 | G5: 함흥면옥 | H5: 함흥냉면생면국수
D6: 7000 | E6: 7000 | F6: 7000 | G6: 9500 | H6: 10000
B7: 비 빔 밥 | C7: 1인분(보통) | D7: 토마토 | E7: 김밥천국 | F7: 김밥천국 | H7: 일미김밥
D8: 7500 | E8: 7000 | F8: 7000 | H8: 7500
B9: 갈 비 탕 | C9: 1인분 (고기는 한우로 조사, 원산지 기재) | D9: 풍전식당 | E9: 배꼽탕탕탕 | F9: 설농가 | G9: 함흥면옥 | H9: 금성회관
D10: 15000 | E10: 15000 | F10: 17000 | G10: 15000 | H10: 15000
B11: 삼 계 탕 | C11: 1인분(보통) (국내산으로 조사, 원산지 기재) | D11: 가정옥 | E11: 계담삼계탕 | F11: 경복궁 | G11: 한보옥 | H11: 김종구닭칼국수
D12: 16000 | E12: 13000 | F12: 18000 | G12: 18000 | H12: 22000
B13: 김치찌개 | C13: 1인분 (전골이 아닌 백반으로 조사-공기밥포함) | D13: 김밥천국 | E13: 김밥천국 | F13: 김밥천국 | G13: 짱김밥 | H13: 김밥천국
D14: 7500 | E14: 7000 | F14: 8000 | G14: 7000 | H14: 7500
B15: 된장찌개 | C15: 1인분 (전골이 아닌 백반으로 조사-공기밥포함) | D15: 김밥천국 | E15: 김밥천국 | F15: 김밥천국 | G15: 짱김밥 | H15: 김밥천국
D16: 7500 | E16: 7000 | F16: 8000 | G16: 7000 | H16: 7500
B17: 불 고 기 | C17: 1인분(한우로 조사하되 원산지 기재 / 정확한 g 기재) | D17: 김밥천국 | E17: 촌장골 | F17: 우사미 | G17: 함흥면옥 | H17: 김밥천국
D18: 9000 | E18: 19000 | F18: 20000 | G18: 17000 | H18: 8500
B19: 쇠 고 기 | C19: 1인분(한우로 조사하되 원산지 기재 / 정확한 g 기재) | D19: 삼팔공우 | E19: 태백산 | F19: 숙성명작 | G19: 함흥면옥 | H19: 고기품격
D20: 23000 | E20: 59000 | F20: 54000 | G20: 45000 | H20: 38000
B21: 양념돼지갈비 | C21: 1인분(국내산으로로 조사하되 원산지 기재 / 정확한 g 기재) | D21: 갓갈비 | E21: 태백산 | F21: 청라꽃갈비 | G21: 함흥면옥 | H21: 화진갈비
D22: 15000 | E22: 21000 | F22: 17000 | G22: 18000 | H22: 17000
B23: 삼 겹 살 | C23: 1인분(국내산으로로 조사하되 원산지 기재 / 정확한 g 기재) | D23: 돼지야 | E23: 태백산 | F23: 박사장집 | G23: 함흥면옥 | H23: 미돈옥
D24: 14000 | E24: 18000 | F24: 13000 | G24: 17000 | H24: 7900
B25: 자 장 면 | C25: 1그릇(배달이 아닌 업소내 판매가격) | D25: 츠하오 | E25: 희래등 | F25: 취선 | G25: 백리향 | H25: 화양연화
D26: 5000 | E26: 10000 | F26: 8000 | G26: 8000 | H26: 7000
B27: 짬 뽕 | C27: 1그릇(배달이 아닌 업소내 판매가격) | D27: 츠하오 | E27: 희래등 | F27: 취선 | G27: 백리향 | H27: 화양연화
D28: 7000 | E28: 12000 | F28: 9000 | G28: 9000 | H28: 9000
B29: 탕 수 육 | C29: 1접시(보통), 돼지고기 (국내산으로 조사하되, 원산지기재) | D29: 츠하오 | E29: 희래등 | F29: 취선 | G29: 백리향 | H29: 화양연화
D30: 13000 | E30: 23000 | F30: 22000 | G30: 20000 | H30: 20000
B31: 돈 까 스 | C31: 1인분(일반돈가스, 돼지고기) (국내산으로 조사하되, 원산지기재) | D31: 백소정 | E31: 김밥천국 | F31: 김밥천국 | G31: 짱김밥 | H31: 최고당돈가스
D32: 11500 | E32: 7500 | F32: 8500 | G32: 9000 | H32: 10500
B33: 생선초밥 | C33: 1인분(보통, 활어기준) | D33: 우리동네스시런 | E33: 도담초밥 | F33: 스시마시떼 | G33: 초밥포장 | H33: 스시노칸도
D34: 16000 | E34: 19000 | F34: 18000 | G34: 19000 | H34: 10000
B35: 치 킨 | C35: 1마리(튀김통닭, 후라이드) (국내산으로 조사하되, 원산지기재) | D35: 하진옛날통닭 | E35: 바른치킨 | F35: 멕시카나 | G35: 멕시카나 | H35: 삼덕통닭
D36: 9000 | E36: 16900 | F36: 18000 | G36: 18000 | H36: 20500
B37: 햄 버 거 | C37: 1개(기본형, 불고기버거) | D37: 프랭크버거 | E37: 더블다운버거 | F37: 맥도날드 | G37: 버거킹 | H37: 롯데리아
D38: 5100 | E38: 6900 | F38: 5300 | G38: 8100 | H38: 5000
B39: 피 자 | C39: 1개(기본형, 불고기피자, 레귤러) | D39: 오구쌀피자 | E39: 도미노피자 | F39: 도미노피자 | G39: 뺵보이피자 | H39: 피자스쿨
D40: 11900 | E40: 18000 | F40: 18000 | G40: 18900 | H40: 11900
...
