Workbook

Sheet 요금
A1: 서구 개인서비스요금
A2: 구분 | B2: 품목명 | C2: 규격 및 단위 | D2: 전월가격 (원) | E2: 금월가격 (원) | F2: 등락가격 (원) | H2: 등락율(%) | I2: 석남1동 | J2: 석남2동 | K2: 가좌동 | L2: 연희동 | M2: 신현동 | N2: 검암동 | O2: 검단동 | P2: 당하동 | Q2: 청라지구
A3: 외 식 비 (24종) | B3: 설 렁 탕 | C3: 1인분 (고기는 한우로 조사, 원산지 기재) | D3: 7389 | E3: =AVERAGE(I3:R3) -> 7722.2222 | F3: =IF((D3-E3)<0,"↑",IF((D3-E3)>0,"↓","")) -> ↑ | G3: =ABS(D3-E3) -> 333.22222 | H3: =ROUND(((D3-E3)/E3)*100,1) -> -4.3 | I3: 8000 | J3: 8000 | K3: 8000 | L3: 8000 | M3: 6500 | N3: 9000 | O3: 8000 | P3: 6000 | Q3: 8000
B4: 냉 면 | C4: 물냉면, 1인분 | D4: 5722 | E4: =AVERAGE(I4:R4) -> 5444.4444 | F4: =IF((D4-E4)<0,"↑",IF((D4-E4)>0,"↓","")) -> ↓ | G4: =ABS(D4-E4) -> 277.55556 | H4: =ROUND(((D4-E4)/E4)*100,1) -> 5.1 | I4: 6000 | J4: 6000 | K4: 4000 | L4: 5000 | M4: 5500 | N4: 5000 | O4: 4500 | P4: 5000 | Q4: 8000
B5: 비 빔 밥 | C5: 1인분(보통) | D5: 5833 | E5: =AVERAGE(I5:R5) -> 5666.6667 | F5: =IF((D5-E5)<0,"↑",IF((D5-E5)>0,"↓","")) -> ↓ | G5: =ABS(D5-E5) -> 166.33333 | H5: =ROUND(((D5-E5)/E5)*100,1) -> 2.9 | I5: 4500 | J5: 6000 | K5: 4500 | L5: 5000 | M5: 6000 | N5: 5000 | O5: 8000 | P5: 5000 | Q5: 7000
B6: 갈 비 탕 | C6: 1인분 (고기는 한우로 조사, 원산지 기재) | D6: 7944 | E6: =AVERAGE(I6:R6) -> 7944.4444 | F6: =IF((D6-E6)<0,"↑",IF((D6-E6)>0,"↓","")) -> ↑ | G6: =ABS(D6-E6) -> 0.44444444 | H6: =ROUND(((D6-E6)/E6)*100,1) -> 0 | I6: 6000 | J6: 6500 | K6: 8000 | L6: 6000 | M6: 9000 | N6: 8000 | O6: 10000 | P6: 8000 | Q6: 10000
B7: 삼 계 탕 | C7: 1인분(보통) (국내산으로 조사, 원산지 기재) | D7: 12444 | E7: =AVERAGE(I7:R7) -> 12111.111 | F7: =IF((D7-E7)<0,"↑",IF((D7-E7)>0,"↓","")) -> ↓ | G7: =ABS(D7-E7) -> 332.88889 | H7: =ROUND(((D7-E7)/E7)*100,1) -> 2.7 | I7: 12000 | J7: 11000 | K7: 11000 | L7: 12000 | M7: 13000 | N7: 13000 | O7: 12000 | P7: 12000 | Q7: 13000
B8: 김치찌개 | C8: 1인분 (전골이 아닌 백반으로 조사-공기밥포함) | D8: 5778 | E8: =AVERAGE(I8:R8) -> 5555.5556 | F8: =IF((D8-E8)<0,"↑",IF((D8-E8)>0,"↓","")) -> ↓ | G8: =ABS(D8-E8) -> 222.44444 | H8: =ROUND(((D8-E8)/E8)*100,1) -> 4 | I8: 5000 | J8: 5000 | K8: 5000 | L8: 5000 | M8: 5500 | N8: 6000 | O8: 6000 | P8: 6500 | Q8: 6000
B9: 된장찌개 | C9: 1인분 (전골이 아닌 백반으로 조사-공기밥포함) | D9: 5667 | E9: =AVERAGE(I9:R9) -> 5500 | F9: =IF((D9-E9)<0,"↑",IF((D9-E9)>0,"↓","")) -> ↓ | G9: =ABS(D9-E9) -> 167 | H9: =ROUND(((D9-E9)/E9)*100,1) -> 3 | I9: 5000 | J9: 6000 | K9: 5000 | L9: 5000 | M9: 5500 | N9: 6000 | O9: 6000 | P9: 5000 | Q9: 6000
B10: 불 고 기 | C10: 1인분(한우로 조사하되 원산지 기재 / 정확한 g 기재) | D10: 10333 | E10: =AVERAGE(I10:R10) -> 10555.556 | F10: =IF((D10-E10)<0,"↑",IF((D10-E10)>0,"↓","")) -> ↑ | G10: =ABS(D10-E10) -> 222.55556 | H10: =ROUND(((D10-E10)/E10)*100,1) -> -2.1 | I10: 8000 | J10: 7000 | K10: 10000 | L10: 15000 | M10: 6000 | N10: 13000 | O10: 10000 | P10: 14000 | Q10: 12000
B11: 소고기 | C11: 1인분(한우로 조사하되 원산지 기재 / 정확한 g 기재) | D11: 22767 | E11: =AVERAGE(I11:R11) -> 22211.111 | F11: =IF((D11-E11)<0,"↑",IF((D11-E11)>0,"↓","")) -> ↓ | G11: =ABS(D11-E11) -> 555.88889 | H11: =ROUND(((D11-E11)/E11)*100,1) -> 2.5 | I11: 15000 | J11: 29000 | K11: 10000 | L11: 32000 | M11: 11900 | N11: 27000 | O11: 20000 | P11: 30000 | Q11: 25000
B12: 양념돼지갈비 | C12: 1인분(국내산으로로 조사하되 원산지 기재 / 정확한 g 기재) | D12: 12533 | E12: =AVERAGE(I12:R12) -> 13188.889 | F12: =IF((D12-E12)<0,"↑",IF((D12-E12)>0,"↓","")) -> ↑ | G12: =ABS(D12-E12) -> 655.88889 | H12: =ROUND(((D12-E12)/E12)*100,1) -> -5 | I12: 9900 | J12: 14000 | K12: 10900 | L12: 18000 | M12: 11000 | N12: 15000 | O12: 12000 | P12: 15000 | Q12: 12900
B13: 삼 겹 살 | C13: 1인분(국내산으로로 조사하되 원산지 기재 / 정확한 g 기재) | D13: 12878 | E13: =AVERAGE(I13:R13) -> 12322.222 | F13: =IF((D13-E13)<0,"↑",IF((D13-E13)>0,"↓","")) -> ↓ | G13: =ABS(D13-E13) -> 555.77778 | H13: =ROUND(((D13-E13)/E13)*100,1) -> 4.5 | I13: 12000 | J13: 14000 | K13: 9900 | L13: 14000 | M13: 7000 | N13: 13000 | O13: 13000 | P13: 15000 | Q13: 13000
B14: 자 장 면 | C14: 1그릇(배달이 아닌 업소내 판매가격) | D14: 4722 | E14: =AVERAGE(I14:R14) -> 4333.3333 | F14: =IF((D14-E14)<0,"↑",IF((D14-E14)>0,"↓","")) -> ↓ | G14: =ABS(D14-E14) -> 388.66667 | H14: =ROUND(((D14-E14)/E14)*100,1) -> 9 | I14: 3000 | J14: 4000 | K14: 5000 | L14: 6000 | M14: 5000 | N14: 3500 | O14: 3000 | P14: 5000 | Q14: 4500
B15: 짬 뽕 | C15: 1그릇(배달이 아닌 업소내 판매가격) | D15: 6167 | E15: =AVERAGE(I15:R15) -> 5777.7778 | F15: =IF((D15-E15)<0,"↑",IF((D15-E15)>0,"↓","")) -> ↓ | G15: =ABS(D15-E15) -> 389.22222 | H15: =ROUND(((D15-E15)/E15)*100,1) -> 6.7 | I15: 4000 | J15: 6000 | K15: 6000 | L15: 8000 | M15: 7000 | N15: 5000 | O15: 4000 | P15: 7000 | Q15: 5000
... B23: 라면(외식) | C23: 1인분(일반보통라면) | D23: 3056 | E23: =AVERAGE(I23:R23) -> 3055.5556 | F23: =IF((D23-E23)<0,"↑",IF((D23-E23)>0,"↓","")) -> ↓ | G23: =ABS(D23-E23) -> 0.44444444 | H23: =ROUND(((D23-E23)/E23)*100,1) -> 0 | I23: 3000 | J23: 3000 | K23: 2500 | L23: 3000 | M23: 3500 | N23: 3000 | O23: 3500 | P23: 3000 | Q23: 3000
B24: 김 밥 | C24: 1인분(일반김밥) | D24: =[1]요금!$D$24 -> 1888.8889 | E24: =AVERAGE(I24:R24) -> 2088.8889 | F24: =IF((D24-E24)<0,"↑",IF((D24-E24)>0,"↓","")) -> ↑ | G24: =ABS(D24-E24) -> 200 | H24: =ROUND(((D24-E24)/E24)*100,1) -> -9.6 | I24: 1500 | J24: 1500 | K24: 1500 | L24: 2000 | M24: 2000 | N24: 2000 | O24: 3800 | P24: 2000 | Q24: 2500
B25: 커피(외식) | C25: 1잔(일반원두커피) (전문업소가 아닌 일반업소) | D25: 2711 | E25: =AVERAGE(I25:R25) -> 2655.5556 | F25: =IF((D25-E25)<0,"↑",IF((D25-E25)>0,"↓","")) -> ↓ | G25: =ABS(D25-E25) -> 55.444444 | H25: =ROUND(((D25-E25)/E25)*100,1) -> 2.1 | I25: 2000 | J25: 2800 | K25: 4100 | L25: 2000 | M25: 2500 | N25: 2000 | O25: 3000 | P25: 2500 | Q25: 3000
B26: 국 산 차(외식) | C26: 1잔(녹차) (전문업소가 아닌 일반업소) | D26: 3667 | E26: =AVERAGE(I26:R26) -> 3888.8889 | F26: =IF((D26-E26)<0,"↑",IF((D26-E26)>0,"↓","")) -> ↑ | G26: =ABS(D26-E26) -> 221.88889 | H26: =ROUND(((D26-E26)/E26)*100,1) -> -5.7 | I26: 3500 | J26: 3200 | K26: 4000 | L26: 3500 | M26: 4500 | N26: 4300 | O26: 3500 | P26: 4000 | Q26: 4500
A27: 기 타 서 비 스 (21종) | B27: 양복세탁료 | C27: 1회(신사복 상하 드라이크리닝 (정장1벌) 다림질 포함) | D27: 6344 | E27: =AVERAGE(I27:R27) -> 5944.4444 | F27: =IF((D27-E27)<0,"↑",IF((D27-E27)>0,"↓","")) -> ↓ | G27: =ABS(D27-E27) -> 399.55556 | H27: =ROUND(((D27-E27)/E27)*100,1) -> 6.7 | I27: 7000 | J27: 7000 | K27: 4500 | L27: 7000 | M27: 7000 | N27: 5000 | O27: 6000 | P27: 6000 | Q27: 4000
B28: 의복수선료 | C28: 1회(신사복 하의길이 수선- 바지밑단 줄임) | D28: =[1]요금!$D$28 -> 4000 | E28: =AVERAGE(I28:R28) -> 4222.2222 | F28: =IF((D28-E28)<0,"↑",IF((D28-E28)>0,"↓","")) -> ↑ | G28: =ABS(D28-E28) -> 222.22222 | H28: =ROUND(((D28-E28)/E28)*100,1) -> -5.3 | I28: 4000 | J28: 4000 | K28: 3000 | L28: 4000 | M28: 6000 | N28: 5000 | O28: 4000 | P28: 4000 | Q28: 4000
B29: 공동주택관리비 | C29: 1개원(아파트 개별부과금 제외한 전금액(1m 요금) | D29: =[1]요금!$D$29 -> 0 | E29: =AVERAGE(I29:R29) -> #DIV/0! | F29: =IF((D29-E29)<0,"↑",IF((D29-E29)>0,"↓","")) -> #DIV/0! | G29: =ABS(D29-E29) -> #DIV/0!
B30: 택배이용료 | C30: 1회 (크기:중형(가로+세로+높이=140cm) (무게:20kg이하, 타지역(특수지제외) | D30: 5389 | E30: =AVERAGE(I30:R30) -> 5500 | F30: =IF((D30-E30)<0,"↑",IF((D30-E30)>0,"↓","")) -> ↑ | G30: =ABS(D30-E30) -> 111 | H30: =ROUND(((D30-E30)/E30)*100,1) -> -2 | I30: 7500 | J30: 5500 | K30: 7500 | L30: 7500 | M30: 5500 | N30: 3500 | O30: 5500 | P30: 3500 | Q30: 3500
B31: 운동경기관람료 | C31: 1회(경기장입장료(성인,일반석)) | D31: =[1]요금!$D$31 -> 0 | E31: =AVERAGE(I31:R31) -> #DIV/0! | F31: =IF((D31-E31)<0,"↑",IF((D31-E31)>0,"↓","")) -> #DIV/0! | G31: =ABS(D31-E31) -> #DIV/0!
B32: 수영장 이용료 | C32: 1회(성인일반 1회 입장료(실내수영장)) | D32: 41750 | E32: =AVERAGE(I32:R32) -> 41750 | F32: =IF((D32-E32)<0,"↑",IF((D32-E32)>0,"↓","")) | G32: =ABS(D32-E32) -> 0 | H32: =ROUND(((D32-E32)/E32)*100,1) -> 0 | N32: 5000 | O32: 5000 | P32: 150000 | Q32: 7000
B33: 볼링장 이용료 | C33: 1회(일반인 평일,1게임, 오후기준, 신발대여료 제외) | D33: =[1]요금!$D$33 -> 3580 | E33: =AVERAGE(I33:R33) -> 3580 | F33: =IF((D33-E33)<0,"↑",IF((D33-E33)>0,"↓","")) | G33: =ABS(D33-E33) -> 0 | H33: =ROUND(((D33-E33)/E33)*100,1) -> 0 | K33: 3500 | L33: 3500 | M33: 3600 | O33: 2800 | Q33: 4500
B34: 골프연습장이용료 | C34: 1개월(초급반(남자) 회원) | D34: 116000 | E34: =AVERAGE(I34:R34) -> 109000 | F34: =IF((D34-E34)<0,"↑",IF((D34-E34)>0,"↓","")) -> ↓ | G34: =ABS(D34-E34) -> 7000 | H34: =ROUND(((D34-E34)/E34)*100,1) -> 6.4 | L34: 170000 | N34: 60000 | O34: 80000 | P34: 40000 | Q34: 195000
B35: 당구장 이용료 | C35: 1시간(일반인, 저녁시간대) | D35: =[1]요금!$D$35 -> 8355.5556 | E35: =AVERAGE(I35:R35) -> 8355.5556 | F35: =IF((D35-E35)<0,"↑",IF((D35-E35)>0,"↓","")) | G35: =ABS(D35-E35) -> 0 | H35: =ROUND(((D35-E35)/E35)*100,1) -> 0 | I35: 6000 | J35: 7200 | K35: 7000 | L35: 9000 | M35: 9000 | N35: 9000 | O35: 9000 | P35: 9000 | Q35: 10000
B36: 노래방 이용료 | C36: 1시간(성인, 저녁시간대,일반실) | D36: =[1]요금!$D$36 -> 30000 | E36: =AVERAGE(I36:R36) -> 30000 | F36: =IF((D36-E36)<0,"↑",IF((D36-E36)>0,"↓","")) | G36: =ABS(D36-E36) -> 0 | H36: =ROUND(((D36-E36)/E36)*100,1) -> 0 | I36: 30000 | J36: 30000 | K36: 30000 | L36: 30000 | M36: 30000 | N36: 30000 | O36: 30000 | P36: 30000 | Q36: 30000
B37: PC방 이용료 | C37: 1시간 | D37: 1044 | E37: =AVERAGE(I37:R37) -> 1088.8889 | F37: =IF((D37-E37)<0,"↑",IF((D37-E37)>0,"↓","")) -> ↑ | G37: =ABS(D37-E37) -> 44.888889 | H37: =ROUND(((D37-E37)/E37)*100,1) -> -4.1 | I37: 1000 | J37: 1000 | K37: 1200 | L37: 1000 | M37: 1000 | N37: 1200 | O37: 1200 | P37: 1200 | Q37: 1000
B38: 영화관람료 | C38: 1회(상영시간 100분정도, 조조,심야,3D제외) | D38: 10000 | E38: =AVERAGE(I38:R38) -> 10000 | F38: =IF((D38-E38)<0,"↑",IF((D38-E38)>0,"↓","")) | G38: =ABS(D38-E38) -> 0 | H38: =ROUND(((D38-E38)/E38)*100,1) -> 0 | L38: 10000 | O38: 10000 | P38: 10000 | Q38: 10000
B39: 사진촬영료 | C39: 1조(반명함판칼라(3*4cm)) | D39: 14333 | E39: =AVERAGE(I39:R39) -> 15666.667 | F39: =IF((D39-E39)<0,"↑",IF((D39-E39)>0,"↓","")) -> ↑ | G39: =ABS(D39-E39) -> 1333.6667 | H39: =ROUND(((D39-E39)/E39)*100,1) -> -8.5 | I39: 13000 | J39: 15000 | K39: 13000 | L39: 20000 | M39: 15000 | N39: 20000 | O39: 17000 | P39: 13000 | Q39: 15000
B40: 사진인화료 | C40: 사이즈 3.5×5(8.9*12.7cm) 사진인화요금, 현상료 제외 | D40: 363 | E40: =AVERAGE(I40:R40) -> 371.42857 | F40: =IF((D40-E40)<0,"↑",IF((D40-E40)>0,"↓","")) -> ↑ | G40: =ABS(D40-E40) -> 8.4285714 | H40: =ROUND(((D40-E40)/E40)*100,1) -> -2.3 | I40: 300 | J40: 400 | K40: 300 | L40: 400 | M40: 400 | N40: 400 | P40: 400
B41: 숙박료(호텔) | C41: 1일(평일,스탠다드, 2급 기준) | D41: =[1]요금!$D$41 -> 50000 | E41: =AVERAGE(I41:R41) -> 50000 | F41: =IF((D41-E41)<0,"↑",IF((D41-E41)>0,"↓","")) | G41: =ABS(D41-E41) -> 0 | H41: =ROUND(((D41-E41)/E41)*100,1) -> 0 | L41: 40000 | O41: 50000 | P41: 60000
B42: 숙박료(여관) | C42: 1일(독방,1박,욕탕부설) | D42: 40000 | E42: =AVERAGE(I42:R42) -> 40000 | F42: =IF((D42-E42)<0,"↑",IF((D42-E42)>0,"↓","")) | G42: =ABS(D42-E42) -> 0 | L42: 40000 | O42: 40000
B43: 콘도이용료 | C43: 1일(25평정도, 비수기평일, 일반회원가) | D43: =[1]요금!$D$43 -> 0 | E43: =AVERAGE(I43:R43) -> #DIV/0! | F43: =IF((D43-E43)<0,"↑",IF((D43-E43)>0,"↓","")) -> #DIV/0! | G43: =ABS(D43-E43) -> #DIV/0!
B44: 이 용 료 | C44: 1회(남자성인 컷트 요금) | D44: 11444 | E44: =AVERAGE(I44:R44) -> 10888.889 | F44: =IF((D44-E44)<0,"↑",IF((D44-E44)>0,"↓","")) -> ↓ | G44: =ABS(D44-E44) -> 555.11111 | H44: =ROUND(((D44-E44)/E44)*100,1) -> 5.1 | I44: 10000 | J44: 8000 | K44: 8000 | L44: 12000 | M44: 12000 | N44: 12000 | O44: 8000 | P44: 13000 | Q44: 15000
B45: 미 용 료 | C45: 1회(전문업소가 아닌 일반업소) | D45: 26778 | E45: 26778 | F45: =IF((D45-E45)<0,"↑",IF((D45-E45)>0,"↓","")) | G45: =ABS(D45-E45) -> 0 | H45: =ROUND(((D45-E45)/E45)*100,1) -> 0 | I45: 12000 | J45: 12000 | K45: 10000 | L45: 12000 | M45: 15000 | N45: 20000 | O45: 20000 | P45: 40000 | Q45: 50000
B46: 목욕료 | C46: 1회(성인일반대중탕) | D46: 7250 | E46: =AVERAGE(I46:R46) -> 7125 | F46: =IF((D46-E46)<0,"↑",IF((D46-E46)>0,"↓","")) -> ↓ | G46: =ABS(D46-E46) -> 125 | H46: =ROUND(((D46-E46)/E46)*100,1) -> 1.8 | I46: 7000 | J46: 7000 | K46: 8000 | L46: 7000 | M46: 7000 | N46: 7000 | O46: 6000 | Q46: 8000
B47: 찜질방이용료 | C47: 1회(성인, 찜질복대여료 포함) | D47: 8125 | E47: =AVERAGE(I47:R47) -> 8285.7143 | F47: =IF((D47-E47)<0,"↑",IF((D47-E47)>0,"↓","")) -> ↑ | G47: =ABS(D47-E47) -> 160.71429 | H47: =ROUND(((D47-E47)/E47)*100,1) -> -1.9 | I47: 8000 | J47: 8000 | K47: 9000 | L47: 8000 | M47: 8000 | N47: 8000 | Q47: 9000

Sheet 업소별 가격
A1: 서구 개인서비스요금(6월)
A2: 구분 | B2: 품목명 | C2: 규격 및 단위 | D2: 석남1동 | E2: 석남2동 | F2: 가좌동 | G2: 연희동 | H2: 신현동 | I2: 검암동 | J2: 검단동 | K2: 당하동 | L2: 청라지구
A3: 외 식 비 (24종) | B3: 설 렁 탕 | C3: 1인분 (고기는 한우로 조사, 원산지 기재) | D3: 신촌설렁탕 칠천왕로33번길 20-1 (205-0914) 8,000 | E3: 두리문 가정로 221 (574-2474) 8,000 | F3: 가촌 원적로 79 (583-7664) 8,000 | G3: 구수옥설렁탕 중봉대로586번길 9-23 (563-9441) 8,000 | H3: 생고기어게인 가정로 375 (576-5882) 1인분 6,500 | I3: 나주곰탕 승학로512번길 2 (565-1667) 9,000 | J3: 한우진국설렁탕 검단로 785 (564-1238) 8,000 | K3: 김밥과하루 청마로51번안길 11 (561-8253) 6,000 | L3: 국물집 청라커낼로 229-16 (561-0796) 8,000
B4: 냉 면 | C4: 물냉면, 1인분 | D4: 강남식당 가정로308번길 4 (581-2797) 6,000 | E4: 미락김밥 거북로 84 (579-6969) 6,000 | F4: 토마토24 원적로95번길 5 (574-9592) 4,000 | G4: OK김밥나라 탁옥로 37 (568-7890) 5,000 | H4: 밥맛나는 세상 가정로 375 (577-6980) 5,500 | I4: 육두령 승학로 568 (561-9711) 5,000 | J4: 송주 완정로 46 (564-7885) 4,500 | K4: 김밥과하루 청마로51번안길 11 (561-8253) 5,000 | L4: 이촌옥 청라루비로42번길 6-19 (561-6868) 8,000
B5: 비 빔 밥 | C5: 1인분(보통) | D5: 김밥브라더스 가정로 308 (577-2232) 4,500 | E5: 토박이 염곡로 190 (578-9992) 6,000 | F5: 토마토24 원적로95번길 5 (574-9592) 4,500 | G5: OK김밥나라 탁옥로 37 (568-7890) 5,000 | H5: 밥맛나는 세상 가정로 375 (577-6980) 6,000 | I5: 박승광칼국수 도요지로 230 (567-6674) 5,000 | J5: 미가원 서곶로 872 (564-3291) 8,000 | K5: 김밥과하루 청마로51번안길 11 (561-8253) 5,000 | L5: 비빔향 중봉대로 587, 2층 7,000
B6: 갈 비 탕 | C6: 1인분 (고기는 한우로 조사, 원산지 기재) | D6: 강남식당 가정로308번길 4 (581-2797) 6,000 | E6: 토박이 염곡로 190 (578-9992) 6,500 | F6: 쌍마가든 가정로152번길 6-1 (582-8149) 8,000 | G6: OK김밥나라 탁옥로 37 (568-7890) 6,000 | H6: 오성식당 원창로 162 (581-0951) 9,000 | I6: 서서갈비 승학로 479 (562-9229) 8,000 | J6: 미가원 서곶로 872 (564-3291) 10,000 | K6: 진수정갈비 원당대로 854 (569-6851) 8,000 / 미국산 | L6: 이촌옥 청라루비로42번길 6-19 (561-6868) 10,000
B7: 삼 계 탕 | C7: 1인분(보통) (국내산으로 조사, 원산지 기재) | D7: 능이버섯백숙 거북로 67-2 (575-9124) 12,000 | E7: 시골한방삼계탕 길주로75번길 29 (576-6462) 11,000 | F7: 약선삼계탕 건지로284번길 51 (575-5204) 11,000 | G7: 장수골 승학로 199 (561-1500) 12,000 | H7: 가정옥 가정로52번길 3 (583-6783) 13,000 | I7: 처갓집 말뚝 승학로 566 (565-3310) 13,000 | J7: 참맛식당 완정로 48 (563-8356) 12,000 | K7: 조순분 착한오리 원당대로 675 (561-5211) 12,000 | L7: 경복궁 삼계탕 청라커낼로 329 (569-4310) 13,000
B8: 김치찌개 | C8: 1인분 (전골이 아닌 백반으로 조사-공기밥포함) | D8: 김밥브라더스 가정로 308 (577-2232) 5,000 | E8: 미락김밥 거북로 84 (579-6969) 5,000 | F8: 토마토24 원적로95번길 5 (574-9592) 5,000 | G8: OK김밥나라 탁옥로 37 (568-7890) 5,000 | H8: 밥맛나는 세상 가정로 375 (577-6980) 5,500 | I8: 오메가메 승학로 528 (573-2244) 6,000 | J8: 골목식당 완정로178번길 34 (561-3369) 6,000 | K8: 백채김치찌개 고산후로95번길 10 (567-1344) 6,500 | L8: 부자정육식당 청라커낼로 229 (562-9875) 6,000
B9: 된장찌개 | C9: 1인분 (전골이 아닌 백반으로 조사-공기밥포함) | D9: 김밥브라더스 가정로 308 (577-2232) 5,000 | E9: 토박이 염곡로 190 (578-9992) 6,000 | F9: 토마토24 원적로95번길 5 (574-9592) 5,000 | G9: OK김밥나라 탁옥로 37 (568-7890) 5,000 | H9: 밥맛나는 세상 가정로 375 (577-6980) 5,500 | I9: 오메가메 승학로 528 (573-2244) 6,000 | J9: 골목식당 완정로178번길 34 (561-3369) 6,000 | K9: 김밥과하루 청마로51번안길 11 (561-8253) 5,000 | L9: 부자정육식당 청라커낼로 229 (562-9875) 6,000
B10: 불 고 기 | C10: 1인분(한우로 조사하되 원산지 기재 / 정확한 g 기재) | D10: 갈비청 건지로 269 (575-8892) 8,000 | E10: 미락김밥 거북로 84 (579-6969) 7,000 | F10: 쌍마가든 가정로152번길 6-1 (582-8149) 10,000 | G10: 촌장골 서곶로296 (562-4343) 150g/1인분 15,000 | H10: 밥맛나는 세상 가정로 375 (577-6980) 6,000 | I10: 나무꾼이야기 승학로 458 (568-8162) 150g 13,000 | J10: 한우진국설렁탕 검단로 785, 2층 (564-1238) 200g 10,000 | K10: 진수정갈비 원당대로 854 (569-6851) 150g 14,000 | L10: 이촌옥 청라루비로42번길 6-19 (561-6868) 200g 12,000
B11: 쇠 고 기 | C11: 1인분(한우로 조사하되 원산지 기재 / 정확한 g 기재) | D11: 갈비청 건지로 269 (575-8892) 15,000 | E11: 토박이 염곡로 190 (578-9992) 29,000 / 300g | F11: 쌍마가든 가정로152번길 6-1 (582-8149) 180g 10,000 | G11: 촌장골 서곶로296 (562-4343) 300g 32,000 | H11: 오성식당 원창로 162 (581-0951) 11,900 / 150g | I11: 나무꾼이야기 승학로 458 (568-8162) 150g 27,000 | J11: 철원한우 완정로133번길 2 (564-3387) 160g 20,000 | K11: 진수정갈비 원당대로 854 (569-6851) 150g 30,000 | L11: 부자정육식당 청라커낼로 229 (562-9875) 150g 25,000
B12: 양념돼지갈비 | C12: 1인분(국내산으로로 조사하되 원산지 기재 / 정확한 g 기재) | D12: 갈비청 건지로 269 (575-8892) 9,900 | E12: 토박이 염곡로 190 (578-9992) 14,000 / 280g | F12: 고기가 원적로100번길 22 (574-5580) 10,900 / 200g | G12: 촌장골 서곶로296 (562-4343) 250g 18,000 | H12: 태백숯불갈비 염곡로 328 (582-8242) 11,000 / 250g | I12: 나무꾼이야기 승학로 458 (568-8162) 250g 15,000 | J12: 효자갈비 완정로 48 (569-6616) 300g 12,000 | K12: 진수정갈비 원당대로 854 (569-6851) 250g 15,000 | L12: 단지집 청라커낼로223번길 19 (567-6126) 250g 12,900
B13: 삼 겹 살 | C13: 1인분(국내산으로로 조사하되 원산지 기재 / 정확한 g 기재) | D13: 강남식당 가정로308번길 4 (581-2797) 12,000 | E13: 토박이 염곡로 190 (578-9992) 14,000 / 180g | F13: 고기가 원적로100번길 22 (574-5580) 9,900 / 150g | G13: 촌장골 서곶로296 (562-4343) 180g 14,000 | H13: 장터삼겹살 율도로 51 (581-9233) 180g 7,000 | I13: 나무꾼이야기 승학로 458 (568-8162) 250g 13,000 | J13: 효자갈비 완정로 48 (569-6616) 300g 13,000 | K13: 진수정갈비 원당대로 854 (569-6851) 180g 15,000 | L13: 육본가 청라커낼로233번길 10-1 (561-1899) 200g 13,000
B14: 자 장 면 | C14: 1그릇(배달이 아닌 업소내 판매가격) | D14: 짜장이 좋아 가정로 291 (201-7855) 3,000 | E14: 식객짬뽕 가정로 172 (574-3159) 4,000 | F14: 양자강 원적로95번길 5 (582-1003) 5,000 | G14: 이비가짬뽕 서곶로322 (566-7484) 6,000 | H14: 고구려짬뽕 가정로419번길 3 (575-8882) 5,000 | I14: 짬뽕하오 승학로382번길 1 (565-4622) 3,500 | J14: 궁중짜장 봉수대로1440번안길 25 (561-4747) 3,000 | K14: 문가 서곶로 846 (567-5874) 5,000 | L14: 레이중화요리 청라루비로42번길 5-21 (568-3888) 4,500
B15: 짬 뽕 | C15: 1그릇(배달이 아닌 업소내 판매가격) | D15: 짜장이 좋아 가정로 291 (201-7855) 4,000 | E15: 식객짬뽕 가정로 172 (574-3159) 6,000 | F15: 양자강 원적로95번길 5 (582-1003) 6,000 | G15: 이비가짬뽕 서곶로322 (566-7484) 8,000 | H15: 고구려짬뽕 가정로419번길 3 (575-8882) 7,000 | I15: 짬뽕하오 승학로382번길 1 (565-4622) 5,000 | J15: 궁중짜장 봉수대로1440번안길 25 (561-4747) 4,000 | K15: 문가 서곶로 846 (567-5874) 7,000 | L15: 레이중화요리 청라루비로42번길 5-21 (568-3888) 5,000
... B26: 국 산 차(외식) | C26: 1잔(녹차) (전문업소가 아닌 일반업소) | D26: 더로드 가정로 295 (208-5557) 3,500 | E26: 이디야커피 가정로 237-1 (583-2224) 3,200 | F26: 카페베네 원적로 79-1 (584-8422) 4,000 | G26: 루앤비 탁옥로 37 (563-8737) 3,500 | H26: 커피볶는예술 가정로 375 (577-3730) 4,500 | I26: 커피더캠프 서곶로 543 (563-3984) 4,300 | J26: 이제이 COFFEE 완정로 197 (562-1911) 3,500 | K26: 바이커피 청마로34번길 6 (565-1088) 4,000 | L26: 1층커피 중봉대로 602 (070-4861-0713) 4,500
A27: 기 타 서 비 스 (21종) | B27: 양복세탁료 | C27: 1회(신사복 상하 드라이크리닝 (정장1벌) 다림질 포함) | D27: 하얀세탁소 길주로75번길 20 (577-0286) 1벌 7,000 | E27: 효정세탁소 건지로249번길 30 (574-4824) 7,000 | F27: 클리닝월드 원적로95번길 5 (577-3588) 4,500 | G27: 스피드세탁 심곡로 37-2 (565-5411) 7,000 | H27: 신현세탁소 원창로 194 (572-3534) 7,000 | I27: 세탁1번지 승학로 409 (562-6600) 5,000 | J27: 대주세탁소 완정로65번안길 8 (566-1744) 6,000 | K27: 바로콜세탁 청마로 92 (564-8286) 6,000 | L27: 프라임 세탁마을 청라에메랄드로163번길 2 (562-2003) 4,000
B28: 의복수선료 | C28: 1회(신사복 하의길이 수선- 바지밑단 줄임) | D28: 하얀세탁소 길주로75번길 20 (577-0286) 1벌 4,000 | E28: 효정세탁소 건지로249번길 30 (574-4824) 4,000 | F28: 클리닝월드 원적로95번길 5 (577-3588) 3,000 | G28: 스피드세탁 심곡로 37-2 (565-5411) 4,000 | H28: 신현세탁소 원창로 194 (572-3534) 6,000 | I28: 세탁1번지 승학로 409 (562-6600) 5,000 | J28: 대주세탁소 완정로65번안길 8 (566-1744) 3,000 ~ 4,000 | K28: 바로콜세탁 청마로 92 (564-8286) 4,000 | L28: 프라임 세탁마을 청라에메랄드로163번길 2 (562-2003) 3,000 ~ 4,000
B29: 공동주택관리비 | C29: 1개원(아파트 개별부과금 제외한 전금액(1m 요금)
B30: 택배이용료 | C30: 1회 (크기:중형(가로+세로+높이=140cm) (무게:20kg이하, 타지역(특수지제외) | D30: 석남동우체국 가정로 314 (572-2155) 7,500 | E30: GS25 가정로 202 (572-1944) 5,500 | F30: 가좌2동 우체국 원적로96번길 27 (575-2005) 7,500 | G30: 서인천우체국 서곶로 318 (590-9120) 7,500 | H30: GS25 신현로 1 (573-0335) 5,500 | I30: GS25 검암제일점 검암로 210 (561-7792) 3,500 | J30: 세븐일레븐 검단중앙점 검단로 480 (561-7984) 5,500 | K30: GS25 탑병원점 청마로19번길 9 (565-2523) 3,500 | L30: GS25 청라중앙점 청라커낼로 264, 101호 (568-9812) 3,500
B31: 운동경기관람료 | C31: 1회(경기장입장료(성인,일반석))
B32: 수영장 이용료 | C32: 1회(성인일반 1회 입장료(실내수영장)) | I32: 서구국민체육센터 승학로 525 (569-7970) 5,000 | J32: 검단복지회관 완정로92번길 18 (561-4116) 5,000 | K32: 오션차일드 서곶로 816 (566-9985) 150,000 (3세~고등학생 이용 가능, 4회/레슨포함) | L32: 린스포츠센터 청라라임로 85 (562-7171) 7,000
B33: 볼링장 이용료 | C33: 1회(일반인 평일,1게임, 오후기준, 신발대여료 제외) | F33: 천마볼링장 원적로 109 (573-0573) 3,500 | G33: 서곶볼링센터 심곡로55번길 14 (569-2299) 3,500 | H33: 서경볼링장 가정로 369 (582-6262) 3,600 | J33: 검단볼링장 마전동697-6 (561-0280) 2,800 | L33: 지젤락볼링장 청라에메랄드로 99 (623-4321) 3,000 (17시 이후 4,500)
B34: 골프연습장이용료 | C34: 1개월(초급반(남자) 회원) | G34: 서광골프연습장 심곡로 165 (561-8314) 1개월 170,000 | I34: 제이앤비스크린골프 도요지로 240 (566-9546) 60,000 (연습만) | J34: 준골프아카데미 완정로34번길 6 (565-6992) 80,000 (연습) | K34: 골든캐슬골프스크린 원당대로 628 (566-9045) 40,000 (연습) | L34: 에스티골프 피트니스 청라라임로 71 (569-4630) 195,000 (레슨비 포함)
B35: 당구장 이용료 | C35: 1시간(일반인, 저녁시간대) | D35: 하늘당구클럽 가정로 187 (572-9752) 1시간 6,000 | E35: 거북당구클럽 거북로 105-1 (578-3456) 7,200 | F35: 스타당구클럽 원적로 79 (573-5401) 7,000 | G35: 날마다당구클럽 심곡로 44-1 9,000 | H35: 당구매니아 가정로 369 (577-0172) 9,000 | I35: 갤럭시당구클럽 승학로 452 (070-8117-5198) 9,000 | J35: UCC당구클럽 검단로459번길 7-1 9,000 | K35: 수당구클럽 고산후로95번안길 21 9,000 | L35: SBS당구장 청라라임로 71 (574-2551) 10,000
B36: 노래방 이용료 | C36: 1시간(성인, 저녁시간대,일반실) | D36: 화인노래방 길주로 87 (574-1331) 30,000 | E36: 아시안노래방 거북로 105-1 30000 | F36: 영풍노래방 원적로 100 (561-1692) 30,000 | G36: 엄지노래방 서곶로 300 (561-6636) 30,000 | H36: 슈퍼노래방 가정로 360-2 (573-0006) 30,000 | I36: 아바노래연습장 승학로 479 30,000 | J36: 퀸애비뉴노래연습장 완정로117번길 62 (566-4747) 30,000 | K36: 불러존노래연습장 청마로167번길 3 30,000 | L36: 럭셔리샵노래연습장 중봉대로 588 (564-6947) 30,000
B37: PC방 이용료 | C37: 1시간 | D37: 스타PC 가정로 308 1,000 | E37: 스타일PC방 거북로 104 1,000 | F37: 헤라PC방 원적로 100 1,200 | G37: 로밍pc카페 심곡로 44-1 1,000 | H37: 사이버메카pc클럽 염곡로 364 (583-9731) 1,000 | I37: 블레스PC 승학로 477 1,000 (비회원 1,200) | J37: 이-네이처 PC방 검단로459번길 7 1,000 (회원) 1,200 (비회원) | K37: 살구PC방 고산후로95번안길 21 회원 1,000 (비회원 1,200) | L37: 아이센스 리그 PC방 중봉대로586번길 9-4 1,000 (회원 50분, 비회원 40분)
B38: 영화관람료 | C38: 1회(상영시간 100분정도, 조조,심야,3D제외) | G38: 롯데시네마 봉수대로 806 (1544-8855) 10,000 | J38: 롯데시네마 완정로 163 (1544-8855) 10,000 | K38: 메가박스 검단 서곶로 788 (1544-0070) 10,000 | L38: 메가박스 청라지젤점 청라에메랄드로 99 (1544-0070) 10,000
B39: 사진촬영료 | C39: 1조(반명함판칼라(3*4cm)) | D39: 봄스튜디오 가정로308번길 2 (576-6767) 1조 13,000 | E39: 스튜디오 큐 율도로 26 (572-1412) 15,000 | F39: 현대포토 원적로95번길 5 (577-9543) 13,000 | G39: 포토픽스 서곶로301번길 7 (567-5547) 20,000 | H39: 신현사진관 가정로380번길 4 (571-3355) 15,000 | I39: 스튜디오 봄 도요지로 239-1 (563-3022) 8장 1조 20,000 | J39: 베이비예감스튜디오 검단로 480 (568-4745) 8장 1조 17,000 | K39: 포토스토리 고산후로95번안길 21 (561-4766) 9장 13,000 | L39: 세레니티 스튜디오 중봉대로586번길 9-4 (070-4156-2480) 1조 6매 15,000
B40: 사진인화료 | C40: 사이즈 3.5×5(8.9*12.7cm) 사진인화요금, 현상료 제외 | D40: 봄스튜디오 가정로308번길 2 (576-6767) 1장 300 | E40: 스튜디오 큐 율도로 26 (572-1412) 400 | F40: 현대포토 원적로95번길 5 (577-9543) 1장 300 | G40: 포토픽스 서곶로301번길 7 (567-5547) 400 | H40: 신현사진관 가정로380번길 4 (571-3355) 400 | I40: 스튜디오 봄 도요지로 239-1 (563-3022) 1장 400 | J40: 베이비예감스튜디오 검단로 480 (568-4745) 사진 인화 안 함 | K40: 포토스토리 고산후로95번안길 21 (561-4766) 1장 400 | L40: 세레니티 스튜디오 중봉대로586번길 9-4 (070-4156-2480) 사진 인화 안 함
B41: 숙박료(호텔) | C41: 1일(평일,스탠다드, 2급 기준) | G41: 연호텔 탁옥로 43 (561-4324) 40,000 | J41: 러브버드호텔 완정로 152 (568-8834) 평일 45,000 주말 50,000 | K41: 동일관광호텔 원당대로 874 (568-5610) 50,000~60,000
B42: 숙박료(여관) | C42: 1일(독방,1박,욕탕부설) | G42: 가우디모텔 탁옥로 41 (590-9500) 40,000 | J42: 노블레스모텔 완정로117번길 31 (568-0722) 40,000
B43: 콘도이용료 | C43: 1일(25평정도, 비수기평일, 일반회원가)
B44: 이 용 료 | C44: 1회(남자성인 컷트 요금) | D44: 체인지헤어 가정로 308 (576-2170) 10,000 | E44: 블루클럽 거북로 88 (577-4517) 8,000 | F44: 블루클럽 원적로 79-1 (577-5052) 8,000 | G44: 김송정머리터 승학로 228-5 (562-9280) 12,000 | H44: 블랙헤어 가정로 375 (571-2023) 12,000 | I44: 머리를가꾸는사람들 승학로 487 (562-9564) 12,000 | J44: 여기헤어 검단로487번길 43 (562-5743) 8,000 | K44: 다온헤어 청마로 64 (567-8030) 13,000 | L44: 미스미스터헤어 청라커낼로 252 (561-2295) 15,000
B45: 미 용 료 | C45: 1회(전문업소가 아닌 일반업소) | D45: 체인지헤어 가정로 308 (576-2170) 12,000 | E45: 씨저스헤어 거북로 84 (575-9063) 12,000 | F45: 토리헤어 원적로 99 (584-5477) 10,000 | G45: 김송정머리터 승학로 228-5 (562-9280) 12,000 | H45: 블랙헤어 가정로 375 (571-2023) 15,000 | I45: 머리를가꾸는사람들 승학로 487 (562-9564) 일반펌 20,000 | J45: 여기헤어 검단로487번길 43 (562-5743) 20,000 (일반펌) | K45: 다온헤어 청마로 64 (567-8030) 일반펌 40,000 | L45: 미스미스터헤어 청라커낼로 252 (561-2295) 일반펌 50,000
B46: 목욕료 | C46: 1회(성인일반대중탕) | D46: 보석사우나 신석로 79 (581-9361) 7,000 | E46: 정원해수피아 가정로 172 (573-7880) 7,000 | F46: 해수워터피아 봉수대로 257 (577-3600) 8,000 | G46: 아쿠아녹주사우나 심곡로49번길 7 (561-0533) 7,000 | H46: 백두산불가마사우나 율도로 25 (578-7715) 7,000 | I46: 로얄보석사우나 승학로 587 (567-5697) 7,000 | J46: 황제사우나 검단로 516 (565-8990) 6,000 | L46: 스파렉스 청라커낼로260번길 15 (561-2244) 1회 8,000
B47: 찜질방이용료 | C47: 1회(성인, 찜질복대여료 포함) | D47: 보석사우나 신석로 79 (581-9361) 8,000 | E47: 정원해수피아 가정로 172 (573-7880) 8,000 | F47: 해수워터피아 봉수대로 257 (577-3600) 9,000 | G47: 아쿠아녹주사우나 심곡로49번길 7 (561-0533) 8,000 | H47: 백두산불가마사우나 율도로 25 (578-7715) 8,000 | I47: 로얄보석사우나 승학로 587 (567-5697) 8,000 | L47: 스파렉스 청라커낼로260번길 15 (561-2244) 1회 9,000
