Workbook

Sheet 군구세외 일반회계
B2: =B4&L3&" 일반회계 세외수입 징수현황" -> 2024년 3월 서구 일반회계 세외수입 징수현황
K3: 기관명 | L3: 서구 | O3: =COUNTIF(O7:P77,"err") -> 0
B4: 2024년 3월 | L4: (단위:원,%)
D5: 구 분 | E5: 최종예산액 | F5: 징수결정액 | G5: 징 수 액 | H5: 정리보류액 | I5: 미수납액 | L5: 징수율
B6: 항 목 별 | E6: (A) | F6: (B) | G6: (C) | H6: (D) | I6: 미수납액 (E=B-C-D) | J6: 체납액 (F=E-G) | K6: 납기미도래 (G) | L6: (C/A) | M6: (C/B)
B7: 200 세외수입 | E7: =E8+E40+E62 -> 82356824000 | F7: =F8+F40+F62 -> 64865248363 | G7: =G8+G40+G62 -> 23420143832 | H7: =H8+H40+H62 -> 264138594 | I7: =I8+I40+I62 -> 41180965937 | J7: =J8+J40+J62 -> 33891270629 | K7: =K8+K40+K62 -> 7289695308 | L7: =IFERROR(G7/E7,0)*100 -> 28.437405 | M7: =IFERROR(G7/F7,0)*100 -> 36.105842 | O7: =IF(F7=G7+H7+I7,"","err") | P7: =IF(I7=J7+K7,"","err")
B8: 210 경상적세외수입 | E8: =E9+E12+E22+E28+E34+E36 -> 58079585000 | F8: =F9+F12+F22+F28+F34+F36 -> 17342514337 | G8: =G9+G12+G22+G28+G34+G36 -> 17252532854 | H8: =H9+H12+H22+H28+H34+H36 -> 0 | I8: =I9+I12+I22+I28+I34+I36 -> 89981483 | J8: =J9+J12+J22+J28+J34+J36 -> 25581205 | K8: =K9+K12+K22+K28+K34+K36 -> 64400278 | L8: =IFERROR(G8/E8,0)*100 -> 29.704986 | M8: =IFERROR(G8/F8,0)*100 -> 99.481151 | O8: =IF(F8=G8+H8+I8,"","err") | P8: =IF(I8=J8+K8,"","err")
B9: 211 재산임대수입 | E9: 1060979000 | F9: 396993650 | G9: 396108320 | H9: 0 | I9: 885330 | J9: 1400 | K9: 883930 | L9: 37.334228 | M9: 99.776991 | O9: =IF(F9=G9+H9+I9,"","err") | P9: =IF(I9=J9+K9,"","err")
C10: 211-01 국유재산임대료 | E10: 800000000 | F10: 333582880 | G10: 332698950 | H10: 0 | I10: 883930 | J10: 0 | K10: 883930 | L10: 41.587369 | M10: 99.735019 | O10: =IF(F10=G10+H10+I10,"","err") | P10: =IF(I10=J10+K10,"","err")
C11: 211-02 공유재산임대료 | E11: 260979000 | F11: 63410770 | G11: 63409370 | H11: 0 | I11: 1400 | J11: 1400 | K11: 0 | L11: 24.296733 | M11: 99.997792 | O11: =IF(F11=G11+H11+I11,"","err") | P11: =IF(I11=J11+K11,"","err")
B12: 212 사용료수입 | E12: 8790109000 | F12: 1200382013 | G12: 1158689915 | H12: 0 | I12: 41692098 | J12: 13237510 | K12: 28454588 | L12: 13.181747 | M12: 96.526764 | O12: =IF(F12=G12+H12+I12,"","err") | P12: =IF(I12=J12+K12,"","err")
C13: 212-01 도로사용료 | E13: 2550000000 | F13: 159029850 | G13: 137313200 | H13: 0 | I13: 21716650 | J13: 3895650 | K13: 17821000 | L13: 5.3848314 | M13: 86.344293 | O13: =IF(F13=G13+H13+I13,"","err") | P13: =IF(I13=J13+K13,"","err")
C14: 212-02 하천사용료 | E14: 0 | F14: 63770 | G14: 63770 | H14: 0 | I14: 0 | J14: 0 | K14: 0 | L14: 0 | M14: 100 | O14: =IF(F14=G14+H14+I14,"","err") | P14: =IF(I14=J14+K14,"","err")
C15: 212-03 하수도사용료 | E15: 0 | F15: 0 | G15: 0 | H15: 0 | I15: 0 | J15: 0 | K15: 0 | L15: 0 | M15: 0 | O15: =IF(F15=G15+H15+I15,"","err") | P15: =IF(I15=J15+K15,"","err")
C16: 212-04 상수도사용료 | E16: 0 | F16: 0 | G16: 0 | H16: 0 | I16: 0 | J16: 0 | K16: 0 | L16: 0 | M16: 0 | O16: =IF(F16=G16+H16+I16,"","err") | P16: =IF(I16=J16+K16,"","err")
C17: 212-05 공유수면사용료 | E17: 0 | F17: 502820 | G17: 0 | H17: 0 | I17: 502820 | J17: 0 | K17: 502820 | L17: 0 | M17: 0 | O17: =IF(F17=G17+H17+I17,"","err") | P17: =IF(I17=J17+K17,"","err")
C18: 212-06 시장사용료 | E18: 0 | F18: 0 | G18: 0 | H18: 0 | I18: 0 | J18: 0 | K18: 0 | L18: 0 | M18: 0 | O18: =IF(F18=G18+H18+I18,"","err") | P18: =IF(I18=J18+K18,"","err")
C19: 212-07 입장료수입 | E19: 5603362000 | F19: 817759103 | G19: 804237745 | H19: 0 | I19: 13521358 | J19: 6982350 | K19: 6539008 | L19: 14.352772 | M19: 98.346535 | O19: =IF(F19=G19+H19+I19,"","err") | P19: =IF(I19=J19+K19,"","err")
C20: 212-08 주차요금수입 | E20: 56476000 | F20: 20399700 | G20: 20399700 | H20: 0 | I20: 0 | J20: 0 | K20: 0 | L20: 36.121007 | M20: 100 | O20: =IF(F20=G20+H20+I20,"","err") | P20: =IF(I20=J20+K20,"","err")
C21: 212-09 기타사용료 | E21: 580271000 | F21: 202626770 | G21: 196675500 | H21: 0 | I21: 5951270 | J21: 2359510 | K21: 3591760 | L21: 33.893732 | M21: 97.06294 | O21: =IF(F21=G21+H21+I21,"","err") | P21: =IF(I21=J21+K21,"","err")
B22: 213 수수료수입 | E22: 14367518000 | F22: 4041338362 | G22: 3996058962 | H22: 0 | I22: 45279400 | J22: 12188500 | K22: 33090900 | L22: 27.813147 | M22: 98.879594 | O22: =IF(F22=G22+H22+I22,"","err") | P22: =IF(I22=J22+K22,"","err")
C23: 213-01 증지수입 | E23: 1729824000 | F23: 428530241 | G23: 409597241 | H23: 0 | I23: 18933000 | J23: 158500 | K23: 18774500 | L23: 23.67855 | M23: 95.581875 | O23: =IF(F23=G23+H23+I23,"","err") | P23: =IF(I23=J23+K23,"","err")
C24: 213-02 폐기물처리수수료 | E24: 12332094000 | F24: 3399097745 | G24: 3399097745 | H24: 0 | I24: 0 | J24: 0 | K24: 0 | L24: 27.563022 | M24: 100 | O24: =IF(F24=G24+H24+I24,"","err") | P24: =IF(I24=J24+K24,"","err")
C25: 213-03 재활용품수거판매수입 | E25: 12700000 | F25: 2860800 | G25: 2860800 | H25: 0 | I25: 0 | J25: 0 | K25: 0 | L25: 22.525984 | M25: 100 | O25: =IF(F25=G25+H25+I25,"","err") | P25: =IF(I25=J25+K25,"","err")
C26: 213-04 보건의료수수료 | E26: 0 | F26: 26209140 | G26: 25931740 | H26: 0 | I26: 277400 | J26: 0 | K26: 277400 | L26: 0 | M26: 98.941591 | O26: =IF(F26=G26+H26+I26,"","err") | P26: =IF(I26=J26+K26,"","err")
C27: 213-05 기타수수료 | E27: 292900000 | F27: 184640436 | G27: 158571436 | H27: 0 | I27: 26069000 | J27: 12030000 | K27: 14039000 | L27: 54.138421 | M27: 85.881208 | O27: =IF(F27=G27+H27+I27,"","err") | P27: =IF(I27=J27+K27,"","err")
B28: 214 사업수입 | E28: 3716455000 | F28: 1648943918 | G28: 1648943918 | H28: 0 | I28: 0 | J28: 0 | K28: 0 | L28: 44.368731 | M28: 100 | O28: =IF(F28=G28+H28+I28,"","err") | P28: =IF(I28=J28+K28,"","err")
C29: 214-01 사업장생산수입 | E29: 3716455000 | F29: 2739868 | G29: 2739868 | H29: 0 | I29: 0 | J29: 0 | K29: 0 | L29: 0.07372262 | M29: 100 | O29: =IF(F29=G29+H29+I29,"","err") | P29: =IF(I29=J29+K29,"","err")
C30: 214-02 청산금수입 | E30: 0 | F30: 0 | G30: 0 | H30: 0 | I30: 0 | J30: 0 | K30: 0 | L30: 0 | M30: 0 | O30: =IF(F30=G30+H30+I30,"","err") | P30: =IF(I30=J30+K30,"","err")
C31: 214-03 매각사업수입 | E31: 0 | F31: 0 | G31: 0 | H31: 0 | I31: 0 | J31: 0 | K31: 0 | L31: 0 | M31: 0 | O31: =IF(F31=G31+H31+I31,"","err") | P31: =IF(I31=J31+K31,"","err")
C32: 214-04 배당금수입 | E32: 0 | F32: 0 | G32: 0 | H32: 0 | I32: 0 | J32: 0 | K32: 0 | L32: 0 | M32: 0 | O32: =IF(F32=G32+H32+I32,"","err") | P32: =IF(I32=J32+K32,"","err")
C33: 214-05 기타사업수입 | E33: 0 | F33: 1646204050 | G33: 1646204050 | H33: 0 | I33: 0 | J33: 0 | K33: 0 | L33: 0 | M33: 100 | O33: =IF(F33=G33+H33+I33,"","err") | P33: =IF(I33=J33+K33,"","err")
B34: 215 징수교부금수입 | E34: 26732670000 | F34: 7537060080 | G34: 7535889630 | H34: 0 | I34: 1170450 | J34: 0 | K34: 1170450 | L34: 28.189813 | M34: 99.984471 | O34: =IF(F34=G34+H34+I34,"","err") | P34: =IF(I34=J34+K34,"","err")
C35: 215-01 징수교부금수입 | E35: 26732670000 | F35: 7537060080 | G35: 7535889630 | H35: 0 | I35: 1170450 | J35: 0 | K35: 1170450 | L35: 28.189813 | M35: 99.984471 | O35: =IF(F35=G35+H35+I35,"","err") | P35: =IF(I35=J35+K35,"","err")
B36: 216 이자수입 | E36: 3411854000 | F36: 2517796314 | G36: 2516842109 | H36: 0 | I36: 954205 | J36: 153795 | K36: 800410 | L36: 73.767579 | M36: 99.962102 | O36: =IF(F36=G36+H36+I36,"","err") | P36: =IF(I36=J36+K36,"","err")
C37: 216-01 공공예금이자수입 | E37: 3411854000 | F37: 2305203691 | G37: 2305203691 | H37: 0 | I37: 0 | J37: 0 | K37: 0 | L37: 67.564547 | M37: 100 | O37: =IF(F37=G37+H37+I37,"","err") | P37: =IF(I37=J37+K37,"","err")
C38: 216-02 융자금회수이자수입 | E38: 0 | F38: 0 | G38: 0 | H38: 0 | I38: 0 | J38: 0 | K38: 0 | L38: 0 | M38: 0 | O38: =IF(F38=G38+H38+I38,"","err") | P38: =IF(I38=J38+K38,"","err")
C39: 216-03 기타이자수입 | E39: 0 | F39: 212592623 | G39: 211638418 | H39: 0 | I39: 954205 | J39: 153795 | K39: 800410 | L39: 0 | M39: 99.551158 | O39: =IF(F39=G39+H39+I39,"","err") | P39: =IF(I39=J39+K39,"","err")
B40: 220 임시적세외수입 | E40: 13706236000 | F40: 43893376232 | G40: 5179062744 | H40: 264138594 | I40: 38450174894 | J40: 33384987864 | K40: 5065187030 | L40: 37.786178 | M40: 11.79919 | O40: =IF(F40=G40+H40+I40,"","err") | P40: =IF(I40=J40+K40,"","err")
B41: 221 재산매각수입 | E41: 0 | F41: 428522000 | G41: 428522000 | H41: 0 | I41: 0 | J41: 0 | K41: 0 | L41: 0 | M41: 100 | O41: =IF(F41=G41+H41+I41,"","err") | P41: =IF(I41=J41+K41,"","err")
C42: 221-01 국유재산매각귀속수입금 | E42: 0 | F42: 0 | G42: 0 | H42: 0 | I42: 0 | J42: 0 | K42: 0 | L42: 0 | M42: 0 | O42: =IF(F42=G42+H42+I42,"","err") | P42: =IF(I42=J42+K42,"","err")
C43: 221-02 시도유재산매각귀속수입금 | E43: 0 | F43: 0 | G43: 0 | H43: 0 | I43: 0 | J43: 0 | K43: 0 | L43: 0 | M43: 0 | O43: =IF(F43=G43+H43+I43,"","err") | P43: =IF(I43=J43+K43,"","err")
C44: 221-03 공유재산매각수입금 | E44: 0 | F44: 428506000 | G44: 428506000 | H44: 0 | I44: 0 | J44: 0 | K44: 0 | L44: 0 | M44: 100 | O44: =IF(F44=G44+H44+I44,"","err") | P44: =IF(I44=J44+K44,"","err")
C45: 221-04 불용품매각대금 | E45: 0 | F45: 16000 | G45: 16000 | H45: 0 | I45: 0 | J45: 0 | K45: 0 | L45: 0 | M45: 100 | O45: =IF(F45=G45+H45+I45,"","err") | P45: =IF(I45=J45+K45,"","err")
B46: 222 자치단체간부담금 | E46: 199653000 | F46: 0 | G46: 0 | H46: 0 | I46: 0 | J46: 0 | K46: 0 | L46: 0 | M46: 0 | O46: =IF(F46=G46+H46+I46,"","err") | P46: =IF(I46=J46+K46,"","err")
C47: 222-01 자치단체간부담금 | E47: 199653000 | F47: 0 | G47: 0 | H47: 0 | I47: 0 | J47: 0 | K47: 0 | L47: 0 | M47: 0 | O47: =IF(F47=G47+H47+I47,"","err") | P47: =IF(I47=J47+K47,"","err")
B48: 223 보조금반환수입 | E48: 0 | F48: 345629132 | G48: 339846972 | H48: 0 | I48: 5782160 | J48: 0 | K48: 5782160 | L48: 0 | M48: 98.327062 | O48: =IF(F48=G48+H48+I48,"","err") | P48: =IF(I48=J48+K48,"","err")
C49: 223-01 시ㆍ도비보조금등반환수입 | E49: 0 | F49: 0 | G49: 0 | H49: 0 | I49: 0 | J49: 0 | K49: 0 | L49: 0 | M49: 0 | O49: =IF(F49=G49+H49+I49,"","err") | P49: =IF(I49=J49+K49,"","err")
C50: 223-02 자체보조금등반환수입 | E50: 0 | F50: 85136825 | G50: 79354665 | H50: 0 | I50: 5782160 | J50: 0 | K50: 5782160 | L50: 0 | M50: 93.208391 | O50: =IF(F50=G50+H50+I50,"","err") | P50: =IF(I50=J50+K50,"","err")
C51: 223-03 위탁비반환수입 | E51: 0 | F51: 260492307 | G51: 260492307 | H51: 0 | I51: 0 | J51: 0 | K51: 0 | L51: 0 | M51: 100 | O51: =IF(F51=G51+H51+I51,"","err") | P51: =IF(I51=J51+K51,"","err")
B52: 224 기타수입 | E52: 9466899000 | F52: 6716316030 | G52: 3481689460 | H52: 0 | I52: 3234626570 | J52: 799730680 | K52: 2434895890 | L52: 36.777507 | M52: 51.839274 | O52: =IF(F52=G52+H52+I52,"","err") | P52: =IF(I52=J52+K52,"","err")
C53: 224-01 체납처분수입 | E53: 0 | F53: 0 | G53: 0 | H53: 0 | I53: 0 | J53: 0 | K53: 0 | L53: 0 | M53: 0 | O53: =IF(F53=G53+H53+I53,"","err") | P53: =IF(I53=J53+K53,"","err")
C54: 224-02 보상금수납금 | E54: 0 | F54: 0 | G54: 0 | H54: 0 | I54: 0 | J54: 0 | K54: 0 | L54: 0 | M54: 0 | O54: =IF(F54=G54+H54+I54,"","err") | P54: =IF(I54=J54+K54,"","err")
C55: 224-03 기부금수입 | E55: 119000000 | F55: 119000000 | G55: 119000000 | H55: 0 | I55: 0 | J55: 0 | K55: 0 | L55: 100 | M55: 100 | O55: =IF(F55=G55+H55+I55,"","err") | P55: =IF(I55=J55+K55,"","err")
C56: 224-04 지적재조사조정금 | E56: 0 | F56: 3523174260 | G56: 328756520 | H56: 0 | I56: 3194417740 | J56: 796044150 | K56: 2398373590 | L56: 0 | M56: 9.3312591 | O56: =IF(F56=G56+H56+I56,"","err") | P56: =IF(I56=J56+K56,"","err")
C57: 224-05 지방교부세감소분보전수입 | E57: 0 | F57: 0 | G57: 0 | H57: 0 | I57: 0 | J57: 0 | K57: 0 | L57: 0 | M57: 0 | O57: =IF(F57=G57+H57+I57,"","err") | P57: =IF(I57=J57+K57,"","err")
C58: 224-06 위약금 | E58: 0 | F58: 0 | G58: 0 | H58: 0 | I58: 0 | J58: 0 | K58: 0 | L58: 0 | M58: 0 | O58: =IF(F58=G58+H58+I58,"","err") | P58: =IF(I58=J58+K58,"","err")
C59: 224-07 그외수입 | E59: 9347899000 | F59: 3074141770 | G59: 3033932940 | H59: 0 | I59: 40208830 | J59: 3686530 | K59: 36522300 | L59: 32.455774 | M59: 98.692031 | O59: =IF(F59=G59+H59+I59,"","err") | P59: =IF(I59=J59+K59,"","err")
B60: 225 지난년도수입 | E60: 4039684000 | F60: 36402909070 | G60: 929004312 | H60: 264138594 | I60: 35209766164 | J60: 32585257184 | K60: 2624508980 | L60: 22.996955 | M60: 2.5520057 | O60: =IF(F60=G60+H60+I60,"","err") | P60: =IF(I60=J60+K60,"","err")
C61: 225-01 지난년도수입 | E61: 4039684000 | F61: 36402909070 | G61: 929004312 | H61: 264138594 | I61: 35209766164 | J61: 32585257184 | K61: 2624508980 | L61: 22.996955 | M61: 2.5520057 | O61: =IF(F61=G61+H61+I61,"","err") | P61: =IF(I61=J61+K61,"","err")
B62: 230 지방행정제재‧부과금 | E62: 10571003000 | F62: 3629357794 | G62: 988548234 | H62: 0 | I62: 2640809560 | J62: 480701560 | K62: 2160108000 | L62: 9.3515084 | M62: 27.237552 | O62: =IF(F62=G62+H62+I62,"","err") | P62: =IF(I62=J62+K62,"","err")
B63: 231 과징금 | E63: 105960000 | F63: 45255000 | G63: 39630000 | H63: 0 | I63: 5625000 | J63: 0 | K63: 5625000 | L63: 37.400906 | M63: 87.570434 | O63: =IF(F63=G63+H63+I63,"","err") | P63: =IF(I63=J63+K63,"","err")
C64: 231-01 과징금 | E64: 105960000 | F64: 45255000 | G64: 39630000 | H64: 0 | I64: 5625000 | J64: 0 | K64: 5625000 | L64: 37.400906 | M64: 87.570434 | O64: =IF(F64=G64+H64+I64,"","err") | P64: =IF(I64=J64+K64,"","err")
B65: 232 이행강제금 | E65: 565000000 | F65: 140802000 | G65: 45710690 | H65: 0 | I65: 95091310 | J65: 73575310 | K65: 21516000 | L65: 8.0903876 | M65: 32.464518 | O65: =IF(F65=G65+H65+I65,"","err") | P65: =IF(I65=J65+K65,"","err")
C66: 232-01 이행강제금 | E66: 565000000 | F66: 140802000 | G66: 45710690 | H66: 0 | I66: 95091310 | J66: 73575310 | K66: 21516000 | L66: 8.0903876 | M66: 32.464518 | O66: =IF(F66=G66+H66+I66,"","err") | P66: =IF(I66=J66+K66,"","err")
B67: 233 변상금 | E67: 0 | F67: 16215350 | G67: 7025540 | H67: 0 | I67: 9189810 | J67: 4481800 | K67: 4708010 | L67: 0 | M67: 43.326478 | O67: =IF(F67=G67+H67+I67,"","err") | P67: =IF(I67=J67+K67,"","err")
C68: 233-01 변상금 | E68: 0 | F68: 16215350 | G68: 7025540 | H68: 0 | I68: 9189810 | J68: 4481800 | K68: 4708010 | L68: 0 | M68: 43.326478 | O68: =IF(F68=G68+H68+I68,"","err") | P68: =IF(I68=J68+K68,"","err")
B69: 234 과태료 | E69: 3443600000 | F69: 889012730 | G69: 413477120 | H69: 0 | I69: 475535610 | J69: 349580610 | K69: 125955000 | L69: 12.007118 | M69: 46.509696 | O69: =IF(F69=G69+H69+I69,"","err") | P69: =IF(I69=J69+K69,"","err")
C70: 234-01 차량관련과태료 | E70: 2676000000 | F70: 551960300 | G70: 184458920 | H70: 0 | I70: 367501380 | J70: 295651380 | K70: 71850000 | L70: 6.8930837 | M70: 33.418875 | O70: =IF(F70=G70+H70+I70,"","err") | P70: =IF(I70=J70+K70,"","err")
C71: 234-02 기타과태료 | E71: 767600000 | F71: 337052430 | G71: 229018200 | H71: 0 | I71: 108034230 | J71: 53929230 | K71: 54105000 | L71: 29.835618 | M71: 67.947352 | O71: =IF(F71=G71+H71+I71,"","err") | P71: =IF(I71=J71+K71,"","err")
B72: 235 환수금 | E72: 0 | F72: 147447190 | G72: 14159670 | H72: 0 | I72: 133287520 | J72: 0 | K72: 133287520 | L72: 0 | M72: 9.6032145 | O72: =IF(F72=G72+H72+I72,"","err") | P72: =IF(I72=J72+K72,"","err")
C73: 235-01 부정이익환수금 | E73: 0 | F73: 147447190 | G73: 14159670 | H73: 0 | I73: 133287520 | J73: 0 | K73: 133287520 | L73: 0 | M73: 9.6032145 | O73: =IF(F73=G73+H73+I73,"","err") | P73: =IF(I73=J73+K73,"","err")
B74: 236 부담금 | E74: 6456443000 | F74: 2381525524 | G74: 460345214 | H74: 0 | I74: 1921180310 | J74: 52663840 | K74: 1868516470 | L74: 7.1300128 | M74: 19.329846 | O74: =IF(F74=G74+H74+I74,"","err") | P74: =IF(I74=J74+K74,"","err")
C75: 236-01 부담금 | E75: 6456443000 | F75: 2381525524 | G75: 460345214 | H75: 0 | I75: 1921180310 | J75: 52663840 | K75: 1868516470 | L75: 7.1300128 | M75: 19.329846 | O75: =IF(F75=G75+H75+I75,"","err") | P75: =IF(I75=J75+K75,"","err")
B76: 237 범칙금 | E76: 0 | F76: 9100000 | G76: 8200000 | H76: 0 | I76: 900000 | J76: 400000 | K76: 500000 | L76: 0 | M76: 90.10989 | O76: =IF(F76=G76+H76+I76,"","err") | P76: =IF(I76=J76+K76,"","err")
C77: 237-01 범칙금 | E77: 0 | F77: 9100000 | G77: 8200000 | H77: 0 | I77: 900000 | J77: 400000 | K77: 500000 | L77: 0 | M77: 90.10989 | O77: =IF(F77=G77+H77+I77,"","err") | P77: =IF(I77=J77+K77,"","err")

Sheet 군구세외 일반회계_지난년도
B2: =B4&L3&" 일반회계 지난년도 세외수입 징수현황" -> 2024년 3월 서구 일반회계 지난년도 세외수입 징수현황
K3: 기관명 | L3: ='군구세외 일반회계'!L3:M3 -> 서구 | O3: =COUNTIF(O7:P77,"err") -> 0
B4: ='군구세외 일반회계'!B4:D4 -> 2024년 3월 | L4: (단위:원,%)
D5: 구 분 | E5: 최종예산액 | F5: 징수결정액 | G5: 징 수 액 | H5: 정리보류액 | I5: 미수납액 | L5: 징수율
B6: 항 목 별 | E6: (A) | F6: (B) | G6: (C) | H6: (D) | I6: 미수납액 (E=B-C-D) | J6: 체납액 (F=E-G) | K6: 납기미도래 (G) | L6: (C/A) | M6: (C/B)
B7: 200 세외수입 | E7: 4039684000 | F7: =F8+F40+F62 -> 36402909070 | G7: =G8+G40+G62 -> 929004312 | H7: =H8+H40+H62 -> 264138594 | I7: =I8+I40+I62 -> 35209766164 | J7: =J8+J40+J62 -> 32585257184 | K7: =K8+K40+K62 -> 2624508980 | L7: =IFERROR(G7/E7,0)*100 -> 22.996955 | M7: =IFERROR(G7/F7,0)*100 -> 2.5520057 | O7: =IF(F7=G7+H7+I7,"","err") | P7: =IF(I7=J7+K7,"","err")
B8: 210 경상적세외수입 | E8: =E9+E12+E22+E28+E34+E36 -> 0 | F8: =F9+F12+F22+F28+F34+F36 -> 299157636 | G8: =G9+G12+G22+G28+G34+G36 -> 14818200 | H8: =H9+H12+H22+H28+H34+H36 -> 0 | I8: =I9+I12+I22+I28+I34+I36 -> 284339436 | J8: =J9+J12+J22+J28+J34+J36 -> 284339436 | K8: =K9+K12+K22+K28+K34+K36 -> 0 | L8: =IFERROR(G8/E8,0)*100 -> 0 | M8: =IFERROR(G8/F8,0)*100 -> 4.9533083 | O8: =IF(F8=G8+H8+I8,"","err") | P8: =IF(I8=J8+K8,"","err")
B9: 211 재산임대수입 | E9: 0 | F9: 28643780 | G9: -1371530 | H9: 0 | I9: 30015310 | J9: 30015310 | K9: 0 | L9: 0 | M9: -4.7882298 | O9: =IF(F9=G9+H9+I9,"","err") | P9: =IF(I9=J9+K9,"","err")
C10: 211-01 국유재산임대료 | F10: 13604290 | G10: 3086720 | H10: 0 | I10: 10517570 | J10: 10517570 | K10: 0 | L10: 0 | M10: 22.689313 | O10: =IF(F10=G10+H10+I10,"","err") | P10: =IF(I10=J10+K10,"","err")
C11: 211-02 공유재산임대료 | F11: 15039490 | G11: -4458250 | H11: 0 | I11: 19497740 | J11: 19497740 | K11: 0 | L11: 0 | M11: -29.643625 | O11: =IF(F11=G11+H11+I11,"","err") | P11: =IF(I11=J11+K11,"","err")
B12: 212 사용료수입 | E12: 0 | F12: 221205883 | G12: -892970 | H12: 0 | I12: 222098853 | J12: 222098853 | K12: 0 | L12: 0 | M12: -0.40368275 | O12: =IF(F12=G12+H12+I12,"","err") | P12: =IF(I12=J12+K12,"","err")
C13: 212-01 도로사용료 | F13: 198889280 | G13: 5637500 | H13: 0 | I13: 193251780 | J13: 193251780 | K13: 0 | L13: 0 | M13: 2.8344916 | O13: =IF(F13=G13+H13+I13,"","err") | P13: =IF(I13=J13+K13,"","err")
C14: 212-02 하천사용료 | F14: -3148100 | G14: 0 | H14: 0 | I14: -3148100 | J14: -3148100 | K14: 0 | L14: 0 | M14: 0 | O14: =IF(F14=G14+H14+I14,"","err") | P14: =IF(I14=J14+K14,"","err")
C15: 212-03 하수도사용료 | F15: 0 | G15: 0 | H15: 0 | I15: 0 | J15: 0 | K15: 0 | L15: 0 | M15: 0 | O15: =IF(F15=G15+H15+I15,"","err") | P15: =IF(I15=J15+K15,"","err")
C16: 212-04 상수도사용료 | F16: 0 | G16: 0 | H16: 0 | I16: 0 | J16: 0 | K16: 0 | L16: 0 | M16: 0 | O16: =IF(F16=G16+H16+I16,"","err") | P16: =IF(I16=J16+K16,"","err")
C17: 212-05 공유수면사용료 | F17: 11668503 | G17: 3391980 | H17: 0 | I17: 8276523 | J17: 8276523 | K17: 0 | L17: 0 | M17: 29.069539 | O17: =IF(F17=G17+H17+I17,"","err") | P17: =IF(I17=J17+K17,"","err")
C18: 212-06 시장사용료 | F18: 0 | G18: 0 | H18: 0 | I18: 0 | J18: 0 | K18: 0 | L18: 0 | M18: 0 | O18: =IF(F18=G18+H18+I18,"","err") | P18: =IF(I18=J18+K18,"","err")
C19: 212-07 입장료수입 | F19: 8838378 | G19: 0 | H19: 0 | I19: 8838378 | J19: 8838378 | K19: 0 | L19: 0 | M19: 0 | O19: =IF(F19=G19+H19+I19,"","err") | P19: =IF(I19=J19+K19,"","err")
C20: 212-08 주차요금수입 | F20: 0 | G20: 0 | H20: 0 | I20: 0 | J20: 0 | K20: 0 | O20: =IF(F20=G20+H20+I20,"","err") | P20: =IF(I20=J20+K20,"","err")
C21: 212-09 기타사용료 | F21: 4957822 | G21: -9922450 | H21: 0 | I21: 14880272 | J21: 14880272 | K21: 0 | L21: 0 | M21: -200.13728 | O21: =IF(F21=G21+H21+I21,"","err") | P21: =IF(I21=J21+K21,"","err")
B22: 213 수수료수입 | E22: 0 | F22: 53276250 | G22: 17065520 | H22: 0 | I22: 36210730 | J22: 36210730 | K22: 0 | L22: 0 | M22: 32.032134 | O22: =IF(F22=G22+H22+I22,"","err") | P22: =IF(I22=J22+K22,"","err")
C23: 213-01 증지수입 | F23: 15927260 | G23: 16170550 | H23: 0 | I23: -243290 | J23: -243290 | K23: 0 | L23: 0 | M23: 101.52751 | O23: =IF(F23=G23+H23+I23,"","err") | P23: =IF(I23=J23+K23,"","err")
C24: 213-02 폐기물처리수수료 | F24: 0 | G24: 0 | H24: 0 | I24: 0 | J24: 0 | K24: 0 | L24: 0 | M24: 0 | O24: =IF(F24=G24+H24+I24,"","err") | P24: =IF(I24=J24+K24,"","err")
C25: 213-03 재활용품수거판매수입 | F25: 12815520 | G25: 0 | H25: 0 | I25: 12815520 | J25: 12815520 | K25: 0 | L25: 0 | M25: 0 | O25: =IF(F25=G25+H25+I25,"","err") | P25: =IF(I25=J25+K25,"","err")
C26: 213-04 보건의료수수료 | F26: 293650 | G26: 293650 | H26: 0 | I26: 0 | J26: 0 | K26: 0 | L26: 0 | M26: 100 | O26: =IF(F26=G26+H26+I26,"","err") | P26: =IF(I26=J26+K26,"","err")
C27: 213-05 기타수수료 | F27: 24239820 | G27: 601320 | H27: 0 | I27: 23638500 | J27: 23638500 | K27: 0 | L27: 0 | M27: 2.4807115 | O27: =IF(F27=G27+H27+I27,"","err") | P27: =IF(I27=J27+K27,"","err")
B28: 214 사업수입 | E28: 0 | F28: 0 | G28: 0 | H28: 0 | I28: 0 | J28: 0 | K28: 0 | L28: 0 | M28: 0 | O28: =IF(F28=G28+H28+I28,"","err") | P28: =IF(I28=J28+K28,"","err")
C29: 214-01 사업장생산수입 | F29: 0 | G29: 0 | H29: 0 | I29: 0 | J29: 0 | K29: 0 | L29: 0 | M29: 0 | O29: =IF(F29=G29+H29+I29,"","err") | P29: =IF(I29=J29+K29,"","err")
C30: 214-02 청산금수입 | F30: 0 | G30: 0 | H30: 0 | I30: 0 | J30: 0 | K30: 0 | L30: 0 | M30: 0 | O30: =IF(F30=G30+H30+I30,"","err") | P30: =IF(I30=J30+K30,"","err")
C31: 214-03 매각사업수입 | F31: 0 | G31: 0 | H31: 0 | I31: 0 | J31: 0 | K31: 0 | L31: 0 | M31: 0 | O31: =IF(F31=G31+H31+I31,"","err") | P31: =IF(I31=J31+K31,"","err")
C32: 214-04 배당금수입 | F32: 0 | G32: 0 | H32: 0 | I32: 0 | J32: 0 | K32: 0 | L32: 0 | M32: 0 | O32: =IF(F32=G32+H32+I32,"","err") | P32: =IF(I32=J32+K32,"","err")
C33: 214-05 기타사업수입 | F33: 0 | G33: 0 | H33: 0 | I33: 0 | J33: 0 | K33: 0 | L33: 0 | M33: 0 | O33: =IF(F33=G33+H33+I33,"","err") | P33: =IF(I33=J33+K33,"","err")
B34: 215 징수교부금수입 | E34: 0 | F34: -10170870 | G34: 0 | H34: 0 | I34: -10170870 | J34: -10170870 | K34: 0 | L34: 0 | M34: 0 | O34: =IF(F34=G34+H34+I34,"","err") | P34: =IF(I34=J34+K34,"","err")
C35: 215-01 징수교부금수입 | F35: -10170870 | G35: 0 | H35: 0 | I35: -10170870 | J35: -10170870 | K35: 0 | L35: 0 | M35: 0 | O35: =IF(F35=G35+H35+I35,"","err") | P35: =IF(I35=J35+K35,"","err")
B36: 216 이자수입 | E36: 0 | F36: 6202593 | G36: 17180 | H36: 0 | I36: 6185413 | J36: 6185413 | K36: 0 | L36: 0 | M36: 0.27698093 | O36: =IF(F36=G36+H36+I36,"","err") | P36: =IF(I36=J36+K36,"","err")
C37: 216-01 공공예금이자수입 | F37: 6200353 | G37: 14940 | H37: 0 | I37: 6185413 | J37: 6185413 | K37: 0 | L37: 0 | M37: 0.24095402 | O37: =IF(F37=G37+H37+I37,"","err") | P37: =IF(I37=J37+K37,"","err")
C38: 216-02 융자금회수이자수입 | F38: 0 | G38: 0 | H38: 0 | I38: 0 | J38: 0 | K38: 0 | L38: 0 | M38: 0 | O38: =IF(F38=G38+H38+I38,"","err") | P38: =IF(I38=J38+K38,"","err")
C39: 216-03 기타이자수입 | F39: 2240 | G39: 2240 | H39: 0 | I39: 0 | J39: 0 | K39: 0 | L39: 0 | M39: 100 | O39: =IF(F39=G39+H39+I39,"","err") | P39: =IF(I39=J39+K39,"","err")
B40: 220 임시적세외수입 | E40: 0 | F40: 2442478567 | G40: 18338339 | H40: 244500104 | I40: 2179640124 | J40: 2179640124 | K40: 0 | L40: 0 | M40: 0.75080859 | O40: =IF(F40=G40+H40+I40,"","err") | P40: =IF(I40=J40+K40,"","err")
B41: 221 재산매각수입 | E41: 0 | F41: 0 | G41: 0 | H41: 0 | I41: 0 | J41: 0 | K41: 0 | L41: 0 | M41: 0 | O41: =IF(F41=G41+H41+I41,"","err") | P41: =IF(I41=J41+K41,"","err")
C42: 221-01 국유재산매각귀속수입금 | F42: 0 | G42: 0 | H42: 0 | I42: 0 | J42: 0 | K42: 0 | L42: 0 | M42: 0 | O42: =IF(F42=G42+H42+I42,"","err") | P42: =IF(I42=J42+K42,"","err")
C43: 221-02 시도유재산매각귀속수입금 | F43: 0 | G43: 0 | H43: 0 | I43: 0 | J43: 0 | K43: 0 | L43: 0 | M43: 0 | O43: =IF(F43=G43+H43+I43,"","err") | P43: =IF(I43=J43+K43,"","err")
C44: 221-03 공유재산매각수입금 | F44: 0 | G44: 0 | H44: 0 | I44: 0 | J44: 0 | K44: 0 | L44: 0 | M44: 0 | O44: =IF(F44=G44+H44+I44,"","err") | P44: =IF(I44=J44+K44,"","err")
C45: 221-04 불용품매각대금 | F45: 0 | G45: 0 | H45: 0 | I45: 0 | J45: 0 | K45: 0 | L45: 0 | M45: 0 | O45: =IF(F45=G45+H45+I45,"","err") | P45: =IF(I45=J45+K45,"","err")
B46: 222 자치단체간부담금 | E46: 0 | F46: 0 | G46: 0 | H46: 0 | I46: 0 | J46: 0 | K46: 0 | L46: 0 | M46: 0 | O46: =IF(F46=G46+H46+I46,"","err") | P46: =IF(I46=J46+K46,"","err")
C47: 222-01 자치단체간부담금 | F47: 0 | G47: 0 | H47: 0 | I47: 0 | J47: 0 | K47: 0 | L47: 0 | M47: 0 | O47: =IF(F47=G47+H47+I47,"","err") | P47: =IF(I47=J47+K47,"","err")
B48: 223 보조금반환수입 | E48: 0 | F48: 0 | G48: 0 | H48: 0 | I48: 0 | J48: 0 | K48: 0 | L48: 0 | M48: 0 | O48: =IF(F48=G48+H48+I48,"","err") | P48: =IF(I48=J48+K48,"","err")
C49: 223-01 시ㆍ도비보조금등반환수입 | F49: 0 | G49: 0 | H49: 0 | I49: 0 | J49: 0 | K49: 0 | L49: 0 | M49: 0 | O49: =IF(F49=G49+H49+I49,"","err") | P49: =IF(I49=J49+K49,"","err")
C50: 223-02 자체보조금등반환수입 | F50: 0 | G50: 0 | H50: 0 | I50: 0 | J50: 0 | K50: 0 | L50: 0 | M50: 0 | O50: =IF(F50=G50+H50+I50,"","err") | P50: =IF(I50=J50+K50,"","err")
C51: 223-03 위탁비반환수입 | F51: 0 | G51: 0 | H51: 0 | I51: 0 | J51: 0 | K51: 0 | L51: 0 | M51: 0 | O51: =IF(F51=G51+H51+I51,"","err") | P51: =IF(I51=J51+K51,"","err")
B52: 224 기타수입 | E52: 0 | F52: 2442478567 | G52: 18338339 | H52: 244500104 | I52: 2179640124 | J52: 2179640124 | K52: 0 | L52: 0 | M52: 0.75080859 | O52: =IF(F52=G52+H52+I52,"","err") | P52: =IF(I52=J52+K52,"","err")
C53: 224-01 체납처분수입 | F53: 124000 | G53: 0 | H53: 0 | I53: 124000 | J53: 124000 | K53: 0 | L53: 0 | M53: 0 | O53: =IF(F53=G53+H53+I53,"","err") | P53: =IF(I53=J53+K53,"","err")
C54: 224-02 보상금수납금 | F54: 0 | G54: 0 | H54: 0 | I54: 0 | J54: 0 | K54: 0 | L54: 0 | M54: 0 | O54: =IF(F54=G54+H54+I54,"","err") | P54: =IF(I54=J54+K54,"","err")
C55: 224-03 기부금수입 | F55: 0 | G55: 0 | H55: 0 | I55: 0 | J55: 0 | K55: 0 | L55: 0 | M55: 0 | O55: =IF(F55=G55+H55+I55,"","err") | P55: =IF(I55=J55+K55,"","err")
C56: 224-04 지적재조사조정금 | F56: 950220350 | G56: 22690000 | H56: 0 | I56: 927530350 | J56: 927530350 | K56: 0 | L56: 0 | M56: 2.3878672 | O56: =IF(F56=G56+H56+I56,"","err") | P56: =IF(I56=J56+K56,"","err")
C57: 224-05 지방교부세감소분보전수입 | F57: 0 | G57: 0 | H57: 0 | I57: 0 | J57: 0 | K57: 0 | L57: 0 | M57: 0 | O57: =IF(F57=G57+H57+I57,"","err") | P57: =IF(I57=J57+K57,"","err")
C58: 224-06 위약금 | F58: 0 | G58: 0 | H58: 0 | I58: 0 | J58: 0 | K58: 0 | O58: =IF(F58=G58+H58+I58,"","err") | P58: =IF(I58=J58+K58,"","err")
C59: 224-07 그외수입 | F59: 1492134217 | G59: -4351661 | H59: 244500104 | I59: 1251985774 | J59: 1251985774 | K59: 0 | L59: 0 | M59: -0.29164005 | O59: =IF(F59=G59+H59+I59,"","err") | P59: =IF(I59=J59+K59,"","err")
B60: 225 지난년도수입 | E60: 0 | F60: 0 | G60: 0 | H60: 0 | I60: 0 | J60: 0 | K60: 0 | L60: 0 | M60: 0 | O60: =IF(F60=G60+H60+I60,"","err") | P60: =IF(I60=J60+K60,"","err")
C61: 225-01 지난년도수입 | F61: 0 | G61: 0 | H61: 0 | I61: 0 | J61: 0 | L61: 0 | M61: 0 | O61: =IF(F61=G61+H61+I61,"","err") | P61: =IF(I61=J61+K61,"","err")
B62: 230 지방행정제재‧부과금 | E62: 0 | F62: 33661272867 | G62: 895847773 | H62: 19638490 | I62: 32745786604 | J62: 30121277624 | K62: 2624508980 | L62: 0 | M62: 2.6613604 | O62: =IF(F62=G62+H62+I62,"","err") | P62: =IF(I62=J62+K62,"","err")
B63: 231 과징금 | E63: 0 | F63: 7243897393 | G63: 169971000 | H63: 0 | I63: 7073926393 | J63: 7073926393 | K63: 0 | L63: 0 | M63: 2.3464026 | O63: =IF(F63=G63+H63+I63,"","err") | P63: =IF(I63=J63+K63,"","err")
C64: 231-01 과징금 | F64: 7243897393 | G64: 169971000 | H64: 0 | I64: 7073926393 | J64: 7073926393 | K64: 0 | L64: 0 | M64: 2.3464026 | O64: =IF(F64=G64+H64+I64,"","err") | P64: =IF(I64=J64+K64,"","err")
B65: 232 이행강제금 | E65: 0 | F65: 2861971927 | G65: 132089095 | H65: 0 | I65: 2729882832 | J65: 2729882832 | K65: 0 | L65: 0 | M65: 4.6153176 | O65: =IF(F65=G65+H65+I65,"","err") | P65: =IF(I65=J65+K65,"","err")
C66: 232-01 이행강제금 | F66: 2861971927 | G66: 132089095 | H66: 0 | I66: 2729882832 | J66: 2729882832 | K66: 0 | L66: 0 | M66: 4.6153176 | O66: =IF(F66=G66+H66+I66,"","err") | P66: =IF(I66=J66+K66,"","err")
B67: 233 변상금 | E67: 0 | F67: 217579600 | G67: 7529280 | H67: 0 | I67: 210050320 | J67: 210050320 | K67: 0 | L67: 0 | M67: 3.4604715 | O67: =IF(F67=G67+H67+I67,"","err") | P67: =IF(I67=J67+K67,"","err")
C68: 233-01 변상금 | F68: 217579600 | G68: 7529280 | H68: 0 | I68: 210050320 | J68: 210050320 | K68: 0 | L68: 0 | M68: 3.4604715 | O68: =IF(F68=G68+H68+I68,"","err") | P68: =IF(I68=J68+K68,"","err")
B69: 234 과태료 | E69: 0 | F69: 19396085906 | G69: 329340798 | H69: 19638490 | I69: 19047106618 | J69: 19047106618 | K69: 0 | L69: 0 | M69: 1.6979756 | O69: =IF(F69=G69+H69+I69,"","err") | P69: =IF(I69=J69+K69,"","err")
C70: 234-01 차량관련과태료 | F70: 16885185129 | G70: 260285258 | H70: 9182610 | I70: 16615717261 | J70: 16615717261 | K70: 0 | L70: 0 | M70: 1.5415008 | O70: =IF(F70=G70+H70+I70,"","err") | P70: =IF(I70=J70+K70,"","err")
C71: 234-02 기타과태료 | F71: 2510900777 | G71: 69055540 | H71: 10455880 | I71: 2431389357 | J71: 2431389357 | K71: 0 | L71: 0 | M71: 2.7502297 | O71: =IF(F71=G71+H71+I71,"","err") | P71: =IF(I71=J71+K71,"","err")
B72: 235 환수금 | E72: 0 | F72: 119765520 | G72: 400000 | H72: 0 | I72: 119365520 | J72: 119365520 | K72: 0 | L72: 0 | M72: 0.33398594 | O72: =IF(F72=G72+H72+I72,"","err") | P72: =IF(I72=J72+K72,"","err")
C73: 235-01 부정이익환수금 | F73: 119765520 | G73: 400000 | H73: 0 | I73: 119365520 | J73: 119365520 | K73: 0 | L73: 0 | M73: 0.33398594 | O73: =IF(F73=G73+H73+I73,"","err") | P73: =IF(I73=J73+K73,"","err")
B74: 236 부담금 | E74: 0 | F74: 3818872521 | G74: 256517600 | H74: 0 | I74: 3562354921 | J74: 937845941 | K74: 2624508980 | L74: 0 | M74: 6.717103 | O74: =IF(F74=G74+H74+I74,"","err") | P74: =IF(I74=J74+K74,"","err")
C75: 236-01 부담금 | F75: 3818872521 | G75: 256517600 | H75: 0 | I75: 3562354921 | J75: 937845941 | K75: 2624508980 | L75: 0 | M75: 6.717103 | O75: =IF(F75=G75+H75+I75,"","err") | P75: =IF(I75=J75+K75,"","err")
B76: 237 범칙금 | E76: 0 | F76: 3100000 | G76: 0 | H76: 0 | I76: 3100000 | J76: 3100000 | K76: 0 | L76: 0 | M76: 0 | O76: =IF(F76=G76+H76+I76,"","err") | P76: =IF(I76=J76+K76,"","err")
C77: 237-01 범칙금 | F77: 3100000 | G77: 0 | H77: 0 | I77: 3100000 | J77: 3100000 | K77: 0 | L77: 0 | M77: 0 | O77: =IF(F77=G77+H77+I77,"","err") | P77: =IF(I77=J77+K77,"","err")

Sheet 군구세외 특별회계(수정)
B2: =B4&L3&" 기타특별회계 세외수입 징수현황" -> 2024년 3월 서구 기타특별회계 세외수입 징수현황
K3: 기관명 | L3: ='군구세외 일반회계'!L3:M3 -> 서구 | O3: =COUNTIF(O7:P77,"err") -> 0
B4: ='군구세외 일반회계'!B4:D4 -> 2024년 3월 | L4: (단위:원,%)
D5: 구 분 | E5: 최종예산액 | F5: 징수결정액 | G5: 징 수 액 | H5: 정리보류액 | I5: 미수납액 | L5: 징수율
B6: 항 목 별 | E6: (A) | F6: (B) | G6: (C) | H6: (D) | I6: 미수납액 (E=B-C-D) | J6: 체납액 (F=E-G) | K6: 납기미도래 (G) | L6: (C/A) | M6: (C/B)
B7: 200 세외수입 | E7: =E8+E40+E62 -> 20192901000 | F7: =F8+F40+F62 -> 33201144160 | G7: =G8+G40+G62 -> 24619178610 | H7: =H8+H40+H62 -> 140800 | I7: =I8+I40+I62 -> 8581824750 | J7: =J8+J40+J62 -> 8574692260 | K7: =K8+K40+K62 -> 7132490 | L7: =IFERROR(G7/E7,0)*100 -> 121.91997 | M7: =IFERROR(G7/F7,0)*100 -> 74.151597 | O7: =IF(F7=G7+H7+I7,"","err") | P7: =IF(I7=J7+K7,"","err")
B8: 210 경상적세외수입 | E8: =E9+E12+E22+E28+E34+E36 -> 2361078000 | F8: =F9+F12+F22+F28+F34+F36 -> 591224530 | G8: =G9+G12+G22+G28+G34+G36 -> 591224530 | H8: =H9+H12+H22+H28+H34+H36 -> 0 | I8: =I9+I12+I22+I28+I34+I36 -> 0 | J8: =J9+J12+J22+J28+J34+J36 -> 0 | K8: =K9+K12+K22+K28+K34+K36 -> 0 | L8: =IFERROR(G8/E8,0)*100 -> 25.040449 | M8: =IFERROR(G8/F8,0)*100 -> 100 | O8: =IF(F8=G8+H8+I8,"","err") | P8: =IF(I8=J8+K8,"","err")
B9: 211 재산임대수입 | E9: 0 | F9: 0 | G9: 0 | H9: 0 | I9: 0 | J9: 0 | K9: 0 | L9: 0 | M9: 0 | O9: =IF(F9=G9+H9+I9,"","err") | P9: =IF(I9=J9+K9,"","err")
C10: 211-01 국유재산임대료 | E10: 0 | F10: 0 | G10: 0 | H10: 0 | I10: 0 | J10: 0 | K10: 0 | L10: 0 | M10: 0 | O10: =IF(F10=G10+H10+I10,"","err") | P10: =IF(I10=J10+K10,"","err")
C11: 211-02 공유재산임대료 | E11: 0 | F11: 0 | G11: 0 | H11: 0 | I11: 0 | J11: 0 | K11: 0 | L11: 0 | M11: 0 | O11: =IF(F11=G11+H11+I11,"","err") | P11: =IF(I11=J11+K11,"","err")
B12: 212 사용료수입 | E12: 1960922000 | F12: 244207200 | G12: 244207200 | H12: 0 | I12: 0 | J12: 0 | K12: 0 | L12: 12.453693 | M12: 100 | O12: =IF(F12=G12+H12+I12,"","err") | P12: =IF(I12=J12+K12,"","err")
C13: 212-01 도로사용료 | E13: 0 | F13: 0 | G13: 0 | H13: 0 | I13: 0 | J13: 0 | K13: 0 | L13: 0 | M13: 0 | O13: =IF(F13=G13+H13+I13,"","err") | P13: =IF(I13=J13+K13,"","err")
C14: 212-02 하천사용료 | E14: 0 | F14: 0 | G14: 0 | H14: 0 | I14: 0 | J14: 0 | K14: 0 | L14: 0 | M14: 0 | O14: =IF(F14=G14+H14+I14,"","err") | P14: =IF(I14=J14+K14,"","err")
C15: 212-03 하수도사용료 | E15: 0 | F15: 0 | G15: 0 | H15: 0 | I15: 0 | J15: 0 | K15: 0 | L15: 0 | M15: 0 | O15: =IF(F15=G15+H15+I15,"","err") | P15: =IF(I15=J15+K15,"","err")
C16: 212-04 상수도사용료 | E16: 0 | F16: 0 | G16: 0 | H16: 0 | I16: 0 | J16: 0 | K16: 0 | L16: 0 | M16: 0 | O16: =IF(F16=G16+H16+I16,"","err") | P16: =IF(I16=J16+K16,"","err")
C17: 212-05 공유수면사용료 | E17: 0 | F17: 0 | G17: 0 | H17: 0 | I17: 0 | J17: 0 | K17: 0 | L17: 0 | M17: 0 | O17: =IF(F17=G17+H17+I17,"","err") | P17: =IF(I17=J17+K17,"","err")
C18: 212-06 시장사용료 | E18: 0 | F18: 0 | G18: 0 | H18: 0 | I18: 0 | J18: 0 | K18: 0 | L18: 0 | M18: 0 | O18: =IF(F18=G18+H18+I18,"","err") | P18: =IF(I18=J18+K18,"","err")
C19: 212-07 입장료수입 | E19: 0 | F19: 0 | G19: 0 | H19: 0 | I19: 0 | J19: 0 | K19: 0 | L19: 0 | M19: 0 | O19: =IF(F19=G19+H19+I19,"","err") | P19: =IF(I19=J19+K19,"","err")
C20: 212-08 주차요금수입 | E20: 1960922000 | F20: 244207200 | G20: 244207200 | H20: 0 | I20: 0 | J20: 0 | K20: 0 | L20: 12.453693 | M20: 100 | O20: =IF(F20=G20+H20+I20,"","err") | P20: =IF(I20=J20+K20,"","err")
C21: 212-09 기타사용료 | E21: 0 | F21: 0 | G21: 0 | H21: 0 | I21: 0 | J21: 0 | K21: 0 | L21: 0 | M21: 0 | O21: =IF(F21=G21+H21+I21,"","err") | P21: =IF(I21=J21+K21,"","err")
B22: 213 수수료수입 | E22: 0 | F22: 0 | G22: 0 | H22: 0 | I22: 0 | J22: 0 | K22: 0 | L22: 0 | M22: 0 | O22: =IF(F22=G22+H22+I22,"","err") | P22: =IF(I22=J22+K22,"","err")
C23: 213-01 증지수입 | E23: 0 | F23: 0 | G23: 0 | H23: 0 | I23: 0 | J23: 0 | K23: 0 | L23: 0 | M23: 0 | O23: =IF(F23=G23+H23+I23,"","err") | P23: =IF(I23=J23+K23,"","err")
C24: 213-02 폐기물처리수수료 | E24: 0 | F24: 0 | G24: 0 | H24: 0 | I24: 0 | J24: 0 | K24: 0 | L24: 0 | M24: 0 | O24: =IF(F24=G24+H24+I24,"","err") | P24: =IF(I24=J24+K24,"","err")
C25: 213-03 재활용품수거판매수입 | E25: 0 | F25: 0 | G25: 0 | H25: 0 | I25: 0 | J25: 0 | K25: 0 | L25: 0 | M25: 0 | O25: =IF(F25=G25+H25+I25,"","err") | P25: =IF(I25=J25+K25,"","err")
C26: 213-04 보건의료수수료 | E26: 0 | F26: 0 | G26: 0 | H26: 0 | I26: 0 | J26: 0 | K26: 0 | O26: =IF(F26=G26+H26+I26,"","err") | P26: =IF(I26=J26+K26,"","err")
C27: 213-05 기타수수료 | E27: 0 | F27: 0 | G27: 0 | H27: 0 | I27: 0 | J27: 0 | K27: 0 | L27: 0 | M27: 0 | O27: =IF(F27=G27+H27+I27,"","err") | P27: =IF(I27=J27+K27,"","err")
B28: 214 사업수입 | E28: 0 | F28: 0 | G28: 0 | H28: 0 | I28: 0 | J28: 0 | K28: 0 | L28: 0 | M28: 0 | O28: =IF(F28=G28+H28+I28,"","err") | P28: =IF(I28=J28+K28,"","err")
C29: 214-01 사업장생산수입 | E29: 0 | F29: 0 | G29: 0 | H29: 0 | I29: 0 | J29: 0 | K29: 0 | L29: 0 | M29: 0 | O29: =IF(F29=G29+H29+I29,"","err") | P29: =IF(I29=J29+K29,"","err")
C30: 214-02 청산금수입 | E30: 0 | F30: 0 | G30: 0 | H30: 0 | I30: 0 | J30: 0 | K30: 0 | L30: 0 | M30: 0 | O30: =IF(F30=G30+H30+I30,"","err") | P30: =IF(I30=J30+K30,"","err")
C31: 214-03 매각사업수입 | E31: 0 | F31: 0 | G31: 0 | H31: 0 | I31: 0 | J31: 0 | K31: 0 | L31: 0 | M31: 0 | O31: =IF(F31=G31+H31+I31,"","err") | P31: =IF(I31=J31+K31,"","err")
C32: 214-04 배당금수입 | E32: 0 | F32: 0 | G32: 0 | H32: 0 | I32: 0 | J32: 0 | K32: 0 | L32: 0 | M32: 0 | O32: =IF(F32=G32+H32+I32,"","err") | P32: =IF(I32=J32+K32,"","err")
C33: 214-05 기타사업수입 | E33: 0 | F33: 0 | G33: 0 | H33: 0 | I33: 0 | J33: 0 | K33: 0 | L33: 0 | M33: 0 | O33: =IF(F33=G33+H33+I33,"","err") | P33: =IF(I33=J33+K33,"","err")
B34: 215 징수교부금수입 | E34: 0 | F34: 0 | G34: 0 | H34: 0 | I34: 0 | J34: 0 | K34: 0 | L34: 0 | M34: 0 | O34: =IF(F34=G34+H34+I34,"","err") | P34: =IF(I34=J34+K34,"","err")
C35: 215-01 징수교부금수입 | E35: 0 | F35: 0 | G35: 0 | H35: 0 | I35: 0 | J35: 0 | K35: 0 | L35: 0 | M35: 0 | O35: =IF(F35=G35+H35+I35,"","err") | P35: =IF(I35=J35+K35,"","err")
B36: 216 이자수입 | E36: 400156000 | F36: 347017330 | G36: 347017330 | H36: 0 | I36: 0 | J36: 0 | K36: 0 | L36: 86.720512 | M36: 100 | O36: =IF(F36=G36+H36+I36,"","err") | P36: =IF(I36=J36+K36,"","err")
C37: 216-01 공공예금이자수입 | E37: 400156000 | F37: 347017330 | G37: 347017330 | H37: 0 | I37: 0 | J37: 0 | K37: 0 | L37: 86.720512 | M37: 100 | O37: =IF(F37=G37+H37+I37,"","err") | P37: =IF(I37=J37+K37,"","err")
C38: 216-02 융자금회수이자수입 | E38: 0 | F38: 0 | G38: 0 | H38: 0 | I38: 0 | J38: 0 | K38: 0 | L38: 0 | M38: 0 | O38: =IF(F38=G38+H38+I38,"","err") | P38: =IF(I38=J38+K38,"","err")
C39: 216-03 기타이자수입 | E39: 0 | F39: 0 | G39: 0 | H39: 0 | I39: 0 | J39: 0 | K39: 0 | L39: 0 | M39: 0 | O39: =IF(F39=G39+H39+I39,"","err") | P39: =IF(I39=J39+K39,"","err")
B40: 220 임시적세외수입 | E40: 774750000 | F40: 22404276290 | G40: 13831147690 | H40: 140800 | I40: 8572987800 | J40: 8572987800 | K40: 0 | L40: 1785.2401 | M40: 72.568904 | O40: =IF(F40=G40+H40+I40,"","err") | P40: =IF(I40=J40+K40,"","err")
B41: 221 재산매각수입 | E41: 0 | F41: 0 | G41: 0 | H41: 0 | I41: 0 | J41: 0 | K41: 0 | L41: 0 | M41: 0 | O41: =IF(F41=G41+H41+I41,"","err") | P41: =IF(I41=J41+K41,"","err")
C42: 221-01 국유재산매각귀속수입금 | E42: 0 | F42: 0 | G42: 0 | H42: 0 | I42: 0 | J42: 0 | K42: 0 | L42: 0 | M42: 0 | O42: =IF(F42=G42+H42+I42,"","err") | P42: =IF(I42=J42+K42,"","err")
C43: 221-02 시도유재산매각귀속수입금 | E43: 0 | F43: 0 | G43: 0 | H43: 0 | I43: 0 | J43: 0 | K43: 0 | L43: 0 | M43: 0 | O43: =IF(F43=G43+H43+I43,"","err") | P43: =IF(I43=J43+K43,"","err")
C44: 221-03 공유재산매각수입금 | E44: 0 | F44: 0 | G44: 0 | H44: 0 | I44: 0 | J44: 0 | K44: 0 | O44: =IF(F44=G44+H44+I44,"","err") | P44: =IF(I44=J44+K44,"","err")
C45: 221-04 불용품매각대금 | E45: 0 | F45: 0 | G45: 0 | H45: 0 | I45: 0 | J45: 0 | K45: 0 | L45: 0 | M45: 0 | O45: =IF(F45=G45+H45+I45,"","err") | P45: =IF(I45=J45+K45,"","err")
B46: 222 자치단체간부담금 | E46: 0 | F46: 0 | G46: 0 | H46: 0 | I46: 0 | J46: 0 | K46: 0 | L46: 0 | M46: 0 | O46: =IF(F46=G46+H46+I46,"","err") | P46: =IF(I46=J46+K46,"","err")
C47: 222-01 자치단체간부담금 | E47: 0 | F47: 0 | G47: 0 | H47: 0 | I47: 0 | J47: 0 | K47: 0 | L47: 0 | M47: 0 | O47: =IF(F47=G47+H47+I47,"","err") | P47: =IF(I47=J47+K47,"","err")
B48: 223 보조금반환수입 | E48: 0 | F48: 0 | G48: 0 | H48: 0 | I48: 0 | J48: 0 | K48: 0 | L48: 0 | M48: 0 | O48: =IF(F48=G48+H48+I48,"","err") | P48: =IF(I48=J48+K48,"","err")
C49: 223-01 시ㆍ도비보조금등반환수입 | E49: 0 | F49: 0 | G49: 0 | H49: 0 | I49: 0 | J49: 0 | K49: 0 | L49: 0 | M49: 0 | O49: =IF(F49=G49+H49+I49,"","err") | P49: =IF(I49=J49+K49,"","err")
C50: 223-02 자체보조금등반환수입 | E50: 0 | F50: 0 | G50: 0 | H50: 0 | I50: 0 | J50: 0 | K50: 0 | L50: 0 | M50: 0 | O50: =IF(F50=G50+H50+I50,"","err") | P50: =IF(I50=J50+K50,"","err")
C51: 223-03 위탁비반환수입 | E51: 0 | F51: 0 | G51: 0 | H51: 0 | I51: 0 | J51: 0 | K51: 0 | L51: 0 | M51: 0 | O51: =IF(F51=G51+H51+I51,"","err") | P51: =IF(I51=J51+K51,"","err")
B52: 224 기타수입 | E52: 71600000 | F52: 13224948620 | G52: 13224948620 | H52: 0 | I52: 0 | J52: 0 | K52: 0 | L52: 18470.599 | M52: 100 | O52: =IF(F52=G52+H52+I52,"","err") | P52: =IF(I52=J52+K52,"","err")
C53: 224-01 체납처분수입 | E53: 0 | F53: 0 | G53: 0 | H53: 0 | I53: 0 | J53: 0 | K53: 0 | L53: 0 | M53: 0 | O53: =IF(F53=G53+H53+I53,"","err") | P53: =IF(I53=J53+K53,"","err")
C54: 224-02 보상금수납금 | E54: 0 | F54: 0 | G54: 0 | H54: 0 | I54: 0 | J54: 0 | K54: 0 | L54: 0 | M54: 0 | O54: =IF(F54=G54+H54+I54,"","err") | P54: =IF(I54=J54+K54,"","err")
C55: 224-03 기부금수입 | E55: 0 | F55: 0 | G55: 0 | H55: 0 | I55: 0 | J55: 0 | K55: 0 | L55: 0 | M55: 0 | O55: =IF(F55=G55+H55+I55,"","err") | P55: =IF(I55=J55+K55,"","err")
C56: 224-04 지적재조사조정금 | E56: 0 | F56: 0 | G56: 0 | H56: 0 | I56: 0 | J56: 0 | K56: 0 | L56: 0 | M56: 0 | O56: =IF(F56=G56+H56+I56,"","err") | P56: =IF(I56=J56+K56,"","err")
C57: 224-05 지방교부세감소분보전수입 | E57: 0 | F57: 0 | G57: 0 | H57: 0 | I57: 0 | J57: 0 | K57: 0 | L57: 0 | M57: 0 | O57: =IF(F57=G57+H57+I57,"","err") | P57: =IF(I57=J57+K57,"","err")
C58: 224-06 위약금 | E58: 0 | F58: 0 | G58: 0 | H58: 0 | I58: 0 | J58: 0 | K58: 0 | O58: =IF(F58=G58+H58+I58,"","err") | P58: =IF(I58=J58+K58,"","err")
C59: 224-07 그외수입 | E59: 71600000 | F59: 13224948620 | G59: 13224948620 | H59: 0 | I59: 0 | J59: 0 | K59: 0 | L59: 18470.599 | M59: 100 | O59: =IF(F59=G59+H59+I59,"","err") | P59: =IF(I59=J59+K59,"","err")
B60: 225 지난년도수입 | E60: 703150000 | F60: 9179327670 | G60: 606199070 | H60: 140800 | I60: 8572987800 | J60: 8572987800 | K60: 0 | L60: 86.211914 | M60: 10.390115 | O60: =IF(F60=G60+H60+I60,"","err") | P60: =IF(I60=J60+K60,"","err")
C61: 225-01 지난년도수입 | E61: 703150000 | F61: 9179327670 | G61: 606199070 | H61: 140800 | I61: 8572987800 | J61: 8572987800 | K61: 0 | L61: 86.211914 | M61: 10.390115 | O61: =IF(F61=G61+H61+I61,"","err") | P61: =IF(I61=J61+K61,"","err")
B62: 230 지방행정제재‧부과금 | E62: 17057073000 | F62: 10205643340 | G62: 10196806390 | H62: 0 | I62: 8836950 | J62: 1704460 | K62: 7132490 | L62: 59.780517 | M62: 99.913411 | O62: =IF(F62=G62+H62+I62,"","err") | P62: =IF(I62=J62+K62,"","err")
B63: 231 과징금 | E63: 0 | F63: 0 | G63: 0 | H63: 0 | I63: 0 | J63: 0 | K63: 0 | L63: 0 | M63: 0 | O63: =IF(F63=G63+H63+I63,"","err") | P63: =IF(I63=J63+K63,"","err")
C64: 231-01 과징금 | E64: 0 | F64: 0 | G64: 0 | H64: 0 | I64: 0 | J64: 0 | K64: 0 | L64: 0 | M64: 0 | O64: =IF(F64=G64+H64+I64,"","err") | P64: =IF(I64=J64+K64,"","err")
B65: 232 이행강제금 | E65: 0 | F65: 0 | G65: 0 | H65: 0 | I65: 0 | J65: 0 | K65: 0 | L65: 0 | M65: 0 | O65: =IF(F65=G65+H65+I65,"","err") | P65: =IF(I65=J65+K65,"","err")
C66: 232-01 이행강제금 | E66: 0 | F66: 0 | G66: 0 | H66: 0 | I66: 0 | J66: 0 | K66: 0 | L66: 0 | M66: 0 | O66: =IF(F66=G66+H66+I66,"","err") | P66: =IF(I66=J66+K66,"","err")
B67: 233 변상금 | E67: 0 | F67: 0 | G67: 0 | H67: 0 | I67: 0 | J67: 0 | K67: 0 | L67: 0 | M67: 0 | O67: =IF(F67=G67+H67+I67,"","err") | P67: =IF(I67=J67+K67,"","err")
C68: 233-01 변상금 | E68: 0 | F68: 0 | G68: 0 | H68: 0 | I68: 0 | J68: 0 | K68: 0 | L68: 0 | M68: 0 | O68: =IF(F68=G68+H68+I68,"","err") | P68: =IF(I68=J68+K68,"","err")
B69: 234 과태료 | E69: 3740000000 | F69: 176086380 | G69: 173235920 | H69: 0 | I69: 2850460 | J69: 1704460 | K69: 1146000 | L69: 4.6319765 | M69: 98.381215 | O69: =IF(F69=G69+H69+I69,"","err") | P69: =IF(I69=J69+K69,"","err")
C70: 234-01 차량관련과태료 | E70: 3740000000 | F70: 176086380 | G70: 173235920 | H70: 0 | I70: 2850460 | J70: 1704460 | K70: 1146000 | L70: 4.6319765 | M70: 98.381215 | O70: =IF(F70=G70+H70+I70,"","err") | P70: =IF(I70=J70+K70,"","err")
C71: 234-02 기타과태료 | E71: 0 | F71: 0 | G71: 0 | H71: 0 | I71: 0 | J71: 0 | K71: 0 | L71: 0 | M71: 0 | O71: =IF(F71=G71+H71+I71,"","err") | P71: =IF(I71=J71+K71,"","err")
B72: 235 환수금 | E72: 0 | F72: 0 | G72: 0 | H72: 0 | I72: 0 | J72: 0 | K72: 0 | L72: 0 | M72: 0 | O72: =IF(F72=G72+H72+I72,"","err") | P72: =IF(I72=J72+K72,"","err")
C73: 235-01 부정이익환수금 | E73: 0 | F73: 0 | G73: 0 | H73: 0 | I73: 0 | J73: 0 | K73: 0 | L73: 0 | M73: 0 | O73: =IF(F73=G73+H73+I73,"","err") | P73: =IF(I73=J73+K73,"","err")
B74: 236 부담금 | E74: 13317073000 | F74: 10029556960 | G74: 10023570470 | H74: 0 | I74: 5986490 | J74: 0 | K74: 5986490 | L74: 75.26857 | M74: 99.940312 | O74: =IF(F74=G74+H74+I74,"","err") | P74: =IF(I74=J74+K74,"","err")
C75: 236-01 부담금 | E75: 13317073000 | F75: 10029556960 | G75: 10023570470 | H75: 0 | I75: 5986490 | J75: 0 | K75: 5986490 | L75: 75.26857 | M75: 99.940312 | O75: =IF(F75=G75+H75+I75,"","err") | P75: =IF(I75=J75+K75,"","err")
B76: 237 범칙금 | E76: 0 | F76: 0 | G76: 0 | H76: 0 | I76: 0 | J76: 0 | K76: 0 | L76: 0 | M76: 0 | O76: =IF(F76=G76+H76+I76,"","err") | P76: =IF(I76=J76+K76,"","err")
C77: 237-01 범칙금 | E77: 0 | F77: 0 | G77: 0 | H77: 0 | I77: 0 | J77: 0 | K77: 0 | L77: 0 | M77: 0 | O77: =IF(F77=G77+H77+I77,"","err") | P77: =IF(I77=J77+K77,"","err")

Sheet 군구세외 과목별(수정)
B2: =B4&L3&" 과목별 세외수입 징수현황" -> 2024년 3월 서구 과목별 세외수입 징수현황
K3: 기관명 | L3: ='군구세외 일반회계'!L3:M3 -> 서구 | O3: =COUNTIF(O7:P36,"err") -> 0
B4: ='군구세외 일반회계'!B4:D4 -> 2024년 3월 | L4: (단위:원,%)
D5: 구 분 | E5: 최종예산액 | F5: 징수결정액 | G5: 징 수 액 | H5: 정리보류액 | I5: 미수납액 | L5: 징수율
B6: 항 목 별 | E6: (A) | F6: (B) | G6: (C) | H6: (D) | I6: 미수납액 (E=B-C-D) | J6: 체납액 (F=E-G) | K6: 납기미도래 (G) | L6: (C/A) | M6: (C/B)
B7: 합 계 | E7: =SUM(E8:E9) -> 7498000000 | F7: =SUM(F8:F9) -> 31108410214 | G7: =SUM(G8:G9) -> 1435296493 | H7: =SUM(H8:H9) -> 9323410 | I7: =F7-G7-H7 -> 29663790311 | J7: =I7-K7 -> 29578833301 | K7: =SUM(K8:K9) -> 84957010 | L7: =IFERROR(G7/E7,0)*100 -> 19.142391 | M7: =IFERROR(G7/F7,0)*100 -> 4.6138536 | O7: =IF(F7=G7+H7+I7,"","err") | P7: =IF(I7=J7+K7,"","err")
C8: 현년도 | E8: =E11+E32 -> 6798000000 | F8: =F11+F32 -> 842918930 | G8: =G11+G32 -> 387862870 | H8: =H11+H32 -> 0 | I8: =F8-G8-H8 -> 455056060 | J8: =I8-K8 -> 370099050 | K8: =K11+K32 -> 84957010 | L8: =IFERROR(G8/E8,0)*100 -> 5.7055438 | M8: =IFERROR(G8/F8,0)*100 -> 46.014255 | O8: =IF(F8=G8+H8+I8,"","err") | P8: =IF(I8=J8+K8,"","err")
C9: 과년도 | E9: =E12+E33 -> 700000000 | F9: =F12+F33 -> 30265491284 | G9: =G12+G33 -> 1047433623 | H9: =H12+H33 -> 9323410 | I9: =F9-G9-H9 -> 29208734251 | J9: =I9-K9 -> 29208734251 | K9: =K12+K33 -> 0 | L9: =IFERROR(G9/E9,0)*100 -> 149.63337 | M9: =IFERROR(G9/F9,0)*100 -> 3.4608182 | O9: =IF(F9=G9+H9+I9,"","err") | P9: =IF(I9=J9+K9,"","err")
B10: 일반회계 | E10: =SUM(E11:E12) -> 3058000000 | F10: =SUM(F11:F12) -> 24405822724 | G10: =SUM(G11:G12) -> 687467843 | H10: =SUM(H11:H12) -> 9182610 | I10: =F10-G10-H10 -> 23709172271 | J10: =I10-K10 -> 23625361261 | K10: =SUM(K11:K12) -> 83811010 | L10: =IFERROR(G10/E10,0)*100 -> 22.480963 | M10: =IFERROR(G10/F10,0)*100 -> 2.816819 | O10: =IF(F10=G10+H10+I10,"","err") | P10: =IF(I10=J10+K10,"","err")
C11: 현년도 | E11: =E14+E17+E20+E23+E26+E29 -> 3058000000 | F11: =F14+F17+F20+F23+F26+F29 -> 666832550 | G11: =G14+G17+G20+G23+G26+G29 -> 214626950 | H11: =H14+H17+H20+H23+H26+H29 -> 0 | I11: =I14+I17+I20+I23+I26+I29 -> 452205600 | J11: =J14+J17+J20+J23+J26+J29 -> 368394590 | K11: =K14+K17+K20+K23+K26+K29 -> 83811010 | L11: =IFERROR(G11/E11,0)*100 -> 7.0185399 | M11: =IFERROR(G11/F11,0)*100 -> 32.186034 | O11: =IF(F11=G11+H11+I11,"","err") | P11: =IF(I11=J11+K11,"","err")
C12: 과년도 | E12: =E15+E18+E21+E24+E27+E30 -> 0 | F12: =F15+F18+F21+F24+F27+F30 -> 23738990174 | G12: =G15+G18+G21+G24+G27+G30 -> 472840893 | H12: =H15+H18+H21+H24+H27+H30 -> 9182610 | I12: =I15+I18+I21+I24+I27+I30 -> 23256966671 | J12: =J15+J18+J21+J24+J27+J30 -> 23256966671 | K12: =K15+K18+K21+K24+K27+K30 -> 0 | L12: =IFERROR(G12/E12,0)*100 -> 0 | M12: =IFERROR(G12/F12,0)*100 -> 1.9918324 | O12: =IF(F12=G12+H12+I12,"","err") | P12: =IF(I12=J12+K12,"","err")
B13: 국공유변상금 | E13: 0 | F13: 210162530 | G13: 12831620 | H13: 0 | I13: 197330910 | J13: 192622900 | K13: 4708010 | L13: 0 | M13: 2.9573893 | O13: =IF(F13=G13+H13+I13,"","err") | P13: =IF(I13=J13+K13,"","err")
C14: 현년도 | F14: 14492150 | G14: 5302340 | H14: 0 | I14: 9189810 | J14: 4481800 | K14: 4708010 | L14: 0 | M14: 2.3357188 | O14: =IF(F14=G14+H14+I14,"","err") | P14: =IF(I14=J14+K14,"","err")
C15: 과년도 | F15: 195670380 | G15: 7529280 | H15: 0 | I15: 188141100 | J15: 188141100 | L15: 0 | M15: 2.9884748 | O15: =IF(F15=G15+H15+I15,"","err") | P15: =IF(I15=J15+K15,"","err")
B16: 책임보험미가입과태료 | E16: 1428000000 | F16: 12424176311 | G16: 185726074 | H16: 5526300 | I16: 12232923937 | J16: 12232923937 | K16: 0 | L16: 9.0221153 | M16: 1.0405298 | O16: =IF(F16=G16+H16+I16,"","err") | P16: =IF(I16=J16+K16,"","err")
C17: 현년도 | E17: 1428000000 | F17: 217376480 | G17: 54836880 | H17: 0 | I17: 162539600 | J17: 162539600 | K17: 0 | L17: 2.8231506 | M17: 19.85139 | O17: =IF(F17=G17+H17+I17,"","err") | P17: =IF(I17=J17+K17,"","err")
C18: 과년도 | F18: 12206799831 | G18: 130889194 | H18: 5526300 | I18: 12070384337 | J18: 12070384337 | L18: 0 | M18: 0.72685463 | O18: =IF(F18=G18+H18+I18,"","err") | P18: =IF(I18=J18+K18,"","err")
B19: 자동차검사지연과태료 | E19: 1080000000 | F19: 4342243069 | G19: 217713330 | H19: 3656310 | I19: 4120873429 | J19: 4051673429 | K19: 69200000 | L19: 10.645518 | M19: 2.7375353 | O19: =IF(F19=G19+H19+I19,"","err") | P19: =IF(I19=J19+K19,"","err")
C20: 현년도 | E20: 1080000000 | F20: 311611920 | G20: 114614040 | H20: 0 | I20: 196997880 | J20: 127797880 | K20: 69200000 | L20: 4.6132593 | M20: 27.236508 | O20: =IF(F20=G20+H20+I20,"","err") | P20: =IF(I20=J20+K20,"","err")
C21: 과년도 | F21: 4030631149 | G21: 103099290 | H21: 3656310 | I21: 3923875549 | J21: 3923875549 | L21: 0 | M21: 1.6218601 | O21: =IF(F21=G21+H21+I21,"","err") | P21: =IF(I21=J21+K21,"","err")
B22: 자동차정밀검사과태료 | E22: 0 | F22: 452742759 | G22: 4286234 | H22: 0 | I22: 448456525 | J22: 448456525 | K22: 0 | L22: 0 | M22: 0.48973373 | O22: =IF(F22=G22+H22+I22,"","err") | P22: =IF(I22=J22+K22,"","err")
C23: 현년도 | F23: 0 | G23: 0 | H23: 0 | I23: 0 | J23: 0 | K23: 0 | L23: 0 | M23: 0 | O23: =IF(F23=G23+H23+I23,"","err") | P23: =IF(I23=J23+K23,"","err")
C24: 과년도 | F24: 452742759 | G24: 4286234 | H24: 0 | I24: 448456525 | J24: 448456525 | L24: 0 | M24: 0.48973373 | O24: =IF(F24=G24+H24+I24,"","err") | P24: =IF(I24=J24+K24,"","err")
B25: 부동산실명법과징금 | E25: 0 | F25: 4500805333 | G25: 100901000 | H25: 0 | I25: 4399904333 | J25: 4399904333 | K25: 0 | L25: 0 | M25: 2.2351778 | O25: =IF(F25=G25+H25+I25,"","err") | P25: =IF(I25=J25+K25,"","err")
C26: 현년도 | F26: 0 | G26: 0 | H26: 0 | I26: 0 | J26: 0 | K26: 0 | L26: 0 | M26: 0 | O26: =IF(F26=G26+H26+I26,"","err") | P26: =IF(I26=J26+K26,"","err")
C27: 과년도 | F27: 4500805333 | G27: 100901000 | H27: 0 | I27: 4399904333 | J27: 4399904333 | L27: 0 | M27: 2.2351778 | O27: =IF(F27=G27+H27+I27,"","err") | P27: =IF(I27=J27+K27,"","err")
B28: 건축법이행강제금 | E28: 550000000 | F28: 2475692722 | G28: 166009585 | H28: 0 | I28: 2309683137 | J28: 2299780137 | K28: 9903000 | L28: 22.98423 | M28: 5.150883 | O28: =IF(F28=G28+H28+I28,"","err") | P28: =IF(I28=J28+K28,"","err")
C29: 현년도 | E29: 550000000 | F29: 123352000 | G29: 39873690 | H29: 0 | I29: 83478310 | J29: 73575310 | K29: 9903000 | L29: 4.0604255 | M29: 21.923467 | O29: =IF(F29=G29+H29+I29,"","err") | P29: =IF(I29=J29+K29,"","err")
C30: 과년도 | F30: 2352340722 | G30: 126135895 | H30: 0 | I30: 2226204827 | J30: 2226204827 | L30: 0 | M30: 4.4245684 | O30: =IF(F30=G30+H30+I30,"","err") | P30: =IF(I30=J30+K30,"","err")
B31: 특별회계 | E31: 4440000000 | F31: 6702587490 | G31: 747828650 | H31: 140800 | I31: 5954618040 | J31: 5953472040 | K31: 1146000 | L31: 15.142022 | M31: 20.237947 | O31: =IF(F31=G31+H31+I31,"","err") | P31: =IF(I31=J31+K31,"","err")
C32: 현년도 | E32: 3740000000 | F32: 176086380 | G32: 173235920 | H32: 0 | I32: 2850460 | J32: 1704460 | K32: 1146000 | L32: 4.5799444 | M32: 98.853155 | O32: =IF(F32=G32+H32+I32,"","err") | P32: =IF(I32=J32+K32,"","err")
C33: 과년도 | E33: 700000000 | F33: 6526501110 | G33: 574592730 | H33: 140800 | I33: 5951767580 | J33: 5951767580 | K33: 0 | L33: 71.573691 | M33: 15.911687 | O33: =IF(F33=G33+H33+I33,"","err") | P33: =IF(I33=J33+K33,"","err")
B34: 주정차위반과태료 | E34: 4440000000 | F34: 6702587490 | G34: 747828650 | H34: 140800 | I34: 5954618040 | J34: 5953472040 | K34: 1146000 | L34: 15.142022 | M34: 20.237947 | O34: =IF(F34=G34+H34+I34,"","err") | P34: =IF(I34=J34+K34,"","err")
C35: 현년도 | E35: 3740000000 | F35: 176086380 | G35: 173235920 | H35: 0 | I35: 2850460 | J35: 1704460 | K35: 1146000 | L35: 4.5799444 | M35: 98.853155 | O35: =IF(F35=G35+H35+I35,"","err") | P35: =IF(I35=J35+K35,"","err")
C36: 과년도 | E36: 700000000 | F36: 6526501110 | G36: 574592730 | H36: 140800 | I36: 5951767580 | J36: 5951767580 | K36: 0 | L36: 71.573691 | M36: 15.911687 | O36: =IF(F36=G36+H36+I36,"","err") | P36: =IF(I36=J36+K36,"","err")

Sheet 시세외 특별회계(위임)
B2: =B4&L3&" 일반회계 세외수입 징수현황" -> 2024년 3월 서구 일반회계 세외수입 징수현황
K3: 기관명 | L3: ='군구세외 일반회계'!L3:M3 -> 서구 | O3: =COUNTIF(O7:P92,"err") -> 0
B4: ='군구세외 일반회계'!B4:D4 -> 2024년 3월 | L4: (단위:원,%)
D5: 구 분 | E5: 최종예산액 | F5: 징수결정액 | G5: 징 수 액 | H5: 정리보류액 | I5: 미수납액 | L5: 징수율
B6: 항 목 별 | E6: (A) | F6: (B) | G6: (C) | H6: (D) | I6: 미수납액 (E=B-C-D) | J6: 체납액 (F=E-G) | K6: 납기미도래 (G) | L6: (C/A) | M6: (C/B)
B7: 200 세외수입 | E7: =E8+E40+E73 -> 0 | F7: =F8+F40+F73 -> 2009700034 | G7: =G8+G40+G73 -> 312046610 | H7: =H8+H40+H73 -> 0 | I7: =I8+I40+I73 -> 1697653424 | J7: =J8+J40+J73 -> 1697653424 | K7: =K8+K40+K73 -> 0 | L7: =IFERROR(G7/E7,0)*100 -> 0 | M7: =IFERROR(G7/F7,0)*100 -> 15.527024 | O7: =IF(F7=G7+H7+I7,"","err") | P7: =IF(I7=J7+K7,"","err")
B8: 210 경상적세외수입 | E8: =E9+E12+E22+E28+E34+E36 -> 0 | F8: =F9+F12+F22+F28+F34+F36 -> 13179090 | G8: =G9+G12+G22+G28+G34+G36 -> 13179090 | H8: =H9+H12+H22+H28+H34+H36 -> 0 | I8: =I9+I12+I22+I28+I34+I36 -> 0 | J8: =J9+J12+J22+J28+J34+J36 -> 0 | K8: =K9+K12+K22+K28+K34+K36 -> 0 | L8: =IFERROR(G8/E8,0)*100 -> 0 | M8: =IFERROR(G8/F8,0)*100 -> 100 | O8: =IF(F8=G8+H8+I8,"","err") | P8: =IF(I8=J8+K8,"","err")
B9: 211 재산임대수입 | E9: 0 | F9: 13179090 | G9: 13179090 | H9: 0 | I9: 0 | J9: 0 | K9: 0 | L9: 0 | M9: 100 | O9: =IF(F9=G9+H9+I9,"","err") | P9: =IF(I9=J9+K9,"","err")
C10: 211-01 국유재산임대료 | E10: 0 | F10: 0 | G10: 0 | H10: 0 | I10: 0 | J10: 0 | K10: 0 | L10: 0 | M10: 0 | O10: =IF(F10=G10+H10+I10,"","err") | P10: =IF(I10=J10+K10,"","err")
C11: 211-02 공유재산임대료 | E11: 0 | F11: 13179090 | G11: 13179090 | H11: 0 | I11: 0 | J11: 0 | K11: 0 | L11: 0 | M11: 100 | O11: =IF(F11=G11+H11+I11,"","err") | P11: =IF(I11=J11+K11,"","err")
B12: 212 사용료수입 | E12: 0 | F12: 0 | G12: 0 | H12: 0 | I12: 0 | J12: 0 | K12: 0 | L12: 0 | M12: 0 | O12: =IF(F12=G12+H12+I12,"","err") | P12: =IF(I12=J12+K12,"","err")
C13: 212-01 도로사용료 | E13: 0 | F13: 0 | G13: 0 | H13: 0 | I13: 0 | J13: 0 | K13: 0 | L13: 0 | M13: 0 | O13: =IF(F13=G13+H13+I13,"","err") | P13: =IF(I13=J13+K13,"","err")
C14: 212-02 하천사용료 | E14: 0 | F14: 0 | G14: 0 | H14: 0 | I14: 0 | J14: 0 | K14: 0 | L14: 0 | M14: 0 | O14: =IF(F14=G14+H14+I14,"","err") | P14: =IF(I14=J14+K14,"","err")
C15: 212-03 하수도사용료 | E15: 0 | F15: 0 | G15: 0 | H15: 0 | I15: 0 | J15: 0 | K15: 0 | L15: 0 | M15: 0 | O15: =IF(F15=G15+H15+I15,"","err") | P15: =IF(I15=J15+K15,"","err")
C16: 212-04 상수도사용료 | E16: 0 | F16: 0 | G16: 0 | H16: 0 | I16: 0 | J16: 0 | K16: 0 | L16: 0 | M16: 0 | O16: =IF(F16=G16+H16+I16,"","err") | P16: =IF(I16=J16+K16,"","err")
C17: 212-05 공유수면사용료 | E17: 0 | F17: 0 | G17: 0 | H17: 0 | I17: 0 | J17: 0 | K17: 0 | L17: 0 | M17: 0 | O17: =IF(F17=G17+H17+I17,"","err") | P17: =IF(I17=J17+K17,"","err")
C18: 212-06 시장사용료 | E18: 0 | F18: 0 | G18: 0 | H18: 0 | I18: 0 | J18: 0 | K18: 0 | L18: 0 | M18: 0 | O18: =IF(F18=G18+H18+I18,"","err") | P18: =IF(I18=J18+K18,"","err")
C19: 212-07 입장료수입 | E19: 0 | F19: 0 | G19: 0 | H19: 0 | I19: 0 | J19: 0 | K19: 0 | L19: 0 | M19: 0 | O19: =IF(F19=G19+H19+I19,"","err") | P19: =IF(I19=J19+K19,"","err")
C20: 212-08 주차요금수입 | E20: 0 | F20: 0 | G20: 0 | H20: 0 | I20: 0 | J20: 0 | K20: 0 | O20: =IF(F20=G20+H20+I20,"","err") | P20: =IF(I20=J20+K20,"","err")
C21: 212-09 기타사용료 | E21: 0 | F21: 0 | G21: 0 | H21: 0 | I21: 0 | J21: 0 | K21: 0 | L21: 0 | M21: 0 | O21: =IF(F21=G21+H21+I21,"","err") | P21: =IF(I21=J21+K21,"","err")
B22: 213 수수료수입 | E22: 0 | F22: 0 | G22: 0 | H22: 0 | I22: 0 | J22: 0 | K22: 0 | L22: 0 | M22: 0 | O22: =IF(F22=G22+H22+I22,"","err") | P22: =IF(I22=J22+K22,"","err")
C23: 213-01 증지수입 | E23: 0 | F23: 0 | G23: 0 | H23: 0 | I23: 0 | J23: 0 | K23: 0 | L23: 0 | M23: 0 | O23: =IF(F23=G23+H23+I23,"","err") | P23: =IF(I23=J23+K23,"","err")
C24: 213-02 폐기물처리수수료 | E24: 0 | F24: 0 | G24: 0 | H24: 0 | I24: 0 | J24: 0 | K24: 0 | L24: 0 | M24: 0 | O24: =IF(F24=G24+H24+I24,"","err") | P24: =IF(I24=J24+K24,"","err")
C25: 213-03 재활용품수거판매수입 | E25: 0 | F25: 0 | G25: 0 | H25: 0 | I25: 0 | J25: 0 | K25: 0 | L25: 0 | M25: 0 | O25: =IF(F25=G25+H25+I25,"","err") | P25: =IF(I25=J25+K25,"","err")
C26: 213-04 보건의료수수료 | E26: 0 | F26: 0 | G26: 0 | H26: 0 | I26: 0 | J26: 0 | K26: 0 | O26: =IF(F26=G26+H26+I26,"","err") | P26: =IF(I26=J26+K26,"","err")
C27: 213-05 기타수수료 | E27: 0 | F27: 0 | G27: 0 | H27: 0 | I27: 0 | J27: 0 | K27: 0 | L27: 0 | M27: 0 | O27: =IF(F27=G27+H27+I27,"","err") | P27: =IF(I27=J27+K27,"","err")
B28: 214 사업수입 | E28: 0 | F28: 0 | G28: 0 | H28: 0 | I28: 0 | J28: 0 | K28: 0 | L28: 0 | M28: 0 | O28: =IF(F28=G28+H28+I28,"","err") | P28: =IF(I28=J28+K28,"","err")
C29: 214-01 사업장생산수입 | E29: 0 | F29: 0 | G29: 0 | H29: 0 | I29: 0 | J29: 0 | K29: 0 | L29: 0 | M29: 0 | O29: =IF(F29=G29+H29+I29,"","err") | P29: =IF(I29=J29+K29,"","err")
C30: 214-02 청산금수입 | E30: 0 | F30: 0 | G30: 0 | H30: 0 | I30: 0 | J30: 0 | K30: 0 | L30: 0 | M30: 0 | O30: =IF(F30=G30+H30+I30,"","err") | P30: =IF(I30=J30+K30,"","err")
C31: 214-03 매각사업수입 | E31: 0 | F31: 0 | G31: 0 | H31: 0 | I31: 0 | J31: 0 | K31: 0 | L31: 0 | M31: 0 | O31: =IF(F31=G31+H31+I31,"","err") | P31: =IF(I31=J31+K31,"","err")
C32: 214-04 배당금수입 | E32: 0 | F32: 0 | G32: 0 | H32: 0 | I32: 0 | J32: 0 | K32: 0 | L32: 0 | M32: 0 | O32: =IF(F32=G32+H32+I32,"","err") | P32: =IF(I32=J32+K32,"","err")
C33: 214-05 기타사업수입 | E33: 0 | F33: 0 | G33: 0 | H33: 0 | I33: 0 | J33: 0 | K33: 0 | L33: 0 | M33: 0 | O33: =IF(F33=G33+H33+I33,"","err") | P33: =IF(I33=J33+K33,"","err")
B34: 215 징수교부금수입 | E34: 0 | F34: 0 | G34: 0 | H34: 0 | I34: 0 | J34: 0 | K34: 0 | L34: 0 | M34: 0 | O34: =IF(F34=G34+H34+I34,"","err") | P34: =IF(I34=J34+K34,"","err")
C35: 215-01 징수교부금수입 | E35: 0 | F35: 0 | G35: 0 | H35: 0 | I35: 0 | J35: 0 | K35: 0 | L35: 0 | M35: 0 | O35: =IF(F35=G35+H35+I35,"","err") | P35: =IF(I35=J35+K35,"","err")
B36: 216 이자수입 | E36: 0 | F36: 0 | G36: 0 | H36: 0 | I36: 0 | J36: 0 | K36: 0 | L36: 0 | M36: 0 | O36: =IF(F36=G36+H36+I36,"","err") | P36: =IF(I36=J36+K36,"","err")
C37: 216-01 공공예금이자수입 | E37: 0 | F37: 0 | G37: 0 | H37: 0 | I37: 0 | J37: 0 | K37: 0 | L37: 0 | M37: 0 | O37: =IF(F37=G37+H37+I37,"","err") | P37: =IF(I37=J37+K37,"","err")
C38: 216-02 융자금회수이자수입 | E38: 0 | F38: 0 | G38: 0 | H38: 0 | I38: 0 | J38: 0 | K38: 0 | L38: 0 | M38: 0 | O38: =IF(F38=G38+H38+I38,"","err") | P38: =IF(I38=J38+K38,"","err")
C39: 216-03 기타이자수입 | E39: 0 | F39: 0 | G39: 0 | H39: 0 | I39: 0 | J39: 0 | K39: 0 | L39: 0 | M39: 0 | O39: =IF(F39=G39+H39+I39,"","err") | P39: =IF(I39=J39+K39,"","err")
B40: 220 임시적세외수입 | E40: 0 | F40: 1970628634 | G40: 295617520 | H40: 0 | I40: 1675011114 | J40: 1675011114 | K40: 0 | L40: 0 | M40: 15.001179 | O40: =IF(F40=G40+H40+I40,"","err") | P40: =IF(I40=J40+K40,"","err")
B41: 221 재산매각수입 | E41: 0 | F41: 0 | G41: 0 | H41: 0 | I41: 0 | J41: 0 | K41: 0 | L41: 0 | M41: 0 | O41: =IF(F41=G41+H41+I41,"","err") | P41: =IF(I41=J41+K41,"","err")
C42: 221-01 국유재산매각귀속수입금 | E42: 0 | F42: 0 | G42: 0 | H42: 0 | I42: 0 | J42: 0 | K42: 0 | L42: 0 | M42: 0 | O42: =IF(F42=G42+H42+I42,"","err") | P42: =IF(I42=J42+K42,"","err")
C43: 221-02 시도유재산매각귀속수입금 | E43: 0 | F43: 0 | G43: 0 | H43: 0 | I43: 0 | J43: 0 | K43: 0 | L43: 0 | M43: 0 | O43: =IF(F43=G43+H43+I43,"","err") | P43: =IF(I43=J43+K43,"","err")
C44: 221-03 공유재산매각수입금 | E44: 0 | F44: 0 | G44: 0 | H44: 0 | I44: 0 | J44: 0 | K44: 0 | O44: =IF(F44=G44+H44+I44,"","err") | P44: =IF(I44=J44+K44,"","err")
C45: 221-04 불용품매각대금 | E45: 0 | F45: 0 | G45: 0 | H45: 0 | I45: 0 | J45: 0 | K45: 0 | L45: 0 | M45: 0 | O45: =IF(F45=G45+H45+I45,"","err") | P45: =IF(I45=J45+K45,"","err")
B46: 222 자치단체간부담금 | E46: 0 | F46: 0 | G46: 0 | H46: 0 | I46: 0 | J46: 0 | K46: 0 | L46: 0 | M46: 0 | O46: =IF(F46=G46+H46+I46,"","err") | P46: =IF(I46=J46+K46,"","err")
C47: 222-01 자치단체간부담금 | E47: 0 | F47: 0 | G47: 0 | H47: 0 | I47: 0 | J47: 0 | K47: 0 | L47: 0 | M47: 0 | O47: =IF(F47=G47+H47+I47,"","err") | P47: =IF(I47=J47+K47,"","err")
B48: 223 보조금반환수입 | E48: 0 | F48: 0 | G48: 0 | H48: 0 | I48: 0 | J48: 0 | K48: 0 | L48: 0 | M48: 0 | O48: =IF(F48=G48+H48+I48,"","err") | P48: =IF(I48=J48+K48,"","err")
C49: 223-01 시ㆍ도비보조금등반환수입 | E49: 0 | F49: 0 | G49: 0 | H49: 0 | I49: 0 | J49: 0 | K49: 0 | L49: 0 | M49: 0 | O49: =IF(F49=G49+H49+I49,"","err") | P49: =IF(I49=J49+K49,"","err")
C50: 223-02 자체보조금등반환수입 | E50: 0 | F50: 0 | G50: 0 | H50: 0 | I50: 0 | J50: 0 | K50: 0 | L50: 0 | M50: 0 | O50: =IF(F50=G50+H50+I50,"","err") | P50: =IF(I50=J50+K50,"","err")
C51: 223-03 위탁비반환수입 | E51: 0 | F51: 0 | G51: 0 | H51: 0 | I51: 0 | J51: 0 | K51: 0 | L51: 0 | M51: 0 | O51: =IF(F51=G51+H51+I51,"","err") | P51: =IF(I51=J51+K51,"","err")
B52: 224 기타수입 | E52: 0 | F52: 0 | G52: 0 | H52: 0 | I52: 0 | J52: 0 | K52: 0 | L52: 0 | M52: 0 | O52: =IF(F52=G52+H52+I52,"","err") | P52: =IF(I52=J52+K52,"","err")
C53: 224-01 체납처분수입 | E53: 0 | F53: 0 | G53: 0 | H53: 0 | I53: 0 | J53: 0 | K53: 0 | L53: 0 | M53: 0 | O53: =IF(F53=G53+H53+I53,"","err") | P53: =IF(I53=J53+K53,"","err")
C54: 224-02 보상금수납금 | E54: 0 | F54: 0 | G54: 0 | H54: 0 | I54: 0 | J54: 0 | K54: 0 | L54: 0 | M54: 0 | O54: =IF(F54=G54+H54+I54,"","err") | P54: =IF(I54=J54+K54,"","err")
C55: 224-03 기부금수입 | E55: 0 | F55: 0 | G55: 0 | H55: 0 | I55: 0 | J55: 0 | K55: 0 | L55: 0 | M55: 0 | O55: =IF(F55=G55+H55+I55,"","err") | P55: =IF(I55=J55+K55,"","err")
C56: 224-04 지적재조사조정금 | E56: 0 | F56: 0 | G56: 0 | H56: 0 | I56: 0 | J56: 0 | K56: 0 | L56: 0 | M56: 0 | O56: =IF(F56=G56+H56+I56,"","err") | P56: =IF(I56=J56+K56,"","err")
C57: 224-05 지방교부세감소분보전수입 | E57: 0 | F57: 0 | G57: 0 | H57: 0 | I57: 0 | J57: 0 | K57: 0 | L57: 0 | M57: 0 | O57: =IF(F57=G57+H57+I57,"","err") | P57: =IF(I57=J57+K57,"","err")
C58: 224-06 위약금 | E58: 0 | F58: 0 | G58: 0 | H58: 0 | I58: 0 | J58: 0 | K58: 0 | O58: =IF(F58=G58+H58+I58,"","err") | P58: =IF(I58=J58+K58,"","err")
C59: 224-07 그외수입 | E59: 0 | F59: 0 | G59: 0 | H59: 0 | I59: 0 | J59: 0 | K59: 0 | L59: 0 | M59: 0 | O59: =IF(F59=G59+H59+I59,"","err") | P59: =IF(I59=J59+K59,"","err")
B60: 225 지난년도수입 | E60: 0 | F60: 1970628634 | G60: 295617520 | H60: 0 | I60: 1675011114 | J60: 1675011114 | K60: 0 | L60: 0 | M60: 15.001179 | O60: =IF(F60=G60+H60+I60,"","err") | P60: =IF(I60=J60+K60,"","err")
C61: 주차요금수입 | E61: 0 | F61: 0 | G61: 0 | H61: 0 | I61: 0 | J61: 0 | K61: 0 | L61: 0 | M61: 0 | O61: =IF(F61=G61+H61+I61,"","err") | P61: =IF(I61=J61+K61,"","err")
C62: 청산금수입 | E62: 0 | F62: 0 | G62: 0 | H62: 0 | I62: 0 | J62: 0 | K62: 0
C63: 매각사업수입 | E63: 0 | F63: 0 | G63: 0 | H63: 0 | I63: 0 | J63: 0 | K63: 0
C64: 기타사업수입 | E64: 0 | F64: 0 | G64: 0 | H64: 0 | I64: 0 | J64: 0 | K64: 0
C65: 그외수입 | E65: 0 | F65: 0 | G65: 0 | H65: 0 | I65: 0 | J65: 0 | K65: 0
C66: 여객자동차운수사업법위반 과징금 | E66: 0 | F66: 11327500 | G66: 900000 | H66: 0 | I66: 10427500 | J66: 10427500 | K66: 0
C67: 기타과징금 | E67: 0 | F67: 0 | G67: 0 | H67: 0 | I67: 0 | J67: 0 | K67: 0
C68: 변상금 | E68: 0 | F68: 0 | G68: 0 | H68: 0 | I68: 0 | J68: 0 | K68: 0
C69: 학교용지부담금 | E69: 0 | F69: 1701000 | G69: 0 | H69: 0 | I69: 1701000 | J69: 1701000 | K69: 0
C70: 교통유발부담금 | E70: 0 | F70: 1672966844 | G70: 73171080 | H70: 0 | I70: 1599795764 | J70: 1599795764 | K70: 0
C71: 기반시설부담금 | E71: 0 | F71: 0 | G71: 0 | H71: 0 | I71: 0 | J71: 0 | K71: 0
C72: 지난년도수입 | E72: 0 | F72: 284633290 | G72: 221546440 | H72: 0 | I72: 63086850 | J72: 63086850 | K72: 0
B73: 230 지방행정제재‧부과금 | E73: 0 | F73: 25892310 | G73: 3250000 | H73: 0 | I73: 22642310 | J73: 22642310 | K73: 0 | L73: 0 | M73: 12.551989 | O73: =IF(F73=G73+H73+I73,"","err") | P73: =IF(I73=J73+K73,"","err")
B74: 231 과징금 | E74: 0 | F74: 4750000 | G74: 3250000 | H74: 0 | I74: 1500000 | J74: 1500000 | K74: 0 | L74: 0 | M74: 68.421053 | O74: =IF(F74=G74+H74+I74,"","err") | P74: =IF(I74=J74+K74,"","err")
C75: 여객자동차운수사업법위반 과징금 | E75: 0 | F75: 4750000 | G75: 3250000 | H75: 0 | I75: 1500000 | J75: 1500000 | K75: 0 | L75: 0 | M75: 68.421053 | O75: =IF(F75=G75+H75+I75,"","err") | P75: =IF(I75=J75+K75,"","err")
C76: 과징금 | E76: 0 | F76: 0 | G76: 0 | H76: 0 | I76: 0 | J76: 0 | K76: 0
B77: 232 이행강제금 | E77: 0 | F77: 0 | G77: 0 | H77: 0 | I77: 0 | J77: 0 | K77: 0 | L77: 0 | M77: 0 | O77: =IF(F77=G77+H77+I77,"","err") | P77: =IF(I77=J77+K77,"","err")
C78: 232-01 이행강제금 | E78: 0 | F78: 0 | G78: 0 | H78: 0 | I78: 0 | J78: 0 | K78: 0 | L78: 0 | M78: 0 | O78: =IF(F78=G78+H78+I78,"","err") | P78: =IF(I78=J78+K78,"","err")
B79: 233 변상금 | E79: 0 | F79: 0 | G79: 0 | H79: 0 | I79: 0 | J79: 0 | K79: 0 | L79: 0 | M79: 0 | O79: =IF(F79=G79+H79+I79,"","err") | P79: =IF(I79=J79+K79,"","err")
C80: 233-01 변상금 | E80: 0 | F80: 0 | G80: 0 | H80: 0 | I80: 0 | J80: 0 | K80: 0 | L80: 0 | M80: 0 | O80: =IF(F80=G80+H80+I80,"","err") | P80: =IF(I80=J80+K80,"","err")
B81: 234 과태료 | E81: 0 | F81: 0 | G81: 0 | H81: 0 | I81: 0 | J81: 0 | K81: 0 | L81: 0 | M81: 0 | O81: =IF(F81=G81+H81+I81,"","err") | P81: =IF(I81=J81+K81,"","err")
C82: 234-01 차량관련과태료 | E82: 0 | F82: 0 | G82: 0 | H82: 0 | I82: 0 | J82: 0 | K82: 0 | L82: 0 | M82: 0 | O82: =IF(F82=G82+H82+I82,"","err") | P82: =IF(I82=J82+K82,"","err")
C83: 234-02 기타과태료 | E83: 0 | F83: 0 | G83: 0 | H83: 0 | I83: 0 | J83: 0 | K83: 0 | L83: 0 | M83: 0 | O83: =IF(F83=G83+H83+I83,"","err") | P83: =IF(I83=J83+K83,"","err")
B84: 235 환수금 | E84: 0 | F84: 0 | G84: 0 | H84: 0 | I84: 0 | J84: 0 | K84: 0 | L84: 0 | M84: 0 | O84: =IF(F84=G84+H84+I84,"","err") | P84: =IF(I84=J84+K84,"","err")
C85: 235-01 부정이익환수금 | E85: 0 | F85: 0 | G85: 0 | H85: 0 | I85: 0 | J85: 0 | K85: 0 | L85: 0 | M85: 0 | O85: =IF(F85=G85+H85+I85,"","err") | P85: =IF(I85=J85+K85,"","err")
B86: 236 부담금 | E86: 0 | F86: 21142310 | G86: 0 | H86: 0 | I86: 21142310 | J86: 21142310 | K86: 0 | L86: 0 | M86: 0 | O86: =IF(F86=G86+H86+I86,"","err") | P86: =IF(I86=J86+K86,"","err")
C87: 학교용지부담금 | E87: 0 | F87: 0 | G87: 0 | H87: 0 | I87: 0 | J87: 0 | K87: 0 | L87: 0 | M87: 0 | O87: =IF(F87=G87+H87+I87,"","err") | P87: =IF(I87=J87+K87,"","err")
C88: 교통유발부담금 | E88: 0 | F88: 0 | G88: 0 | H88: 0 | I88: 0 | J88: 0 | K88: 0
C89: 기반시설부담금 | E89: 0 | F89: 0 | G89: 0 | H89: 0 | I89: 0 | J89: 0 | K89: 0
C90: 부담금 | E90: 0 | F90: 21142310 | G90: 0 | H90: 0 | I90: 21142310 | J90: 21142310 | K90: 0
B91: 237 범칙금 | E91: 0 | F91: 0 | G91: 0 | H91: 0 | I91: 0 | J91: 0 | K91: 0 | L91: 0 | M91: 0 | O91: =IF(F91=G91+H91+I91,"","err") | P91: =IF(I91=J91+K91,"","err")
C92: 237-01 범칙금 | E92: 0 | F92: 0 | G92: 0 | H92: 0 | I92: 0 | J92: 0 | K92: 0 | L92: 0 | M92: 0 | O92: =IF(F92=G92+H92+I92,"","err") | P92: =IF(I92=J92+K92,"","err")
