Workbook

Sheet 군구세외 일반회계
B2: =B4&L3&" 일반회계 세외수입 징수현황" -> 2023년 12월 서구 일반회계 세외수입 징수현황
K3: 기관명 | L3: 서구 | O3: =COUNTIF(O7:P77,"err") -> 0
B4: 2023년 12월 | L4: (단위:원,%)
D5: 구 분 | E5: 최종예산액 | F5: 징수결정액 | G5: 징 수 액 | H5: 정리보류액 | I5: 미수납액 | L5: 징수율
B6: 항 목 별 | E6: (A) | F6: (B) | G6: (C) | H6: (D) | I6: 미수납액 (E=B-C-D) | J6: 체납액 (F=E-G) | K6: 납기미도래 (G) | L6: (C/A) | M6: (C/B)
B7: 200 세외수입 | E7: =E8+E40+E62 -> 79964225000 | F7: =F8+F40+F62 -> 122965490581 | G7: =G8+G40+G62 -> 85010878829 | H7: =H8+H40+H62 -> 1078806156 | I7: =I8+I40+I62 -> 36875805596 | J7: =J8+J40+J62 -> 32908545386 | K7: =K8+K40+K62 -> 3967260210 | L7: =IFERROR(G7/E7,0)*100 -> 106.31114 | M7: =IFERROR(G7/F7,0)*100 -> 69.133932 | O7: =IF(F7=G7+H7+I7,"","err") | P7: =IF(I7=J7+K7,"","err")
B8: 210 경상적세외수입 | E8: =E9+E12+E22+E28+E34+E36 -> 56425090000 | F8: =F9+F12+F22+F28+F34+F36 -> 60243137297 | G8: =G9+G12+G22+G28+G34+G36 -> 60101469187 | H8: =H9+H12+H22+H28+H34+H36 -> 0 | I8: =I9+I12+I22+I28+I34+I36 -> 141668110 | J8: =J9+J12+J22+J28+J34+J36 -> 103661120 | K8: =K9+K12+K22+K28+K34+K36 -> 38006990 | L8: =IFERROR(G8/E8,0)*100 -> 106.5155 | M8: =IFERROR(G8/F8,0)*100 -> 99.764839 | O8: =IF(F8=G8+H8+I8,"","err") | P8: =IF(I8=J8+K8,"","err")
B9: 211 재산임대수입 | E9: 138516000 | F9: 1353035660 | G9: 1347609080 | H9: 0 | I9: 5426580 | J9: 5330600 | K9: 95980 | L9: =IFERROR(G9/E9,0)*100 -> 972.89055 | M9: =IFERROR(G9/F9,0)*100 -> 99.598933 | O9: =IF(F9=G9+H9+I9,"","err") | P9: =IF(I9=J9+K9,"","err")
C10: 211-01 국유재산임대료 | E10: 0 | F10: 911924270 | G10: 911838690 | H10: 0 | I10: 85580 | J10: 9600 | K10: 75980 | L10: =IFERROR(G10/E10,0)*100 -> 0 | M10: =IFERROR(G10/F10,0)*100 -> 99.990615 | O10: =IF(F10=G10+H10+I10,"","err") | P10: =IF(I10=J10+K10,"","err")
C11: 211-02 공유재산임대료 | E11: 138516000 | F11: 441111390 | G11: 435770390 | H11: 0 | I11: 5341000 | J11: 5321000 | K11: 20000 | L11: =IFERROR(G11/E11,0)*100 -> 314.59932 | M11: =IFERROR(G11/F11,0)*100 -> 98.789195 | O11: =IF(F11=G11+H11+I11,"","err") | P11: =IF(I11=J11+K11,"","err")
B12: 212 사용료수입 | E12: 9530652000 | F12: 6475850879 | G12: 6386277702 | H12: 0 | I12: 89573177 | J12: 68329007 | K12: 21244170 | L12: =IFERROR(G12/E12,0)*100 -> 67.007773 | M12: =IFERROR(G12/F12,0)*100 -> 98.616812 | O12: =IF(F12=G12+H12+I12,"","err") | P12: =IF(I12=J12+K12,"","err")
C13: 212-01 도로사용료 | E13: 2050000000 | F13: 3325163065 | G13: 3264191165 | H13: 0 | I13: 60971900 | J13: 60569500 | K13: 402400 | L13: =IFERROR(G13/E13,0)*100 -> 159.22884 | M13: =IFERROR(G13/F13,0)*100 -> 98.166349 | O13: =IF(F13=G13+H13+I13,"","err") | P13: =IF(I13=J13+K13,"","err")
C14: 212-02 하천사용료 | E14: 0 | F14: 261900 | G14: 261900 | H14: 0 | I14: 0 | J14: 0 | K14: 0 | L14: =IFERROR(G14/E14,0)*100 -> 0 | M14: =IFERROR(G14/F14,0)*100 -> 100 | O14: =IF(F14=G14+H14+I14,"","err") | P14: =IF(I14=J14+K14,"","err")
C15: 212-03 하수도사용료 | E15: 0 | F15: 0 | G15: 0 | H15: 0 | I15: 0 | J15: 0 | K15: 0 | L15: =IFERROR(G15/E15,0)*100 -> 0 | M15: =IFERROR(G15/F15,0)*100 -> 0 | O15: =IF(F15=G15+H15+I15,"","err") | P15: =IF(I15=J15+K15,"","err")
C16: 212-04 상수도사용료 | E16: 0 | F16: 0 | G16: 0 | H16: 0 | I16: 0 | J16: 0 | K16: 0 | L16: =IFERROR(G16/E16,0)*100 -> 0 | M16: =IFERROR(G16/F16,0)*100 -> 0 | O16: =IF(F16=G16+H16+I16,"","err") | P16: =IF(I16=J16+K16,"","err")
C17: 212-05 공유수면사용료 | E17: 0 | F17: 14629420 | G17: 13614990 | H17: 0 | I17: 1014430 | J17: 0 | K17: 1014430 | L17: =IFERROR(G17/E17,0)*100 -> 0 | M17: =IFERROR(G17/F17,0)*100 -> 93.065822 | O17: =IF(F17=G17+H17+I17,"","err") | P17: =IF(I17=J17+K17,"","err")
C18: 212-06 시장사용료 | E18: 0 | F18: 0 | G18: 0 | H18: 0 | I18: 0 | J18: 0 | K18: 0 | L18: =IFERROR(G18/E18,0)*100 -> 0 | M18: =IFERROR(G18/F18,0)*100 -> 0 | O18: =IF(F18=G18+H18+I18,"","err") | P18: =IF(I18=J18+K18,"","err")
C19: 212-07 입장료수입 | E19: 5928478000 | F19: 2500344384 | G19: 2491967507 | H19: 0 | I19: 8376877 | J19: 7503917 | K19: 872960 | L19: =IFERROR(G19/E19,0)*100 -> 42.033849 | M19: =IFERROR(G19/F19,0)*100 -> 99.664971 | O19: =IF(F19=G19+H19+I19,"","err") | P19: =IF(I19=J19+K19,"","err")
C20: 212-08 주차요금수입 | E20: 56476000 | F20: 71042400 | G20: 71042400 | H20: 0 | I20: 0 | J20: 0 | K20: 0 | O20: =IF(F20=G20+H20+I20,"","err") | P20: =IF(I20=J20+K20,"","err")
C21: 212-09 기타사용료 | E21: 1495698000 | F21: 564409710 | G21: 545199740 | H21: 0 | I21: 19209970 | J21: 255590 | K21: 18954380 | L21: =IFERROR(G21/E21,0)*100 -> 36.451191 | M21: =IFERROR(G21/F21,0)*100 -> 96.596449 | O21: =IF(F21=G21+H21+I21,"","err") | P21: =IF(I21=J21+K21,"","err")
B22: 213 수수료수입 | E22: 13773519000 | F22: 15748671681 | G22: 15708206761 | H22: 0 | I22: 40464920 | J22: 23818500 | K22: 16646420 | L22: =IFERROR(G22/E22,0)*100 -> 114.04643 | M22: =IFERROR(G22/F22,0)*100 -> 99.743058 | O22: =IF(F22=G22+H22+I22,"","err") | P22: =IF(I22=J22+K22,"","err")
C23: 213-01 증지수입 | E23: 1732814000 | F23: 1631623260 | G23: 1615403810 | H23: 0 | I23: 16219450 | J23: 0 | K23: 16219450 | L23: =IFERROR(G23/E23,0)*100 -> 93.224305 | M23: =IFERROR(G23/F23,0)*100 -> 99.005932 | O23: =IF(F23=G23+H23+I23,"","err") | P23: =IF(I23=J23+K23,"","err")
C24: 213-02 폐기물처리수수료 | E24: 11826885000 | F24: 13494546460 | G24: 13494546460 | H24: 0 | I24: 0 | J24: 0 | K24: 0 | L24: =IFERROR(G24/E24,0)*100 -> 114.1006 | M24: =IFERROR(G24/F24,0)*100 -> 100 | O24: =IF(F24=G24+H24+I24,"","err") | P24: =IF(I24=J24+K24,"","err")
C25: 213-03 재활용품수거판매수입 | E25: 13420000 | F25: 12838500 | G25: 12838500 | H25: 0 | I25: 0 | J25: 0 | K25: 0 | L25: =IFERROR(G25/E25,0)*100 -> 95.666915 | M25: =IFERROR(G25/F25,0)*100 -> 100 | O25: =IF(F25=G25+H25+I25,"","err") | P25: =IF(I25=J25+K25,"","err")
C26: 213-04 보건의료수수료 | E26: 8000000 | F26: 65874660 | G26: 65581010 | H26: 0 | I26: 293650 | J26: 0 | K26: 293650 | O26: =IF(F26=G26+H26+I26,"","err") | P26: =IF(I26=J26+K26,"","err")
C27: 213-05 기타수수료 | E27: 192400000 | F27: 543788801 | G27: 519836981 | H27: 0 | I27: 23951820 | J27: 23818500 | K27: 133320 | L27: =IFERROR(G27/E27,0)*100 -> 270.18554 | M27: =IFERROR(G27/F27,0)*100 -> 95.595382 | O27: =IF(F27=G27+H27+I27,"","err") | P27: =IF(I27=J27+K27,"","err")
B28: 214 사업수입 | E28: 3391773000 | F28: 1916510770 | G28: 1916510770 | H28: 0 | I28: 0 | J28: 0 | K28: 0 | L28: =IFERROR(G28/E28,0)*100 -> 56.504689 | M28: =IFERROR(G28/F28,0)*100 -> 100 | O28: =IF(F28=G28+H28+I28,"","err") | P28: =IF(I28=J28+K28,"","err")
C29: 214-01 사업장생산수입 | E29: 3391773000 | F29: 8438600 | G29: 8438600 | H29: 0 | I29: 0 | J29: 0 | K29: 0 | L29: =IFERROR(G29/E29,0)*100 -> 0.24879613 | M29: =IFERROR(G29/F29,0)*100 -> 100 | O29: =IF(F29=G29+H29+I29,"","err") | P29: =IF(I29=J29+K29,"","err")
C30: 214-02 청산금수입 | E30: 0 | F30: 0 | G30: 0 | H30: 0 | I30: 0 | J30: 0 | K30: 0 | L30: =IFERROR(G30/E30,0)*100 -> 0 | M30: =IFERROR(G30/F30,0)*100 -> 0 | O30: =IF(F30=G30+H30+I30,"","err") | P30: =IF(I30=J30+K30,"","err")
C31: 214-03 매각사업수입 | E31: 0 | F31: 0 | G31: 0 | H31: 0 | I31: 0 | J31: 0 | K31: 0 | L31: =IFERROR(G31/E31,0)*100 -> 0 | M31: =IFERROR(G31/F31,0)*100 -> 0 | O31: =IF(F31=G31+H31+I31,"","err") | P31: =IF(I31=J31+K31,"","err")
C32: 214-04 배당금수입 | E32: 0 | F32: 0 | G32: 0 | H32: 0 | I32: 0 | J32: 0 | K32: 0 | L32: =IFERROR(G32/E32,0)*100 -> 0 | M32: =IFERROR(G32/F32,0)*100 -> 0 | O32: =IF(F32=G32+H32+I32,"","err") | P32: =IF(I32=J32+K32,"","err")
C33: 214-05 기타사업수입 | E33: 0 | F33: 1908072170 | G33: 1908072170 | H33: 0 | I33: 0 | J33: 0 | K33: 0 | L33: =IFERROR(G33/E33,0)*100 -> 0 | M33: =IFERROR(G33/F33,0)*100 -> 100 | O33: =IF(F33=G33+H33+I33,"","err") | P33: =IF(I33=J33+K33,"","err")
B34: 215 징수교부금수입 | E34: 26484803000 | F34: 29219476500 | G34: 29219476500 | H34: 0 | I34: 0 | J34: 0 | K34: 0 | L34: =IFERROR(G34/E34,0)*100 -> 110.32544 | M34: =IFERROR(G34/F34,0)*100 -> 100 | O34: =IF(F34=G34+H34+I34,"","err") | P34: =IF(I34=J34+K34,"","err")
C35: 215-01 징수교부금수입 | E35: 26484803000 | F35: 29219476500 | G35: 29219476500 | H35: 0 | I35: 0 | J35: 0 | K35: 0 | L35: =IFERROR(G35/E35,0)*100 -> 110.32544 | M35: =IFERROR(G35/F35,0)*100 -> 100 | O35: =IF(F35=G35+H35+I35,"","err") | P35: =IF(I35=J35+K35,"","err")
B36: 216 이자수입 | E36: 3105827000 | F36: 5529591807 | G36: 5523388374 | H36: 0 | I36: 6203433 | J36: 6183013 | K36: 20420 | L36: =IFERROR(G36/E36,0)*100 -> 177.83954 | M36: =IFERROR(G36/F36,0)*100 -> 99.887814 | O36: =IF(F36=G36+H36+I36,"","err") | P36: =IF(I36=J36+K36,"","err")
C37: 216-01 공공예금이자수입 | E37: 3105827000 | F37: 5378385710 | G37: 5372187757 | H37: 0 | I37: 6197953 | J37: 6183013 | K37: 14940 | L37: =IFERROR(G37/E37,0)*100 -> 172.97125 | M37: =IFERROR(G37/F37,0)*100 -> 99.884762 | O37: =IF(F37=G37+H37+I37,"","err") | P37: =IF(I37=J37+K37,"","err")
C38: 216-02 융자금회수이자수입 | E38: 0 | F38: 0 | G38: 0 | H38: 0 | I38: 0 | J38: 0 | K38: 0 | L38: =IFERROR(G38/E38,0)*100 -> 0 | M38: =IFERROR(G38/F38,0)*100 -> 0 | O38: =IF(F38=G38+H38+I38,"","err") | P38: =IF(I38=J38+K38,"","err")
C39: 216-03 기타이자수입 | E39: 0 | F39: 151206097 | G39: 151200617 | H39: 0 | I39: 5480 | J39: 0 | K39: 5480 | L39: =IFERROR(G39/E39,0)*100 -> 0 | M39: =IFERROR(G39/F39,0)*100 -> 99.996376 | O39: =IF(F39=G39+H39+I39,"","err") | P39: =IF(I39=J39+K39,"","err")
B40: 220 임시적세외수입 | E40: 14448755000 | F40: 46808126959 | G40: 16962063897 | H40: 1078806156 | I40: 28767256906 | J40: 28291560186 | K40: 475696720 | L40: =IFERROR(G40/E40,0)*100 -> 117.39464 | M40: =IFERROR(G40/F40,0)*100 -> 36.237434 | O40: =IF(F40=G40+H40+I40,"","err") | P40: =IF(I40=J40+K40,"","err")
B41: 221 재산매각수입 | E41: 0 | F41: 68703150 | G41: 68703150 | H41: 0 | I41: 0 | J41: 0 | K41: 0 | L41: =IFERROR(G41/E41,0)*100 -> 0 | M41: =IFERROR(G41/F41,0)*100 -> 100 | O41: =IF(F41=G41+H41+I41,"","err") | P41: =IF(I41=J41+K41,"","err")
C42: 221-01 국유재산매각귀속수입금 | E42: 0 | F42: 0 | G42: 0 | H42: 0 | I42: 0 | J42: 0 | K42: 0 | L42: =IFERROR(G42/E42,0)*100 -> 0 | M42: =IFERROR(G42/F42,0)*100 -> 0 | O42: =IF(F42=G42+H42+I42,"","err") | P42: =IF(I42=J42+K42,"","err")
C43: 221-02 시도유재산매각귀속수입금 | E43: 0 | F43: 0 | G43: 0 | H43: 0 | I43: 0 | J43: 0 | K43: 0 | L43: =IFERROR(G43/E43,0)*100 -> 0 | M43: =IFERROR(G43/F43,0)*100 -> 0 | O43: =IF(F43=G43+H43+I43,"","err") | P43: =IF(I43=J43+K43,"","err")
C44: 221-03 공유재산매각수입금 | E44: 0 | F44: 66950150 | G44: 66950150 | H44: 0 | I44: 0 | J44: 0 | K44: 0 | O44: =IF(F44=G44+H44+I44,"","err") | P44: =IF(I44=J44+K44,"","err")
C45: 221-04 불용품매각대금 | E45: 0 | F45: 1753000 | G45: 1753000 | H45: 0 | I45: 0 | J45: 0 | K45: 0 | L45: =IFERROR(G45/E45,0)*100 -> 0 | M45: =IFERROR(G45/F45,0)*100 -> 100 | O45: =IF(F45=G45+H45+I45,"","err") | P45: =IF(I45=J45+K45,"","err")
B46: 222 자치단체간부담금 | E46: 14000000 | F46: 14000000 | G46: 14000000 | H46: 0 | I46: 0 | J46: 0 | K46: 0 | L46: =IFERROR(G46/E46,0)*100 -> 100 | M46: =IFERROR(G46/F46,0)*100 -> 100 | O46: =IF(F46=G46+H46+I46,"","err") | P46: =IF(I46=J46+K46,"","err")
C47: 222-01 자치단체간부담금 | E47: 14000000 | F47: 14000000 | G47: 14000000 | H47: 0 | I47: 0 | J47: 0 | K47: 0 | L47: =IFERROR(G47/E47,0)*100 -> 100 | M47: =IFERROR(G47/F47,0)*100 -> 100 | O47: =IF(F47=G47+H47+I47,"","err") | P47: =IF(I47=J47+K47,"","err")
B48: 223 보조금반환수입 | E48: 4492000 | F48: 1109496022 | G48: 1107684816 | H48: 0 | I48: 1811206 | J48: 1811206 | K48: 0 | L48: =IFERROR(G48/E48,0)*100 -> 24659.056 | M48: =IFERROR(G48/F48,0)*100 -> 99.836754 | O48: =IF(F48=G48+H48+I48,"","err") | P48: =IF(I48=J48+K48,"","err")
C49: 223-01 시ㆍ도비보조금등반환수입 | E49: 0 | F49: 424120 | G49: 424120 | H49: 0 | I49: 0 | J49: 0 | K49: 0 | L49: =IFERROR(G49/E49,0)*100 -> 0 | M49: =IFERROR(G49/F49,0)*100 -> 100 | O49: =IF(F49=G49+H49+I49,"","err") | P49: =IF(I49=J49+K49,"","err")
C50: 223-02 자체보조금등반환수입 | E50: 4492000 | F50: 1031763690 | G50: 1029952484 | H50: 0 | I50: 1811206 | J50: 1811206 | K50: 0 | L50: =IFERROR(G50/E50,0)*100 -> 22928.595 | M50: =IFERROR(G50/F50,0)*100 -> 99.824455 | O50: =IF(F50=G50+H50+I50,"","err") | P50: =IF(I50=J50+K50,"","err")
C51: 223-03 위탁비반환수입 | E51: 0 | F51: 77308212 | G51: 77308212 | H51: 0 | I51: 0 | J51: 0 | K51: 0 | L51: =IFERROR(G51/E51,0)*100 -> 0 | M51: =IFERROR(G51/F51,0)*100 -> 100 | O51: =IF(F51=G51+H51+I51,"","err") | P51: =IF(I51=J51+K51,"","err")
B52: 224 기타수입 | E52: 10388313000 | F52: 12305082151 | G52: 12232314032 | H52: 12702090 | I52: 60066029 | J52: 56598329 | K52: 3467700 | L52: =IFERROR(G52/E52,0)*100 -> 117.75073 | M52: =IFERROR(G52/F52,0)*100 -> 99.408634 | O52: =IF(F52=G52+H52+I52,"","err") | P52: =IF(I52=J52+K52,"","err")
C53: 224-01 체납처분수입 | E53: 0 | F53: 135530 | G53: 135530 | H53: 0 | I53: 0 | J53: 0 | K53: 0 | L53: =IFERROR(G53/E53,0)*100 -> 0 | M53: =IFERROR(G53/F53,0)*100 -> 100 | O53: =IF(F53=G53+H53+I53,"","err") | P53: =IF(I53=J53+K53,"","err")
C54: 224-02 보상금수납금 | E54: 0 | F54: 0 | G54: 0 | H54: 0 | I54: 0 | J54: 0 | K54: 0 | L54: =IFERROR(G54/E54,0)*100 -> 0 | M54: =IFERROR(G54/F54,0)*100 -> 0 | O54: =IF(F54=G54+H54+I54,"","err") | P54: =IF(I54=J54+K54,"","err")
C55: 224-03 기부금수입 | E55: 2888000000 | F55: 2070676500 | G55: 2070676500 | H55: 0 | I55: 0 | J55: 0 | K55: 0 | L55: =IFERROR(G55/E55,0)*100 -> 71.699325 | M55: =IFERROR(G55/F55,0)*100 -> 100 | O55: =IF(F55=G55+H55+I55,"","err") | P55: =IF(I55=J55+K55,"","err")
C56: 224-04 지적재조사조정금 | E56: 0 | F56: 289429350 | G56: 273324950 | H56: 0 | I56: 16104400 | J56: 16104400 | K56: 0 | L56: =IFERROR(G56/E56,0)*100 -> 0 | M56: =IFERROR(G56/F56,0)*100 -> 94.43581 | O56: =IF(F56=G56+H56+I56,"","err") | P56: =IF(I56=J56+K56,"","err")
C57: 224-05 지방교부세감소분보전수입 | E57: 0 | F57: 0 | G57: 0 | H57: 0 | I57: 0 | J57: 0 | K57: 0 | L57: =IFERROR(G57/E57,0)*100 -> 0 | M57: =IFERROR(G57/F57,0)*100 -> 0 | O57: =IF(F57=G57+H57+I57,"","err") | P57: =IF(I57=J57+K57,"","err")
C58: 224-06 위약금 | E58: 0 | F58: 4063750 | G58: 4063750 | H58: 0 | I58: 0 | J58: 0 | K58: 0 | O58: =IF(F58=G58+H58+I58,"","err") | P58: =IF(I58=J58+K58,"","err")
C59: 224-07 그외수입 | E59: 7500313000 | F59: 9940777021 | G59: 9884113302 | H59: 12702090 | I59: 43961629 | J59: 40493929 | K59: 3467700 | L59: =IFERROR(G59/E59,0)*100 -> 131.78268 | M59: =IFERROR(G59/F59,0)*100 -> 99.429987 | O59: =IF(F59=G59+H59+I59,"","err") | P59: =IF(I59=J59+K59,"","err")
B60: 225 지난년도수입 | E60: 4041950000 | F60: 33310845636 | G60: 3539361899 | H60: 1066104066 | I60: 28705379671 | J60: 28233150651 | K60: 472229020 | L60: =IFERROR(G60/E60,0)*100 -> 87.565702 | M60: =IFERROR(G60/F60,0)*100 -> 10.625254 | O60: =IF(F60=G60+H60+I60,"","err") | P60: =IF(I60=J60+K60,"","err")
C61: 225-01 지난년도수입 | E61: 4041950000 | F61: 33310845636 | G61: 3539361899 | H61: 1066104066 | I61: 28705379671 | J61: 28233150651 | K61: 472229020 | L61: =IFERROR(G61/E61,0)*100 -> 87.565702 | M61: =IFERROR(G61/F61,0)*100 -> 10.625254 | O61: =IF(F61=G61+H61+I61,"","err") | P61: =IF(I61=J61+K61,"","err")
B62: 230 지방행정제재‧부과금 | E62: 9090380000 | F62: 15914226325 | G62: 7947345745 | H62: 0 | I62: 7966880580 | J62: 4513324080 | K62: 3453556500 | L62: =IFERROR(G62/E62,0)*100 -> 87.425891 | M62: =IFERROR(G62/F62,0)*100 -> 49.938625 | O62: =IF(F62=G62+H62+I62,"","err") | P62: =IF(I62=J62+K62,"","err")
B63: 231 과징금 | E63: 140960000 | F63: 2327247420 | G63: 529686400 | H63: 0 | I63: 1797561020 | J63: 1729741020 | K63: 67820000 | L63: =IFERROR(G63/E63,0)*100 -> 375.77072 | M63: =IFERROR(G63/F63,0)*100 -> 22.76021 | O63: =IF(F63=G63+H63+I63,"","err") | P63: =IF(I63=J63+K63,"","err")
C64: 231-01 과징금 | E64: 140960000 | F64: 2327247420 | G64: 529686400 | H64: 0 | I64: 1797561020 | J64: 1729741020 | K64: 67820000 | L64: =IFERROR(G64/E64,0)*100 -> 375.77072 | M64: =IFERROR(G64/F64,0)*100 -> 22.76021 | O64: =IF(F64=G64+H64+I64,"","err") | P64: =IF(I64=J64+K64,"","err")
B65: 232 이행강제금 | E65: 565000000 | F65: 1705357035 | G65: 969110595 | H65: 0 | I65: 736246440 | J65: 668848440 | K65: 67398000 | L65: =IFERROR(G65/E65,0)*100 -> 171.524 | M65: =IFERROR(G65/F65,0)*100 -> 56.827431 | O65: =IF(F65=G65+H65+I65,"","err") | P65: =IF(I65=J65+K65,"","err")
C66: 232-01 이행강제금 | E66: 565000000 | F66: 1705357035 | G66: 969110595 | H66: 0 | I66: 736246440 | J66: 668848440 | K66: 67398000 | L66: =IFERROR(G66/E66,0)*100 -> 171.524 | M66: =IFERROR(G66/F66,0)*100 -> 56.827431 | O66: =IF(F66=G66+H66+I66,"","err") | P66: =IF(I66=J66+K66,"","err")
B67: 233 변상금 | E67: 0 | F67: 129558120 | G67: 95053500 | H67: 0 | I67: 34504620 | J67: 29777040 | K67: 4727580 | L67: =IFERROR(G67/E67,0)*100 -> 0 | M67: =IFERROR(G67/F67,0)*100 -> 73.367459 | O67: =IF(F67=G67+H67+I67,"","err") | P67: =IF(I67=J67+K67,"","err")
C68: 233-01 변상금 | E68: 0 | F68: 129558120 | G68: 95053500 | H68: 0 | I68: 34504620 | J68: 29777040 | K68: 4727580 | L68: =IFERROR(G68/E68,0)*100 -> 0 | M68: =IFERROR(G68/F68,0)*100 -> 73.367459 | O68: =IF(F68=G68+H68+I68,"","err") | P68: =IF(I68=J68+K68,"","err")
B69: 234 과태료 | E69: 3371600000 | F69: 4674913280 | G69: 2561684570 | H69: 0 | I69: 2113228710 | J69: 1940911510 | K69: 172317200 | L69: =IFERROR(G69/E69,0)*100 -> 75.978306 | M69: =IFERROR(G69/F69,0)*100 -> 54.796408 | O69: =IF(F69=G69+H69+I69,"","err") | P69: =IF(I69=J69+K69,"","err")
C70: 234-01 차량관련과태료 | E70: 2424000000 | F70: 2616195140 | G70: 1160868490 | H70: 0 | I70: 1455326650 | J70: 1336669450 | K70: 118657200 | L70: =IFERROR(G70/E70,0)*100 -> 47.890614 | M70: =IFERROR(G70/F70,0)*100 -> 44.372397 | O70: =IF(F70=G70+H70+I70,"","err") | P70: =IF(I70=J70+K70,"","err")
C71: 234-02 기타과태료 | E71: 947600000 | F71: 2058718140 | G71: 1400816080 | H71: 0 | I71: 657902060 | J71: 604242060 | K71: 53660000 | L71: =IFERROR(G71/E71,0)*100 -> 147.82778 | M71: =IFERROR(G71/F71,0)*100 -> 68.043121 | O71: =IF(F71=G71+H71+I71,"","err") | P71: =IF(I71=J71+K71,"","err")
B72: 235 환수금 | E72: 800000 | F72: 161026080 | G72: 52191700 | H72: 0 | I72: 108834380 | J72: 108834380 | K72: 0 | L72: =IFERROR(G72/E72,0)*100 -> 6523.9625 | M72: =IFERROR(G72/F72,0)*100 -> 32.411955 | O72: =IF(F72=G72+H72+I72,"","err") | P72: =IF(I72=J72+K72,"","err")
C73: 235-01 부정이익환수금 | E73: 800000 | F73: 161026080 | G73: 52191700 | H73: 0 | I73: 108834380 | J73: 108834380 | K73: 0 | L73: =IFERROR(G73/E73,0)*100 -> 6523.9625 | M73: =IFERROR(G73/F73,0)*100 -> 32.411955 | O73: =IF(F73=G73+H73+I73,"","err") | P73: =IF(I73=J73+K73,"","err")
B74: 236 부담금 | E74: 5012020000 | F74: 6880324390 | G74: 3704318980 | H74: 0 | I74: 3176005410 | J74: 34711690 | K74: 3141293720 | L74: =IFERROR(G74/E74,0)*100 -> 73.908703 | M74: =IFERROR(G74/F74,0)*100 -> 53.839307 | O74: =IF(F74=G74+H74+I74,"","err") | P74: =IF(I74=J74+K74,"","err")
C75: 236-01 부담금 | E75: 5012020000 | F75: 6880324390 | G75: 3704318980 | H75: 0 | I75: 3176005410 | J75: 34711690 | K75: 3141293720 | L75: =IFERROR(G75/E75,0)*100 -> 73.908703 | M75: =IFERROR(G75/F75,0)*100 -> 53.839307 | O75: =IF(F75=G75+H75+I75,"","err") | P75: =IF(I75=J75+K75,"","err")
B76: 237 범칙금 | E76: 0 | F76: 35800000 | G76: 35300000 | H76: 0 | I76: 500000 | J76: 500000 | K76: 0 | L76: =IFERROR(G76/E76,0)*100 -> 0 | M76: =IFERROR(G76/F76,0)*100 -> 98.603352 | O76: =IF(F76=G76+H76+I76,"","err") | P76: =IF(I76=J76+K76,"","err")
C77: 237-01 범칙금 | E77: 0 | F77: 35800000 | G77: 35300000 | H77: 0 | I77: 500000 | J77: 500000 | K77: 0 | L77: =IFERROR(G77/E77,0)*100 -> 0 | M77: =IFERROR(G77/F77,0)*100 -> 98.603352 | O77: =IF(F77=G77+H77+I77,"","err") | P77: =IF(I77=J77+K77,"","err")

Sheet 군구세외 일반회계_지난년도
B2: =B4&L3&" 일반회계 지난년도 세외수입 징수현황" -> 2023년 12월 서구 일반회계 지난년도 세외수입 징수현황
K3: 기관명 | L3: ='군구세외 일반회계'!L3:M3 -> 서구 | O3: =COUNTIF(O7:P77,"err") -> 0
B4: ='군구세외 일반회계'!B4:D4 -> 2023년 12월 | L4: (단위:원,%)
D5: 구 분 | E5: 최종예산액 | F5: 징수결정액 | G5: 징 수 액 | H5: 정리보류액 | I5: 미수납액 | L5: 징수율
B6: 항 목 별 | E6: (A) | F6: (B) | G6: (C) | H6: (D) | I6: 미수납액 (E=B-C-D) | J6: 체납액 (F=E-G) | K6: 납기미도래 (G) | L6: (C/A) | M6: (C/B)
B7: 200 세외수입 | E7: 4041950000 | F7: =F8+F40+F62 -> 33310845636 | G7: =G8+G40+G62 -> 3539361899 | H7: =H8+H40+H62 -> 1066104066 | I7: =I8+I40+I62 -> 28705379671 | J7: =J8+J40+J62 -> 28233150651 | K7: =K8+K40+K62 -> 472229020 | L7: =IFERROR(G7/E7,0)*100 -> 87.565702 | M7: =IFERROR(G7/F7,0)*100 -> 10.625254 | O7: =IF(F7=G7+H7+I7,"","err") | P7: =IF(I7=J7+K7,"","err")
B8: 210 경상적세외수입 | E8: =E9+E12+E22+E28+E34+E36 -> 0 | F8: =F9+F12+F22+F28+F34+F36 -> 526365296 | G8: =G9+G12+G22+G28+G34+G36 -> 314153650 | H8: =H9+H12+H22+H28+H34+H36 -> 38455260 | I8: =I9+I12+I22+I28+I34+I36 -> 173756386 | J8: =J9+J12+J22+J28+J34+J36 -> 173756386 | K8: =K9+K12+K22+K28+K34+K36 -> 0 | L8: =IFERROR(G8/E8,0)*100 -> 0 | M8: =IFERROR(G8/F8,0)*100 -> 59.68358 | O8: =IF(F8=G8+H8+I8,"","err") | P8: =IF(I8=J8+K8,"","err")
B9: 211 재산임대수입 | E9: 0 | F9: 84854940 | G9: 21036890 | H9: 35011740 | I9: 28806310 | J9: 28806310 | K9: 0 | L9: =IFERROR(G9/E9,0)*100 -> 0 | M9: =IFERROR(G9/F9,0)*100 -> 24.791591 | O9: =IF(F9=G9+H9+I9,"","err") | P9: =IF(I9=J9+K9,"","err")
C10: 211-01 국유재산임대료 | F10: 56948070 | G10: 12410680 | H10: 31018680 | I10: 13518710 | J10: 13518710 | K10: 0 | L10: =IFERROR(G10/E10,0)*100 -> 0 | M10: =IFERROR(G10/F10,0)*100 -> 21.792977 | O10: =IF(F10=G10+H10+I10,"","err") | P10: =IF(I10=J10+K10,"","err")
C11: 211-02 공유재산임대료 | F11: 27906870 | G11: 8626210 | H11: 3993060 | I11: 15287600 | J11: 15287600 | K11: 0 | L11: =IFERROR(G11/E11,0)*100 -> 0 | M11: =IFERROR(G11/F11,0)*100 -> 30.910704 | O11: =IF(F11=G11+H11+I11,"","err") | P11: =IF(I11=J11+K11,"","err")
B12: 212 사용료수입 | E12: 0 | F12: 409842016 | G12: 264140180 | H12: 3443520 | I12: 142258316 | J12: 142258316 | K12: 0 | L12: =IFERROR(G12/E12,0)*100 -> 0 | M12: =IFERROR(G12/F12,0)*100 -> 64.449268 | O12: =IF(F12=G12+H12+I12,"","err") | P12: =IF(I12=J12+K12,"","err")
C13: 212-01 도로사용료 | F13: 181870910 | G13: 40239220 | H13: 3054970 | I13: 138576720 | J13: 138576720 | K13: 0 | L13: =IFERROR(G13/E13,0)*100 -> 0 | M13: =IFERROR(G13/F13,0)*100 -> 22.125155 | O13: =IF(F13=G13+H13+I13,"","err") | P13: =IF(I13=J13+K13,"","err")
C14: 212-02 하천사용료 | F14: -2940570 | G14: 207530 | H14: 0 | I14: -3148100 | J14: -3148100 | K14: 0 | L14: =IFERROR(G14/E14,0)*100 -> 0 | M14: =IFERROR(G14/F14,0)*100 -> -7.0574753 | O14: =IF(F14=G14+H14+I14,"","err") | P14: =IF(I14=J14+K14,"","err")
C15: 212-03 하수도사용료 | F15: 0 | G15: 0 | H15: 0 | I15: 0 | J15: 0 | K15: 0 | L15: =IFERROR(G15/E15,0)*100 -> 0 | M15: =IFERROR(G15/F15,0)*100 -> 0 | O15: =IF(F15=G15+H15+I15,"","err") | P15: =IF(I15=J15+K15,"","err")
C16: 212-04 상수도사용료 | F16: 0 | G16: 0 | H16: 0 | I16: 0 | J16: 0 | K16: 0 | L16: =IFERROR(G16/E16,0)*100 -> 0 | M16: =IFERROR(G16/F16,0)*100 -> 0 | O16: =IF(F16=G16+H16+I16,"","err") | P16: =IF(I16=J16+K16,"","err")
C17: 212-05 공유수면사용료 | F17: 14364023 | G17: 3147610 | H17: 59520 | I17: 11156893 | J17: 11156893 | K17: 0 | L17: =IFERROR(G17/E17,0)*100 -> 0 | M17: =IFERROR(G17/F17,0)*100 -> 21.913151 | O17: =IF(F17=G17+H17+I17,"","err") | P17: =IF(I17=J17+K17,"","err")
C18: 212-06 시장사용료 | F18: 0 | G18: 0 | H18: 0 | I18: 0 | J18: 0 | K18: 0 | L18: =IFERROR(G18/E18,0)*100 -> 0 | M18: =IFERROR(G18/F18,0)*100 -> 0 | O18: =IF(F18=G18+H18+I18,"","err") | P18: =IF(I18=J18+K18,"","err")
C19: 212-07 입장료수입 | F19: 461501 | G19: 0 | H19: 0 | I19: 461501 | J19: 461501 | K19: 0 | L19: =IFERROR(G19/E19,0)*100 -> 0 | M19: =IFERROR(G19/F19,0)*100 -> 0 | O19: =IF(F19=G19+H19+I19,"","err") | P19: =IF(I19=J19+K19,"","err")
C20: 212-08 주차요금수입 | F20: 0 | G20: 0 | H20: 0 | I20: 0 | J20: 0 | K20: 0 | O20: =IF(F20=G20+H20+I20,"","err") | P20: =IF(I20=J20+K20,"","err")
C21: 212-09 기타사용료 | F21: 216086152 | G21: 220545820 | H21: 329030 | I21: -4788698 | J21: -4788698 | K21: 0 | L21: =IFERROR(G21/E21,0)*100 -> 0 | M21: =IFERROR(G21/F21,0)*100 -> 102.06384 | O21: =IF(F21=G21+H21+I21,"","err") | P21: =IF(I21=J21+K21,"","err")
B22: 213 수수료수입 | E22: 0 | F22: 41836810 | G22: 28976580 | H22: 0 | I22: 12860230 | J22: 12860230 | K22: 0 | L22: =IFERROR(G22/E22,0)*100 -> 0 | M22: =IFERROR(G22/F22,0)*100 -> 69.260969 | O22: =IF(F22=G22+H22+I22,"","err") | P22: =IF(I22=J22+K22,"","err")
C23: 213-01 증지수입 | F23: 9149060 | G23: 9392350 | H23: 0 | I23: -243290 | J23: -243290 | K23: 0 | L23: =IFERROR(G23/E23,0)*100 -> 0 | M23: =IFERROR(G23/F23,0)*100 -> 102.65918 | O23: =IF(F23=G23+H23+I23,"","err") | P23: =IF(I23=J23+K23,"","err")
C24: 213-02 폐기물처리수수료 | F24: 0 | G24: 0 | H24: 0 | I24: 0 | J24: 0 | K24: 0 | L24: =IFERROR(G24/E24,0)*100 -> 0 | M24: =IFERROR(G24/F24,0)*100 -> 0 | O24: =IF(F24=G24+H24+I24,"","err") | P24: =IF(I24=J24+K24,"","err")
C25: 213-03 재활용품수거판매수입 | F25: 12815520 | G25: 0 | H25: 0 | I25: 12815520 | J25: 12815520 | K25: 0 | L25: =IFERROR(G25/E25,0)*100 -> 0 | M25: =IFERROR(G25/F25,0)*100 -> 0 | O25: =IF(F25=G25+H25+I25,"","err") | P25: =IF(I25=J25+K25,"","err")
C26: 213-04 보건의료수수료 | F26: 24100 | G26: 24100 | H26: 0 | I26: 0 | J26: 0 | K26: 0 | O26: =IF(F26=G26+H26+I26,"","err") | P26: =IF(I26=J26+K26,"","err")
C27: 213-05 기타수수료 | F27: 19848130 | G27: 19560130 | H27: 0 | I27: 288000 | J27: 288000 | K27: 0 | L27: =IFERROR(G27/E27,0)*100 -> 0 | M27: =IFERROR(G27/F27,0)*100 -> 98.548982 | O27: =IF(F27=G27+H27+I27,"","err") | P27: =IF(I27=J27+K27,"","err")
B28: 214 사업수입 | E28: 0 | F28: 0 | G28: 0 | H28: 0 | I28: 0 | J28: 0 | K28: 0 | L28: =IFERROR(G28/E28,0)*100 -> 0 | M28: =IFERROR(G28/F28,0)*100 -> 0 | O28: =IF(F28=G28+H28+I28,"","err") | P28: =IF(I28=J28+K28,"","err")
C29: 214-01 사업장생산수입 | F29: 0 | G29: 0 | H29: 0 | I29: 0 | J29: 0 | K29: 0 | L29: =IFERROR(G29/E29,0)*100 -> 0 | M29: =IFERROR(G29/F29,0)*100 -> 0 | O29: =IF(F29=G29+H29+I29,"","err") | P29: =IF(I29=J29+K29,"","err")
C30: 214-02 청산금수입 | F30: 0 | G30: 0 | H30: 0 | I30: 0 | J30: 0 | K30: 0 | L30: =IFERROR(G30/E30,0)*100 -> 0 | M30: =IFERROR(G30/F30,0)*100 -> 0 | O30: =IF(F30=G30+H30+I30,"","err") | P30: =IF(I30=J30+K30,"","err")
C31: 214-03 매각사업수입 | F31: 0 | G31: 0 | H31: 0 | I31: 0 | J31: 0 | K31: 0 | L31: =IFERROR(G31/E31,0)*100 -> 0 | M31: =IFERROR(G31/F31,0)*100 -> 0 | O31: =IF(F31=G31+H31+I31,"","err") | P31: =IF(I31=J31+K31,"","err")
C32: 214-04 배당금수입 | F32: 0 | G32: 0 | H32: 0 | I32: 0 | J32: 0 | K32: 0 | L32: =IFERROR(G32/E32,0)*100 -> 0 | M32: =IFERROR(G32/F32,0)*100 -> 0 | O32: =IF(F32=G32+H32+I32,"","err") | P32: =IF(I32=J32+K32,"","err")
C33: 214-05 기타사업수입 | F33: 0 | G33: 0 | H33: 0 | I33: 0 | J33: 0 | K33: 0 | L33: =IFERROR(G33/E33,0)*100 -> 0 | M33: =IFERROR(G33/F33,0)*100 -> 0 | O33: =IF(F33=G33+H33+I33,"","err") | P33: =IF(I33=J33+K33,"","err")
B34: 215 징수교부금수입 | E34: 0 | F34: -10170870 | G34: 0 | H34: 0 | I34: -10170870 | J34: -10170870 | K34: 0 | L34: =IFERROR(G34/E34,0)*100 -> 0 | M34: =IFERROR(G34/F34,0)*100 -> 0 | O34: =IF(F34=G34+H34+I34,"","err") | P34: =IF(I34=J34+K34,"","err")
C35: 215-01 징수교부금수입 | F35: -10170870 | G35: 0 | H35: 0 | I35: -10170870 | J35: -10170870 | K35: 0 | L35: =IFERROR(G35/E35,0)*100 -> 0 | M35: =IFERROR(G35/F35,0)*100 -> 0 | O35: =IF(F35=G35+H35+I35,"","err") | P35: =IF(I35=J35+K35,"","err")
B36: 216 이자수입 | E36: 0 | F36: 2400 | G36: 0 | H36: 0 | I36: 2400 | J36: 2400 | K36: 0 | L36: =IFERROR(G36/E36,0)*100 -> 0 | M36: =IFERROR(G36/F36,0)*100 -> 0 | O36: =IF(F36=G36+H36+I36,"","err") | P36: =IF(I36=J36+K36,"","err")
C37: 216-01 공공예금이자수입 | F37: 2400 | G37: 0 | H37: 0 | I37: 2400 | J37: 2400 | K37: 0 | L37: =IFERROR(G37/E37,0)*100 -> 0 | M37: =IFERROR(G37/F37,0)*100 -> 0 | O37: =IF(F37=G37+H37+I37,"","err") | P37: =IF(I37=J37+K37,"","err")
C38: 216-02 융자금회수이자수입 | F38: 0 | G38: 0 | H38: 0 | I38: 0 | J38: 0 | K38: 0 | L38: =IFERROR(G38/E38,0)*100 -> 0 | M38: =IFERROR(G38/F38,0)*100 -> 0 | O38: =IF(F38=G38+H38+I38,"","err") | P38: =IF(I38=J38+K38,"","err")
C39: 216-03 기타이자수입 | F39: 0 | G39: 0 | H39: 0 | I39: 0 | J39: 0 | K39: 0 | L39: =IFERROR(G39/E39,0)*100 -> 0 | M39: =IFERROR(G39/F39,0)*100 -> 0 | O39: =IF(F39=G39+H39+I39,"","err") | P39: =IF(I39=J39+K39,"","err")
B40: 220 임시적세외수입 | E40: 0 | F40: 2489296888 | G40: 84630040 | H40: 11824880 | I40: 2392841968 | J40: 2392841968 | K40: 0 | L40: =IFERROR(G40/E40,0)*100 -> 0 | M40: =IFERROR(G40/F40,0)*100 -> 3.3997568 | O40: =IF(F40=G40+H40+I40,"","err") | P40: =IF(I40=J40+K40,"","err")
B41: 221 재산매각수입 | E41: 0 | F41: 0 | G41: 0 | H41: 0 | I41: 0 | J41: 0 | K41: 0 | L41: =IFERROR(G41/E41,0)*100 -> 0 | M41: =IFERROR(G41/F41,0)*100 -> 0 | O41: =IF(F41=G41+H41+I41,"","err") | P41: =IF(I41=J41+K41,"","err")
C42: 221-01 국유재산매각귀속수입금 | F42: 0 | G42: 0 | H42: 0 | I42: 0 | J42: 0 | K42: 0 | L42: =IFERROR(G42/E42,0)*100 -> 0 | M42: =IFERROR(G42/F42,0)*100 -> 0 | O42: =IF(F42=G42+H42+I42,"","err") | P42: =IF(I42=J42+K42,"","err")
C43: 221-02 시도유재산매각귀속수입금 | F43: 0 | G43: 0 | H43: 0 | I43: 0 | J43: 0 | K43: 0 | L43: =IFERROR(G43/E43,0)*100 -> 0 | M43: =IFERROR(G43/F43,0)*100 -> 0 | O43: =IF(F43=G43+H43+I43,"","err") | P43: =IF(I43=J43+K43,"","err")
C44: 221-03 공유재산매각수입금 | F44: 0 | G44: 0 | H44: 0 | I44: 0 | J44: 0 | K44: 0 | O44: =IF(F44=G44+H44+I44,"","err") | P44: =IF(I44=J44+K44,"","err")
C45: 221-04 불용품매각대금 | F45: 0 | G45: 0 | H45: 0 | I45: 0 | J45: 0 | K45: 0 | L45: =IFERROR(G45/E45,0)*100 -> 0 | M45: =IFERROR(G45/F45,0)*100 -> 0 | O45: =IF(F45=G45+H45+I45,"","err") | P45: =IF(I45=J45+K45,"","err")
B46: 222 자치단체간부담금 | E46: 0 | F46: 0 | G46: 0 | H46: 0 | I46: 0 | J46: 0 | K46: 0 | L46: =IFERROR(G46/E46,0)*100 -> 0 | M46: =IFERROR(G46/F46,0)*100 -> 0 | O46: =IF(F46=G46+H46+I46,"","err") | P46: =IF(I46=J46+K46,"","err")
C47: 222-01 자치단체간부담금 | F47: 0 | G47: 0 | H47: 0 | I47: 0 | J47: 0 | K47: 0 | L47: =IFERROR(G47/E47,0)*100 -> 0 | M47: =IFERROR(G47/F47,0)*100 -> 0 | O47: =IF(F47=G47+H47+I47,"","err") | P47: =IF(I47=J47+K47,"","err")
B48: 223 보조금반환수입 | E48: 0 | F48: 0 | G48: 0 | H48: 0 | I48: 0 | J48: 0 | K48: 0 | L48: =IFERROR(G48/E48,0)*100 -> 0 | M48: =IFERROR(G48/F48,0)*100 -> 0 | O48: =IF(F48=G48+H48+I48,"","err") | P48: =IF(I48=J48+K48,"","err")
C49: 223-01 시ㆍ도비보조금등반환수입 | F49: 0 | G49: 0 | H49: 0 | I49: 0 | J49: 0 | K49: 0 | L49: =IFERROR(G49/E49,0)*100 -> 0 | M49: =IFERROR(G49/F49,0)*100 -> 0 | O49: =IF(F49=G49+H49+I49,"","err") | P49: =IF(I49=J49+K49,"","err")
C50: 223-02 자체보조금등반환수입 | F50: 0 | G50: 0 | H50: 0 | I50: 0 | J50: 0 | K50: 0 | L50: =IFERROR(G50/E50,0)*100 -> 0 | M50: =IFERROR(G50/F50,0)*100 -> 0 | O50: =IF(F50=G50+H50+I50,"","err") | P50: =IF(I50=J50+K50,"","err")
C51: 223-03 위탁비반환수입 | F51: 0 | G51: 0 | H51: 0 | I51: 0 | J51: 0 | K51: 0 | L51: =IFERROR(G51/E51,0)*100 -> 0 | M51: =IFERROR(G51/F51,0)*100 -> 0 | O51: =IF(F51=G51+H51+I51,"","err") | P51: =IF(I51=J51+K51,"","err")
B52: 224 기타수입 | E52: 0 | F52: 2489296888 | G52: 84630040 | H52: 11824880 | I52: 2392841968 | J52: 2392841968 | K52: 0 | L52: =IFERROR(G52/E52,0)*100 -> 0 | M52: =IFERROR(G52/F52,0)*100 -> 3.3997568 | O52: =IF(F52=G52+H52+I52,"","err") | P52: =IF(I52=J52+K52,"","err")
C53: 224-01 체납처분수입 | F53: 124000 | G53: 0 | H53: 0 | I53: 124000 | J53: 124000 | K53: 0 | L53: =IFERROR(G53/E53,0)*100 -> 0 | M53: =IFERROR(G53/F53,0)*100 -> 0 | O53: =IF(F53=G53+H53+I53,"","err") | P53: =IF(I53=J53+K53,"","err")
C54: 224-02 보상금수납금 | F54: 0 | G54: 0 | H54: 0 | I54: 0 | J54: 0 | K54: 0 | L54: =IFERROR(G54/E54,0)*100 -> 0 | M54: =IFERROR(G54/F54,0)*100 -> 0 | O54: =IF(F54=G54+H54+I54,"","err") | P54: =IF(I54=J54+K54,"","err")
C55: 224-03 기부금수입 | F55: 100 | G55: 100 | H55: 0 | I55: 0 | J55: 0 | K55: 0 | L55: =IFERROR(G55/E55,0)*100 -> 0 | M55: =IFERROR(G55/F55,0)*100 -> 100 | O55: =IF(F55=G55+H55+I55,"","err") | P55: =IF(I55=J55+K55,"","err")
C56: 224-04 지적재조사조정금 | F56: 1024486950 | G56: 86371000 | H56: 0 | I56: 938115950 | J56: 938115950 | K56: 0 | L56: =IFERROR(G56/E56,0)*100 -> 0 | M56: =IFERROR(G56/F56,0)*100 -> 8.4306589 | O56: =IF(F56=G56+H56+I56,"","err") | P56: =IF(I56=J56+K56,"","err")
C57: 224-05 지방교부세감소분보전수입 | F57: 0 | G57: 0 | H57: 0 | I57: 0 | J57: 0 | K57: 0 | L57: =IFERROR(G57/E57,0)*100 -> 0 | M57: =IFERROR(G57/F57,0)*100 -> 0 | O57: =IF(F57=G57+H57+I57,"","err") | P57: =IF(I57=J57+K57,"","err")
C58: 224-06 위약금 | F58: 0 | G58: 0 | H58: 0 | I58: 0 | J58: 0 | K58: 0 | O58: =IF(F58=G58+H58+I58,"","err") | P58: =IF(I58=J58+K58,"","err")
C59: 224-07 그외수입 | F59: 1464685838 | G59: -1741060 | H59: 11824880 | I59: 1454602018 | J59: 1454602018 | K59: 0 | L59: =IFERROR(G59/E59,0)*100 -> 0 | M59: =IFERROR(G59/F59,0)*100 -> -0.11886918 | O59: =IF(F59=G59+H59+I59,"","err") | P59: =IF(I59=J59+K59,"","err")
B60: 225 지난년도수입 | E60: 0 | F60: 0 | G60: 0 | H60: 0 | I60: 0 | J60: 0 | K60: 0 | L60: =IFERROR(G60/E60,0)*100 -> 0 | M60: =IFERROR(G60/F60,0)*100 -> 0 | O60: =IF(F60=G60+H60+I60,"","err") | P60: =IF(I60=J60+K60,"","err")
C61: 225-01 지난년도수입 | F61: 0 | G61: 0 | H61: 0 | I61: 0 | J61: 0 | L61: =IFERROR(G61/E61,0)*100 -> 0 | M61: =IFERROR(G61/F61,0)*100 -> 0 | O61: =IF(F61=G61+H61+I61,"","err") | P61: =IF(I61=J61+K61,"","err")
B62: 230 지방행정제재‧부과금 | E62: 0 | F62: 30295183452 | G62: 3140578209 | H62: 1015823926 | I62: 26138781317 | J62: 25666552297 | K62: 472229020 | L62: =IFERROR(G62/E62,0)*100 -> 0 | M62: =IFERROR(G62/F62,0)*100 -> 10.366592 | O62: =IF(F62=G62+H62+I62,"","err") | P62: =IF(I62=J62+K62,"","err")
B63: 231 과징금 | E63: 0 | F63: 5456957373 | G63: 10621000 | H63: 0 | I63: 5446336373 | J63: 5446336373 | K63: 0 | L63: =IFERROR(G63/E63,0)*100 -> 0 | M63: =IFERROR(G63/F63,0)*100 -> 0.19463227 | O63: =IF(F63=G63+H63+I63,"","err") | P63: =IF(I63=J63+K63,"","err")
C64: 231-01 과징금 | F64: 5456957373 | G64: 10621000 | H64: 0 | I64: 5446336373 | J64: 5446336373 | K64: 0 | L64: =IFERROR(G64/E64,0)*100 -> 0 | M64: =IFERROR(G64/F64,0)*100 -> 0.19463227 | O64: =IF(F64=G64+H64+I64,"","err") | P64: =IF(I64=J64+K64,"","err")
B65: 232 이행강제금 | E65: 0 | F65: 2511800984 | G65: 331428127 | H65: 52132370 | I65: 2128240487 | J65: 2128240487 | K65: 0 | L65: =IFERROR(G65/E65,0)*100 -> 0 | M65: =IFERROR(G65/F65,0)*100 -> 13.19484 | O65: =IF(F65=G65+H65+I65,"","err") | P65: =IF(I65=J65+K65,"","err")
C66: 232-01 이행강제금 | F66: 2511800984 | G66: 331428127 | H66: 52132370 | I66: 2128240487 | J66: 2128240487 | K66: 0 | L66: =IFERROR(G66/E66,0)*100 -> 0 | M66: =IFERROR(G66/F66,0)*100 -> 13.19484 | O66: =IF(F66=G66+H66+I66,"","err") | P66: =IF(I66=J66+K66,"","err")
B67: 233 변상금 | E67: 0 | F67: 238659620 | G67: 1479870 | H67: 54104770 | I67: 183074980 | J67: 183074980 | K67: 0 | L67: =IFERROR(G67/E67,0)*100 -> 0 | M67: =IFERROR(G67/F67,0)*100 -> 0.62007557 | O67: =IF(F67=G67+H67+I67,"","err") | P67: =IF(I67=J67+K67,"","err")
C68: 233-01 변상금 | F68: 238659620 | G68: 1479870 | H68: 54104770 | I68: 183074980 | J68: 183074980 | K68: 0 | L68: =IFERROR(G68/E68,0)*100 -> 0 | M68: =IFERROR(G68/F68,0)*100 -> 0.62007557 | O68: =IF(F68=G68+H68+I68,"","err") | P68: =IF(I68=J68+K68,"","err")
B69: 234 과태료 | E69: 0 | F69: 19254858824 | G69: 1241619562 | H69: 908586786 | I69: 17104652476 | J69: 17104652476 | K69: 0 | L69: =IFERROR(G69/E69,0)*100 -> 0 | M69: =IFERROR(G69/F69,0)*100 -> 6.4483441 | O69: =IF(F69=G69+H69+I69,"","err") | P69: =IF(I69=J69+K69,"","err")
C70: 234-01 차량관련과태료 | F70: 17048202647 | G70: 1063787795 | H70: 687347073 | I70: 15297067779 | J70: 15297067779 | K70: 0 | L70: =IFERROR(G70/E70,0)*100 -> 0 | M70: =IFERROR(G70/F70,0)*100 -> 6.2398824 | O70: =IF(F70=G70+H70+I70,"","err") | P70: =IF(I70=J70+K70,"","err")
C71: 234-02 기타과태료 | F71: 2206656177 | G71: 177831767 | H71: 221239713 | I71: 1807584697 | J71: 1807584697 | K71: 0 | L71: =IFERROR(G71/E71,0)*100 -> 0 | M71: =IFERROR(G71/F71,0)*100 -> 8.0588797 | O71: =IF(F71=G71+H71+I71,"","err") | P71: =IF(I71=J71+K71,"","err")
B72: 235 환수금 | E72: 0 | F72: 10931140 | G72: 0 | H72: 0 | I72: 10931140 | J72: 10931140 | K72: 0 | L72: =IFERROR(G72/E72,0)*100 -> 0 | M72: =IFERROR(G72/F72,0)*100 -> 0 | O72: =IF(F72=G72+H72+I72,"","err") | P72: =IF(I72=J72+K72,"","err")
C73: 235-01 부정이익환수금 | F73: 10931140 | G73: 0 | H73: 0 | I73: 10931140 | J73: 10931140 | K73: 0 | L73: =IFERROR(G73/E73,0)*100 -> 0 | M73: =IFERROR(G73/F73,0)*100 -> 0 | O73: =IF(F73=G73+H73+I73,"","err") | P73: =IF(I73=J73+K73,"","err")
B74: 236 부담금 | E74: 0 | F74: 2817975511 | G74: 1555029650 | H74: 0 | I74: 1262945861 | J74: 790716841 | K74: 472229020 | L74: =IFERROR(G74/E74,0)*100 -> 0 | M74: =IFERROR(G74/F74,0)*100 -> 55.182511 | O74: =IF(F74=G74+H74+I74,"","err") | P74: =IF(I74=J74+K74,"","err")
C75: 236-01 부담금 | F75: 2817975511 | G75: 1555029650 | H75: 0 | I75: 1262945861 | J75: 790716841 | K75: 472229020 | L75: =IFERROR(G75/E75,0)*100 -> 0 | M75: =IFERROR(G75/F75,0)*100 -> 55.182511 | O75: =IF(F75=G75+H75+I75,"","err") | P75: =IF(I75=J75+K75,"","err")
B76: 237 범칙금 | E76: 0 | F76: 4000000 | G76: 400000 | H76: 1000000 | I76: 2600000 | J76: 2600000 | K76: 0 | L76: =IFERROR(G76/E76,0)*100 -> 0 | M76: =IFERROR(G76/F76,0)*100 -> 10 | O76: =IF(F76=G76+H76+I76,"","err") | P76: =IF(I76=J76+K76,"","err")
C77: 237-01 범칙금 | F77: 4000000 | G77: 400000 | H77: 1000000 | I77: 2600000 | J77: 2600000 | K77: 0 | L77: =IFERROR(G77/E77,0)*100 -> 0 | M77: =IFERROR(G77/F77,0)*100 -> 10 | O77: =IF(F77=G77+H77+I77,"","err") | P77: =IF(I77=J77+K77,"","err")

Sheet 군구세외 특별회계
B2: =B4&L3&" 기타특별회계 세외수입 징수현황" -> 2023년 12월 서구 기타특별회계 세외수입 징수현황
K3: 기관명 | L3: ='군구세외 일반회계'!L3:M3 -> 서구 | O3: =COUNTIF(O7:P77,"err") -> 0
B4: ='군구세외 일반회계'!B4:D4 -> 2023년 12월 | L4: (단위:원,%)
D5: 구 분 | E5: 최종예산액 | F5: 징수결정액 | G5: 징 수 액 | H5: 정리보류액 | I5: 미수납액 | L5: 징수율
B6: 항 목 별 | E6: (A) | F6: (B) | G6: (C) | H6: (D) | I6: 미수납액 (E=B-C-D) | J6: 체납액 (F=E-G) | K6: 납기미도래 (G) | L6: (C/A) | M6: (C/B)
B7: 200 세외수입 | E7: =E8+E40+E62 -> 10619293000 | F7: =F8+F40+F62 -> 22939316037 | G7: =G8+G40+G62 -> 12701370714 | H7: =H8+H40+H62 -> 1466916890 | I7: =I8+I40+I62 -> 8771028433 | J7: =J8+J40+J62 -> 8362148433 | K7: =K8+K40+K62 -> 408880000 | L7: =IFERROR(G7/E7,0)*100 -> 119.60656 | M7: =IFERROR(G7/F7,0)*100 -> 55.369439 | O7: =IF(F7=G7+H7+I7,"","err") | P7: =IF(I7=J7+K7,"","err")
B8: 210 경상적세외수입 | E8: =E9+E12+E22+E28+E34+E36 -> 2558296000 | F8: =F9+F12+F22+F28+F34+F36 -> 2249007340 | G8: =G9+G12+G22+G28+G34+G36 -> 2249007340 | H8: =H9+H12+H22+H28+H34+H36 -> 0 | I8: =I9+I12+I22+I28+I34+I36 -> 0 | J8: =J9+J12+J22+J28+J34+J36 -> 0 | K8: =K9+K12+K22+K28+K34+K36 -> 0 | L8: =IFERROR(G8/E8,0)*100 -> 87.910365 | M8: =IFERROR(G8/F8,0)*100 -> 100 | O8: =IF(F8=G8+H8+I8,"","err") | P8: =IF(I8=J8+K8,"","err") | Q8: =8362148-4537634 -> 3824514
B9: 211 재산임대수입 | E9: 0 | F9: 0 | G9: 0 | H9: 0 | I9: 0 | J9: 0 | K9: 0 | L9: =IFERROR(G9/E9,0)*100 -> 0 | M9: =IFERROR(G9/F9,0)*100 -> 0 | O9: =IF(F9=G9+H9+I9,"","err") | P9: =IF(I9=J9+K9,"","err")
C10: 211-01 국유재산임대료 | E10: 0 | F10: 0 | G10: 0 | H10: 0 | I10: 0 | J10: 0 | K10: 0 | L10: =IFERROR(G10/E10,0)*100 -> 0 | M10: =IFERROR(G10/F10,0)*100 -> 0 | O10: =IF(F10=G10+H10+I10,"","err") | P10: =IF(I10=J10+K10,"","err") | Q10: =Q8/4 -> 956128.5
C11: 211-02 공유재산임대료 | E11: 0 | F11: 0 | G11: 0 | H11: 0 | I11: 0 | J11: 0 | K11: 0 | L11: =IFERROR(G11/E11,0)*100 -> 0 | M11: =IFERROR(G11/F11,0)*100 -> 0 | O11: =IF(F11=G11+H11+I11,"","err") | P11: =IF(I11=J11+K11,"","err")
B12: 212 사용료수입 | E12: 1837094000 | F12: 1570776550 | G12: 1570776550 | H12: 0 | I12: 0 | J12: 0 | K12: 0 | L12: =IFERROR(G12/E12,0)*100 -> 85.50333 | M12: =IFERROR(G12/F12,0)*100 -> 100 | O12: =IF(F12=G12+H12+I12,"","err") | P12: =IF(I12=J12+K12,"","err")
C13: 212-01 도로사용료 | E13: 0 | F13: 0 | G13: 0 | H13: 0 | I13: 0 | J13: 0 | K13: 0 | L13: =IFERROR(G13/E13,0)*100 -> 0 | M13: =IFERROR(G13/F13,0)*100 -> 0 | O13: =IF(F13=G13+H13+I13,"","err") | P13: =IF(I13=J13+K13,"","err")
C14: 212-02 하천사용료 | E14: 0 | F14: 0 | G14: 0 | H14: 0 | I14: 0 | J14: 0 | K14: 0 | L14: =IFERROR(G14/E14,0)*100 -> 0 | M14: =IFERROR(G14/F14,0)*100 -> 0 | O14: =IF(F14=G14+H14+I14,"","err") | P14: =IF(I14=J14+K14,"","err")
C15: 212-03 하수도사용료 | E15: 0 | F15: 0 | G15: 0 | H15: 0 | I15: 0 | J15: 0 | K15: 0 | L15: =IFERROR(G15/E15,0)*100 -> 0 | M15: =IFERROR(G15/F15,0)*100 -> 0 | O15: =IF(F15=G15+H15+I15,"","err") | P15: =IF(I15=J15+K15,"","err")
C16: 212-04 상수도사용료 | E16: 0 | F16: 0 | G16: 0 | H16: 0 | I16: 0 | J16: 0 | K16: 0 | L16: =IFERROR(G16/E16,0)*100 -> 0 | M16: =IFERROR(G16/F16,0)*100 -> 0 | O16: =IF(F16=G16+H16+I16,"","err") | P16: =IF(I16=J16+K16,"","err")
C17: 212-05 공유수면사용료 | E17: 0 | F17: 0 | G17: 0 | H17: 0 | I17: 0 | J17: 0 | K17: 0 | L17: =IFERROR(G17/E17,0)*100 -> 0 | M17: =IFERROR(G17/F17,0)*100 -> 0 | O17: =IF(F17=G17+H17+I17,"","err") | P17: =IF(I17=J17+K17,"","err")
C18: 212-06 시장사용료 | E18: 0 | F18: 0 | G18: 0 | H18: 0 | I18: 0 | J18: 0 | K18: 0 | L18: =IFERROR(G18/E18,0)*100 -> 0 | M18: =IFERROR(G18/F18,0)*100 -> 0 | O18: =IF(F18=G18+H18+I18,"","err") | P18: =IF(I18=J18+K18,"","err")
C19: 212-07 입장료수입 | E19: 0 | F19: 0 | G19: 0 | H19: 0 | I19: 0 | J19: 0 | K19: 0 | L19: =IFERROR(G19/E19,0)*100 -> 0 | M19: =IFERROR(G19/F19,0)*100 -> 0 | O19: =IF(F19=G19+H19+I19,"","err") | P19: =IF(I19=J19+K19,"","err")
C20: 212-08 주차요금수입 | E20: 1837094000 | F20: 1570776550 | G20: 1570776550 | H20: 0 | I20: 0 | J20: 0 | K20: 0 | O20: =IF(F20=G20+H20+I20,"","err") | P20: =IF(I20=J20+K20,"","err")
C21: 212-09 기타사용료 | E21: 0 | F21: 0 | G21: 0 | H21: 0 | I21: 0 | J21: 0 | K21: 0 | L21: =IFERROR(G21/E21,0)*100 -> 0 | M21: =IFERROR(G21/F21,0)*100 -> 0 | O21: =IF(F21=G21+H21+I21,"","err") | P21: =IF(I21=J21+K21,"","err")
B22: 213 수수료수입 | E22: 0 | F22: 0 | G22: 0 | H22: 0 | I22: 0 | J22: 0 | K22: 0 | L22: =IFERROR(G22/E22,0)*100 -> 0 | M22: =IFERROR(G22/F22,0)*100 -> 0 | O22: =IF(F22=G22+H22+I22,"","err") | P22: =IF(I22=J22+K22,"","err")
C23: 213-01 증지수입 | E23: 0 | F23: 0 | G23: 0 | H23: 0 | I23: 0 | J23: 0 | K23: 0 | L23: =IFERROR(G23/E23,0)*100 -> 0 | M23: =IFERROR(G23/F23,0)*100 -> 0 | O23: =IF(F23=G23+H23+I23,"","err") | P23: =IF(I23=J23+K23,"","err")
C24: 213-02 폐기물처리수수료 | E24: 0 | F24: 0 | G24: 0 | H24: 0 | I24: 0 | J24: 0 | K24: 0 | L24: =IFERROR(G24/E24,0)*100 -> 0 | M24: =IFERROR(G24/F24,0)*100 -> 0 | O24: =IF(F24=G24+H24+I24,"","err") | P24: =IF(I24=J24+K24,"","err")
C25: 213-03 재활용품수거판매수입 | E25: 0 | F25: 0 | G25: 0 | H25: 0 | I25: 0 | J25: 0 | K25: 0 | L25: =IFERROR(G25/E25,0)*100 -> 0 | M25: =IFERROR(G25/F25,0)*100 -> 0 | O25: =IF(F25=G25+H25+I25,"","err") | P25: =IF(I25=J25+K25,"","err")
C26: 213-04 보건의료수수료 | E26: 0 | F26: 0 | G26: 0 | H26: 0 | I26: 0 | J26: 0 | K26: 0 | O26: =IF(F26=G26+H26+I26,"","err") | P26: =IF(I26=J26+K26,"","err")
C27: 213-05 기타수수료 | E27: 0 | F27: 0 | G27: 0 | H27: 0 | I27: 0 | J27: 0 | K27: 0 | L27: =IFERROR(G27/E27,0)*100 -> 0 | M27: =IFERROR(G27/F27,0)*100 -> 0 | O27: =IF(F27=G27+H27+I27,"","err") | P27: =IF(I27=J27+K27,"","err")
B28: 214 사업수입 | E28: 0 | F28: 65000000 | G28: 65000000 | H28: 0 | I28: 0 | J28: 0 | K28: 0 | L28: =IFERROR(G28/E28,0)*100 -> 0 | M28: =IFERROR(G28/F28,0)*100 -> 100 | O28: =IF(F28=G28+H28+I28,"","err") | P28: =IF(I28=J28+K28,"","err")
C29: 214-01 사업장생산수입 | E29: 0 | F29: 0 | G29: 0 | H29: 0 | I29: 0 | J29: 0 | K29: 0 | L29: =IFERROR(G29/E29,0)*100 -> 0 | M29: =IFERROR(G29/F29,0)*100 -> 0 | O29: =IF(F29=G29+H29+I29,"","err") | P29: =IF(I29=J29+K29,"","err")
C30: 214-02 청산금수입 | E30: 0 | F30: 0 | G30: 0 | H30: 0 | I30: 0 | J30: 0 | K30: 0 | L30: =IFERROR(G30/E30,0)*100 -> 0 | M30: =IFERROR(G30/F30,0)*100 -> 0 | O30: =IF(F30=G30+H30+I30,"","err") | P30: =IF(I30=J30+K30,"","err")
C31: 214-03 매각사업수입 | E31: 0 | F31: 65000000 | G31: 65000000 | H31: 0 | I31: 0 | J31: 0 | K31: 0 | L31: =IFERROR(G31/E31,0)*100 -> 0 | M31: =IFERROR(G31/F31,0)*100 -> 100 | O31: =IF(F31=G31+H31+I31,"","err") | P31: =IF(I31=J31+K31,"","err")
C32: 214-04 배당금수입 | E32: 0 | F32: 0 | G32: 0 | H32: 0 | I32: 0 | J32: 0 | K32: 0 | L32: =IFERROR(G32/E32,0)*100 -> 0 | M32: =IFERROR(G32/F32,0)*100 -> 0 | O32: =IF(F32=G32+H32+I32,"","err") | P32: =IF(I32=J32+K32,"","err")
C33: 214-05 기타사업수입 | E33: 0 | F33: 0 | G33: 0 | H33: 0 | I33: 0 | J33: 0 | K33: 0 | L33: =IFERROR(G33/E33,0)*100 -> 0 | M33: =IFERROR(G33/F33,0)*100 -> 0 | O33: =IF(F33=G33+H33+I33,"","err") | P33: =IF(I33=J33+K33,"","err")
B34: 215 징수교부금수입 | E34: 0 | F34: 0 | G34: 0 | H34: 0 | I34: 0 | J34: 0 | K34: 0 | L34: =IFERROR(G34/E34,0)*100 -> 0 | M34: =IFERROR(G34/F34,0)*100 -> 0 | O34: =IF(F34=G34+H34+I34,"","err") | P34: =IF(I34=J34+K34,"","err")
C35: 215-01 징수교부금수입 | E35: 0 | F35: 0 | G35: 0 | H35: 0 | I35: 0 | J35: 0 | K35: 0 | L35: =IFERROR(G35/E35,0)*100 -> 0 | M35: =IFERROR(G35/F35,0)*100 -> 0 | O35: =IF(F35=G35+H35+I35,"","err") | P35: =IF(I35=J35+K35,"","err")
B36: 216 이자수입 | E36: 721202000 | F36: 613230790 | G36: 613230790 | H36: 0 | I36: 0 | J36: 0 | K36: 0 | L36: =IFERROR(G36/E36,0)*100 -> 85.028992 | M36: =IFERROR(G36/F36,0)*100 -> 100 | O36: =IF(F36=G36+H36+I36,"","err") | P36: =IF(I36=J36+K36,"","err")
C37: 216-01 공공예금이자수입 | E37: 721202000 | F37: 613230790 | G37: 613230790 | H37: 0 | I37: 0 | J37: 0 | K37: 0 | L37: =IFERROR(G37/E37,0)*100 -> 85.028992 | M37: =IFERROR(G37/F37,0)*100 -> 100 | O37: =IF(F37=G37+H37+I37,"","err") | P37: =IF(I37=J37+K37,"","err")
C38: 216-02 융자금회수이자수입 | E38: 0 | F38: 0 | G38: 0 | H38: 0 | I38: 0 | J38: 0 | K38: 0 | L38: =IFERROR(G38/E38,0)*100 -> 0 | M38: =IFERROR(G38/F38,0)*100 -> 0 | O38: =IF(F38=G38+H38+I38,"","err") | P38: =IF(I38=J38+K38,"","err")
C39: 216-03 기타이자수입 | E39: 0 | F39: 0 | G39: 0 | H39: 0 | I39: 0 | J39: 0 | K39: 0 | L39: =IFERROR(G39/E39,0)*100 -> 0 | M39: =IFERROR(G39/F39,0)*100 -> 0 | O39: =IF(F39=G39+H39+I39,"","err") | P39: =IF(I39=J39+K39,"","err")
B40: 220 임시적세외수입 | E40: 3085316000 | F40: 11666950517 | G40: 3018441894 | H40: 1466916890 | I40: 7181591733 | J40: 7181591733 | K40: 0 | L40: =IFERROR(G40/E40,0)*100 -> 97.832504 | M40: =IFERROR(G40/F40,0)*100 -> 25.87173 | O40: =IF(F40=G40+H40+I40,"","err") | P40: =IF(I40=J40+K40,"","err")
B41: 221 재산매각수입 | E41: 65000000 | F41: 0 | G41: 0 | H41: 0 | I41: 0 | J41: 0 | K41: 0 | L41: =IFERROR(G41/E41,0)*100 -> 0 | M41: =IFERROR(G41/F41,0)*100 -> 0 | O41: =IF(F41=G41+H41+I41,"","err") | P41: =IF(I41=J41+K41,"","err")
C42: 221-01 국유재산매각귀속수입금 | E42: 0 | F42: 0 | G42: 0 | H42: 0 | I42: 0 | J42: 0 | K42: 0 | L42: =IFERROR(G42/E42,0)*100 -> 0 | M42: =IFERROR(G42/F42,0)*100 -> 0 | O42: =IF(F42=G42+H42+I42,"","err") | P42: =IF(I42=J42+K42,"","err")
C43: 221-02 시도유재산매각귀속수입금 | E43: 0 | F43: 0 | G43: 0 | H43: 0 | I43: 0 | J43: 0 | K43: 0 | L43: =IFERROR(G43/E43,0)*100 -> 0 | M43: =IFERROR(G43/F43,0)*100 -> 0 | O43: =IF(F43=G43+H43+I43,"","err") | P43: =IF(I43=J43+K43,"","err")
C44: 221-03 공유재산매각수입금 | E44: 65000000 | F44: 0 | G44: 0 | H44: 0 | I44: 0 | J44: 0 | K44: 0 | O44: =IF(F44=G44+H44+I44,"","err") | P44: =IF(I44=J44+K44,"","err")
C45: 221-04 불용품매각대금 | E45: 0 | F45: 0 | G45: 0 | H45: 0 | I45: 0 | J45: 0 | K45: 0 | L45: =IFERROR(G45/E45,0)*100 -> 0 | M45: =IFERROR(G45/F45,0)*100 -> 0 | O45: =IF(F45=G45+H45+I45,"","err") | P45: =IF(I45=J45+K45,"","err")
B46: 222 자치단체간부담금 | E46: 0 | F46: 0 | G46: 0 | H46: 0 | I46: 0 | J46: 0 | K46: 0 | L46: =IFERROR(G46/E46,0)*100 -> 0 | M46: =IFERROR(G46/F46,0)*100 -> 0 | O46: =IF(F46=G46+H46+I46,"","err") | P46: =IF(I46=J46+K46,"","err")
C47: 222-01 자치단체간부담금 | E47: 0 | F47: 0 | G47: 0 | H47: 0 | I47: 0 | J47: 0 | K47: 0 | L47: =IFERROR(G47/E47,0)*100 -> 0 | M47: =IFERROR(G47/F47,0)*100 -> 0 | O47: =IF(F47=G47+H47+I47,"","err") | P47: =IF(I47=J47+K47,"","err")
B48: 223 보조금반환수입 | E48: 0 | F48: 0 | G48: 0 | H48: 0 | I48: 0 | J48: 0 | K48: 0 | L48: =IFERROR(G48/E48,0)*100 -> 0 | M48: =IFERROR(G48/F48,0)*100 -> 0 | O48: =IF(F48=G48+H48+I48,"","err") | P48: =IF(I48=J48+K48,"","err")
C49: 223-01 시ㆍ도비보조금등반환수입 | E49: 0 | F49: 0 | G49: 0 | H49: 0 | I49: 0 | J49: 0 | K49: 0 | L49: =IFERROR(G49/E49,0)*100 -> 0 | M49: =IFERROR(G49/F49,0)*100 -> 0 | O49: =IF(F49=G49+H49+I49,"","err") | P49: =IF(I49=J49+K49,"","err")
C50: 223-02 자체보조금등반환수입 | E50: 0 | F50: 0 | G50: 0 | H50: 0 | I50: 0 | J50: 0 | K50: 0 | L50: =IFERROR(G50/E50,0)*100 -> 0 | M50: =IFERROR(G50/F50,0)*100 -> 0 | O50: =IF(F50=G50+H50+I50,"","err") | P50: =IF(I50=J50+K50,"","err")
C51: 223-03 위탁비반환수입 | E51: 0 | F51: 0 | G51: 0 | H51: 0 | I51: 0 | J51: 0 | K51: 0 | L51: =IFERROR(G51/E51,0)*100 -> 0 | M51: =IFERROR(G51/F51,0)*100 -> 0 | O51: =IF(F51=G51+H51+I51,"","err") | P51: =IF(I51=J51+K51,"","err")
B52: 224 기타수입 | E52: 2317014000 | F52: 2273701600 | G52: 2261507860 | H52: 0 | I52: 12193740 | J52: 12193740 | K52: 0 | L52: =IFERROR(G52/E52,0)*100 -> 97.604411 | M52: =IFERROR(G52/F52,0)*100 -> 99.463705 | O52: =IF(F52=G52+H52+I52,"","err") | P52: =IF(I52=J52+K52,"","err")
C53: 224-01 체납처분수입 | E53: 0 | F53: 0 | G53: 0 | H53: 0 | I53: 0 | J53: 0 | K53: 0 | L53: =IFERROR(G53/E53,0)*100 -> 0 | M53: =IFERROR(G53/F53,0)*100 -> 0 | O53: =IF(F53=G53+H53+I53,"","err") | P53: =IF(I53=J53+K53,"","err")
C54: 224-02 보상금수납금 | E54: 0 | F54: 0 | G54: 0 | H54: 0 | I54: 0 | J54: 0 | K54: 0 | L54: =IFERROR(G54/E54,0)*100 -> 0 | M54: =IFERROR(G54/F54,0)*100 -> 0 | O54: =IF(F54=G54+H54+I54,"","err") | P54: =IF(I54=J54+K54,"","err")
C55: 224-03 기부금수입 | E55: 0 | F55: 0 | G55: 0 | H55: 0 | I55: 0 | J55: 0 | K55: 0 | L55: =IFERROR(G55/E55,0)*100 -> 0 | M55: =IFERROR(G55/F55,0)*100 -> 0 | O55: =IF(F55=G55+H55+I55,"","err") | P55: =IF(I55=J55+K55,"","err")
C56: 224-04 지적재조사조정금 | E56: 0 | F56: 0 | G56: 0 | H56: 0 | I56: 0 | J56: 0 | K56: 0 | L56: =IFERROR(G56/E56,0)*100 -> 0 | M56: =IFERROR(G56/F56,0)*100 -> 0 | O56: =IF(F56=G56+H56+I56,"","err") | P56: =IF(I56=J56+K56,"","err")
C57: 224-05 지방교부세감소분보전수입 | E57: 0 | F57: 0 | G57: 0 | H57: 0 | I57: 0 | J57: 0 | K57: 0 | L57: =IFERROR(G57/E57,0)*100 -> 0 | M57: =IFERROR(G57/F57,0)*100 -> 0 | O57: =IF(F57=G57+H57+I57,"","err") | P57: =IF(I57=J57+K57,"","err")
C58: 224-06 위약금 | E58: 0 | F58: 0 | G58: 0 | H58: 0 | I58: 0 | J58: 0 | K58: 0 | O58: =IF(F58=G58+H58+I58,"","err") | P58: =IF(I58=J58+K58,"","err")
C59: 224-07 그외수입 | E59: 2317014000 | F59: 2273701600 | G59: 2261507860 | H59: 0 | I59: 12193740 | J59: 12193740 | K59: 0 | L59: =IFERROR(G59/E59,0)*100 -> 97.604411 | M59: =IFERROR(G59/F59,0)*100 -> 99.463705 | O59: =IF(F59=G59+H59+I59,"","err") | P59: =IF(I59=J59+K59,"","err")
B60: 225 지난년도수입 | E60: 703302000 | F60: 9393248917 | G60: 756934034 | H60: 1466916890 | I60: 7169397993 | J60: 7169397993 | K60: 0 | L60: =IFERROR(G60/E60,0)*100 -> 107.62575 | M60: =IFERROR(G60/F60,0)*100 -> 8.0582772 | O60: =IF(F60=G60+H60+I60,"","err") | P60: =IF(I60=J60+K60,"","err")
C61: 225-01 지난년도수입 | E61: 703302000 | F61: 9393248917 | G61: 756934034 | H61: 1466916890 | I61: 7169397993 | J61: 7169397993 | K61: 0 | L61: =IFERROR(G61/E61,0)*100 -> 107.62575 | M61: =IFERROR(G61/F61,0)*100 -> 8.0582772 | O61: =IF(F61=G61+H61+I61,"","err") | P61: =IF(I61=J61+K61,"","err")
B62: 230 지방행정제재‧부과금 | E62: 4975681000 | F62: 9023358180 | G62: 7433921480 | H62: 0 | I62: 1589436700 | J62: 1180556700 | K62: 408880000 | L62: =IFERROR(G62/E62,0)*100 -> 149.40511 | M62: =IFERROR(G62/F62,0)*100 -> 82.385309 | O62: =IF(F62=G62+H62+I62,"","err") | P62: =IF(I62=J62+K62,"","err")
B63: 231 과징금 | E63: 0 | F63: 0 | G63: 0 | H63: 0 | I63: 0 | J63: 0 | K63: 0 | L63: =IFERROR(G63/E63,0)*100 -> 0 | M63: =IFERROR(G63/F63,0)*100 -> 0 | O63: =IF(F63=G63+H63+I63,"","err") | P63: =IF(I63=J63+K63,"","err")
C64: 231-01 과징금 | E64: 0 | F64: 0 | G64: 0 | H64: 0 | I64: 0 | J64: 0 | K64: 0 | L64: =IFERROR(G64/E64,0)*100 -> 0 | M64: =IFERROR(G64/F64,0)*100 -> 0 | O64: =IF(F64=G64+H64+I64,"","err") | P64: =IF(I64=J64+K64,"","err")
B65: 232 이행강제금 | E65: 0 | F65: 0 | G65: 0 | H65: 0 | I65: 0 | J65: 0 | K65: 0 | L65: =IFERROR(G65/E65,0)*100 -> 0 | M65: =IFERROR(G65/F65,0)*100 -> 0 | O65: =IF(F65=G65+H65+I65,"","err") | P65: =IF(I65=J65+K65,"","err")
C66: 232-01 이행강제금 | E66: 0 | F66: 0 | G66: 0 | H66: 0 | I66: 0 | J66: 0 | K66: 0 | L66: =IFERROR(G66/E66,0)*100 -> 0 | M66: =IFERROR(G66/F66,0)*100 -> 0 | O66: =IF(F66=G66+H66+I66,"","err") | P66: =IF(I66=J66+K66,"","err")
B67: 233 변상금 | E67: 0 | F67: 0 | G67: 0 | H67: 0 | I67: 0 | J67: 0 | K67: 0 | L67: =IFERROR(G67/E67,0)*100 -> 0 | M67: =IFERROR(G67/F67,0)*100 -> 0 | O67: =IF(F67=G67+H67+I67,"","err") | P67: =IF(I67=J67+K67,"","err")
C68: 233-01 변상금 | E68: 0 | F68: 0 | G68: 0 | H68: 0 | I68: 0 | J68: 0 | K68: 0 | L68: =IFERROR(G68/E68,0)*100 -> 0 | M68: =IFERROR(G68/F68,0)*100 -> 0 | O68: =IF(F68=G68+H68+I68,"","err") | P68: =IF(I68=J68+K68,"","err")
B69: 234 과태료 | E69: 3120000000 | F69: 7168382730 | G69: 5579555460 | H69: 0 | I69: 1588827270 | J69: 1179947270 | K69: 408880000 | L69: =IFERROR(G69/E69,0)*100 -> 178.83191 | M69: =IFERROR(G69/F69,0)*100 -> 77.835624 | O69: =IF(F69=G69+H69+I69,"","err") | P69: =IF(I69=J69+K69,"","err")
C70: 234-01 차량관련과태료 | E70: 3120000000 | F70: 7168382730 | G70: 5579555460 | H70: 0 | I70: 1588827270 | J70: 1179947270 | K70: 408880000 | L70: =IFERROR(G70/E70,0)*100 -> 178.83191 | M70: =IFERROR(G70/F70,0)*100 -> 77.835624 | O70: =IF(F70=G70+H70+I70,"","err") | P70: =IF(I70=J70+K70,"","err")
C71: 234-02 기타과태료 | E71: 0 | F71: 0 | G71: 0 | H71: 0 | I71: 0 | J71: 0 | K71: 0 | L71: =IFERROR(G71/E71,0)*100 -> 0 | M71: =IFERROR(G71/F71,0)*100 -> 0 | O71: =IF(F71=G71+H71+I71,"","err") | P71: =IF(I71=J71+K71,"","err")
B72: 235 환수금 | E72: 0 | F72: 0 | G72: 0 | H72: 0 | I72: 0 | J72: 0 | K72: 0 | L72: =IFERROR(G72/E72,0)*100 -> 0 | M72: =IFERROR(G72/F72,0)*100 -> 0 | O72: =IF(F72=G72+H72+I72,"","err") | P72: =IF(I72=J72+K72,"","err")
C73: 235-01 부정이익환수금 | E73: 0 | F73: 0 | G73: 0 | H73: 0 | I73: 0 | J73: 0 | K73: 0 | L73: =IFERROR(G73/E73,0)*100 -> 0 | M73: =IFERROR(G73/F73,0)*100 -> 0 | O73: =IF(F73=G73+H73+I73,"","err") | P73: =IF(I73=J73+K73,"","err")
B74: 236 부담금 | E74: 1855681000 | F74: 1854975450 | G74: 1854366020 | H74: 0 | I74: 609430 | J74: 609430 | K74: 0 | L74: =IFERROR(G74/E74,0)*100 -> 99.929138 | M74: =IFERROR(G74/F74,0)*100 -> 99.967146 | O74: =IF(F74=G74+H74+I74,"","err") | P74: =IF(I74=J74+K74,"","err")
C75: 236-01 부담금 | E75: 1855681000 | F75: 1854975450 | G75: 1854366020 | H75: 0 | I75: 609430 | J75: 609430 | K75: 0 | L75: =IFERROR(G75/E75,0)*100 -> 99.929138 | M75: =IFERROR(G75/F75,0)*100 -> 99.967146 | O75: =IF(F75=G75+H75+I75,"","err") | P75: =IF(I75=J75+K75,"","err")
B76: 237 범칙금 | E76: 0 | F76: 0 | G76: 0 | H76: 0 | I76: 0 | J76: 0 | K76: 0 | L76: =IFERROR(G76/E76,0)*100 -> 0 | M76: =IFERROR(G76/F76,0)*100 -> 0 | O76: =IF(F76=G76+H76+I76,"","err") | P76: =IF(I76=J76+K76,"","err")
C77: 237-01 범칙금 | E77: 0 | F77: 0 | G77: 0 | H77: 0 | I77: 0 | J77: 0 | K77: 0 | L77: =IFERROR(G77/E77,0)*100 -> 0 | M77: =IFERROR(G77/F77,0)*100 -> 0 | O77: =IF(F77=G77+H77+I77,"","err") | P77: =IF(I77=J77+K77,"","err")

Sheet 군구세외 과목별
B2: =B4&L3&" 과목별 세외수입 징수현황" -> 2023년 12월 서구 과목별 세외수입 징수현황
K3: 기관명 | L3: ='군구세외 일반회계'!L3:M3 -> 서구 | O3: =COUNTIF(O7:P36,"err") -> 0
B4: ='군구세외 일반회계'!B4:D4 -> 2023년 12월 | L4: (단위:원,%)
D5: 구 분 | E5: 최종예산액 | F5: 징수결정액 | G5: 징 수 액 | H5: 정리보류액 | I5: 미수납액 | L5: 징수율
B6: 항 목 별 | E6: (A) | F6: (B) | G6: (C) | H6: (D) | I6: 미수납액 (E=B-C-D) | J6: 체납액 (F=E-G) | K6: 납기미도래 (G) | L6: (C/A) | M6: (C/B)
B7: 합 계 | E7: =SUM(E8:E9) -> 6376000000 | F7: =SUM(F8:F9) -> 40393512466 | G7: =SUM(G8:G9) -> 9754088616 | H7: =SUM(H8:H9) -> 901274713 | I7: =F7-G7-H7 -> 29738149137 | J7: =I7-K7 -> 29144486357 | K7: =SUM(K8:K9) -> 593662780 | L7: =IFERROR(G7/E7,0)*100 -> 152.98131 | M7: =IFERROR(G7/F7,0)*100 -> 24.147661 | O7: =IF(F7=G7+H7+I7,"","err") | P7: =IF(I7=J7+K7,"","err")
C8: 현년도 | E8: =E11+E32 -> 5676000000 | F8: =F11+F32 -> 11975172865 | G8: =G11+G32 -> 7621090355 | H8: =H11+H32 -> 0 | I8: =F8-G8-H8 -> 4354082510 | J8: =I8-K8 -> 3760419730 | K8: =K11+K32 -> 593662780 | L8: =IFERROR(G8/E8,0)*100 -> 134.26868 | M8: =IFERROR(G8/F8,0)*100 -> 63.640754 | O8: =IF(F8=G8+H8+I8,"","err") | P8: =IF(I8=J8+K8,"","err")
C9: 과년도 | E9: =E12+E33 -> 700000000 | F9: =F12+F33 -> 28418339601 | G9: =G12+G33 -> 2132998261 | H9: =H12+H33 -> 901274713 | I9: =F9-G9-H9 -> 25384066627 | J9: =I9-K9 -> 25384066627 | K9: =K12+K33 -> 0 | L9: =IFERROR(G9/E9,0)*100 -> 304.71404 | M9: =IFERROR(G9/F9,0)*100 -> 7.5057104 | O9: =IF(F9=G9+H9+I9,"","err") | P9: =IF(I9=J9+K9,"","err")
B10: 일반회계 | E10: =SUM(E11:E12) -> 2556000000 | F10: =SUM(F11:F12) -> 27759165754 | G10: =SUM(G11:G12) -> 3429336807 | H10: =SUM(H11:H12) -> 718141233 | I10: =F10-G10-H10 -> 23611687714 | J10: =I10-K10 -> 23426904934 | K10: =SUM(K11:K12) -> 184782780 | L10: =IFERROR(G10/E10,0)*100 -> 134.16811 | M10: =IFERROR(G10/F10,0)*100 -> 12.35389 | O10: =IF(F10=G10+H10+I10,"","err") | P10: =IF(I10=J10+K10,"","err")
C11: 현년도 | E11: =E14+E17+E20+E23+E26+E29 -> 2556000000 | F11: =F14+F17+F20+F23+F26+F29 -> 4806790135 | G11: =G14+G17+G20+G23+G26+G29 -> 2041534895 | H11: =H14+H17+H20+H23+H26+H29 -> 0 | I11: =I14+I17+I20+I23+I26+I29 -> 2765255240 | J11: =J14+J17+J20+J23+J26+J29 -> 2580472460 | K11: =K14+K17+K20+K23+K26+K29 -> 184782780 | L11: =IFERROR(G11/E11,0)*100 -> 79.872257 | M11: =IFERROR(G11/F11,0)*100 -> 42.471896 | O11: =IF(F11=G11+H11+I11,"","err") | P11: =IF(I11=J11+K11,"","err")
C12: 과년도 | E12: =E15+E18+E21+E24+E27+E30 -> 0 | F12: =F15+F18+F21+F24+F27+F30 -> 22952375619 | G12: =G15+G18+G21+G24+G27+G30 -> 1387801912 | H12: =H15+H18+H21+H24+H27+H30 -> 718141233 | I12: =I15+I18+I21+I24+I27+I30 -> 20846432474 | J12: =J15+J18+J21+J24+J27+J30 -> 20846432474 | K12: =K15+K18+K21+K24+K27+K30 -> 0 | L12: =IFERROR(G12/E12,0)*100 -> 0 | M12: =IFERROR(G12/F12,0)*100 -> 6.0464413 | O12: =IF(F12=G12+H12+I12,"","err") | P12: =IF(I12=J12+K12,"","err")
B13: 국공유변상금 | E13: 0 | F13: 299628820 | G13: 52532150 | H13: 51426290 | I13: 195670380 | J13: 190942800 | K13: 4727580 | L13: =IFERROR(G13/E13,0)*100 -> 0 | M13: =IFERROR(G13/F13,0)*100 -> 17.532409 | O13: =IF(F13=G13+H13+I13,"","err") | P13: =IF(I13=J13+K13,"","err")
C14: 현년도 | F14: 70831800 | G14: 36327180 | H14: 0 | I14: 34504620 | J14: 29777040 | K14: 4727580 | L14: =IFERROR(G14/E14,0)*100 -> 0 | M14: =IFERROR(G14/F14,0)*100 -> 51.286541 | O14: =IF(F14=G14+H14+I14,"","err") | P14: =IF(I14=J14+K14,"","err")
C15: 과년도 | F15: 228797020 | G15: 16204970 | H15: 51426290 | I15: 161165760 | J15: 161165760 | L15: =IFERROR(G15/E15,0)*100 -> 0 | M15: =IFERROR(G15/F15,0)*100 -> 7.082684 | O15: =IF(F15=G15+H15+I15,"","err") | P15: =IF(I15=J15+K15,"","err")
B16: 책임보험미가입과태료 | E16: 1416000000 | F16: 13645026344 | G16: 1111295255 | H16: 415759908 | I16: 12117971181 | J16: 12060973981 | K16: 56997200 | L16: =IFERROR(G16/E16,0)*100 -> 78.481303 | M16: =IFERROR(G16/F16,0)*100 -> 8.1443247 | O16: =IF(F16=G16+H16+I16,"","err") | P16: =IF(I16=J16+K16,"","err")
C17: 현년도 | E17: 1416000000 | F17: 1228484110 | G17: 429398470 | H17: 0 | I17: 799085640 | J17: 742088440 | K17: 56997200 | L17: =IFERROR(G17/E17,0)*100 -> 30.324751 | M17: =IFERROR(G17/F17,0)*100 -> 34.953523 | O17: =IF(F17=G17+H17+I17,"","err") | P17: =IF(I17=J17+K17,"","err")
C18: 과년도 | F18: 12416542234 | G18: 681896785 | H18: 415759908 | I18: 11318885541 | J18: 11318885541 | L18: =IFERROR(G18/E18,0)*100 -> 0 | M18: =IFERROR(G18/F18,0)*100 -> 5.4918412 | O18: =IF(F18=G18+H18+I18,"","err") | P18: =IF(I18=J18+K18,"","err")
B19: 자동차검사지연과태료 | E19: 840000000 | F19: 5059701529 | G19: 953745320 | H19: 116313870 | I19: 3989642339 | J19: 3928982339 | K19: 60660000 | L19: =IFERROR(G19/E19,0)*100 -> 113.54111 | M19: =IFERROR(G19/F19,0)*100 -> 18.849834 | O19: =IF(F19=G19+H19+I19,"","err") | P19: =IF(I19=J19+K19,"","err")
C20: 현년도 | E20: 840000000 | F20: 1247577570 | G20: 629077650 | H20: 0 | I20: 618499920 | J20: 557839920 | K20: 60660000 | L20: =IFERROR(G20/E20,0)*100 -> 74.890196 | M20: =IFERROR(G20/F20,0)*100 -> 50.423931 | O20: =IF(F20=G20+H20+I20,"","err") | P20: =IF(I20=J20+K20,"","err")
C21: 과년도 | F21: 3812123959 | G21: 324667670 | H21: 116313870 | I21: 3371142419 | J21: 3371142419 | L21: =IFERROR(G21/E21,0)*100 -> 0 | M21: =IFERROR(G21/F21,0)*100 -> 8.5167133 | O21: =IF(F21=G21+H21+I21,"","err") | P21: =IF(I21=J21+K21,"","err")
B22: 자동차정밀검사과태료 | E22: 0 | F22: 618396054 | G22: 42867500 | H22: 122785795 | I22: 452742759 | J22: 452742759 | K22: 0 | L22: =IFERROR(G22/E22,0)*100 -> 0 | M22: =IFERROR(G22/F22,0)*100 -> 6.9320462 | O22: =IF(F22=G22+H22+I22,"","err") | P22: =IF(I22=J22+K22,"","err")
C23: 현년도 | E23: 0 | F23: 0 | G23: 0 | H23: 0 | I23: 0 | J23: 0 | K23: 0 | L23: =IFERROR(G23/E23,0)*100 -> 0 | M23: =IFERROR(G23/F23,0)*100 -> 0 | O23: =IF(F23=G23+H23+I23,"","err") | P23: =IF(I23=J23+K23,"","err")
C24: 과년도 | F24: 618396054 | G24: 42867500 | H24: 122785795 | I24: 452742759 | J24: 452742759 | L24: =IFERROR(G24/E24,0)*100 -> 0 | M24: =IFERROR(G24/F24,0)*100 -> 6.9320462 | O24: =IF(F24=G24+H24+I24,"","err") | P24: =IF(I24=J24+K24,"","err")
B25: 부동산실명법과징금 | E25: 0 | F25: 4509688333 | G25: 8883000 | H25: 0 | I25: 4500805333 | J25: 4500805333 | K25: 0 | L25: =IFERROR(G25/E25,0)*100 -> 0 | M25: =IFERROR(G25/F25,0)*100 -> 0.19697592 | O25: =IF(F25=G25+H25+I25,"","err") | P25: =IF(I25=J25+K25,"","err")
C26: 현년도 | E26: 0 | F26: 651535320 | G26: 5580000 | H26: 0 | I26: 645955320 | J26: 645955320 | K26: 0 | L26: =IFERROR(G26/E26,0)*100 -> 0 | M26: =IFERROR(G26/F26,0)*100 -> 0.8564386 | O26: =IF(F26=G26+H26+I26,"","err") | P26: =IF(I26=J26+K26,"","err")
C27: 과년도 | F27: 3858153013 | G27: 3303000 | H27: 0 | I27: 3854850013 | J27: 3854850013 | L27: =IFERROR(G27/E27,0)*100 -> 0 | M27: =IFERROR(G27/F27,0)*100 -> 0.085610912 | O27: =IF(F27=G27+H27+I27,"","err") | P27: =IF(I27=J27+K27,"","err")
B28: 건축법이행강제금 | E28: 300000000 | F28: 3626724674 | G28: 1260013582 | H28: 11855370 | I28: 2354855722 | J28: 2292457722 | K28: 62398000 | L28: =IFERROR(G28/E28,0)*100 -> 420.00453 | M28: =IFERROR(G28/F28,0)*100 -> 34.742466 | O28: =IF(F28=G28+H28+I28,"","err") | P28: =IF(I28=J28+K28,"","err")
C29: 현년도 | E29: 300000000 | F29: 1608361335 | G29: 941151595 | H29: 0 | I29: 667209740 | J29: 604811740 | K29: 62398000 | L29: =IFERROR(G29/E29,0)*100 -> 313.7172 | M29: =IFERROR(G29/F29,0)*100 -> 58.516179 | O29: =IF(F29=G29+H29+I29,"","err") | P29: =IF(I29=J29+K29,"","err")
C30: 과년도 | F30: 2018363339 | G30: 318861987 | H30: 11855370 | I30: 1687645982 | J30: 1687645982 | L30: =IFERROR(G30/E30,0)*100 -> 0 | M30: =IFERROR(G30/F30,0)*100 -> 15.798047 | O30: =IF(F30=G30+H30+I30,"","err") | P30: =IF(I30=J30+K30,"","err")
B31: 특별회계 | E31: 3820000000 | F31: 12634346712 | G31: 6324751809 | H31: 183133480 | I31: 6126461423 | J31: 5717581423 | K31: 408880000 | L31: =IFERROR(G31/E31,0)*100 -> 165.56942 | M31: =IFERROR(G31/F31,0)*100 -> 50.059983 | O31: =IF(F31=G31+H31+I31,"","err") | P31: =IF(I31=J31+K31,"","err")
C32: 현년도 | E32: 3120000000 | F32: 7168382730 | G32: 5579555460 | H32: 0 | I32: 1588827270 | J32: 1179947270 | K32: 408880000 | L32: =IFERROR(G32/E32,0)*100 -> 178.83191 | M32: =IFERROR(G32/F32,0)*100 -> 77.835624 | O32: =IF(F32=G32+H32+I32,"","err") | P32: =IF(I32=J32+K32,"","err")
C33: 과년도 | E33: 700000000 | F33: 5465963982 | G33: 745196349 | H33: 183133480 | I33: 4537634153 | J33: 4537634153 | K33: 0 | L33: =IFERROR(G33/E33,0)*100 -> 106.45662 | M33: =IFERROR(G33/F33,0)*100 -> 13.633393 | O33: =IF(F33=G33+H33+I33,"","err") | P33: =IF(I33=J33+K33,"","err")
B34: 주정차위반과태료 | E34: 3820000000 | F34: 12634346712 | G34: 6324751809 | H34: 183133480 | I34: 6126461423 | J34: 5717581423 | K34: 408880000 | L34: =IFERROR(G34/E34,0)*100 -> 165.56942 | M34: =IFERROR(G34/F34,0)*100 -> 50.059983 | O34: =IF(F34=G34+H34+I34,"","err") | P34: =IF(I34=J34+K34,"","err")
C35: 현년도 | E35: 3120000000 | F35: 7168382730 | G35: 5579555460 | H35: 0 | I35: 1588827270 | J35: 1179947270 | K35: 408880000 | L35: =IFERROR(G35/E35,0)*100 -> 178.83191 | M35: =IFERROR(G35/F35,0)*100 -> 77.835624 | O35: =IF(F35=G35+H35+I35,"","err") | P35: =IF(I35=J35+K35,"","err")
C36: 과년도 | E36: 700000000 | F36: 5465963982 | G36: 745196349 | H36: 183133480 | I36: 4537634153 | J36: 4537634153 | L36: =IFERROR(G36/E36,0)*100 -> 106.45662 | M36: =IFERROR(G36/F36,0)*100 -> 13.633393 | O36: =IF(F36=G36+H36+I36,"","err") | P36: =IF(I36=J36+K36,"","err")

Sheet 시세외 특별회계(위임)-수정
B2: =B4&L3&" 일반회계 세외수입 징수현황" -> 2023년 12월 서구 일반회계 세외수입 징수현황
K3: 기관명 | L3: ='군구세외 일반회계'!L3:M3 -> 서구 | O3: =COUNTIF(O7:P92,"err") -> 0
B4: ='군구세외 일반회계'!B4:D4 -> 2023년 12월 | L4: (단위:원,%)
D5: 구 분 | E5: 최종예산액 | F5: 징수결정액 | G5: 징 수 액 | H5: 정리보류액 | I5: 미수납액 | L5: 징수율
B6: 항 목 별 | E6: (A) | F6: (B) | G6: (C) | H6: (D) | I6: 미수납액 (E=B-C-D) | J6: 체납액 (F=E-G) | K6: 납기미도래 (G) | L6: (C/A) | M6: (C/B)
B7: 200 세외수입 | E7: =E8+E40+E73 -> 0 | F7: =F8+F40+F73 -> 8094159154 | G7: =G8+G40+G73 -> 6430507410 | H7: =H8+H40+H73 -> 0 | I7: =I8+I40+I73 -> 1663651744 | J7: =J8+J40+J73 -> 1663651744 | K7: =K8+K40+K73 -> 0 | L7: =IFERROR(G7/E7,0)*100 -> 0 | M7: =IFERROR(G7/F7,0)*100 -> 79.446268 | O7: =IF(F7=G7+H7+I7,"","err") | P7: =IF(I7=J7+K7,"","err")
B8: 210 경상적세외수입 | E8: =E9+E12+E22+E28+E34+E36 -> 0 | F8: =F9+F12+F22+F28+F34+F36 -> 868367090 | G8: =G9+G12+G22+G28+G34+G36 -> 868367090 | H8: =H9+H12+H22+H28+H34+H36 -> 0 | I8: =I9+I12+I22+I28+I34+I36 -> 0 | J8: =J9+J12+J22+J28+J34+J36 -> 0 | K8: =K9+K12+K22+K28+K34+K36 -> 0 | L8: =IFERROR(G8/E8,0)*100 -> 0 | M8: =IFERROR(G8/F8,0)*100 -> 100 | O8: =IF(F8=G8+H8+I8,"","err") | P8: =IF(I8=J8+K8,"","err")
B9: 211 재산임대수입 | E9: 0 | F9: 13552090 | G9: 13552090 | H9: 0 | I9: 0 | J9: 0 | K9: 0 | L9: =IFERROR(G9/E9,0)*100 -> 0 | M9: =IFERROR(G9/F9,0)*100 -> 100 | O9: =IF(F9=G9+H9+I9,"","err") | P9: =IF(I9=J9+K9,"","err")
C10: 211-01 국유재산임대료 | E10: 0 | F10: 0 | G10: 0 | H10: 0 | I10: 0 | J10: 0 | K10: 0 | L10: =IFERROR(G10/E10,0)*100 -> 0 | M10: =IFERROR(G10/F10,0)*100 -> 0 | O10: =IF(F10=G10+H10+I10,"","err") | P10: =IF(I10=J10+K10,"","err")
C11: 211-02 공유재산임대료 | E11: 0 | F11: 13552090 | G11: 13552090 | H11: 0 | I11: 0 | J11: 0 | K11: 0 | L11: =IFERROR(G11/E11,0)*100 -> 0 | M11: =IFERROR(G11/F11,0)*100 -> 100 | O11: =IF(F11=G11+H11+I11,"","err") | P11: =IF(I11=J11+K11,"","err")
B12: 212 사용료수입 | E12: 0 | F12: 0 | G12: 0 | H12: 0 | I12: 0 | J12: 0 | K12: 0 | L12: =IFERROR(G12/E12,0)*100 -> 0 | M12: =IFERROR(G12/F12,0)*100 -> 0 | O12: =IF(F12=G12+H12+I12,"","err") | P12: =IF(I12=J12+K12,"","err")
C13: 212-01 도로사용료 | E13: 0 | F13: 0 | G13: 0 | H13: 0 | I13: 0 | J13: 0 | K13: 0 | L13: =IFERROR(G13/E13,0)*100 -> 0 | M13: =IFERROR(G13/F13,0)*100 -> 0 | O13: =IF(F13=G13+H13+I13,"","err") | P13: =IF(I13=J13+K13,"","err")
C14: 212-02 하천사용료 | E14: 0 | F14: 0 | G14: 0 | H14: 0 | I14: 0 | J14: 0 | K14: 0 | L14: =IFERROR(G14/E14,0)*100 -> 0 | M14: =IFERROR(G14/F14,0)*100 -> 0 | O14: =IF(F14=G14+H14+I14,"","err") | P14: =IF(I14=J14+K14,"","err")
C15: 212-03 하수도사용료 | E15: 0 | F15: 0 | G15: 0 | H15: 0 | I15: 0 | J15: 0 | K15: 0 | L15: =IFERROR(G15/E15,0)*100 -> 0 | M15: =IFERROR(G15/F15,0)*100 -> 0 | O15: =IF(F15=G15+H15+I15,"","err") | P15: =IF(I15=J15+K15,"","err")
C16: 212-04 상수도사용료 | E16: 0 | F16: 0 | G16: 0 | H16: 0 | I16: 0 | J16: 0 | K16: 0 | L16: =IFERROR(G16/E16,0)*100 -> 0 | M16: =IFERROR(G16/F16,0)*100 -> 0 | O16: =IF(F16=G16+H16+I16,"","err") | P16: =IF(I16=J16+K16,"","err")
C17: 212-05 공유수면사용료 | E17: 0 | F17: 0 | G17: 0 | H17: 0 | I17: 0 | J17: 0 | K17: 0 | L17: =IFERROR(G17/E17,0)*100 -> 0 | M17: =IFERROR(G17/F17,0)*100 -> 0 | O17: =IF(F17=G17+H17+I17,"","err") | P17: =IF(I17=J17+K17,"","err")
C18: 212-06 시장사용료 | E18: 0 | F18: 0 | G18: 0 | H18: 0 | I18: 0 | J18: 0 | K18: 0 | L18: =IFERROR(G18/E18,0)*100 -> 0 | M18: =IFERROR(G18/F18,0)*100 -> 0 | O18: =IF(F18=G18+H18+I18,"","err") | P18: =IF(I18=J18+K18,"","err")
C19: 212-07 입장료수입 | E19: 0 | F19: 0 | G19: 0 | H19: 0 | I19: 0 | J19: 0 | K19: 0 | L19: =IFERROR(G19/E19,0)*100 -> 0 | M19: =IFERROR(G19/F19,0)*100 -> 0 | O19: =IF(F19=G19+H19+I19,"","err") | P19: =IF(I19=J19+K19,"","err")
C20: 212-08 주차요금수입 | E20: 0 | F20: 0 | G20: 0 | H20: 0 | I20: 0 | J20: 0 | K20: 0 | L20: =IFERROR(G20/E20,0)*100 -> 0 | M20: =IFERROR(G20/F20,0)*100 -> 0 | O20: =IF(F20=G20+H20+I20,"","err") | P20: =IF(I20=J20+K20,"","err")
C21: 212-09 기타사용료 | E21: 0 | F21: 0 | G21: 0 | H21: 0 | I21: 0 | J21: 0 | K21: 0 | L21: =IFERROR(G21/E21,0)*100 -> 0 | M21: =IFERROR(G21/F21,0)*100 -> 0 | O21: =IF(F21=G21+H21+I21,"","err") | P21: =IF(I21=J21+K21,"","err")
B22: 213 수수료수입 | E22: 0 | F22: 0 | G22: 0 | H22: 0 | I22: 0 | J22: 0 | K22: 0 | L22: =IFERROR(G22/E22,0)*100 -> 0 | M22: =IFERROR(G22/F22,0)*100 -> 0 | O22: =IF(F22=G22+H22+I22,"","err") | P22: =IF(I22=J22+K22,"","err")
C23: 213-01 증지수입 | E23: 0 | F23: 0 | G23: 0 | H23: 0 | I23: 0 | J23: 0 | K23: 0 | L23: =IFERROR(G23/E23,0)*100 -> 0 | M23: =IFERROR(G23/F23,0)*100 -> 0 | O23: =IF(F23=G23+H23+I23,"","err") | P23: =IF(I23=J23+K23,"","err")
C24: 213-02 폐기물처리수수료 | E24: 0 | F24: 0 | G24: 0 | H24: 0 | I24: 0 | J24: 0 | K24: 0 | L24: =IFERROR(G24/E24,0)*100 -> 0 | M24: =IFERROR(G24/F24,0)*100 -> 0 | O24: =IF(F24=G24+H24+I24,"","err") | P24: =IF(I24=J24+K24,"","err")
C25: 213-03 재활용품수거판매수입 | E25: 0 | F25: 0 | G25: 0 | H25: 0 | I25: 0 | J25: 0 | K25: 0 | L25: =IFERROR(G25/E25,0)*100 -> 0 | M25: =IFERROR(G25/F25,0)*100 -> 0 | O25: =IF(F25=G25+H25+I25,"","err") | P25: =IF(I25=J25+K25,"","err")
C26: 213-04 보건의료수수료 | E26: 0 | F26: 0 | G26: 0 | H26: 0 | I26: 0 | J26: 0 | K26: 0 | L26: =IFERROR(G26/E26,0)*100 -> 0 | M26: =IFERROR(G26/F26,0)*100 -> 0 | O26: =IF(F26=G26+H26+I26,"","err") | P26: =IF(I26=J26+K26,"","err")
C27: 213-05 기타수수료 | E27: 0 | F27: 0 | G27: 0 | H27: 0 | I27: 0 | J27: 0 | K27: 0 | L27: =IFERROR(G27/E27,0)*100 -> 0 | M27: =IFERROR(G27/F27,0)*100 -> 0 | O27: =IF(F27=G27+H27+I27,"","err") | P27: =IF(I27=J27+K27,"","err")
B28: 214 사업수입 | E28: 0 | F28: 854815000 | G28: 854815000 | H28: 0 | I28: 0 | J28: 0 | K28: 0 | L28: =IFERROR(G28/E28,0)*100 -> 0 | M28: =IFERROR(G28/F28,0)*100 -> 100 | O28: =IF(F28=G28+H28+I28,"","err") | P28: =IF(I28=J28+K28,"","err")
C29: 214-01 사업장생산수입 | E29: 0 | F29: 0 | G29: 0 | H29: 0 | I29: 0 | J29: 0 | K29: 0 | L29: =IFERROR(G29/E29,0)*100 -> 0 | M29: =IFERROR(G29/F29,0)*100 -> 0 | O29: =IF(F29=G29+H29+I29,"","err") | P29: =IF(I29=J29+K29,"","err")
C30: 214-02 청산금수입 | E30: 0 | F30: 0 | G30: 0 | H30: 0 | I30: 0 | J30: 0 | K30: 0 | L30: =IFERROR(G30/E30,0)*100 -> 0 | M30: =IFERROR(G30/F30,0)*100 -> 0 | O30: =IF(F30=G30+H30+I30,"","err") | P30: =IF(I30=J30+K30,"","err")
C31: 214-03 매각사업수입 | E31: 0 | F31: 854815000 | G31: 854815000 | H31: 0 | I31: 0 | J31: 0 | K31: 0 | L31: =IFERROR(G31/E31,0)*100 -> 0 | M31: =IFERROR(G31/F31,0)*100 -> 100 | O31: =IF(F31=G31+H31+I31,"","err") | P31: =IF(I31=J31+K31,"","err")
C32: 214-04 배당금수입 | E32: 0 | F32: 0 | G32: 0 | H32: 0 | I32: 0 | J32: 0 | K32: 0 | L32: =IFERROR(G32/E32,0)*100 -> 0 | M32: =IFERROR(G32/F32,0)*100 -> 0 | O32: =IF(F32=G32+H32+I32,"","err") | P32: =IF(I32=J32+K32,"","err")
C33: 214-05 기타사업수입 | E33: 0 | F33: 0 | G33: 0 | H33: 0 | I33: 0 | J33: 0 | K33: 0 | L33: =IFERROR(G33/E33,0)*100 -> 0 | M33: =IFERROR(G33/F33,0)*100 -> 0 | O33: =IF(F33=G33+H33+I33,"","err") | P33: =IF(I33=J33+K33,"","err")
B34: 215 징수교부금수입 | E34: 0 | F34: 0 | G34: 0 | H34: 0 | I34: 0 | J34: 0 | K34: 0 | L34: =IFERROR(G34/E34,0)*100 -> 0 | M34: =IFERROR(G34/F34,0)*100 -> 0 | O34: =IF(F34=G34+H34+I34,"","err") | P34: =IF(I34=J34+K34,"","err")
C35: 215-01 징수교부금수입 | E35: 0 | F35: 0 | G35: 0 | H35: 0 | I35: 0 | J35: 0 | K35: 0 | L35: =IFERROR(G35/E35,0)*100 -> 0 | M35: =IFERROR(G35/F35,0)*100 -> 0 | O35: =IF(F35=G35+H35+I35,"","err") | P35: =IF(I35=J35+K35,"","err")
B36: 216 이자수입 | E36: 0 | F36: 0 | G36: 0 | H36: 0 | I36: 0 | J36: 0 | K36: 0 | L36: =IFERROR(G36/E36,0)*100 -> 0 | M36: =IFERROR(G36/F36,0)*100 -> 0 | O36: =IF(F36=G36+H36+I36,"","err") | P36: =IF(I36=J36+K36,"","err")
C37: 216-01 공공예금이자수입 | E37: 0 | F37: 0 | G37: 0 | H37: 0 | I37: 0 | J37: 0 | K37: 0 | L37: =IFERROR(G37/E37,0)*100 -> 0 | M37: =IFERROR(G37/F37,0)*100 -> 0 | O37: =IF(F37=G37+H37+I37,"","err") | P37: =IF(I37=J37+K37,"","err")
C38: 216-02 융자금회수이자수입 | E38: 0 | F38: 0 | G38: 0 | H38: 0 | I38: 0 | J38: 0 | K38: 0 | L38: =IFERROR(G38/E38,0)*100 -> 0 | M38: =IFERROR(G38/F38,0)*100 -> 0 | O38: =IF(F38=G38+H38+I38,"","err") | P38: =IF(I38=J38+K38,"","err")
C39: 216-03 기타이자수입 | E39: 0 | F39: 0 | G39: 0 | H39: 0 | I39: 0 | J39: 0 | K39: 0 | L39: =IFERROR(G39/E39,0)*100 -> 0 | M39: =IFERROR(G39/F39,0)*100 -> 0 | O39: =IF(F39=G39+H39+I39,"","err") | P39: =IF(I39=J39+K39,"","err")
B40: 220 임시적세외수입 | E40: 0 | F40: 1520907014 | G40: 262256810 | H40: 0 | I40: 1258650204 | J40: 1258650204 | K40: 0 | L40: =IFERROR(G40/E40,0)*100 -> 0 | M40: =IFERROR(G40/F40,0)*100 -> 17.243448 | O40: =IF(F40=G40+H40+I40,"","err") | P40: =IF(I40=J40+K40,"","err")
B41: 221 재산매각수입 | E41: 0 | F41: 0 | G41: 0 | H41: 0 | I41: 0 | J41: 0 | K41: 0 | L41: =IFERROR(G41/E41,0)*100 -> 0 | M41: =IFERROR(G41/F41,0)*100 -> 0 | O41: =IF(F41=G41+H41+I41,"","err") | P41: =IF(I41=J41+K41,"","err")
C42: 221-01 국유재산매각귀속수입금 | E42: 0 | F42: 0 | G42: 0 | H42: 0 | I42: 0 | J42: 0 | K42: 0 | L42: =IFERROR(G42/E42,0)*100 -> 0 | M42: =IFERROR(G42/F42,0)*100 -> 0 | O42: =IF(F42=G42+H42+I42,"","err") | P42: =IF(I42=J42+K42,"","err")
C43: 221-02 시도유재산매각귀속수입금 | E43: 0 | F43: 0 | G43: 0 | H43: 0 | I43: 0 | J43: 0 | K43: 0 | L43: =IFERROR(G43/E43,0)*100 -> 0 | M43: =IFERROR(G43/F43,0)*100 -> 0 | O43: =IF(F43=G43+H43+I43,"","err") | P43: =IF(I43=J43+K43,"","err")
C44: 221-03 공유재산매각수입금 | E44: 0 | F44: 0 | G44: 0 | H44: 0 | I44: 0 | J44: 0 | K44: 0 | L44: =IFERROR(G44/E44,0)*100 -> 0 | M44: =IFERROR(G44/F44,0)*100 -> 0 | O44: =IF(F44=G44+H44+I44,"","err") | P44: =IF(I44=J44+K44,"","err")
C45: 221-04 불용품매각대금 | E45: 0 | F45: 0 | G45: 0 | H45: 0 | I45: 0 | J45: 0 | K45: 0 | L45: =IFERROR(G45/E45,0)*100 -> 0 | M45: =IFERROR(G45/F45,0)*100 -> 0 | O45: =IF(F45=G45+H45+I45,"","err") | P45: =IF(I45=J45+K45,"","err")
B46: 222 자치단체간부담금 | E46: 0 | F46: 0 | G46: 0 | H46: 0 | I46: 0 | J46: 0 | K46: 0 | L46: =IFERROR(G46/E46,0)*100 -> 0 | M46: =IFERROR(G46/F46,0)*100 -> 0 | O46: =IF(F46=G46+H46+I46,"","err") | P46: =IF(I46=J46+K46,"","err")
C47: 222-01 자치단체간부담금 | E47: 0 | F47: 0 | G47: 0 | H47: 0 | I47: 0 | J47: 0 | K47: 0 | L47: =IFERROR(G47/E47,0)*100 -> 0 | M47: =IFERROR(G47/F47,0)*100 -> 0 | O47: =IF(F47=G47+H47+I47,"","err") | P47: =IF(I47=J47+K47,"","err")
B48: 223 보조금반환수입 | E48: 0 | F48: 0 | G48: 0 | H48: 0 | I48: 0 | J48: 0 | K48: 0 | L48: =IFERROR(G48/E48,0)*100 -> 0 | M48: =IFERROR(G48/F48,0)*100 -> 0 | O48: =IF(F48=G48+H48+I48,"","err") | P48: =IF(I48=J48+K48,"","err")
C49: 223-01 시ㆍ도비보조금등반환수입 | E49: 0 | F49: 0 | G49: 0 | H49: 0 | I49: 0 | J49: 0 | K49: 0 | L49: =IFERROR(G49/E49,0)*100 -> 0 | M49: =IFERROR(G49/F49,0)*100 -> 0 | O49: =IF(F49=G49+H49+I49,"","err") | P49: =IF(I49=J49+K49,"","err")
C50: 223-02 자체보조금등반환수입 | E50: 0 | F50: 0 | G50: 0 | H50: 0 | I50: 0 | J50: 0 | K50: 0 | L50: =IFERROR(G50/E50,0)*100 -> 0 | M50: =IFERROR(G50/F50,0)*100 -> 0 | O50: =IF(F50=G50+H50+I50,"","err") | P50: =IF(I50=J50+K50,"","err")
C51: 223-03 위탁비반환수입 | E51: 0 | F51: 0 | G51: 0 | H51: 0 | I51: 0 | J51: 0 | K51: 0 | L51: =IFERROR(G51/E51,0)*100 -> 0 | M51: =IFERROR(G51/F51,0)*100 -> 0 | O51: =IF(F51=G51+H51+I51,"","err") | P51: =IF(I51=J51+K51,"","err")
B52: 224 기타수입 | E52: 0 | F52: 0 | G52: 0 | H52: 0 | I52: 0 | J52: 0 | K52: 0 | L52: =IFERROR(G52/E52,0)*100 -> 0 | M52: =IFERROR(G52/F52,0)*100 -> 0 | O52: =IF(F52=G52+H52+I52,"","err") | P52: =IF(I52=J52+K52,"","err")
C53: 224-01 체납처분수입 | E53: 0 | F53: 0 | G53: 0 | H53: 0 | I53: 0 | J53: 0 | K53: 0 | L53: =IFERROR(G53/E53,0)*100 -> 0 | M53: =IFERROR(G53/F53,0)*100 -> 0 | O53: =IF(F53=G53+H53+I53,"","err") | P53: =IF(I53=J53+K53,"","err")
C54: 224-02 보상금수납금 | E54: 0 | F54: 0 | G54: 0 | H54: 0 | I54: 0 | J54: 0 | K54: 0 | L54: =IFERROR(G54/E54,0)*100 -> 0 | M54: =IFERROR(G54/F54,0)*100 -> 0 | O54: =IF(F54=G54+H54+I54,"","err") | P54: =IF(I54=J54+K54,"","err")
C55: 224-03 기부금수입 | E55: 0 | F55: 0 | G55: 0 | H55: 0 | I55: 0 | J55: 0 | K55: 0 | L55: =IFERROR(G55/E55,0)*100 -> 0 | M55: =IFERROR(G55/F55,0)*100 -> 0 | O55: =IF(F55=G55+H55+I55,"","err") | P55: =IF(I55=J55+K55,"","err")
C56: 224-04 지적재조사조정금 | E56: 0 | F56: 0 | G56: 0 | H56: 0 | I56: 0 | J56: 0 | K56: 0 | L56: =IFERROR(G56/E56,0)*100 -> 0 | M56: =IFERROR(G56/F56,0)*100 -> 0 | O56: =IF(F56=G56+H56+I56,"","err") | P56: =IF(I56=J56+K56,"","err")
C57: 224-05 지방교부세감소분보전수입 | E57: 0 | F57: 0 | G57: 0 | H57: 0 | I57: 0 | J57: 0 | K57: 0 | L57: =IFERROR(G57/E57,0)*100 -> 0 | M57: =IFERROR(G57/F57,0)*100 -> 0 | O57: =IF(F57=G57+H57+I57,"","err") | P57: =IF(I57=J57+K57,"","err")
C58: 224-06 위약금 | E58: 0 | F58: 0 | G58: 0 | H58: 0 | I58: 0 | J58: 0 | K58: 0 | L58: =IFERROR(G58/E58,0)*100 -> 0 | M58: =IFERROR(G58/F58,0)*100 -> 0 | O58: =IF(F58=G58+H58+I58,"","err") | P58: =IF(I58=J58+K58,"","err")
C59: 224-07 그외수입 | E59: 0 | F59: 0 | G59: 0 | H59: 0 | I59: 0 | J59: 0 | K59: 0 | L59: =IFERROR(G59/E59,0)*100 -> 0 | M59: =IFERROR(G59/F59,0)*100 -> 0 | O59: =IF(F59=G59+H59+I59,"","err") | P59: =IF(I59=J59+K59,"","err")
B60: 225 지난년도수입 | E60: 0 | F60: 1520907014 | G60: 262256810 | H60: 0 | I60: 1258650204 | J60: 1258650204 | K60: 0 | L60: =IFERROR(G60/E60,0)*100 -> 0 | M60: =IFERROR(G60/F60,0)*100 -> 17.243448 | O60: =IF(F60=G60+H60+I60,"","err") | P60: =IF(I60=J60+K60,"","err")
C61: 주차요금수입 | E61: 0 | F61: 0 | G61: 0 | H61: 0 | I61: 0 | J61: 0 | K61: 0 | L61: =IFERROR(G61/E61,0)*100 -> 0 | M61: =IFERROR(G61/F61,0)*100 -> 0 | O61: =IF(F61=G61+H61+I61,"","err") | P61: =IF(I61=J61+K61,"","err")
C62: 청산금수입 | E62: 0 | F62: 0 | G62: 0 | H62: 0 | I62: 0 | J62: 0 | K62: 0 | L62: =IFERROR(G62/E62,0)*100 -> 0 | M62: =IFERROR(G62/F62,0)*100 -> 0
C63: 매각사업수입 | E63: 0 | F63: 0 | G63: 0 | H63: 0 | I63: 0 | J63: 0 | K63: 0 | L63: =IFERROR(G63/E63,0)*100 -> 0 | M63: =IFERROR(G63/F63,0)*100 -> 0
C64: 기타사업수입 | E64: 0 | F64: 0 | G64: 0 | H64: 0 | I64: 0 | J64: 0 | K64: 0 | L64: =IFERROR(G64/E64,0)*100 -> 0 | M64: =IFERROR(G64/F64,0)*100 -> 0
C65: 그외수입 | E65: 0 | F65: 0 | G65: 0 | H65: 0 | I65: 0 | J65: 0 | K65: 0 | L65: =IFERROR(G65/E65,0)*100 -> 0 | M65: =IFERROR(G65/F65,0)*100 -> 0
C66: 여객자동차운수사업법위반 과징금 | E66: 0 | F66: 32255250 | G66: 21427750 | H66: 0 | I66: 10827500 | J66: 10827500 | K66: 0 | L66: =IFERROR(G66/E66,0)*100 -> 0 | M66: =IFERROR(G66/F66,0)*100 -> 66.431821
C67: 기타과징금 | E67: 0 | F67: 0 | G67: 0 | H67: 0 | I67: 0 | J67: 0 | K67: 0 | L67: =IFERROR(G67/E67,0)*100 -> 0 | M67: =IFERROR(G67/F67,0)*100 -> 0
C68: 변상금 | E68: 0 | F68: 0 | G68: 0 | H68: 0 | I68: 0 | J68: 0 | K68: 0 | L68: =IFERROR(G68/E68,0)*100 -> 0 | M68: =IFERROR(G68/F68,0)*100 -> 0
C69: 학교용지부담금 | E69: 0 | F69: 1701000 | G69: 0 | H69: 0 | I69: 1701000 | J69: 1701000 | K69: 0 | L69: =IFERROR(G69/E69,0)*100 -> 0 | M69: =IFERROR(G69/F69,0)*100 -> 0
C70: 교통유발부담금 | E70: 0 | F70: 1486950764 | G70: 240829060 | H70: 0 | I70: 1246121704 | J70: 1246121704 | K70: 0 | L70: =IFERROR(G70/E70,0)*100 -> 0 | M70: =IFERROR(G70/F70,0)*100 -> 16.196169
C71: 기반시설부담금 | E71: 0 | F71: 0 | G71: 0 | H71: 0 | I71: 0 | J71: 0 | K71: 0 | L71: =IFERROR(G71/E71,0)*100 -> 0 | M71: =IFERROR(G71/F71,0)*100 -> 0
C72: 지난년도수입 | E72: 0 | F72: 0 | G72: 0 | H72: 0 | I72: 0 | J72: 0 | K72: 0 | L72: =IFERROR(G72/E72,0)*100 -> 0 | M72: =IFERROR(G72/F72,0)*100 -> 0
B73: 230 지방행정제재‧부과금 | E73: 0 | F73: 5704885050 | G73: 5299883510 | H73: 0 | I73: 405001540 | J73: 405001540 | K73: 0 | L73: =IFERROR(G73/E73,0)*100 -> 0 | M73: =IFERROR(G73/F73,0)*100 -> 92.900794 | O73: =IF(F73=G73+H73+I73,"","err") | P73: =IF(I73=J73+K73,"","err")
B74: 231 과징금 | E74: 0 | F74: 25100000 | G74: 24350000 | H74: 0 | I74: 750000 | J74: 750000 | K74: 0 | L74: =IFERROR(G74/E74,0)*100 -> 0 | M74: =IFERROR(G74/F74,0)*100 -> 97.011952 | O74: =IF(F74=G74+H74+I74,"","err") | P74: =IF(I74=J74+K74,"","err")
C75: 여객자동차운수사업법위반 과징금 | E75: 0 | F75: 25100000 | G75: 24350000 | H75: 0 | I75: 750000 | J75: 750000 | K75: 0 | L75: =IFERROR(G75/E75,0)*100 -> 0 | M75: =IFERROR(G75/F75,0)*100 -> 97.011952 | O75: =IF(F75=G75+H75+I75,"","err") | P75: =IF(I75=J75+K75,"","err")
C76: 과징금 | E76: 0 | F76: 0 | G76: 0 | H76: 0 | I76: 0 | J76: 0 | K76: 0 | L76: =IFERROR(G76/E76,0)*100 -> 0 | M76: =IFERROR(G76/F76,0)*100 -> 0
B77: 232 이행강제금 | E77: 0 | F77: 0 | G77: 0 | H77: 0 | I77: 0 | J77: 0 | K77: 0 | L77: =IFERROR(G77/E77,0)*100 -> 0 | M77: =IFERROR(G77/F77,0)*100 -> 0 | O77: =IF(F77=G77+H77+I77,"","err") | P77: =IF(I77=J77+K77,"","err")
C78: 232-01 이행강제금 | E78: 0 | F78: 0 | G78: 0 | H78: 0 | I78: 0 | J78: 0 | K78: 0 | L78: =IFERROR(G78/E78,0)*100 -> 0 | M78: =IFERROR(G78/F78,0)*100 -> 0 | O78: =IF(F78=G78+H78+I78,"","err") | P78: =IF(I78=J78+K78,"","err")
B79: 233 변상금 | E79: 0 | F79: 0 | G79: 0 | H79: 0 | I79: 0 | J79: 0 | K79: 0 | L79: =IFERROR(G79/E79,0)*100 -> 0 | M79: =IFERROR(G79/F79,0)*100 -> 0 | O79: =IF(F79=G79+H79+I79,"","err") | P79: =IF(I79=J79+K79,"","err")
C80: 233-01 변상금 | E80: 0 | F80: 0 | G80: 0 | H80: 0 | I80: 0 | J80: 0 | K80: 0 | L80: =IFERROR(G80/E80,0)*100 -> 0 | M80: =IFERROR(G80/F80,0)*100 -> 0 | O80: =IF(F80=G80+H80+I80,"","err") | P80: =IF(I80=J80+K80,"","err")
B81: 234 과태료 | E81: 0 | F81: 0 | G81: 0 | H81: 0 | I81: 0 | J81: 0 | K81: 0 | L81: =IFERROR(G81/E81,0)*100 -> 0 | M81: =IFERROR(G81/F81,0)*100 -> 0 | O81: =IF(F81=G81+H81+I81,"","err") | P81: =IF(I81=J81+K81,"","err")
C82: 234-01 차량관련과태료 | E82: 0 | F82: 0 | G82: 0 | H82: 0 | I82: 0 | J82: 0 | K82: 0 | L82: =IFERROR(G82/E82,0)*100 -> 0 | M82: =IFERROR(G82/F82,0)*100 -> 0 | O82: =IF(F82=G82+H82+I82,"","err") | P82: =IF(I82=J82+K82,"","err")
C83: 234-02 기타과태료 | E83: 0 | F83: 0 | G83: 0 | H83: 0 | I83: 0 | J83: 0 | K83: 0 | L83: =IFERROR(G83/E83,0)*100 -> 0 | M83: =IFERROR(G83/F83,0)*100 -> 0 | O83: =IF(F83=G83+H83+I83,"","err") | P83: =IF(I83=J83+K83,"","err")
B84: 235 환수금 | E84: 0 | F84: 0 | G84: 0 | H84: 0 | I84: 0 | J84: 0 | K84: 0 | L84: =IFERROR(G84/E84,0)*100 -> 0 | M84: =IFERROR(G84/F84,0)*100 -> 0 | O84: =IF(F84=G84+H84+I84,"","err") | P84: =IF(I84=J84+K84,"","err")
C85: 235-01 부정이익환수금 | E85: 0 | F85: 0 | G85: 0 | H85: 0 | I85: 0 | J85: 0 | K85: 0 | L85: =IFERROR(G85/E85,0)*100 -> 0 | M85: =IFERROR(G85/F85,0)*100 -> 0 | O85: =IF(F85=G85+H85+I85,"","err") | P85: =IF(I85=J85+K85,"","err")
B86: 236 부담금 | E86: 0 | F86: 5679785050 | G86: 5275533510 | H86: 0 | I86: 404251540 | J86: 404251540 | K86: 0 | L86: =IFERROR(G86/E86,0)*100 -> 0 | M86: =IFERROR(G86/F86,0)*100 -> 92.882626 | O86: =IF(F86=G86+H86+I86,"","err") | P86: =IF(I86=J86+K86,"","err")
C87: 학교용지부담금 | E87: 0 | F87: 6966600 | G87: 6966600 | H87: 0 | I87: 0 | J87: 0 | K87: 0 | L87: =IFERROR(G87/E87,0)*100 -> 0 | M87: =IFERROR(G87/F87,0)*100 -> 100 | O87: =IF(F87=G87+H87+I87,"","err") | P87: =IF(I87=J87+K87,"","err")
C88: 교통유발부담금 | E88: 0 | F88: 5672818450 | G88: 5268566910 | H88: 0 | I88: 404251540 | J88: 404251540 | K88: 0 | L88: =IFERROR(G88/E88,0)*100 -> 0 | M88: =IFERROR(G88/F88,0)*100 -> 92.873885
C89: 기반시설부담금 | E89: 0 | F89: 0 | G89: 0 | H89: 0 | I89: 0 | J89: 0 | K89: 0 | L89: =IFERROR(G89/E89,0)*100 -> 0 | M89: =IFERROR(G89/F89,0)*100 -> 0
C90: 부담금 | E90: 0 | F90: 0 | G90: 0 | H90: 0 | I90: 0 | J90: 0 | K90: 0 | L90: =IFERROR(G90/E90,0)*100 -> 0 | M90: =IFERROR(G90/F90,0)*100 -> 0
B91: 237 범칙금 | E91: 0 | F91: 0 | G91: 0 | H91: 0 | I91: 0 | J91: 0 | K91: 0 | L91: =IFERROR(G91/E91,0)*100 -> 0 | M91: =IFERROR(G91/F91,0)*100 -> 0 | O91: =IF(F91=G91+H91+I91,"","err") | P91: =IF(I91=J91+K91,"","err")
C92: 237-01 범칙금 | E92: 0 | F92: 0 | G92: 0 | H92: 0 | I92: 0 | J92: 0 | K92: 0 | L92: =IFERROR(G92/E92,0)*100 -> 0 | M92: =IFERROR(G92/F92,0)*100 -> 0 | O92: =IF(F92=G92+H92+I92,"","err") | P92: =IF(I92=J92+K92,"","err")
