Workbook

Sheet 군구세외 일반회계
B2: =B4&L3&" 일반회계 세외수입 징수현황" -> 2023년 1 월 서구 일반회계 세외수입 징수현황
K3: 기관명 | L3: 서구 | O3: =COUNTIF(O7:P77,"err") -> 0
B4: 2023년 1 월 | L4: (단위:원,%)
D5: 구 분 | E5: 최종예산액 | F5: 징수결정액 | G5: 징 수 액 | H5: 불납결손액 | I5: 미수납액 | L5: 징수율
B6: 항 목 별 | E6: (A) | F6: (B) | G6: (C) | H6: (D) | I6: 미수납액 (E=B-C-D) | J6: 체납액 (F=E-G) | K6: 납기미도래 (G) | L6: (C/A) | M6: (C/B)
B7: 200 세외수입 | E7: =E8+E40+E62 -> 79708867000 | F7: =F8+F40+F62 -> 45144084590 | G7: =G8+G40+G62 -> 9057274633 | H7: =H8+H40+H62 -> 24801700 | I7: =I8+I40+I62 -> 36062008257 | J7: =J8+J40+J62 -> 31785747375 | K7: =K8+K40+K62 -> 4276260882 | L7: =IFERROR(G7/E7,0)*100 -> 11.362945 | M7: =IFERROR(G7/F7,0)*100 -> 20.063038 | O7: =IF(F7=G7+H7+I7,"","err") | P7: =IF(I7=J7+K7,"","err")
B8: 210 경상적세외수입 | E8: =E9+E12+E22+E28+E34+E36 -> 56147495000 | F8: =F9+F12+F22+F28+F34+F36 -> 7728510140 | G8: =G9+G12+G22+G28+G34+G36 -> 7634622172 | H8: =H9+H12+H22+H28+H34+H36 -> 0 | I8: =I9+I12+I22+I28+I34+I36 -> 93887968 | J8: =J9+J12+J22+J28+J34+J36 -> 43640 | K8: =K9+K12+K22+K28+K34+K36 -> 93844328 | L8: =IFERROR(G8/E8,0)*100 -> 13.59744 | M8: =IFERROR(G8/F8,0)*100 -> 98.785174 | O8: =IF(F8=G8+H8+I8,"","err") | P8: =IF(I8=J8+K8,"","err")
B9: 211 재산임대수입 | E9: =SUM(E10:E11) -> 138516000 | F9: =SUM(F10:F11) -> 394381200 | G9: =SUM(G10:G11) -> 384067870 | H9: =SUM(H10:H11) -> 0 | I9: =SUM(I10:I11) -> 10313330 | J9: =SUM(J10:J11) -> 0 | K9: =SUM(K10:K11) -> 10313330 | L9: =IFERROR(G9/E9,0)*100 -> 277.27329 | M9: =IFERROR(G9/F9,0)*100 -> 97.384934 | O9: =IF(F9=G9+H9+I9,"","err") | P9: =IF(I9=J9+K9,"","err")
C10: 211-01 국유재산임대료 | F10: 297470130 | G10: 297470130 | I10: =F10-G10-H10 -> 0 | J10: =I10-K10 -> 0 | L10: =IFERROR(G10/E10,0)*100 -> 0 | M10: =IFERROR(G10/F10,0)*100 -> 100 | O10: =IF(F10=G10+H10+I10,"","err") | P10: =IF(I10=J10+K10,"","err")
C11: 211-02 공유재산임대료 | E11: 138516000 | F11: 96911070 | G11: 86597740 | I11: =F11-G11-H11 -> 10313330 | J11: =I11-K11 -> 0 | K11: 10313330 | L11: =IFERROR(G11/E11,0)*100 -> 62.518222 | M11: =IFERROR(G11/F11,0)*100 -> 89.357944 | O11: =IF(F11=G11+H11+I11,"","err") | P11: =IF(I11=J11+K11,"","err")
B12: 212 사용료수입 | E12: =SUM(E13:E21) -> 9112092000 | F12: =SUM(F13:F21) -> 369028075 | G12: =SUM(G13:G21) -> 334364115 | H12: =SUM(H13:H21) -> 0 | I12: =SUM(I13:I21) -> 34663960 | J12: =SUM(J13:J21) -> 43640 | K12: =SUM(K13:K21) -> 34620320 | L12: =IFERROR(G12/E12,0)*100 -> 3.669455 | M12: =IFERROR(G12/F12,0)*100 -> 90.606688 | O12: =IF(F12=G12+H12+I12,"","err") | P12: =IF(I12=J12+K12,"","err")
C13: 212-01 도로사용료 | E13: 2050000000 | F13: 45465100 | G13: 16422900 | I13: =F13-G13-H13 -> 29042200 | J13: =I13-K13 -> 0 | K13: 29042200 | L13: =IFERROR(G13/E13,0)*100 -> 0.80111707 | M13: =IFERROR(G13/F13,0)*100 -> 36.121992 | O13: =IF(F13=G13+H13+I13,"","err") | P13: =IF(I13=J13+K13,"","err")
C14: 212-02 하천사용료 | I14: =F14-G14-H14 -> 0 | J14: =I14-K14 -> 0 | L14: =IFERROR(G14/E14,0)*100 -> 0 | M14: =IFERROR(G14/F14,0)*100 -> 0 | O14: =IF(F14=G14+H14+I14,"","err") | P14: =IF(I14=J14+K14,"","err")
C15: 212-03 하수도사용료 | I15: =F15-G15-H15 -> 0 | J15: =I15-K15 -> 0 | L15: =IFERROR(G15/E15,0)*100 -> 0 | M15: =IFERROR(G15/F15,0)*100 -> 0 | O15: =IF(F15=G15+H15+I15,"","err") | P15: =IF(I15=J15+K15,"","err")
C16: 212-04 상수도사용료 | I16: =F16-G16-H16 -> 0 | J16: =I16-K16 -> 0 | L16: =IFERROR(G16/E16,0)*100 -> 0 | M16: =IFERROR(G16/F16,0)*100 -> 0 | O16: =IF(F16=G16+H16+I16,"","err") | P16: =IF(I16=J16+K16,"","err")
C17: 212-05 공유수면사용료 | I17: =F17-G17-H17 -> 0 | J17: =I17-K17 -> 0 | L17: =IFERROR(G17/E17,0)*100 -> 0 | M17: =IFERROR(G17/F17,0)*100 -> 0 | O17: =IF(F17=G17+H17+I17,"","err") | P17: =IF(I17=J17+K17,"","err")
C18: 212-06 시장사용료 | I18: =F18-G18-H18 -> 0 | J18: =I18-K18 -> 0 | L18: =IFERROR(G18/E18,0)*100 -> 0 | M18: =IFERROR(G18/F18,0)*100 -> 0 | O18: =IF(F18=G18+H18+I18,"","err") | P18: =IF(I18=J18+K18,"","err")
C19: 212-07 입장료수입 | E19: 5958284000 | F19: 153339095 | G19: 152961105 | I19: =F19-G19-H19 -> 377990 | J19: =I19-K19 -> 0 | K19: 377990 | L19: =IFERROR(G19/E19,0)*100 -> 2.5672006 | M19: =IFERROR(G19/F19,0)*100 -> 99.753494 | O19: =IF(F19=G19+H19+I19,"","err") | P19: =IF(I19=J19+K19,"","err")
C20: 212-08 주차요금수입 | E20: 56476000 | F20: 6221200 | G20: 6221200 | I20: =F20-G20-H20 -> 0 | J20: =I20-K20 -> 0 | O20: =IF(F20=G20+H20+I20,"","err") | P20: =IF(I20=J20+K20,"","err")
C21: 212-09 기타사용료 | E21: 1047332000 | F21: 164002680 | G21: 158758910 | I21: =F21-G21-H21 -> 5243770 | J21: =I21-K21 -> 43640 | K21: 5200130 | L21: =IFERROR(G21/E21,0)*100 -> 15.158413 | M21: =IFERROR(G21/F21,0)*100 -> 96.802632 | O21: =IF(F21=G21+H21+I21,"","err") | P21: =IF(I21=J21+K21,"","err")
B22: 213 수수료수입 | E22: =SUM(E23:E27) -> 12034603000 | F22: =SUM(F23:F27) -> 1270034365 | G22: =SUM(G23:G27) -> 1221123687 | H22: =SUM(H23:H27) -> 0 | I22: =SUM(I23:I27) -> 48910678 | J22: =SUM(J23:J27) -> 0 | K22: =SUM(K23:K27) -> 48910678 | L22: =IFERROR(G22/E22,0)*100 -> 10.146772 | M22: =IFERROR(G22/F22,0)*100 -> 96.14887 | O22: =IF(F22=G22+H22+I22,"","err") | P22: =IF(I22=J22+K22,"","err")
C23: 213-01 증지수입 | E23: 1732814000 | F23: 130644600 | G23: 111786050 | I23: =F23-G23-H23 -> 18858550 | J23: =I23-K23 -> 0 | K23: 18858550 | L23: =IFERROR(G23/E23,0)*100 -> 6.451128 | M23: =IFERROR(G23/F23,0)*100 -> 85.564998 | O23: =IF(F23=G23+H23+I23,"","err") | P23: =IF(I23=J23+K23,"","err")
C24: 213-02 폐기물처리수수료 | E24: 10095969000 | F24: 1090843528 | G24: 1064982510 | I24: =F24-G24-H24 -> 25861018 | J24: =I24-K24 -> 0 | K24: 25861018 | L24: =IFERROR(G24/E24,0)*100 -> 10.548591 | M24: =IFERROR(G24/F24,0)*100 -> 97.629264 | O24: =IF(F24=G24+H24+I24,"","err") | P24: =IF(I24=J24+K24,"","err")
C25: 213-03 재활용품수거판매수입 | E25: 13420000 | I25: =F25-G25-H25 -> 0 | J25: =I25-K25 -> 0 | L25: =IFERROR(G25/E25,0)*100 -> 0 | M25: =IFERROR(G25/F25,0)*100 -> 0 | O25: =IF(F25=G25+H25+I25,"","err") | P25: =IF(I25=J25+K25,"","err")
C26: 213-04 보건의료수수료 | F26: 3071290 | G26: 3029490 | I26: =F26-G26-H26 -> 41800 | J26: =I26-K26 -> 0 | K26: 41800 | O26: =IF(F26=G26+H26+I26,"","err") | P26: =IF(I26=J26+K26,"","err")
C27: 213-05 기타수수료 | E27: 192400000 | F27: 45474947 | G27: 41325637 | I27: =F27-G27-H27 -> 4149310 | J27: =I27-K27 -> 0 | K27: 4149310 | L27: =IFERROR(G27/E27,0)*100 -> 21.479021 | M27: =IFERROR(G27/F27,0)*100 -> 90.875613 | O27: =IF(F27=G27+H27+I27,"","err") | P27: =IF(I27=J27+K27,"","err")
B28: 214 사업수입 | E28: =SUM(E29:E33) -> 3391773000 | F28: =SUM(F29:F33) -> 1580770370 | G28: =SUM(G29:G33) -> 1580770370 | H28: =SUM(H29:H33) -> 0 | I28: =SUM(I29:I33) -> 0 | J28: =SUM(J29:J33) -> 0 | K28: =SUM(K29:K33) -> 0 | L28: =IFERROR(G28/E28,0)*100 -> 46.606019 | M28: =IFERROR(G28/F28,0)*100 -> 100 | O28: =IF(F28=G28+H28+I28,"","err") | P28: =IF(I28=J28+K28,"","err")
C29: 214-01 사업장생산수입 | E29: 3391773000 | F29: 37990 | G29: 37990 | I29: =F29-G29-H29 -> 0 | J29: =I29-K29 -> 0 | L29: =IFERROR(G29/E29,0)*100 -> 0.0011200632 | M29: =IFERROR(G29/F29,0)*100 -> 100 | O29: =IF(F29=G29+H29+I29,"","err") | P29: =IF(I29=J29+K29,"","err")
C30: 214-02 청산금수입 | I30: =F30-G30-H30 -> 0 | J30: =I30-K30 -> 0 | L30: =IFERROR(G30/E30,0)*100 -> 0 | M30: =IFERROR(G30/F30,0)*100 -> 0 | O30: =IF(F30=G30+H30+I30,"","err") | P30: =IF(I30=J30+K30,"","err")
C31: 214-03 매각사업수입 | I31: =F31-G31-H31 -> 0 | J31: =I31-K31 -> 0 | L31: =IFERROR(G31/E31,0)*100 -> 0 | M31: =IFERROR(G31/F31,0)*100 -> 0 | O31: =IF(F31=G31+H31+I31,"","err") | P31: =IF(I31=J31+K31,"","err")
C32: 214-04 배당금수입 | I32: =F32-G32-H32 -> 0 | J32: =I32-K32 -> 0 | L32: =IFERROR(G32/E32,0)*100 -> 0 | M32: =IFERROR(G32/F32,0)*100 -> 0 | O32: =IF(F32=G32+H32+I32,"","err") | P32: =IF(I32=J32+K32,"","err")
C33: 214-05 기타사업수입 | F33: 1580732380 | G33: 1580732380 | I33: =F33-G33-H33 -> 0 | J33: =I33-K33 -> 0 | L33: =IFERROR(G33/E33,0)*100 -> 0 | M33: =IFERROR(G33/F33,0)*100 -> 100 | O33: =IF(F33=G33+H33+I33,"","err") | P33: =IF(I33=J33+K33,"","err")
B34: 215 징수교부금수입 | E34: =E35 -> 28364684000 | F34: =F35 -> 2425760000 | G34: =G35 -> 2425760000 | H34: =H35 -> 0 | I34: =I35 -> 0 | J34: =J35 -> 0 | K34: =K35 -> 0 | L34: =IFERROR(G34/E34,0)*100 -> 8.5520431 | M34: =IFERROR(G34/F34,0)*100 -> 100 | O34: =IF(F34=G34+H34+I34,"","err") | P34: =IF(I34=J34+K34,"","err")
C35: 215-01 징수교부금수입 | E35: 28364684000 | F35: 2425760000 | G35: 2425760000 | I35: =F35-G35-H35 -> 0 | J35: =I35-K35 -> 0 | L35: =IFERROR(G35/E35,0)*100 -> 8.5520431 | M35: =IFERROR(G35/F35,0)*100 -> 100 | O35: =IF(F35=G35+H35+I35,"","err") | P35: =IF(I35=J35+K35,"","err")
B36: 216 이자수입 | E36: =SUM(E37:E39) -> 3105827000 | F36: =SUM(F37:F39) -> 1688536130 | G36: =SUM(G37:G39) -> 1688536130 | H36: =SUM(H37:H39) -> 0 | I36: =SUM(I37:I39) -> 0 | J36: =SUM(J37:J39) -> 0 | K36: =SUM(K37:K39) -> 0 | L36: =IFERROR(G36/E36,0)*100 -> 54.366716 | M36: =IFERROR(G36/F36,0)*100 -> 100 | O36: =IF(F36=G36+H36+I36,"","err") | P36: =IF(I36=J36+K36,"","err")
C37: 216-01 공공예금이자수입 | E37: 3105827000 | F37: 1672996740 | G37: 1672996740 | I37: =F37-G37-H37 -> 0 | J37: =I37-K37 -> 0 | L37: =IFERROR(G37/E37,0)*100 -> 53.866385 | M37: =IFERROR(G37/F37,0)*100 -> 100 | O37: =IF(F37=G37+H37+I37,"","err") | P37: =IF(I37=J37+K37,"","err")
C38: 216-02 융자금회수이자수입 | I38: =F38-G38-H38 -> 0 | J38: =I38-K38 -> 0 | L38: =IFERROR(G38/E38,0)*100 -> 0 | M38: =IFERROR(G38/F38,0)*100 -> 0 | O38: =IF(F38=G38+H38+I38,"","err") | P38: =IF(I38=J38+K38,"","err")
C39: 216-03 기타이자수입 | F39: 15539390 | G39: 15539390 | I39: =F39-G39-H39 -> 0 | J39: =I39-K39 -> 0 | L39: =IFERROR(G39/E39,0)*100 -> 0 | M39: =IFERROR(G39/F39,0)*100 -> 100 | O39: =IF(F39=G39+H39+I39,"","err") | P39: =IF(I39=J39+K39,"","err")
B40: 220 임시적세외수입 | E40: =E41+E46+E48+E52+E60 -> 15056792000 | F40: =F41+F46+F48+F52+F60 -> 35914095700 | G40: =G41+G46+G48+G52+G60 -> 1004790381 | H40: =H41+H46+H48+H52+H60 -> 24801700 | I40: =I41+I46+I48+I52+I60 -> 34884503619 | J40: =J41+J46+J48+J52+J60 -> 31645224295 | K40: =K41+K46+K48+K52+K60 -> 3239279324 | L40: =IFERROR(G40/E40,0)*100 -> 6.6733364 | M40: =IFERROR(G40/F40,0)*100 -> 2.7977605 | O40: =IF(F40=G40+H40+I40,"","err") | P40: =IF(I40=J40+K40,"","err")
B41: 221 재산매각수입 | E41: =SUM(E42:E45) -> 0 | F41: =SUM(F42:F45) -> 0 | G41: =SUM(G42:G45) -> 0 | H41: =SUM(H42:H45) -> 0 | I41: =SUM(I42:I45) -> 0 | J41: =SUM(J42:J45) -> 0 | K41: =SUM(K42:K45) -> 0 | L41: =IFERROR(G41/E41,0)*100 -> 0 | M41: =IFERROR(G41/F41,0)*100 -> 0 | O41: =IF(F41=G41+H41+I41,"","err") | P41: =IF(I41=J41+K41,"","err")
...

Sheet 군구세외 일반회계_지난년도
B2: =B4&L3&" 일반회계 지난년도 세외수입 징수현황" -> 2023년 1 월 서구 일반회계 지난년도 세외수입 징수현황
K3: 기관명 | L3: ='군구세외 일반회계'!L3:M3 -> 서구 | O3: =COUNTIF(O7:P77,"err") -> 0
B4: ='군구세외 일반회계'!B4:D4 -> 2023년 1 월 | L4: (단위:원,%)
D5: 구 분 | E5: 최종예산액 | F5: 징수결정액 | G5: 징 수 액 | H5: 불납결손액 | I5: 미수납액 | L5: 징수율
B6: 항 목 별 | E6: (A) | F6: (B) | G6: (C) | H6: (D) | I6: 미수납액 (E=B-C-D) | J6: 체납액 (F=E-G) | K6: 납기미도래 (G) | L6: (C/A) | M6: (C/B)
B7: 200 세외수입 | E7: 4041950000 | F7: =F8+F40+F62 -> 35494211277 | G7: =G8+G40+G62 -> 618266422 | H7: =H8+H40+H62 -> 24801700 | I7: =I8+I40+I62 -> 34851143155 | J7: =J8+J40+J62 -> 31638503645 | K7: =K8+K40+K62 -> 3212639510 | L7: =IFERROR(G7/E7,0)*100 -> 15.296241 | M7: =IFERROR(G7/F7,0)*100 -> 1.7418796 | O7: =IF(F7=G7+H7+I7,"","err") | P7: =IF(I7=J7+K7,"","err")
B8: 210 경상적세외수입 | E8: =E9+E12+E22+E28+E34+E36 -> 0 | F8: =F9+F12+F22+F28+F34+F36 -> 537130866 | G8: =G9+G12+G22+G28+G34+G36 -> 259296900 | H8: =H9+H12+H22+H28+H34+H36 -> 0 | I8: =I9+I12+I22+I28+I34+I36 -> 277833966 | J8: =J9+J12+J22+J28+J34+J36 -> 277833966 | K8: =K9+K12+K22+K28+K34+K36 -> 0 | L8: =IFERROR(G8/E8,0)*100 -> 0 | M8: =IFERROR(G8/F8,0)*100 -> 48.274437 | O8: =IF(F8=G8+H8+I8,"","err") | P8: =IF(I8=J8+K8,"","err")
B9: 211 재산임대수입 | E9: =SUM(E10:E11) -> 0 | F9: =SUM(F10:F11) -> 90751800 | G9: =SUM(G10:G11) -> 15365340 | H9: =SUM(H10:H11) -> 0 | I9: =SUM(I10:I11) -> 75386460 | J9: =SUM(J10:J11) -> 75386460 | K9: =SUM(K10:K11) -> 0 | L9: =IFERROR(G9/E9,0)*100 -> 0 | M9: =IFERROR(G9/F9,0)*100 -> 16.931168 | O9: =IF(F9=G9+H9+I9,"","err") | P9: =IF(I9=J9+K9,"","err")
C10: 211-01 국유재산임대료 | F10: 43302240 | G10: 0 | I10: =F10-G10-H10 -> 43302240 | J10: =I10-K10 -> 43302240 | L10: =IFERROR(G10/E10,0)*100 -> 0 | M10: =IFERROR(G10/F10,0)*100 -> 0 | O10: =IF(F10=G10+H10+I10,"","err") | P10: =IF(I10=J10+K10,"","err")
C11: 211-02 공유재산임대료 | F11: 47449560 | G11: 15365340 | I11: =F11-G11-H11 -> 32084220 | J11: =I11-K11 -> 32084220 | L11: =IFERROR(G11/E11,0)*100 -> 0 | M11: =IFERROR(G11/F11,0)*100 -> 32.382471 | O11: =IF(F11=G11+H11+I11,"","err") | P11: =IF(I11=J11+K11,"","err")
B12: 212 사용료수입 | E12: =SUM(E13:E21) -> 0 | F12: =SUM(F13:F21) -> 414410676 | G12: =SUM(G13:G21) -> 233858130 | H12: =SUM(H13:H21) -> 0 | I12: =SUM(I13:I21) -> 180552546 | J12: =SUM(J13:J21) -> 180552546 | K12: =SUM(K13:K21) -> 0 | L12: =IFERROR(G12/E12,0)*100 -> 0 | M12: =IFERROR(G12/F12,0)*100 -> 56.431493 | O12: =IF(F12=G12+H12+I12,"","err") | P12: =IF(I12=J12+K12,"","err")
C13: 212-01 도로사용료 | F13: 181262010 | G13: 8282280 | I13: =F13-G13-H13 -> 172979730 | J13: =I13-K13 -> 172979730 | L13: =IFERROR(G13/E13,0)*100 -> 0 | M13: =IFERROR(G13/F13,0)*100 -> 4.569231 | O13: =IF(F13=G13+H13+I13,"","err") | P13: =IF(I13=J13+K13,"","err")
C14: 212-02 하천사용료 | F14: -2940570 | G14: 0 | I14: =F14-G14-H14 -> -2940570 | J14: =I14-K14 -> -2940570 | L14: =IFERROR(G14/E14,0)*100 -> 0 | M14: =IFERROR(G14/F14,0)*100 -> 0 | O14: =IF(F14=G14+H14+I14,"","err") | P14: =IF(I14=J14+K14,"","err")
C15: 212-03 하수도사용료 | I15: =F15-G15-H15 -> 0 | J15: =I15-K15 -> 0 | L15: =IFERROR(G15/E15,0)*100 -> 0 | M15: =IFERROR(G15/F15,0)*100 -> 0 | O15: =IF(F15=G15+H15+I15,"","err") | P15: =IF(I15=J15+K15,"","err")
C16: 212-04 상수도사용료 | I16: =F16-G16-H16 -> 0 | J16: =I16-K16 -> 0 | L16: =IFERROR(G16/E16,0)*100 -> 0 | M16: =IFERROR(G16/F16,0)*100 -> 0 | O16: =IF(F16=G16+H16+I16,"","err") | P16: =IF(I16=J16+K16,"","err")
C17: 212-05 공유수면사용료 | F17: 14364023 | G17: 288840 | I17: =F17-G17-H17 -> 14075183 | J17: =I17-K17 -> 14075183 | L17: =IFERROR(G17/E17,0)*100 -> 0 | M17: =IFERROR(G17/F17,0)*100 -> 2.0108573 | O17: =IF(F17=G17+H17+I17,"","err") | P17: =IF(I17=J17+K17,"","err")
C18: 212-06 시장사용료 | I18: =F18-G18-H18 -> 0 | J18: =I18-K18 -> 0 | L18: =IFERROR(G18/E18,0)*100 -> 0 | M18: =IFERROR(G18/F18,0)*100 -> 0 | O18: =IF(F18=G18+H18+I18,"","err") | P18: =IF(I18=J18+K18,"","err")
C19: 212-07 입장료수입 | F19: 461501 | G19: 0 | I19: =F19-G19-H19 -> 461501 | J19: =I19-K19 -> 461501 | L19: =IFERROR(G19/E19,0)*100 -> 0 | M19: =IFERROR(G19/F19,0)*100 -> 0 | O19: =IF(F19=G19+H19+I19,"","err") | P19: =IF(I19=J19+K19,"","err")
C20: 212-08 주차요금수입 | I20: =F20-G20-H20 -> 0 | J20: =I20-K20 -> 0 | O20: =IF(F20=G20+H20+I20,"","err") | P20: =IF(I20=J20+K20,"","err")
C21: 212-09 기타사용료 | F21: 221263712 | G21: 225287010 | I21: =F21-G21-H21 -> -4023298 | J21: =I21-K21 -> -4023298 | L21: =IFERROR(G21/E21,0)*100 -> 0 | M21: =IFERROR(G21/F21,0)*100 -> 101.81833 | O21: =IF(F21=G21+H21+I21,"","err") | P21: =IF(I21=J21+K21,"","err")
B22: 213 수수료수입 | E22: =SUM(E23:E27) -> 0 | F22: =SUM(F23:F27) -> 42136860 | G22: =SUM(G23:G27) -> 10073430 | H22: =SUM(H23:H27) -> 0 | I22: =SUM(I23:I27) -> 32063430 | J22: =SUM(J23:J27) -> 32063430 | K22: =SUM(K23:K27) -> 0 | L22: =IFERROR(G22/E22,0)*100 -> 0 | M22: =IFERROR(G22/F22,0)*100 -> 23.906456 | O22: =IF(F22=G22+H22+I22,"","err") | P22: =IF(I22=J22+K22,"","err")
C23: 213-01 증지수입 | F23: 9449110 | G23: 9484600 | I23: =F23-G23-H23 -> -35490 | J23: =I23-K23 -> -35490 | L23: =IFERROR(G23/E23,0)*100 -> 0 | M23: =IFERROR(G23/F23,0)*100 -> 100.37559 | O23: =IF(F23=G23+H23+I23,"","err") | P23: =IF(I23=J23+K23,"","err")
C24: 213-02 폐기물처리수수료 | I24: =F24-G24-H24 -> 0 | J24: =I24-K24 -> 0 | L24: =IFERROR(G24/E24,0)*100 -> 0 | M24: =IFERROR(G24/F24,0)*100 -> 0 | O24: =IF(F24=G24+H24+I24,"","err") | P24: =IF(I24=J24+K24,"","err")
C25: 213-03 재활용품수거판매수입 | F25: 12815520 | G25: 0 | I25: =F25-G25-H25 -> 12815520 | J25: =I25-K25 -> 12815520 | L25: =IFERROR(G25/E25,0)*100 -> 0 | M25: =IFERROR(G25/F25,0)*100 -> 0 | O25: =IF(F25=G25+H25+I25,"","err") | P25: =IF(I25=J25+K25,"","err")
C26: 213-04 보건의료수수료 | F26: 24100 | G26: 24100 | I26: =F26-G26-H26 -> 0 | J26: =I26-K26 -> 0 | L26: =IFERROR(G26/E26,0)*100 -> 0 | M26: =IFERROR(G26/F26,0)*100 -> 100 | O26: =IF(F26=G26+H26+I26,"","err") | P26: =IF(I26=J26+K26,"","err")
C27: 213-05 기타수수료 | F27: 19848130 | G27: 564730 | I27: =F27-G27-H27 -> 19283400 | J27: =I27-K27 -> 19283400 | L27: =IFERROR(G27/E27,0)*100 -> 0 | M27: =IFERROR(G27/F27,0)*100 -> 2.8452554 | O27: =IF(F27=G27+H27+I27,"","err") | P27: =IF(I27=J27+K27,"","err")
B28: 214 사업수입 | E28: =SUM(E29:E33) -> 0 | F28: =SUM(F29:F33) -> 0 | G28: =SUM(G29:G33) -> 0 | H28: =SUM(H29:H33) -> 0 | I28: =SUM(I29:I33) -> 0 | J28: =SUM(J29:J33) -> 0 | K28: =SUM(K29:K33) -> 0 | L28: =IFERROR(G28/E28,0)*100 -> 0 | M28: =IFERROR(G28/F28,0)*100 -> 0 | O28: =IF(F28=G28+H28+I28,"","err") | P28: =IF(I28=J28+K28,"","err")
C29: 214-01 사업장생산수입 | I29: =F29-G29-H29 -> 0 | J29: =I29-K29 -> 0 | L29: =IFERROR(G29/E29,0)*100 -> 0 | M29: =IFERROR(G29/F29,0)*100 -> 0 | O29: =IF(F29=G29+H29+I29,"","err") | P29: =IF(I29=J29+K29,"","err")
C30: 214-02 청산금수입 | I30: =F30-G30-H30 -> 0 | J30: =I30-K30 -> 0 | L30: =IFERROR(G30/E30,0)*100 -> 0 | M30: =IFERROR(G30/F30,0)*100 -> 0 | O30: =IF(F30=G30+H30+I30,"","err") | P30: =IF(I30=J30+K30,"","err")
C31: 214-03 매각사업수입 | I31: =F31-G31-H31 -> 0 | J31: =I31-K31 -> 0 | L31: =IFERROR(G31/E31,0)*100 -> 0 | M31: =IFERROR(G31/F31,0)*100 -> 0 | O31: =IF(F31=G31+H31+I31,"","err") | P31: =IF(I31=J31+K31,"","err")
C32: 214-04 배당금수입 | I32: =F32-G32-H32 -> 0 | J32: =I32-K32 -> 0 | L32: =IFERROR(G32/E32,0)*100 -> 0 | M32: =IFERROR(G32/F32,0)*100 -> 0 | O32: =IF(F32=G32+H32+I32,"","err") | P32: =IF(I32=J32+K32,"","err")
C33: 214-05 기타사업수입 | I33: =F33-G33-H33 -> 0 | J33: =I33-K33 -> 0 | L33: =IFERROR(G33/E33,0)*100 -> 0 | M33: =IFERROR(G33/F33,0)*100 -> 0 | O33: =IF(F33=G33+H33+I33,"","err") | P33: =IF(I33=J33+K33,"","err")
B34: 215 징수교부금수입 | E34: =E35 -> 0 | F34: =F35 -> -10170870 | G34: =G35 -> 0 | H34: =H35 -> 0 | I34: =I35 -> -10170870 | J34: =J35 -> -10170870 | K34: =K35 -> 0 | L34: =IFERROR(G34/E34,0)*100 -> 0 | M34: =IFERROR(G34/F34,0)*100 -> 0 | O34: =IF(F34=G34+H34+I34,"","err") | P34: =IF(I34=J34+K34,"","err")
C35: 215-01 징수교부금수입 | F35: -10170870 | I35: =F35-G35-H35 -> -10170870 | J35: =I35-K35 -> -10170870 | L35: =IFERROR(G35/E35,0)*100 -> 0 | M35: =IFERROR(G35/F35,0)*100 -> 0 | O35: =IF(F35=G35+H35+I35,"","err") | P35: =IF(I35=J35+K35,"","err")
B36: 216 이자수입 | E36: =SUM(E37:E39) -> 0 | F36: =SUM(F37:F39) -> 2400 | G36: =SUM(G37:G39) -> 0 | H36: =SUM(H37:H39) -> 0 | I36: =SUM(I37:I39) -> 2400 | J36: =SUM(J37:J39) -> 2400 | K36: =SUM(K37:K39) -> 0 | L36: =IFERROR(G36/E36,0)*100 -> 0 | M36: =IFERROR(G36/F36,0)*100 -> 0 | O36: =IF(F36=G36+H36+I36,"","err") | P36: =IF(I36=J36+K36,"","err")
C37: 216-01 공공예금이자수입 | F37: 2400 | I37: =F37-G37-H37 -> 2400 | J37: =I37-K37 -> 2400 | L37: =IFERROR(G37/E37,0)*100 -> 0 | M37: =IFERROR(G37/F37,0)*100 -> 0 | O37: =IF(F37=G37+H37+I37,"","err") | P37: =IF(I37=J37+K37,"","err")
C38: 216-02 융자금회수이자수입 | I38: =F38-G38-H38 -> 0 | J38: =I38-K38 -> 0 | L38: =IFERROR(G38/E38,0)*100 -> 0 | M38: =IFERROR(G38/F38,0)*100 -> 0 | O38: =IF(F38=G38+H38+I38,"","err") | P38: =IF(I38=J38+K38,"","err")
C39: 216-03 기타이자수입 | I39: =F39-G39-H39 -> 0 | J39: =I39-K39 -> 0 | L39: =IFERROR(G39/E39,0)*100 -> 0 | M39: =IFERROR(G39/F39,0)*100 -> 0 | O39: =IF(F39=G39+H39+I39,"","err") | P39: =IF(I39=J39+K39,"","err")
B40: 220 임시적세외수입 | E40: =E41+E46+E48+E52+E60 -> 0 | F40: =F41+F46+F48+F52+F60 -> 2650054104 | G40: =G41+G46+G48+G52+G60 -> 51982307 | H40: =H41+H46+H48+H52+H60 -> 0 | I40: =I41+I46+I48+I52+I60 -> 2598071797 | J40: =J41+J46+J48+J52+J60 -> 2598071797 | K40: =K41+K46+K48+K52+K60 -> 0 | L40: =IFERROR(G40/E40,0)*100 -> 0 | M40: =IFERROR(G40/F40,0)*100 -> 1.9615564 | O40: =IF(F40=G40+H40+I40,"","err") | P40: =IF(I40=J40+K40,"","err")
B41: 221 재산매각수입 | E41: =SUM(E42:E45) -> 0 | F41: =SUM(F42:F45) -> 0 | G41: =SUM(G42:G45) -> 0 | H41: =SUM(H42:H45) -> 0 | I41: =SUM(I42:I45) -> 0 | J41: =SUM(J42:J45) -> 0 | K41: =SUM(K42:K45) -> 0 | L41: =IFERROR(G41/E41,0)*100 -> 0 | M41: =IFERROR(G41/F41,0)*100 -> 0 | O41: =IF(F41=G41+H41+I41,"","err") | P41: =IF(I41=J41+K41,"","err")
...

Sheet 군구세외 특별회계
B2: =B4&L3&" 기타특별회계 세외수입 징수현황" -> 2023년 1 월 서구 기타특별회계 세외수입 징수현황
K3: 기관명 | L3: ='군구세외 일반회계'!L3:M3 -> 서구 | O3: =COUNTIF(O7:P77,"err") -> 0
B4: ='군구세외 일반회계'!B4:D4 -> 2023년 1 월 | L4: (단위:원,%)
D5: 구 분 | E5: 최종예산액 | F5: 징수결정액 | G5: 징 수 액 | H5: 불납결손액 | I5: 미수납액 | L5: 징수율
B6: 항 목 별 | E6: (A) | F6: (B) | G6: (C) | H6: (D) | I6: 미수납액 (E=B-C-D) | J6: 체납액 (F=E-G) | K6: 납기미도래 (G) | L6: (C/A) | M6: (C/B)
B7: 200 세외수입 | E7: =E8+E40+E62 -> 10011175995 | F7: =F8+F40+F62 -> 10113965245 | G7: =G8+G40+G62 -> 989567410 | H7: =H8+H40+H62 -> 5735770 | I7: =I8+I40+I62 -> 9118662065 | J7: =J8+J40+J62 -> 9118616505 | K7: =K8+K40+K62 -> 45560 | L7: =IFERROR(G7/E7,0)*100 -> 9.884627 | M7: =IFERROR(G7/F7,0)*100 -> 9.7841686 | O7: =IF(F7=G7+H7+I7,"","err") | P7: =IF(I7=J7+K7,"","err")
B8: 210 경상적세외수입 | E8: =E9+E12+E22+E28+E34+E36 -> 2189220510 | F8: =F9+F12+F22+F28+F34+F36 -> 600269830 | G8: =G9+G12+G22+G28+G34+G36 -> 600269830 | H8: =H9+H12+H22+H28+H34+H36 -> 0 | I8: =I9+I12+I22+I28+I34+I36 -> 0 | J8: =J9+J12+J22+J28+J34+J36 -> 0 | K8: =K9+K12+K22+K28+K34+K36 -> 0 | L8: =IFERROR(G8/E8,0)*100 -> 27.419341 | M8: =IFERROR(G8/F8,0)*100 -> 100 | O8: =IF(F8=G8+H8+I8,"","err") | P8: =IF(I8=J8+K8,"","err")
B9: 211 재산임대수입 | E9: =SUM(E10:E11) -> 0 | F9: =SUM(F10:F11) -> 0 | G9: =SUM(G10:G11) -> 0 | H9: =SUM(H10:H11) -> 0 | I9: =SUM(I10:I11) -> 0 | J9: =SUM(J10:J11) -> 0 | K9: =SUM(K10:K11) -> 0 | L9: =IFERROR(G9/E9,0)*100 -> 0 | M9: =IFERROR(G9/F9,0)*100 -> 0 | O9: =IF(F9=G9+H9+I9,"","err") | P9: =IF(I9=J9+K9,"","err")
C10: 211-01 국유재산임대료 | I10: =F10-G10-H10 -> 0 | J10: =I10-K10 -> 0 | L10: =IFERROR(G10/E10,0)*100 -> 0 | M10: =IFERROR(G10/F10,0)*100 -> 0 | O10: =IF(F10=G10+H10+I10,"","err") | P10: =IF(I10=J10+K10,"","err")
C11: 211-02 공유재산임대료 | I11: =F11-G11-H11 -> 0 | J11: =I11-K11 -> 0 | L11: =IFERROR(G11/E11,0)*100 -> 0 | M11: =IFERROR(G11/F11,0)*100 -> 0 | O11: =IF(F11=G11+H11+I11,"","err") | P11: =IF(I11=J11+K11,"","err")
B12: 212 사용료수입 | E12: =SUM(E13:E21) -> 1801094000 | F12: =SUM(F13:F21) -> 117309700 | G12: =SUM(G13:G21) -> 117309700 | H12: =SUM(H13:H21) -> 0 | I12: =SUM(I13:I21) -> 0 | J12: =SUM(J13:J21) -> 0 | K12: =SUM(K13:K21) -> 0 | L12: =IFERROR(G12/E12,0)*100 -> 6.5132469 | M12: =IFERROR(G12/F12,0)*100 -> 100 | O12: =IF(F12=G12+H12+I12,"","err") | P12: =IF(I12=J12+K12,"","err")
C13: 212-01 도로사용료 | I13: =F13-G13-H13 -> 0 | J13: =I13-K13 -> 0 | L13: =IFERROR(G13/E13,0)*100 -> 0 | M13: =IFERROR(G13/F13,0)*100 -> 0 | O13: =IF(F13=G13+H13+I13,"","err") | P13: =IF(I13=J13+K13,"","err")
C14: 212-02 하천사용료 | I14: =F14-G14-H14 -> 0 | J14: =I14-K14 -> 0 | L14: =IFERROR(G14/E14,0)*100 -> 0 | M14: =IFERROR(G14/F14,0)*100 -> 0 | O14: =IF(F14=G14+H14+I14,"","err") | P14: =IF(I14=J14+K14,"","err")
C15: 212-03 하수도사용료 | I15: =F15-G15-H15 -> 0 | J15: =I15-K15 -> 0 | L15: =IFERROR(G15/E15,0)*100 -> 0 | M15: =IFERROR(G15/F15,0)*100 -> 0 | O15: =IF(F15=G15+H15+I15,"","err") | P15: =IF(I15=J15+K15,"","err")
C16: 212-04 상수도사용료 | I16: =F16-G16-H16 -> 0 | J16: =I16-K16 -> 0 | L16: =IFERROR(G16/E16,0)*100 -> 0 | M16: =IFERROR(G16/F16,0)*100 -> 0 | O16: =IF(F16=G16+H16+I16,"","err") | P16: =IF(I16=J16+K16,"","err")
C17: 212-05 공유수면사용료 | I17: =F17-G17-H17 -> 0 | J17: =I17-K17 -> 0 | L17: =IFERROR(G17/E17,0)*100 -> 0 | M17: =IFERROR(G17/F17,0)*100 -> 0 | O17: =IF(F17=G17+H17+I17,"","err") | P17: =IF(I17=J17+K17,"","err")
C18: 212-06 시장사용료 | I18: =F18-G18-H18 -> 0 | J18: =I18-K18 -> 0 | L18: =IFERROR(G18/E18,0)*100 -> 0 | M18: =IFERROR(G18/F18,0)*100 -> 0 | O18: =IF(F18=G18+H18+I18,"","err") | P18: =IF(I18=J18+K18,"","err")
C19: 212-07 입장료수입 | I19: =F19-G19-H19 -> 0 | J19: =I19-K19 -> 0 | L19: =IFERROR(G19/E19,0)*100 -> 0 | M19: =IFERROR(G19/F19,0)*100 -> 0 | O19: =IF(F19=G19+H19+I19,"","err") | P19: =IF(I19=J19+K19,"","err")
C20: 212-08 주차요금수입 | E20: 1801094000 | F20: 117309700 | G20: 117309700 | I20: =F20-G20-H20 -> 0 | J20: =I20-K20 -> 0 | O20: =IF(F20=G20+H20+I20,"","err") | P20: =IF(I20=J20+K20,"","err") | Q20: 주차관리과
C21: 212-09 기타사용료 | I21: =F21-G21-H21 -> 0 | J21: =I21-K21 -> 0 | L21: =IFERROR(G21/E21,0)*100 -> 0 | M21: =IFERROR(G21/F21,0)*100 -> 0 | O21: =IF(F21=G21+H21+I21,"","err") | P21: =IF(I21=J21+K21,"","err")
B22: 213 수수료수입 | E22: =SUM(E23:E27) -> 0 | F22: =SUM(F23:F27) -> 0 | G22: =SUM(G23:G27) -> 0 | H22: =SUM(H23:H27) -> 0 | I22: =SUM(I23:I27) -> 0 | J22: =SUM(J23:J27) -> 0 | K22: =SUM(K23:K27) -> 0 | L22: =IFERROR(G22/E22,0)*100 -> 0 | M22: =IFERROR(G22/F22,0)*100 -> 0 | O22: =IF(F22=G22+H22+I22,"","err") | P22: =IF(I22=J22+K22,"","err")
C23: 213-01 증지수입 | I23: =F23-G23-H23 -> 0 | J23: =I23-K23 -> 0 | L23: =IFERROR(G23/E23,0)*100 -> 0 | M23: =IFERROR(G23/F23,0)*100 -> 0 | O23: =IF(F23=G23+H23+I23,"","err") | P23: =IF(I23=J23+K23,"","err")
C24: 213-02 폐기물처리수수료 | I24: =F24-G24-H24 -> 0 | J24: =I24-K24 -> 0 | L24: =IFERROR(G24/E24,0)*100 -> 0 | M24: =IFERROR(G24/F24,0)*100 -> 0 | O24: =IF(F24=G24+H24+I24,"","err") | P24: =IF(I24=J24+K24,"","err")
C25: 213-03 재활용품수거판매수입 | I25: =F25-G25-H25 -> 0 | J25: =I25-K25 -> 0 | L25: =IFERROR(G25/E25,0)*100 -> 0 | M25: =IFERROR(G25/F25,0)*100 -> 0 | O25: =IF(F25=G25+H25+I25,"","err") | P25: =IF(I25=J25+K25,"","err")
C26: 213-04 보건의료수수료 | I26: =F26-G26-H26 -> 0 | J26: =I26-K26 -> 0 | O26: =IF(F26=G26+H26+I26,"","err") | P26: =IF(I26=J26+K26,"","err")
C27: 213-05 기타수수료 | I27: =F27-G27-H27 -> 0 | J27: =I27-K27 -> 0 | L27: =IFERROR(G27/E27,0)*100 -> 0 | M27: =IFERROR(G27/F27,0)*100 -> 0 | O27: =IF(F27=G27+H27+I27,"","err") | P27: =IF(I27=J27+K27,"","err")
B28: 214 사업수입 | E28: =SUM(E29:E33) -> 0 | F28: =SUM(F29:F33) -> 0 | G28: =SUM(G29:G33) -> 0 | H28: =SUM(H29:H33) -> 0 | I28: =SUM(I29:I33) -> 0 | J28: =SUM(J29:J33) -> 0 | K28: =SUM(K29:K33) -> 0 | L28: =IFERROR(G28/E28,0)*100 -> 0 | M28: =IFERROR(G28/F28,0)*100 -> 0 | O28: =IF(F28=G28+H28+I28,"","err") | P28: =IF(I28=J28+K28,"","err")
C29: 214-01 사업장생산수입 | I29: =F29-G29-H29 -> 0 | J29: =I29-K29 -> 0 | L29: =IFERROR(G29/E29,0)*100 -> 0 | M29: =IFERROR(G29/F29,0)*100 -> 0 | O29: =IF(F29=G29+H29+I29,"","err") | P29: =IF(I29=J29+K29,"","err")
C30: 214-02 청산금수입 | I30: =F30-G30-H30 -> 0 | J30: =I30-K30 -> 0 | L30: =IFERROR(G30/E30,0)*100 -> 0 | M30: =IFERROR(G30/F30,0)*100 -> 0 | O30: =IF(F30=G30+H30+I30,"","err") | P30: =IF(I30=J30+K30,"","err")
C31: 214-03 매각사업수입 | I31: =F31-G31-H31 -> 0 | J31: =I31-K31 -> 0 | L31: =IFERROR(G31/E31,0)*100 -> 0 | M31: =IFERROR(G31/F31,0)*100 -> 0 | O31: =IF(F31=G31+H31+I31,"","err") | P31: =IF(I31=J31+K31,"","err")
C32: 214-04 배당금수입 | I32: =F32-G32-H32 -> 0 | J32: =I32-K32 -> 0 | L32: =IFERROR(G32/E32,0)*100 -> 0 | M32: =IFERROR(G32/F32,0)*100 -> 0 | O32: =IF(F32=G32+H32+I32,"","err") | P32: =IF(I32=J32+K32,"","err")
C33: 214-05 기타사업수입 | I33: =F33-G33-H33 -> 0 | J33: =I33-K33 -> 0 | L33: =IFERROR(G33/E33,0)*100 -> 0 | M33: =IFERROR(G33/F33,0)*100 -> 0 | O33: =IF(F33=G33+H33+I33,"","err") | P33: =IF(I33=J33+K33,"","err")
B34: 215 징수교부금수입 | E34: =E35 -> 0 | F34: =F35 -> 0 | G34: =G35 -> 0 | H34: =H35 -> 0 | I34: =I35 -> 0 | J34: =J35 -> 0 | K34: =K35 -> 0 | L34: =IFERROR(G34/E34,0)*100 -> 0 | M34: =IFERROR(G34/F34,0)*100 -> 0 | O34: =IF(F34=G34+H34+I34,"","err") | P34: =IF(I34=J34+K34,"","err")
C35: 215-01 징수교부금수입 | I35: =F35-G35-H35 -> 0 | J35: =I35-K35 -> 0 | L35: =IFERROR(G35/E35,0)*100 -> 0 | M35: =IFERROR(G35/F35,0)*100 -> 0 | O35: =IF(F35=G35+H35+I35,"","err") | P35: =IF(I35=J35+K35,"","err")
B36: 216 이자수입 | E36: =SUM(E37:E39) -> 388126510 | F36: =SUM(F37:F39) -> 482960130 | G36: =SUM(G37:G39) -> 482960130 | H36: =SUM(H37:H39) -> 0 | I36: =SUM(I37:I39) -> 0 | J36: =SUM(J37:J39) -> 0 | K36: =SUM(K37:K39) -> 0 | L36: =IFERROR(G36/E36,0)*100 -> 124.43369 | M36: =IFERROR(G36/F36,0)*100 -> 100 | O36: =IF(F36=G36+H36+I36,"","err") | P36: =IF(I36=J36+K36,"","err")
C37: 216-01 공공예금이자수입 | E37: =130000000+156000+257970510 -> 388126510 | F37: =221242540+2151830+1595250+257970510 -> 482960130 | G37: =221242540+2151830+1595250+257970510 -> 482960130 | I37: =F37-G37-H37 -> 0 | J37: =I37-K37 -> 0 | L37: =IFERROR(G37/E37,0)*100 -> 124.43369 | M37: =IFERROR(G37/F37,0)*100 -> 100 | O37: =IF(F37=G37+H37+I37,"","err") | P37: =IF(I37=J37+K37,"","err") | Q37: 주차관리과, 자원순환과,생태하천과,도시계획과
C38: 216-02 융자금회수이자수입 | I38: =F38-G38-H38 -> 0 | J38: =I38-K38 -> 0 | L38: =IFERROR(G38/E38,0)*100 -> 0 | M38: =IFERROR(G38/F38,0)*100 -> 0 | O38: =IF(F38=G38+H38+I38,"","err") | P38: =IF(I38=J38+K38,"","err")
C39: 216-03 기타이자수입 | I39: =F39-G39-H39 -> 0 | J39: =I39-K39 -> 0 | L39: =IFERROR(G39/E39,0)*100 -> 0 | M39: =IFERROR(G39/F39,0)*100 -> 0 | O39: =IF(F39=G39+H39+I39,"","err") | P39: =IF(I39=J39+K39,"","err")
B40: 220 임시적세외수입 | E40: =E41+E46+E48+E52+E60 -> 4669955485 | F40: =F41+F46+F48+F52+F60 -> 9213469415 | G40: =G41+G46+G48+G52+G60 -> 89117140 | H40: =H41+H46+H48+H52+H60 -> 5735770 | I40: =I41+I46+I48+I52+I60 -> 9118616505 | J40: =J41+J46+J48+J52+J60 -> 9118616505 | K40: =K41+K46+K48+K52+K60 -> 0 | L40: =IFERROR(G40/E40,0)*100 -> 1.9083081 | M40: =IFERROR(G40/F40,0)*100 -> 0.96724845 | O40: =IF(F40=G40+H40+I40,"","err") | P40: =IF(I40=J40+K40,"","err")
B41: 221 재산매각수입 | E41: =SUM(E42:E45) -> 0 | F41: =SUM(F42:F45) -> 0 | G41: =SUM(G42:G45) -> 0 | H41: =SUM(H42:H45) -> 0 | I41: =SUM(I42:I45) -> 0 | J41: =SUM(J42:J45) -> 0 | K41: =SUM(K42:K45) -> 0 | L41: =IFERROR(G41/E41,0)*100 -> 0 | M41: =IFERROR(G41/F41,0)*100 -> 0 | O41: =IF(F41=G41+H41+I41,"","err") | P41: =IF(I41=J41+K41,"","err")
...

Sheet 군구세외 과목별
B2: =B4&L3&" 과목별 세외수입 징수현황" -> 2023년 1 월 서구 과목별 세외수입 징수현황
K3: 기관명 | L3: ='군구세외 일반회계'!L3:M3 -> 서구 | O3: =COUNTIF(O7:P36,"err") -> 0
B4: ='군구세외 일반회계'!B4:D4 -> 2023년 1 월 | L4: (단위:원,%)
D5: 구 분 | E5: 최종예산액 | F5: 징수결정액 | G5: 징 수 액 | H5: 불납결손액 | I5: 미수납액 | L5: 징수율
B6: 항 목 별 | E6: (A) | F6: (B) | G6: (C) | H6: (D) | I6: 미수납액 (E=B-C-D) | J6: 체납액 (F=E-G) | K6: 납기미도래 (G) | L6: (C/A) | M6: (C/B)
B7: 합 계 | E7: =SUM(E8:E9) -> 6376000000 | F7: =SUM(F8:F9) -> 28528467524 | G7: =SUM(G8:G9) -> 624022815 | H7: =SUM(H8:H9) -> 13396060 | I7: =F7-G7-H7 -> 27891048649 | J7: =I7-K7 -> 27638760609 | K7: =SUM(K8:K9) -> 252288040 | L7: =IFERROR(G7/E7,0)*100 -> 9.787058 | M7: =IFERROR(G7/F7,0)*100 -> 2.1873689 | O7: =IF(F7=G7+H7+I7,"","err") | P7: =IF(I7=J7+K7,"","err")
C8: 현년도 | E8: =E11+E32 -> 5676000000 | F8: =F11+F32 -> 768775980 | G8: =G11+G32 -> 397363500 | H8: =H11+H32 -> 0 | I8: =F8-G8-H8 -> 371412480 | J8: =I8-K8 -> 119124440 | K8: =K11+K32 -> 252288040 | L8: =IFERROR(G8/E8,0)*100 -> 7.0007664 | M8: =IFERROR(G8/F8,0)*100 -> 51.687814 | O8: =IF(F8=G8+H8+I8,"","err") | P8: =IF(I8=J8+K8,"","err")
C9: 과년도 | E9: =E12+E33 -> 700000000 | F9: =F12+F33 -> 27759691544 | G9: =G12+G33 -> 226659315 | H9: =H12+H33 -> 13396060 | I9: =F9-G9-H9 -> 27519636169 | J9: =I9-K9 -> 27519636169 | K9: =K12+K33 -> 0 | L9: =IFERROR(G9/E9,0)*100 -> 32.379902 | M9: =IFERROR(G9/F9,0)*100 -> 0.81650516 | O9: =IF(F9=G9+H9+I9,"","err") | P9: =IF(I9=J9+K9,"","err")
B10: 일반회계 | E10: =SUM(E11:E12) -> 2556000000 | F10: =SUM(F11:F12) -> 22964902304 | G10: =SUM(G11:G12) -> 244063525 | H10: =SUM(H11:H12) -> 13396060 | I10: =F10-G10-H10 -> 22707442719 | J10: =I10-K10 -> 22455200239 | K10: =SUM(K11:K12) -> 252242480 | L10: =IFERROR(G10/E10,0)*100 -> 9.5486512 | M10: =IFERROR(G10/F10,0)*100 -> 1.0627675 | O10: =IF(F10=G10+H10+I10,"","err") | P10: =IF(I10=J10+K10,"","err")
C11: 현년도 | E11: =E14+E17+E20+E23+E26+E29 -> 2556000000 | F11: =F14+F17+F20+F23+F26+F29 -> 468549980 | G11: =G14+G17+G20+G23+G26+G29 -> 97183060 | H11: =H14+H17+H20+H23+H26+H29 -> 0 | I11: =I14+I17+I20+I23+I26+I29 -> 371366920 | J11: =J14+J17+J20+J23+J26+J29 -> 119124440 | K11: =K14+K17+K20+K23+K26+K29 -> 252242480 | L11: =IFERROR(G11/E11,0)*100 -> 3.8021541 | M11: =IFERROR(G11/F11,0)*100 -> 20.741237 | O11: =IF(F11=G11+H11+I11,"","err") | P11: =IF(I11=J11+K11,"","err")
C12: 과년도 | E12: =E15+E18+E21+E24+E27+E30 -> 0 | F12: =F15+F18+F21+F24+F27+F30 -> 22496352324 | G12: =G15+G18+G21+G24+G27+G30 -> 146880465 | H12: =H15+H18+H21+H24+H27+H30 -> 13396060 | I12: =I15+I18+I21+I24+I27+I30 -> 22336075799 | J12: =J15+J18+J21+J24+J27+J30 -> 22336075799 | K12: =K15+K18+K21+K24+K27+K30 -> 0 | L12: =IFERROR(G12/E12,0)*100 -> 0 | M12: =IFERROR(G12/F12,0)*100 -> 0.65290792 | O12: =IF(F12=G12+H12+I12,"","err") | P12: =IF(I12=J12+K12,"","err")
B13: 국공유변상금 | E13: =SUM(E14:E15) -> 0 | F13: =SUM(F14:F15) -> 120334840 | G13: =SUM(G14:G15) -> 474180 | H13: =SUM(H14:H15) -> 11076760 | I13: =SUM(I14:I15) -> 108783900 | J13: =SUM(J14:J15) -> 108543920 | K13: =SUM(K14:K15) -> 239980 | L13: =IFERROR(G13/E13,0)*100 -> 0 | M13: =IFERROR(G13/F13,0)*100 -> 0.39405047 | O13: =IF(F13=G13+H13+I13,"","err") | P13: =IF(I13=J13+K13,"","err")
C14: 현년도 | F14: 239980 | I14: =F14-G14-H14 -> 239980 | J14: =I14-K14 -> 0 | K14: 239980 | L14: =IFERROR(G14/E14,0)*100 -> 0 | M14: =IFERROR(G14/F14,0)*100 -> 0 | O14: =IF(F14=G14+H14+I14,"","err") | P14: =IF(I14=J14+K14,"","err")
C15: 과년도 | F15: 120094860 | G15: 474180 | H15: 11076760 | I15: =F15-G15-H15 -> 108543920 | J15: =I15-K15 -> 108543920 | L15: =IFERROR(G15/E15,0)*100 -> 0 | M15: =IFERROR(G15/F15,0)*100 -> 0.39483788 | O15: =IF(F15=G15+H15+I15,"","err") | P15: =IF(I15=J15+K15,"","err")
B16: 책임보험미가입과태료 | E16: =SUM(E17:E18) -> 1416000000 | F16: =SUM(F17:F18) -> 12271715479 | G16: =SUM(G17:G18) -> 86800275 | H16: =SUM(H17:H18) -> 0 | I16: =SUM(I17:I18) -> 12184915204 | J16: =SUM(J17:J18) -> 12184915204 | K16: =SUM(K17:K18) -> 0 | L16: =IFERROR(G16/E16,0)*100 -> 6.1299629 | M16: =IFERROR(G16/F16,0)*100 -> 0.70731981 | O16: =IF(F16=G16+H16+I16,"","err") | P16: =IF(I16=J16+K16,"","err")
C17: 현년도 | E17: 1416000000 | F17: 120209000 | G17: 26043560 | I17: =F17-G17-H17 -> 94165440 | J17: =I17-K17 -> 94165440 | L17: =IFERROR(G17/E17,0)*100 -> 1.8392345 | M17: =IFERROR(G17/F17,0)*100 -> 21.665233 | O17: =IF(F17=G17+H17+I17,"","err") | P17: =IF(I17=J17+K17,"","err")
C18: 과년도 | F18: 12151506479 | G18: 60756715 | I18: =F18-G18-H18 -> 12090749764 | J18: =I18-K18 -> 12090749764 | L18: =IFERROR(G18/E18,0)*100 -> 0 | M18: =IFERROR(G18/F18,0)*100 -> 0.49999327 | O18: =IF(F18=G18+H18+I18,"","err") | P18: =IF(I18=J18+K18,"","err")
B19: 자동차검사지연과태료 | E19: =SUM(E20:E21) -> 840000000 | F19: =SUM(F20:F21) -> 3890457159 | G19: =SUM(G20:G21) -> 84817780 | H19: =SUM(H20:H21) -> 0 | I19: =SUM(I20:I21) -> 3805639379 | J19: =SUM(J20:J21) -> 3711319379 | K19: =SUM(K20:K21) -> 94320000 | L19: =IFERROR(G19/E19,0)*100 -> 10.097355 | M19: =IFERROR(G19/F19,0)*100 -> 2.1801494 | O19: =IF(F19=G19+H19+I19,"","err") | P19: =IF(I19=J19+K19,"","err")
C20: 현년도 | E20: 840000000 | F20: 169564000 | G20: 52404000 | I20: =F20-G20-H20 -> 117160000 | J20: =I20-K20 -> 22840000 | K20: 94320000 | L20: =IFERROR(G20/E20,0)*100 -> 6.2385714 | M20: =IFERROR(G20/F20,0)*100 -> 30.905145 | O20: =IF(F20=G20+H20+I20,"","err") | P20: =IF(I20=J20+K20,"","err")
C21: 과년도 | F21: 3720893159 | G21: 32413780 | I21: =F21-G21-H21 -> 3688479379 | J21: =I21-K21 -> 3688479379 | L21: =IFERROR(G21/E21,0)*100 -> 0 | M21: =IFERROR(G21/F21,0)*100 -> 0.87112902 | O21: =IF(F21=G21+H21+I21,"","err") | P21: =IF(I21=J21+K21,"","err")
B22: 자동차정밀검사과태료 | E22: =SUM(E23:E24) -> 0 | F22: =SUM(F23:F24) -> 618705474 | G22: =SUM(G23:G24) -> 1506000 | H22: =SUM(H23:H24) -> 2319300 | I22: =SUM(I23:I24) -> 614880174 | J22: =SUM(J23:J24) -> 614880174 | K22: =SUM(K23:K24) -> 0 | L22: =IFERROR(G22/E22,0)*100 -> 0 | M22: =IFERROR(G22/F22,0)*100 -> 0.24341146 | O22: =IF(F22=G22+H22+I22,"","err") | P22: =IF(I22=J22+K22,"","err")
C23: 현년도 | E23: 0 | F23: 0 | I23: =F23-G23-H23 -> 0 | J23: =I23-K23 -> 0 | L23: =IFERROR(G23/E23,0)*100 -> 0 | M23: =IFERROR(G23/F23,0)*100 -> 0 | O23: =IF(F23=G23+H23+I23,"","err") | P23: =IF(I23=J23+K23,"","err")
C24: 과년도 | F24: 618705474 | G24: 1506000 | H24: 2319300 | I24: =F24-G24-H24 -> 614880174 | J24: =I24-K24 -> 614880174 | L24: =IFERROR(G24/E24,0)*100 -> 0 | M24: =IFERROR(G24/F24,0)*100 -> 0.24341146 | O24: =IF(F24=G24+H24+I24,"","err") | P24: =IF(I24=J24+K24,"","err")
B25: 부동산실명법과징금 | E25: =SUM(E26:E27) -> 0 | F25: =SUM(F26:F27) -> 3858153013 | G25: =SUM(G26:G27) -> 300000 | H25: =SUM(H26:H27) -> 0 | I25: =SUM(I26:I27) -> 3857853013 | J25: =SUM(J26:J27) -> 3857853013 | K25: =SUM(K26:K27) -> 0 | L25: =IFERROR(G25/E25,0)*100 -> 0 | M25: =IFERROR(G25/F25,0)*100 -> 0.0077757414 | O25: =IF(F25=G25+H25+I25,"","err") | P25: =IF(I25=J25+K25,"","err")
C26: 현년도 | E26: 0 | F26: 0 | I26: =F26-G26-H26 -> 0 | J26: =I26-K26 -> 0 | L26: =IFERROR(G26/E26,0)*100 -> 0 | M26: =IFERROR(G26/F26,0)*100 -> 0 | O26: =IF(F26=G26+H26+I26,"","err") | P26: =IF(I26=J26+K26,"","err")
C27: 과년도 | F27: 3858153013 | G27: 300000 | I27: =F27-G27-H27 -> 3857853013 | J27: =I27-K27 -> 3857853013 | L27: =IFERROR(G27/E27,0)*100 -> 0 | M27: =IFERROR(G27/F27,0)*100 -> 0.0077757414 | O27: =IF(F27=G27+H27+I27,"","err") | P27: =IF(I27=J27+K27,"","err")
B28: 건축법이행강제금 | E28: =SUM(E29:E30) -> 300000000 | F28: =SUM(F29:F30) -> 2205536339 | G28: =SUM(G29:G30) -> 70165290 | H28: =SUM(H29:H30) -> 0 | I28: =SUM(I29:I30) -> 2135371049 | J28: =SUM(J29:J30) -> 1977688549 | K28: =SUM(K29:K30) -> 157682500 | L28: =IFERROR(G28/E28,0)*100 -> 23.38843 | M28: =IFERROR(G28/F28,0)*100 -> 3.1813255 | O28: =IF(F28=G28+H28+I28,"","err") | P28: =IF(I28=J28+K28,"","err")
C29: 현년도 | E29: 300000000 | F29: 178537000 | G29: 18735500 | I29: =F29-G29-H29 -> 159801500 | J29: =I29-K29 -> 2119000 | K29: 157682500 | L29: =IFERROR(G29/E29,0)*100 -> 6.2451667 | M29: =IFERROR(G29/F29,0)*100 -> 10.493903 | O29: =IF(F29=G29+H29+I29,"","err") | P29: =IF(I29=J29+K29,"","err")
C30: 과년도 | F30: 2026999339 | G30: 51429790 | I30: =F30-G30-H30 -> 1975569549 | J30: =I30-K30 -> 1975569549 | L30: =IFERROR(G30/E30,0)*100 -> 0 | M30: =IFERROR(G30/F30,0)*100 -> 2.5372376 | O30: =IF(F30=G30+H30+I30,"","err") | P30: =IF(I30=J30+K30,"","err")
B31: 특별회계 | E31: =SUM(E32:E33) -> 3820000000 | F31: =SUM(F32:F33) -> 5563565220 | G31: =SUM(G32:G33) -> 379959290 | H31: =SUM(H32:H33) -> 0 | I31: =F31-G31-H31 -> 5183605930 | J31: =I31-K31 -> 5183560370 | K31: =SUM(K32:K33) -> 45560 | L31: =IFERROR(G31/E31,0)*100 -> 9.9465783 | M31: =IFERROR(G31/F31,0)*100 -> 6.829421 | O31: =IF(F31=G31+H31+I31,"","err") | P31: =IF(I31=J31+K31,"","err")
C32: 현년도 | E32: =E35 -> 3120000000 | F32: =F35 -> 300226000 | G32: =G35 -> 300180440 | H32: =H35 -> 0 | I32: =I35 -> 45560 | J32: =J35 -> 0 | K32: =K35 -> 45560 | L32: =IFERROR(G32/E32,0)*100 -> 9.6211679 | M32: =IFERROR(G32/F32,0)*100 -> 99.984825 | O32: =IF(F32=G32+H32+I32,"","err") | P32: =IF(I32=J32+K32,"","err")
C33: 과년도 | E33: =E36 -> 700000000 | F33: =F36 -> 5263339220 | G33: =G36 -> 79778850 | H33: =H36 -> 0 | I33: =I36 -> 5183560370 | J33: =J36 -> 5183560370 | K33: =K36 -> 0 | L33: =IFERROR(G33/E33,0)*100 -> 11.396979 | M33: =IFERROR(G33/F33,0)*100 -> 1.5157459 | O33: =IF(F33=G33+H33+I33,"","err") | P33: =IF(I33=J33+K33,"","err")
B34: 주정차위반과태료 | E34: =SUM(E35:E36) -> 3820000000 | F34: =SUM(F35:F36) -> 5563565220 | G34: =SUM(G35:G36) -> 379959290 | H34: =SUM(H35:H36) -> 0 | I34: =SUM(I35:I36) -> 5183605930 | J34: =SUM(J35:J36) -> 5183560370 | K34: =SUM(K35:K36) -> 45560 | L34: =IFERROR(G34/E34,0)*100 -> 9.9465783 | M34: =IFERROR(G34/F34,0)*100 -> 6.829421 | O34: =IF(F34=G34+H34+I34,"","err") | P34: =IF(I34=J34+K34,"","err")
C35: 현년도 | E35: 3120000000 | F35: 300226000 | G35: 300180440 | I35: =F35-G35-H35 -> 45560 | J35: =I35-K35 -> 0 | K35: 45560 | L35: =IFERROR(G35/E35,0)*100 -> 9.6211679 | M35: =IFERROR(G35/F35,0)*100 -> 99.984825 | O35: =IF(F35=G35+H35+I35,"","err") | P35: =IF(I35=J35+K35,"","err")
C36: 과년도 | E36: 700000000 | F36: 5263339220 | G36: 79778850 | I36: =F36-G36-H36 -> 5183560370 | J36: =I36-K36 -> 5183560370 | L36: =IFERROR(G36/E36,0)*100 -> 11.396979 | M36: =IFERROR(G36/F36,0)*100 -> 1.5157459 | O36: =IF(F36=G36+H36+I36,"","err") | P36: =IF(I36=J36+K36,"","err")

Sheet 시세외 특별회계(위임)
R1: =R:R -> 0
B2: =B4&L3&" 일반회계 세외수입 징수현황" -> 2023년 1 월 서구 일반회계 세외수입 징수현황
K3: 기관명 | L3: ='군구세외 일반회계'!L3:M3 -> 서구 | O3: =COUNTIF(O7:P92,"err") -> 0
B4: ='군구세외 일반회계'!B4:D4 -> 2023년 1 월 | L4: (단위:원,%)
D5: 구 분 | E5: 최종예산액 | F5: 징수결정액 | G5: 징 수 액 | H5: 불납결손액 | I5: 미수납액 | L5: 징수율
B6: 항 목 별 | E6: (A) | F6: (B) | G6: (C) | H6: (D) | I6: 미수납액 (E=B-C-D) | J6: 체납액 (F=E-G) | K6: 납기미도래 (G) | L6: (C/A) | M6: (C/B)
B7: 200 세외수입 | E7: =E8+E40+E73 -> 13552090 | F7: =F8+F40+F73 -> 1226044824 | G7: =G8+G40+G73 -> 190475710 | H7: =H8+H40+H73 -> 0 | I7: =I8+I40+I73 -> 1035569114 | J7: =J8+J40+J73 -> 1035569114 | K7: =K8+K40+K73 -> 0 | L7: =IFERROR(G7/E7,0)*100 -> 1405.508 | M7: =IFERROR(G7/F7,0)*100 -> 15.535787 | O7: =IF(F7=G7+H7+I7,"","err") | P7: =IF(I7=J7+K7,"","err")
B8: 210 경상적세외수입 | E8: =E9+E12+E22+E28+E34+E36 -> 13552090 | F8: =F9+F12+F22+F28+F34+F36 -> 13552090 | G8: =G9+G12+G22+G28+G34+G36 -> 13552090 | H8: =H9+H12+H22+H28+H34+H36 -> 0 | I8: =I9+I12+I22+I28+I34+I36 -> 0 | J8: =J9+J12+J22+J28+J34+J36 -> 0 | K8: =K9+K12+K22+K28+K34+K36 -> 0 | L8: =IFERROR(G8/E8,0)*100 -> 100 | M8: =IFERROR(G8/F8,0)*100 -> 100 | O8: =IF(F8=G8+H8+I8,"","err") | P8: =IF(I8=J8+K8,"","err")
B9: 211 재산임대수입 | E9: =SUM(E10:E11) -> 13552090 | F9: =SUM(F10:F11) -> 13552090 | G9: =SUM(G10:G11) -> 13552090 | H9: =SUM(H10:H11) -> 0 | I9: =SUM(I10:I11) -> 0 | J9: =SUM(J10:J11) -> 0 | K9: =SUM(K10:K11) -> 0 | L9: =IFERROR(G9/E9,0)*100 -> 100 | M9: =IFERROR(G9/F9,0)*100 -> 100 | O9: =IF(F9=G9+H9+I9,"","err") | P9: =IF(I9=J9+K9,"","err")
C10: 211-01 국유재산임대료 | I10: =F10-G10-H10 -> 0 | J10: =I10-K10 -> 0 | L10: =IFERROR(G10/E10,0)*100 -> 0 | M10: =IFERROR(G10/F10,0)*100 -> 0 | O10: =IF(F10=G10+H10+I10,"","err") | P10: =IF(I10=J10+K10,"","err")
C11: 211-02 공유재산임대료 | E11: 13552090 | F11: 13552090 | G11: 13552090 | I11: =F11-G11-H11 -> 0 | J11: =I11-K11 -> 0 | L11: =IFERROR(G11/E11,0)*100 -> 100 | M11: =IFERROR(G11/F11,0)*100 -> 100 | O11: =IF(F11=G11+H11+I11,"","err") | P11: =IF(I11=J11+K11,"","err") | Q11: 도시계획과
B12: 212 사용료수입 | E12: =SUM(E13:E21) -> 0 | F12: =SUM(F13:F21) -> 0 | G12: =SUM(G13:G21) -> 0 | H12: =SUM(H13:H21) -> 0 | I12: =SUM(I13:I21) -> 0 | J12: =SUM(J13:J21) -> 0 | K12: =SUM(K13:K21) -> 0 | L12: =IFERROR(G12/E12,0)*100 -> 0 | M12: =IFERROR(G12/F12,0)*100 -> 0 | O12: =IF(F12=G12+H12+I12,"","err") | P12: =IF(I12=J12+K12,"","err")
C13: 212-01 도로사용료 | I13: =F13-G13-H13 -> 0 | J13: =I13-K13 -> 0 | L13: =IFERROR(G13/E13,0)*100 -> 0 | M13: =IFERROR(G13/F13,0)*100 -> 0 | O13: =IF(F13=G13+H13+I13,"","err") | P13: =IF(I13=J13+K13,"","err")
C14: 212-02 하천사용료 | I14: =F14-G14-H14 -> 0 | J14: =I14-K14 -> 0 | L14: =IFERROR(G14/E14,0)*100 -> 0 | M14: =IFERROR(G14/F14,0)*100 -> 0 | O14: =IF(F14=G14+H14+I14,"","err") | P14: =IF(I14=J14+K14,"","err")
C15: 212-03 하수도사용료 | I15: =F15-G15-H15 -> 0 | J15: =I15-K15 -> 0 | L15: =IFERROR(G15/E15,0)*100 -> 0 | M15: =IFERROR(G15/F15,0)*100 -> 0 | O15: =IF(F15=G15+H15+I15,"","err") | P15: =IF(I15=J15+K15,"","err")
C16: 212-04 상수도사용료 | I16: =F16-G16-H16 -> 0 | J16: =I16-K16 -> 0 | L16: =IFERROR(G16/E16,0)*100 -> 0 | M16: =IFERROR(G16/F16,0)*100 -> 0 | O16: =IF(F16=G16+H16+I16,"","err") | P16: =IF(I16=J16+K16,"","err")
C17: 212-05 공유수면사용료 | I17: =F17-G17-H17 -> 0 | J17: =I17-K17 -> 0 | L17: =IFERROR(G17/E17,0)*100 -> 0 | M17: =IFERROR(G17/F17,0)*100 -> 0 | O17: =IF(F17=G17+H17+I17,"","err") | P17: =IF(I17=J17+K17,"","err")
C18: 212-06 시장사용료 | I18: =F18-G18-H18 -> 0 | J18: =I18-K18 -> 0 | L18: =IFERROR(G18/E18,0)*100 -> 0 | M18: =IFERROR(G18/F18,0)*100 -> 0 | O18: =IF(F18=G18+H18+I18,"","err") | P18: =IF(I18=J18+K18,"","err")
C19: 212-07 입장료수입 | I19: =F19-G19-H19 -> 0 | J19: =I19-K19 -> 0 | L19: =IFERROR(G19/E19,0)*100 -> 0 | M19: =IFERROR(G19/F19,0)*100 -> 0 | O19: =IF(F19=G19+H19+I19,"","err") | P19: =IF(I19=J19+K19,"","err")
C20: 212-08 주차요금수입 | I20: =F20-G20-H20 -> 0 | J20: =I20-K20 -> 0 | O20: =IF(F20=G20+H20+I20,"","err") | P20: =IF(I20=J20+K20,"","err")
C21: 212-09 기타사용료 | I21: =F21-G21-H21 -> 0 | J21: =I21-K21 -> 0 | L21: =IFERROR(G21/E21,0)*100 -> 0 | M21: =IFERROR(G21/F21,0)*100 -> 0 | O21: =IF(F21=G21+H21+I21,"","err") | P21: =IF(I21=J21+K21,"","err")
B22: 213 수수료수입 | E22: =SUM(E23:E27) -> 0 | F22: =SUM(F23:F27) -> 0 | G22: =SUM(G23:G27) -> 0 | H22: =SUM(H23:H27) -> 0 | I22: =SUM(I23:I27) -> 0 | J22: =SUM(J23:J27) -> 0 | K22: =SUM(K23:K27) -> 0 | L22: =IFERROR(G22/E22,0)*100 -> 0 | M22: =IFERROR(G22/F22,0)*100 -> 0 | O22: =IF(F22=G22+H22+I22,"","err") | P22: =IF(I22=J22+K22,"","err")
C23: 213-01 증지수입 | I23: =F23-G23-H23 -> 0 | J23: =I23-K23 -> 0 | L23: =IFERROR(G23/E23,0)*100 -> 0 | M23: =IFERROR(G23/F23,0)*100 -> 0 | O23: =IF(F23=G23+H23+I23,"","err") | P23: =IF(I23=J23+K23,"","err")
C24: 213-02 폐기물처리수수료 | I24: =F24-G24-H24 -> 0 | J24: =I24-K24 -> 0 | L24: =IFERROR(G24/E24,0)*100 -> 0 | M24: =IFERROR(G24/F24,0)*100 -> 0 | O24: =IF(F24=G24+H24+I24,"","err") | P24: =IF(I24=J24+K24,"","err")
C25: 213-03 재활용품수거판매수입 | I25: =F25-G25-H25 -> 0 | J25: =I25-K25 -> 0 | L25: =IFERROR(G25/E25,0)*100 -> 0 | M25: =IFERROR(G25/F25,0)*100 -> 0 | O25: =IF(F25=G25+H25+I25,"","err") | P25: =IF(I25=J25+K25,"","err")
C26: 213-04 보건의료수수료 | I26: =F26-G26-H26 -> 0 | J26: =I26-K26 -> 0 | O26: =IF(F26=G26+H26+I26,"","err") | P26: =IF(I26=J26+K26,"","err")
C27: 213-05 기타수수료 | I27: =F27-G27-H27 -> 0 | J27: =I27-K27 -> 0 | L27: =IFERROR(G27/E27,0)*100 -> 0 | M27: =IFERROR(G27/F27,0)*100 -> 0 | O27: =IF(F27=G27+H27+I27,"","err") | P27: =IF(I27=J27+K27,"","err")
B28: 214 사업수입 | E28: =SUM(E29:E33) -> 0 | F28: =SUM(F29:F33) -> 0 | G28: =SUM(G29:G33) -> 0 | H28: =SUM(H29:H33) -> 0 | I28: =SUM(I29:I33) -> 0 | J28: =SUM(J29:J33) -> 0 | K28: =SUM(K29:K33) -> 0 | L28: =IFERROR(G28/E28,0)*100 -> 0 | M28: =IFERROR(G28/F28,0)*100 -> 0 | O28: =IF(F28=G28+H28+I28,"","err") | P28: =IF(I28=J28+K28,"","err")
C29: 214-01 사업장생산수입 | I29: =F29-G29-H29 -> 0 | J29: =I29-K29 -> 0 | L29: =IFERROR(G29/E29,0)*100 -> 0 | M29: =IFERROR(G29/F29,0)*100 -> 0 | O29: =IF(F29=G29+H29+I29,"","err") | P29: =IF(I29=J29+K29,"","err")
C30: 214-02 청산금수입 | I30: =F30-G30-H30 -> 0 | J30: =I30-K30 -> 0 | L30: =IFERROR(G30/E30,0)*100 -> 0 | M30: =IFERROR(G30/F30,0)*100 -> 0 | O30: =IF(F30=G30+H30+I30,"","err") | P30: =IF(I30=J30+K30,"","err")
C31: 214-03 매각사업수입 | I31: =F31-G31-H31 -> 0 | J31: =I31-K31 -> 0 | L31: =IFERROR(G31/E31,0)*100 -> 0 | M31: =IFERROR(G31/F31,0)*100 -> 0 | O31: =IF(F31=G31+H31+I31,"","err") | P31: =IF(I31=J31+K31,"","err")
C32: 214-04 배당금수입 | I32: =F32-G32-H32 -> 0 | J32: =I32-K32 -> 0 | L32: =IFERROR(G32/E32,0)*100 -> 0 | M32: =IFERROR(G32/F32,0)*100 -> 0 | O32: =IF(F32=G32+H32+I32,"","err") | P32: =IF(I32=J32+K32,"","err")
C33: 214-05 기타사업수입 | I33: =F33-G33-H33 -> 0 | J33: =I33-K33 -> 0 | L33: =IFERROR(G33/E33,0)*100 -> 0 | M33: =IFERROR(G33/F33,0)*100 -> 0 | O33: =IF(F33=G33+H33+I33,"","err") | P33: =IF(I33=J33+K33,"","err")
B34: 215 징수교부금수입 | E34: =E35 -> 0 | F34: =F35 -> 0 | G34: =G35 -> 0 | H34: =H35 -> 0 | I34: =I35 -> 0 | J34: =J35 -> 0 | K34: =K35 -> 0 | L34: =IFERROR(G34/E34,0)*100 -> 0 | M34: =IFERROR(G34/F34,0)*100 -> 0 | O34: =IF(F34=G34+H34+I34,"","err") | P34: =IF(I34=J34+K34,"","err")
C35: 215-01 징수교부금수입 | I35: =F35-G35-H35 -> 0 | J35: =I35-K35 -> 0 | L35: =IFERROR(G35/E35,0)*100 -> 0 | M35: =IFERROR(G35/F35,0)*100 -> 0 | O35: =IF(F35=G35+H35+I35,"","err") | P35: =IF(I35=J35+K35,"","err")
B36: 216 이자수입 | E36: =SUM(E37:E39) -> 0 | F36: =SUM(F37:F39) -> 0 | G36: =SUM(G37:G39) -> 0 | H36: =SUM(H37:H39) -> 0 | I36: =SUM(I37:I39) -> 0 | J36: =SUM(J37:J39) -> 0 | K36: =SUM(K37:K39) -> 0 | L36: =IFERROR(G36/E36,0)*100 -> 0 | M36: =IFERROR(G36/F36,0)*100 -> 0 | O36: =IF(F36=G36+H36+I36,"","err") | P36: =IF(I36=J36+K36,"","err")
C37: 216-01 공공예금이자수입 | I37: =F37-G37-H37 -> 0 | J37: =I37-K37 -> 0 | L37: =IFERROR(G37/E37,0)*100 -> 0 | M37: =IFERROR(G37/F37,0)*100 -> 0 | O37: =IF(F37=G37+H37+I37,"","err") | P37: =IF(I37=J37+K37,"","err")
C38: 216-02 융자금회수이자수입 | I38: =F38-G38-H38 -> 0 | J38: =I38-K38 -> 0 | L38: =IFERROR(G38/E38,0)*100 -> 0 | M38: =IFERROR(G38/F38,0)*100 -> 0 | O38: =IF(F38=G38+H38+I38,"","err") | P38: =IF(I38=J38+K38,"","err")
C39: 216-03 기타이자수입 | I39: =F39-G39-H39 -> 0 | J39: =I39-K39 -> 0 | L39: =IFERROR(G39/E39,0)*100 -> 0 | M39: =IFERROR(G39/F39,0)*100 -> 0 | O39: =IF(F39=G39+H39+I39,"","err") | P39: =IF(I39=J39+K39,"","err")
B40: 220 임시적세외수입 | E40: =E41+E46+E48+E52+E60 -> 0 | F40: =F41+F46+F48+F52+F60 -> 1206042734 | G40: =G41+G46+G48+G52+G60 -> 175723620 | H40: =H41+H46+H48+H52+H60 -> 0 | I40: =I41+I46+I48+I52+I60 -> 1030319114 | J40: =J41+J46+J48+J52+J60 -> 1030319114 | K40: =K41+K46+K48+K52+K60 -> 0 | L40: =IFERROR(G40/E40,0)*100 -> 0 | M40: =IFERROR(G40/F40,0)*100 -> 14.570265 | O40: =IF(F40=G40+H40+I40,"","err") | P40: =IF(I40=J40+K40,"","err")
...
