Workbook

Sheet 군구세외 일반회계 
B2: 2022년 9월 군·구 일반회계 세외수입 징수현황
K3: 기관(부서)명 | L3: 서구
B4: 2022. 9월 | L4: (단위:원,%)
D5: 구 분 | E5: 최종예산액 | F5: 징수결정액 | G5: 징 수 액 | H5: 불납결손액 | I5: 미수납액 | L5: 징수율
B6: 항 목 별 | E6: (A) | F6: (B) | G6: (C) | H6: (D) | I6: 미수납액 (E=B-C-D) | J6: 체납액 (F=E-G) | K6: 납기미도래 (G) | L6: (C/A) | M6: (C/B)
B7: 합 계 | E7: =E8+E39+E59 -> 64745791000 | F7: =F8+F39+F59 -> 98451050122 | G7: =G8+G39+G59 -> 60770382391 | H7: =H8+H39+H59 -> 551836165 | I7: =F7-G7-H7 -> 37128831566 | J7: =I7-K7 -> 31286379226 | K7: =K8+K39+K59 -> 5842452340 | L7: =IFERROR(G7/E7,0)*100 -> 93.859974 | M7: =IFERROR(G7/F7,0)*100 -> 61.726495 | N7: 징수율(경상적세외수입 총액)
B8: 경상적세외수입 | E8: =E9+E12+E22+E28+E34+E35 -> 46626341000 | F8: =F9+F12+F22+F28+F34+F35 -> 43364091916 | G8: =G9+G12+G22+G28+G34+G35 -> 42438477156 | H8: =H9+H12+H22+H28+H34+H35 -> 133700 | I8: =F8-G8-H8 -> 925481060 | J8: =I8-K8 -> 107794600 | K8: =K9+K12+K22+K28+K34+K35 -> 817686460 | L8: =IFERROR(G8/E8,0)*100 -> 91.018245 | M8: =IFERROR(G8/F8,0)*100 -> 97.865481 | N8: 징수액 | O8: =G8-G35-G24 -> 29757174629 | P8: 1424854610 | Q8: 경상적세외수입 란
B9: 1. 재산임대수입 | E9: =SUM(E10:E11) -> 79629000 | F9: =SUM(F10:F11) -> 1607693940 | G9: =SUM(G10:G11) -> 1574139770 | H9: =SUM(H10:H11) -> 0 | I9: =F9-G9-H9 -> 33554170 | J9: =I9-K9 -> 24457160 | K9: =SUM(K10:K11) -> 9097010 | L9: =IFERROR(G9/E9,0)*100 -> 1976.8423 | M9: =IFERROR(G9/F9,0)*100 -> 97.912901 | N9: 징수결정액 | O9: =F8-F35-F24 -> 30682789389 | P9: 2184712690 | Q9: 경상적세외수입 란
C10: 가. 국유재산임대료 | F10: 1274065530 | G10: 1261963370 | I10: =F10-G10-H10 -> 12102160 | J10: =I10-K10 -> 9564670 | K10: 2537490 | L10: =IFERROR(G10/E10,0)*100 -> 0 | M10: =IFERROR(G10/F10,0)*100 -> 99.050115
C11: 나. 공유재산임대료 | E11: 79629000 | F11: 333628410 | G11: 312176400 | I11: =F11-G11-H11 -> 21452010 | J11: =I11-K11 -> 14892490 | K11: 6559520 | L11: =IFERROR(G11/E11,0)*100 -> 392.03858 | M11: =IFERROR(G11/F11,0)*100 -> 93.570089
B12: 2. 사용료수입 | E12: =SUM(E13:E21) -> 7526983000 | F12: =SUM(F13:F21) -> 4523505522 | G12: =SUM(G13:G21) -> 3658479672 | H12: =SUM(H13:H21) -> 0 | I12: =F12-G12-H12 -> 865025850 | J12: =I12-K12 -> 79586840 | K12: =SUM(K13:K21) -> 785439010 | L12: =IFERROR(G12/E12,0)*100 -> 48.604862 | M12: =IFERROR(G12/F12,0)*100 -> 80.877091 | O12: 징수액(시세외+구세외) | P12: =O8+P8 -> 31182029239
C13: 가. 도로사용료 | E13: 2050000000 | F13: 2669383510 | G13: 1816119810 | I13: =F13-G13-H13 -> 853263700 | J13: =I13-K13 -> 74446900 | K13: 778816800 | L13: =IFERROR(G13/E13,0)*100 -> 88.59121 | M13: =IFERROR(G13/F13,0)*100 -> 68.035178 | O13: 징수결정액액(시세외+구세외) | P13: =O9+P9 -> 32867502079
C14: 나. 하천사용료 | F14: 47900 | I14: =F14-G14-H14 -> 47900 | J14: =I14-K14 -> 0 | K14: 47900 | L14: =IFERROR(G14/E14,0)*100 -> 0 | M14: =IFERROR(G14/F14,0)*100 -> 0 | P14: =P12/P13 -> 0.94871917
C15: 다. 하수도사용료 | I15: =F15-G15-H15 -> 0 | J15: =I15-K15 -> 0 | L15: =IFERROR(G15/E15,0)*100 -> 0 | M15: =IFERROR(G15/F15,0)*100 -> 0
C16: 라. 상수도사용료 | I16: =F16-G16-H16 -> 0 | J16: =I16-K16 -> 0 | L16: =IFERROR(G16/E16,0)*100 -> 0 | M16: =IFERROR(G16/F16,0)*100 -> 0
C17: 마. 공유수면사용료 | F17: 9378550 | G17: 3672570 | I17: =F17-G17-H17 -> 5705980 | J17: =I17-K17 -> 861840 | K17: 4844140 | L17: =IFERROR(G17/E17,0)*100 -> 0 | M17: =IFERROR(G17/F17,0)*100 -> 39.159252 | N17: 체납액축소 | O17: =J7+H7+K58 -> 32991775711 | P17: =523644731+17947270 -> 541592001 | Q17: 총체납액 란
C18: 바. 시장사용료 | I18: =F18-G18-H18 -> 0 | J18: =I18-K18 -> 0 | L18: =IFERROR(G18/E18,0)*100 -> 0 | M18: =IFERROR(G18/F18,0)*100 -> 0 | P18: =O17+P17 -> 33533367712
C19: 사. 입장료수입 | E19: 4504282000 | F19: 1092926035 | G19: 1091244605 | I19: =F19-G19-H19 -> 1681430 | J19: =I19-K19 -> 452950 | K19: 1228480 | L19: =IFERROR(G19/E19,0)*100 -> 24.226827 | M19: =IFERROR(G19/F19,0)*100 -> 99.846153
C20: 아. 주차요금수입 | E20: 56476000 | F20: 118974320 | G20: 118974320
C21: 자. 기타사용료 | E21: 916225000 | F21: 632795207 | G21: 628468367 | I21: =F21-G21-H21 -> 4326840 | J21: =I21-K21 -> 3825150 | K21: 501690 | L21: =IFERROR(G21/E21,0)*100 -> 68.593235 | M21: =IFERROR(G21/F21,0)*100 -> 99.316234 | O21: 30682789389
B22: 3. 수수료수입 | E22: =SUM(E23:E27) -> 11554155000 | F22: =SUM(F23:F27) -> 11047730193 | G22: =SUM(G23:G27) -> 11020695453 | H22: =SUM(H23:H27) -> 133700 | I22: =F22-G22-H22 -> 26901040 | J22: =I22-K22 -> 3750600 | K22: =SUM(K23:K27) -> 23150440 | L22: =IFERROR(G22/E22,0)*100 -> 95.382964 | M22: =IFERROR(G22/F22,0)*100 -> 99.755291 | O22: 26935303825
C23: 가. 증지수입 | E23: 1722738000 | F23: 1275052730 | G23: 1259662280 | H23: 133700 | I23: =F23-G23-H23 -> 15256750 | J23: =I23-K23 -> 0 | K23: 15256750 | L23: =IFERROR(G23/E23,0)*100 -> 73.119783 | M23: =IFERROR(G23/F23,0)*100 -> 98.792956 | O23: =O21-O22 -> 3747485564
C24: 나. 폐기물처리수수료 | E24: 9642583000 | F24: 9548530006 | G24: 9548530006 | I24: =F24-G24-H24 -> 0 | J24: =I24-K24 -> 0 | L24: =IFERROR(G24/E24,0)*100 -> 99.024608 | M24: =IFERROR(G24/F24,0)*100 -> 100
C25: 다. 재활용품수거판매수입 | E25: 12794000 | F25: 7447900 | G25: 7447900 | I25: =F25-G25-H25 -> 0 | J25: =I25-K25 -> 0 | L25: =IFERROR(G25/E25,0)*100 -> 58.214007 | M25: =IFERROR(G25/F25,0)*100 -> 100
C26: 라. 보건의료수수료 | F26: 9114770 | G26: 9047960 | I26: =F26-G26-H26 -> 66810 | J26: =I26-K26 -> 0 | K26: 66810 | L26: =IFERROR(G26/E26,0)*100 -> 0 | M26: =IFERROR(G26/F26,0)*100 -> 99.267014
C27: 마. 기타수수료 | E27: 176040000 | F27: 207584787 | G27: 196007307 | I27: =F27-G27-H27 -> 11577480 | J27: =I27-K27 -> 3750600 | K27: 7826880 | L27: =IFERROR(G27/E27,0)*100 -> 111.34248 | M27: =IFERROR(G27/F27,0)*100 -> 94.42277
B28: 4. 사업수입 | E28: =SUM(E29:E33) -> 3488285000 | F28: =SUM(F29:F33) -> 1739125840 | G28: =SUM(G29:G33) -> 1739125840 | H28: =SUM(H29:H33) -> 0 | I28: =F28-G28-H28 -> 0 | J28: =I28-K28 -> 0 | K28: =SUM(K29:K33) -> 0 | L28: =IFERROR(G28/E28,0)*100 -> 49.856185 | M28: =IFERROR(G28/F28,0)*100 -> 100
C29: 가. 사업장 생산수입 | E29: 3488285000 | F29: 2439110 | G29: 2439110 | I29: =F29-G29-H29 -> 0 | J29: =I29-K29 -> 0 | L29: =IFERROR(G29/E29,0)*100 -> 0.069922899 | M29: =IFERROR(G29/F29,0)*100 -> 100
C30: 나. 청산금수입 | I30: =F30-G30-H30 -> 0 | J30: =I30-K30 -> 0 | L30: =IFERROR(G30/E30,0)*100 -> 0 | M30: =IFERROR(G30/F30,0)*100 -> 0
C31: 다. 매각 사업수입 | I31: =F31-G31-H31 -> 0 | J31: =I31-K31 -> 0 | L31: =IFERROR(G31/E31,0)*100 -> 0 | M31: =IFERROR(G31/F31,0)*100 -> 0
C32: 라. 배당금수입 | I32: =F32-G32-H32 -> 0 | J32: =I32-K32 -> 0 | L32: =IFERROR(G32/E32,0)*100 -> 0 | M32: =IFERROR(G32/F32,0)*100 -> 0
C33: 마. 기타 사업수입 | F33: 1736686730 | G33: 1736686730 | I33: =F33-G33-H33 -> 0 | J33: =I33-K33 -> 0 | L33: =IFERROR(G33/E33,0)*100 -> 0 | M33: =IFERROR(G33/F33,0)*100 -> 100
B34: 5. 징수교부금수입 | E34: 20896714000 | F34: 21313263900 | G34: 21313263900 | L34: =IFERROR(G34/E34,0)*100 -> 101.99338 | M34: =IFERROR(G34/F34,0)*100 -> 100
B35: 6. 이자수입 | E35: =SUM(E36:E38) -> 3080575000 | F35: =SUM(F36:F38) -> 3132772521 | G35: =SUM(G36:G38) -> 3132772521 | H35: =SUM(H36:H38) -> 0 | I35: =F35-G35-H35 -> 0 | J35: =I35-K35 -> 0 | K35: =SUM(K36:K38) -> 0 | L35: =IFERROR(G35/E35,0)*100 -> 101.69441 | M35: =IFERROR(G35/F35,0)*100 -> 100
C36: 가. 공공예금이자수입 | E36: 3080575000 | F36: 3011222049 | G36: 3011222049 | I36: =F36-G36-H36 -> 0 | J36: =I36-K36 -> 0 | L36: =IFERROR(G36/E36,0)*100 -> 97.748701 | M36: =IFERROR(G36/F36,0)*100 -> 100
C37: 나. 융자금회수이자수입 | I37: =F37-G37-H37 -> 0 | J37: =I37-K37 -> 0 | L37: =IFERROR(G37/E37,0)*100 -> 0 | M37: =IFERROR(G37/F37,0)*100 -> 0
C38: 다. 기타이자수입 | F38: 121550472 | G38: 121550472 | I38: =F38-G38-H38 -> 0 | J38: =I38-K38 -> 0 | L38: =IFERROR(G38/E38,0)*100 -> 0 | M38: =IFERROR(G38/F38,0)*100 -> 100
B39: 임시적세외수입 | E39: =E40+E45+E47+E50+E58 -> 9589477000 | F39: =F40+F45+F47+F50+F58 -> 44337744235 | G39: =G40+G45+G47+G50+G58 -> 12921650663 | H39: =H40+H45+H47+H50+H58 -> 550042345 | I39: =F39-G39-H39 -> 30866051227 | J39: =I39-K39 -> 28806330067 | K39: =K40+K45+K47+K50+K58 -> 2059721160 | L39: =IFERROR(G39/E39,0)*100 -> 134.74823 | M39: =IFERROR(G39/F39,0)*100 -> 29.143681
B40: 7. 재산매각수입 | E40: =SUM(E41:E44) -> 0 | F40: =SUM(F41:F44) -> 155060728 | G40: =SUM(G41:G44) -> 155060728 | H40: =SUM(H41:H44) -> 0 | I40: =F40-G40-H40 -> 0 | J40: =I40-K40 -> 0 | K40: =SUM(K41:K44) -> 0 | L40: =IFERROR(G40/E40,0)*100 -> 0 | M40: =IFERROR(G40/F40,0)*100 -> 100
C41: 가. 국유재산매각 귀속수입금 | I41: =F41-G41-H41 -> 0 | J41: =I41-K41 -> 0 | L41: =IFERROR(G41/E41,0)*100 -> 0 | M41: =IFERROR(G41/F41,0)*100 -> 0
C42: 나. 시·도유재산매각귀속수입금 | F42: 74193193 | G42: 74193193 | I42: =F42-G42-H42 -> 0 | J42: =I42-K42 -> 0 | L42: =IFERROR(G42/E42,0)*100 -> 0 | M42: =IFERROR(G42/F42,0)*100 -> 100
C43: 다. 공유재산매각수입금
C44: 라. 불용품 매각대금 | F44: 80867535 | G44: 80867535 | I44: =F44-G44-H44 -> 0 | J44: =I44-K44 -> 0 | L44: =IFERROR(G44/E44,0)*100 -> 0 | M44: =IFERROR(G44/F44,0)*100 -> 100
B45: 8. 자치단체간 부담금 | E45: =SUM(E46:E46) -> 16000000 | F45: =SUM(F46:F46) -> 16000000 | G45: =SUM(G46:G46) -> 16000000 | H45: =SUM(H46:H46) -> 0 | I45: =F45-G45-H45 -> 0 | J45: =I45-K45 -> 0 | K45: =SUM(K46:K46) -> 0 | L45: =IFERROR(G45/E45,0)*100 -> 100 | M45: =IFERROR(G45/F45,0)*100 -> 100
C46: 가. 자치단체간 부담금 | E46: 16000000 | F46: 16000000 | G46: 16000000 | I46: =F46-G46-H46 -> 0 | J46: =I46-K46 -> 0 | L46: =IFERROR(G46/E46,0)*100 -> 100 | M46: =IFERROR(G46/F46,0)*100 -> 100
B47: 9. 보조금 반환수입 | E47: =SUM(E48:E49) -> 0 | F47: =SUM(F48:F49) -> 442983960 | G47: =SUM(G48:G49) -> 442983960 | H47: =SUM(H48:H49) -> 0 | I47: =F47-G47-H47 -> 0 | J47: =I47-K47 -> 0 | K47: =SUM(K48:K49) -> 0 | L47: =IFERROR(G47/E47,0)*100 -> 0 | M47: =IFERROR(G47/F47,0)*100 -> 100
C48: 가. 시도비보조금등반환수입 | I48: =F48-G48-H48 -> 0 | J48: =I48-K48 -> 0 | L48: =IFERROR(G48/E48,0)*100 -> 0 | M48: =IFERROR(G48/F48,0)*100 -> 0
C49: 나. 자체보조금등반환수입 | F49: 442983960 | G49: 442983960 | I49: =F49-G49-H49 -> 0 | J49: =I49-K49 -> 0 | L49: =IFERROR(G49/E49,0)*100 -> 0 | M49: =IFERROR(G49/F49,0)*100 -> 100
B50: 10. 기타수입 | E50: =SUM(E51:E57) -> 5523239000 | F50: =SUM(F51:F57) -> 10373949785 | G50: =SUM(G51:G57) -> 9104770806 | H50: =SUM(H51:H57) -> 0 | I50: =F50-G50-H50 -> 1269178979 | J50: =I50-K50 -> 363018139 | K50: =SUM(K51:K57) -> 906160840 | L50: =IFERROR(G50/E50,0)*100 -> 164.84477 | M50: =IFERROR(G50/F50,0)*100 -> 87.765711
C51: 가. 체납처분수입 | F51: 3004680 | G51: 3004680 | I51: =F51-G51-H51 -> 0 | J51: =I51-K51 -> 0 | L51: =IFERROR(G51/E51,0)*100 -> 0 | M51: =IFERROR(G51/F51,0)*100 -> 100
C52: 나. 보상금수납금 | I52: =F52-G52-H52 -> 0 | J52: =I52-K52 -> 0 | L52: =IFERROR(G52/E52,0)*100 -> 0 | M52: =IFERROR(G52/F52,0)*100 -> 0
C53: 다. 기부금수입 | I53: =F53-G53-H53 -> 0 | J53: =I53-K53 -> 0 | L53: =IFERROR(G53/E53,0)*100 -> 0 | M53: =IFERROR(G53/F53,0)*100 -> 0
C54: 라. 지적재조사조정금 | F54: 965147900 | G54: 533467700 | I54: =F54-G54-H54 -> 431680200 | J54: =I54-K54 -> 348916200 | K54: 82764000 | L54: =IFERROR(G54/E54,0)*100 -> 0 | M54: =IFERROR(G54/F54,0)*100 -> 55.273156
C55: 마. 지방교부세감소분보전수입 | I55: =F55-G55-H55 -> 0 | J55: =I55-K55 -> 0 | L55: =IFERROR(G55/E55,0)*100 -> 0 | M55: =IFERROR(G55/F55,0)*100 -> 0
C56: 바. 위약금
C57: 사. 그외수입 | E57: 5523239000 | F57: 9405797205 | G57: 8568298426 | I57: =F57-G57-H57 -> 837498779 | J57: =I57-K57 -> 14101939 | K57: 823396840 | L57: =IFERROR(G57/E57,0)*100 -> 155.13177 | M57: =IFERROR(G57/F57,0)*100 -> 91.09593
B58: 11. 지난년도수입 | E58: 4050238000 | F58: 33349749762 | G58: 3202835169 | H58: 550042345 | I58: =F58-G58-H58 -> 29596872248 | J58: =I58-K58 -> 28443311928 | K58: 1153560320 | L58: =IFERROR(G58/E58,0)*100 -> 79.077703 | M58: =IFERROR(G58/F58,0)*100 -> 9.6037757
B59: 지방행정제재‧부과금 | E59: =E60+E61+E62+E63+E66+E67 -> 8529973000 | F59: =F60+F61+F62+F63+F66+F67 -> 10749213971 | G59: =G60+G61+G62+G63+G66+G67 -> 5410254572 | H59: =H60+H61+H62+H63+H66+H67 -> 1660120 | I59: =F59-G59-H59 -> 5337299279 | J59: =I59-K59 -> 2372254559 | K59: =K60+K61+K62+K63+K66+K67 -> 2965044720 | L59: =IFERROR(G59/E59,0)*100 -> 63.426397 | M59: =IFERROR(G59/F59,0)*100 -> 50.33163
B60: 12. 과징금 | E60: 140960000 | F60: 1452146320 | G60: 359283460 | I60: =F60-G60-H60 -> 1092862860 | J60: =I60-K60 -> 1089712860 | K60: 3150000 | L60: =IFERROR(G60/E60,0)*100 -> 254.88327 | M60: =IFERROR(G60/F60,0)*100 -> 24.741547
B61: 13. 이행강제금 | E61: 315000000 | F61: 1535237976 | G61: 934905207 | I61: =F61-G61-H61 -> 600332769 | J61: =I61-K61 -> 422576529 | K61: 177756240 | L61: =IFERROR(G61/E61,0)*100 -> 296.7953 | M61: =IFERROR(G61/F61,0)*100 -> 60.896436
B62: 14. 변상금 | F62: 111336170 | G62: 51280550 | I62: =F62-G62-H62 -> 60055620 | J62: =I62-K62 -> 55047860 | K62: 5007760 | L62: =IFERROR(G62/E62,0)*100 -> 0 | M62: =IFERROR(G62/F62,0)*100 -> 46.059201
B63: 15. 과태료 | E63: =SUM(E64:E65) -> 3478600000 | F63: =SUM(F64:F65) -> 2392401180 | G63: =SUM(G64:G65) -> 1419144770 | H63: =SUM(H64:H65) -> 1660120 | I63: =F63-G63-H63 -> 971596290 | J63: =I63-K63 -> 770163440 | K63: =SUM(K64:K65) -> 201432850 | L63: =IFERROR(G63/E63,0)*100 -> 40.796434 | M63: =IFERROR(G63/F63,0)*100 -> 59.318846
C64: 가. 차량관련 과태료 | E64: 2238000000 | F64: 1353535640 | G64: 599987180 | H64: 1660120 | I64: =F64-G64-H64 -> 751888340 | J64: =I64-K64 -> 586635490 | K64: 165252850 | L64: =IFERROR(G64/E64,0)*100 -> 26.809079 | M64: =IFERROR(G64/F64,0)*100 -> 44.327402
C65: 나. 기타 과태료 | E65: 1240600000 | F65: 1038865540 | G65: 819157590 | I65: =F65-G65-H65 -> 219707950 | J65: =I65-K65 -> 183527950 | K65: 36180000 | L65: =IFERROR(G65/E65,0)*100 -> 66.029146 | M65: =IFERROR(G65/F65,0)*100 -> 78.851166
B66: 16. 환수금 | F66: 39774455 | G66: 39774455 | I66: =F66-G66-H66 -> 0 | J66: =I66-K66 -> 0 | L66: =IFERROR(G66/E66,0)*100 -> 0 | M66: =IFERROR(G66/F66,0)*100 -> 100
B67: 17. 부담금 | E67: 4595413000 | F67: 5218317870 | G67: 2605866130 | I67: =F67-G67-H67 -> 2612451740 | J67: =I67-K67 -> 34753870 | K67: 2577697870 | L67: =IFERROR(G67/E67,0)*100 -> 56.705809 | M67: =IFERROR(G67/F67,0)*100 -> 49.936899
B68: 보전수입등및내부거래 | E68: =SUM(E69,E70,E74,E75,E78,E84) -> 0 | F68: =SUM(F69,F70,F74,F75,F78,F84) -> 178045619445 | G68: =SUM(G69,G70,G74,G75,G78,G84) -> 178045619445 | H68: =SUM(H69,H70,H74,H75,H78,H84) -> 0 | I68: =SUM(I69,I70,I74,I75,I78,I84) -> 0 | J68: =SUM(J69,J70,J74,J75,J78,J84) -> 0 | K68: =SUM(K69,K70,K74,K75,K78,K84) -> 0 | L68: =IFERROR(G68/E68,0)*100 -> 0 | M68: =IFERROR(G68/F68,0)*100 -> 100
B69: 18. 순세계잉여금 | I69: =F69-G69-H69 -> 0 | J69: =I69-K69 -> 0 | L69: =IFERROR(G69/E69,0)*100 -> 0 | M69: =IFERROR(G69/F69,0)*100 -> 0
B70: 19. 전년도이월금 | E70: =SUM(E71:E73) -> 0 | F70: =SUM(F71:F73) -> 178045619445 | G70: =SUM(G71:G73) -> 178045619445 | H70: =SUM(H71:H73) -> 0 | I70: =F70-G70-H70 -> 0 | J70: =I70-K70 -> 0 | K70: =SUM(K71:K73) -> 0 | L70: =IFERROR(G70/E70,0)*100 -> 0 | M70: =IFERROR(G70/F70,0)*100 -> 100
C71: 가. 국고보조금사용잔액 | F71: 7507076581 | G71: 7507076581 | I71: =F71-G71-H71 -> 0 | J71: =I71-K71 -> 0 | L71: =IFERROR(G71/E71,0)*100 -> 0 | M71: =IFERROR(G71/F71,0)*100 -> 100
C72: 나. 시도비보조금 사용잔액 | F72: 11486942507 | G72: 11486942507 | I72: =F72-G72-H72 -> 0 | J72: =I72-K72 -> 0 | L72: =IFERROR(G72/E72,0)*100 -> 0 | M72: =IFERROR(G72/F72,0)*100 -> 100
C73: 다. 전년도이월사업비 | F73: 159051600357 | G73: 159051600357 | I73: =F73-G73-H73 -> 0 | J73: =I73-K73 -> 0 | L73: =IFERROR(G73/E73,0)*100 -> 0 | M73: =IFERROR(G73/F73,0)*100 -> 100
B74: 20. 융자금 원금수입 | I74: =F74-G74-H74 -> 0 | J74: =I74-K74 -> 0 | L74: =IFERROR(G74/E74,0)*100 -> 0 | M74: =IFERROR(G74/F74,0)*100 -> 0
B75: 21. 보조금등반환금 | E75: =SUM(E76:E77) -> 0 | F75: =SUM(F76:F77) -> 0 | G75: =SUM(G76:G77) -> 0 | H75: =SUM(H76:H77) -> 0 | I75: =F75-G75-H75 -> 0 | J75: =I75-K75 -> 0 | K75: =SUM(K76:K77) -> 0 | L75: =IFERROR(G75/E75,0)*100 -> 0 | M75: =IFERROR(G75/F75,0)*100 -> 0
C76: 가. 국고보조금등반환금 | I76: =F76-G76-H76 -> 0 | J76: =I76-K76 -> 0 | L76: =IFERROR(G76/E76,0)*100 -> 0 | M76: =IFERROR(G76/F76,0)*100 -> 0
C77: 나. 시도비보조금등반환금 | I77: =F77-G77-H77 -> 0 | J77: =I77-K77 -> 0 | L77: =IFERROR(G77/E77,0)*100 -> 0 | M77: =IFERROR(G77/F77,0)*100 -> 0
B78: 22. 전입금 | E78: =SUM(E79:E83) -> 0 | F78: =SUM(F79:F83) -> 0 | G78: =SUM(G79:G83) -> 0 | H78: =SUM(H79:H83) -> 0 | I78: =F78-G78-H78 -> 0 | J78: =I78-K78 -> 0 | K78: =SUM(K79:K83) -> 0 | L78: =IFERROR(G78/E78,0)*100 -> 0 | M78: =IFERROR(G78/F78,0)*100 -> 0
C79: 가. 공기업특별회계전입금 | I79: =F79-G79-H79 -> 0 | J79: =I79-K79 -> 0 | L79: =IFERROR(G79/E79,0)*100 -> 0 | M79: =IFERROR(G79/F79,0)*100 -> 0
C80: 나. 공사공단전입금 | I80: =F80-G80-H80 -> 0 | J80: =I80-K80 -> 0 | L80: =IFERROR(G80/E80,0)*100 -> 0 | M80: =IFERROR(G80/F80,0)*100 -> 0
C81: 다. 기타회계전입금 | I81: =F81-G81-H81 -> 0 | J81: =I81-K81 -> 0 | L81: =IFERROR(G81/E81,0)*100 -> 0 | M81: =IFERROR(G81/F81,0)*100 -> 0
C82: 라. 기금전입금 | I82: =F82-G82-H82 -> 0 | J82: =I82-K82 -> 0 | L82: =IFERROR(G82/E82,0)*100 -> 0 | M82: =IFERROR(G82/F82,0)*100 -> 0
C83: 마. 교육비특별회계전입금 | I83: =F83-G83-H83 -> 0 | J83: =I83-K83 -> 0 | L83: =IFERROR(G83/E83,0)*100 -> 0 | M83: =IFERROR(G83/F83,0)*100 -> 0
B84: 23. 예탁금 및 예수금 | E84: =SUM(E85:E88) -> 0 | F84: =SUM(F85:F88) -> 0 | G84: =SUM(G85:G88) -> 0 | H84: =SUM(H85:H88) -> 0 | I84: =F84-G84-H84 -> 0 | J84: =I84-K84 -> 0 | K84: =SUM(K85:K88) -> 0 | L84: =IFERROR(G84/E84,0)*100 -> 0 | M84: =IFERROR(G84/F84,0)*100 -> 0
C85: 가. 예수금수입 | I85: =F85-G85-H85 -> 0 | J85: =I85-K85 -> 0 | L85: =IFERROR(G85/E85,0)*100 -> 0 | M85: =IFERROR(G85/F85,0)*100 -> 0
C86: 나. 시도지역개발기금예수금수입 | I86: =F86-G86-H86 -> 0 | J86: =I86-K86 -> 0 | L86: =IFERROR(G86/E86,0)*100 -> 0 | M86: =IFERROR(G86/F86,0)*100 -> 0
C87: 다. 예탁금 원금 회수수입 | I87: =F87-G87-H87 -> 0 | J87: =I87-K87 -> 0 | L87: =IFERROR(G87/E87,0)*100 -> 0 | M87: =IFERROR(G87/F87,0)*100 -> 0
C88: 라. 예탁금 이자수입 | I88: =F88-G88-H88 -> 0 | J88: =I88-K88 -> 0 | L88: =IFERROR(G88/E88,0)*100 -> 0 | M88: =IFERROR(G88/F88,0)*100 -> 0

Sheet 군구세외 일반회계_지난년도
B2: 2022년 9월 군·구 일반회계 (지난년도) 세외수입 징수현황
K3: 기관(부서)명 | L3: ='군구세외 일반회계 '!L3:M3 -> 서구
B4: 2022. 9월 | F4: =IF(F7='군구세외 일반회계 '!F58,"","err") | G4: =IF(G7='군구세외 일반회계 '!G58,"","err") | H4: =IF(H7='군구세외 일반회계 '!H58,"","err") | I4: =IF(I7='군구세외 일반회계 '!I58,"","err") | J4: =IF(J7='군구세외 일반회계 '!J58,"","err") | K4: =IF(K7='군구세외 일반회계 '!K58,"","err") | L4: (단위:원,%)
D5: 구 분 | E5: 최종예산액 | F5: 징수결정액 | G5: 징 수 액 | H5: 불납결손액 | I5: 미수납액 | L5: 징수율
B6: 항 목 별 | E6: (A) | F6: (B) | G6: (C) | H6: (D) | I6: 미수납액 (E=B-C-D) | J6: 체납액 (F=E-G) | K6: 납기미도래 (G) | L6: (C/A) | M6: (C/B)
B7: 합 계 | E7: ='군구세외 일반회계 '!E58 -> 4050238000 | F7: =F8+F39+F58 -> 33349749762 | G7: =G8+G39+G58 -> 3202835169 | H7: =H8+H39+H58 -> 550042345 | I7: =F7-G7-H7 -> 29596872248 | J7: =I7-K7 -> 28443311928 | K7: =K8+K39+K58 -> 1153560320 | L7: =IFERROR(G7/E7,0)*100 -> 79.077703 | M7: =IFERROR(G7/F7,0)*100 -> 9.6037757
B8: 경상적세외수입 | F8: =F9+F12+F22+F28+F34+F35 -> 408810004 | G8: =G9+G12+G22+G28+G34+G35 -> 202291048 | H8: =H9+H12+H22+H28+H34+H35 -> 53331190 | I8: =F8-G8-H8 -> 153187766 | J8: =I8-K8 -> 153187766 | K8: =K9+K12+K22+K28+K34+K35 -> 0 | L8: =IFERROR(G8/E8,0)*100 -> 0 | M8: =IFERROR(G8/F8,0)*100 -> 49.482901
B9: 1. 재산임대수입 | F9: =SUM(F10:F11) -> 2377870 | G9: =SUM(G10:G11) -> -42292730 | H9: =SUM(H10:H11) -> 0 | I9: =F9-G9-H9 -> 44670600 | J9: =I9-K9 -> 44670600 | K9: =SUM(K10:K11) -> 0 | L9: =IFERROR(G9/E9,0)*100 -> 0 | M9: =IFERROR(G9/F9,0)*100 -> -1778.5972
C10: 가. 국유재산임대료 | F10: 31897000 | G10: 968510 | H10: 0 | I10: =F10-G10-H10 -> 30928490 | J10: =I10-K10 -> 30928490 | L10: =IFERROR(G10/E10,0)*100 -> 0 | M10: =IFERROR(G10/F10,0)*100 -> 3.0363671
C11: 나. 공유재산임대료 | F11: -29519130 | G11: -43261240 | H11: 0 | I11: =F11-G11-H11 -> 13742110 | J11: =I11-K11 -> 13742110 | L11: =IFERROR(G11/E11,0)*100 -> 0 | M11: =IFERROR(G11/F11,0)*100 -> 146.55324
B12: 2. 사용료수입 | F12: =SUM(F13:F21) -> 365963096 | G12: =SUM(G13:G21) -> 206814100 | H12: =SUM(H13:H21) -> 53331190 | I12: =F12-G12-H12 -> 105817806 | J12: =I12-K12 -> 105817806 | K12: =SUM(K13:K21) -> 0 | L12: =IFERROR(G12/E12,0)*100 -> 0 | M12: =IFERROR(G12/F12,0)*100 -> 56.512283
C13: 가. 도로사용료 | F13: 159293130 | G13: 6349390 | H13: 53331190 | I13: =F13-G13-H13 -> 99612550 | J13: =I13-K13 -> 99612550 | L13: =IFERROR(G13/E13,0)*100 -> 0 | M13: =IFERROR(G13/F13,0)*100 -> 3.9859786
C14: 나. 하천사용료 | F14: -2940570 | G14: 0 | H14: 0 | I14: =F14-G14-H14 -> -2940570 | J14: =I14-K14 -> -2940570 | L14: =IFERROR(G14/E14,0)*100 -> 0 | M14: =IFERROR(G14/F14,0)*100 -> 0
C15: 다. 하수도사용료 | I15: =F15-G15-H15 -> 0 | J15: =I15-K15 -> 0 | L15: =IFERROR(G15/E15,0)*100 -> 0 | M15: =IFERROR(G15/F15,0)*100 -> 0
C16: 라. 상수도사용료 | I16: =F16-G16-H16 -> 0 | J16: =I16-K16 -> 0 | L16: =IFERROR(G16/E16,0)*100 -> 0 | M16: =IFERROR(G16/F16,0)*100 -> 0
C17: 마. 공유수면사용료 | F17: 14042413 | G17: 493640 | I17: =F17-G17-H17 -> 13548773 | J17: =I17-K17 -> 13548773 | L17: =IFERROR(G17/E17,0)*100 -> 0 | M17: =IFERROR(G17/F17,0)*100 -> 3.5153502
C18: 바. 시장사용료 | I18: =F18-G18-H18 -> 0 | J18: =I18-K18 -> 0 | L18: =IFERROR(G18/E18,0)*100 -> 0 | M18: =IFERROR(G18/F18,0)*100 -> 0
C19: 사. 입장료수입 | F19: 257881 | G19: -203620 | I19: =F19-G19-H19 -> 461501 | J19: =I19-K19 -> 461501 | L19: =IFERROR(G19/E19,0)*100 -> 0 | M19: =IFERROR(G19/F19,0)*100 -> -78.9589
C20: 아. 주차요금수입
C21: 자. 기타사용료 | F21: 195310242 | G21: 200174690 | I21: =F21-G21-H21 -> -4864448 | J21: =I21-K21 -> -4864448 | L21: =IFERROR(G21/E21,0)*100 -> 0 | M21: =IFERROR(G21/F21,0)*100 -> 102.49063
B22: 3. 수수료수입 | F22: =SUM(F23:F27) -> 49998848 | G22: =SUM(G23:G27) -> 37128618 | H22: =SUM(H23:H27) -> 0 | I22: =F22-G22-H22 -> 12870230 | J22: =I22-K22 -> 12870230 | K22: =SUM(K23:K27) -> 0 | L22: =IFERROR(G22/E22,0)*100 -> 0 | M22: =IFERROR(G22/F22,0)*100 -> 74.258947
C23: 가. 증지수입 | F23: 8397560 | G23: 8640850 | I23: =F23-G23-H23 -> -243290 | J23: =I23-K23 -> -243290 | L23: =IFERROR(G23/E23,0)*100 -> 0 | M23: =IFERROR(G23/F23,0)*100 -> 102.89715
C24: 나. 폐기물처리수수료 | F24: 16622748 | G24: 16622748 | I24: =F24-G24-H24 -> 0 | J24: =I24-K24 -> 0 | L24: =IFERROR(G24/E24,0)*100 -> 0 | M24: =IFERROR(G24/F24,0)*100 -> 100
C25: 다. 재활용품수거판매수입 | F25: 12815520 | G25: 0 | I25: =F25-G25-H25 -> 12815520 | J25: =I25-K25 -> 12815520 | L25: =IFERROR(G25/E25,0)*100 -> 0 | M25: =IFERROR(G25/F25,0)*100 -> 0
C26: 라. 보건의료수수료
C27: 마. 기타수수료 | F27: 12163020 | G27: 11865020 | I27: =F27-G27-H27 -> 298000 | J27: =I27-K27 -> 298000 | L27: =IFERROR(G27/E27,0)*100 -> 0 | M27: =IFERROR(G27/F27,0)*100 -> 97.549951
B28: 4. 사업수입 | F28: =SUM(F29:F33) -> 0 | G28: =SUM(G29:G33) -> 0 | H28: =SUM(H29:H33) -> 0 | I28: =F28-G28-H28 -> 0 | J28: =I28-K28 -> 0 | K28: =SUM(K29:K33) -> 0 | L28: =IFERROR(G28/E28,0)*100 -> 0 | M28: =IFERROR(G28/F28,0)*100 -> 0
C29: 가. 사업장 생산수입 | I29: =F29-G29-H29 -> 0 | J29: =I29-K29 -> 0 | L29: =IFERROR(G29/E29,0)*100 -> 0 | M29: =IFERROR(G29/F29,0)*100 -> 0
C30: 나. 청산금수입 | I30: =F30-G30-H30 -> 0 | J30: =I30-K30 -> 0 | L30: =IFERROR(G30/E30,0)*100 -> 0 | M30: =IFERROR(G30/F30,0)*100 -> 0
C31: 다. 매각 사업수입 | I31: =F31-G31-H31 -> 0 | J31: =I31-K31 -> 0 | L31: =IFERROR(G31/E31,0)*100 -> 0 | M31: =IFERROR(G31/F31,0)*100 -> 0
C32: 라. 배당금수입 | I32: =F32-G32-H32 -> 0 | J32: =I32-K32 -> 0 | L32: =IFERROR(G32/E32,0)*100 -> 0 | M32: =IFERROR(G32/F32,0)*100 -> 0
C33: 마. 기타 사업수입 | I33: =F33-G33-H33 -> 0 | J33: =I33-K33 -> 0 | L33: =IFERROR(G33/E33,0)*100 -> 0 | M33: =IFERROR(G33/F33,0)*100 -> 0
B34: 5. 징수교부금수입 | F34: -10170870 | G34: 0 | L34: =IFERROR(G34/E34,0)*100 -> 0 | M34: =IFERROR(G34/F34,0)*100 -> 0
B35: 6. 이자수입 | F35: =SUM(F36:F38) -> 641060 | G35: =SUM(G36:G38) -> 641060 | H35: =SUM(H36:H38) -> 0 | I35: =F35-G35-H35 -> 0 | J35: =I35-K35 -> 0 | K35: =SUM(K36:K38) -> 0 | L35: =IFERROR(G35/E35,0)*100 -> 0 | M35: =IFERROR(G35/F35,0)*100 -> 100
C36: 가. 공공예금이자수입 | I36: =F36-G36-H36 -> 0 | J36: =I36-K36 -> 0 | L36: =IFERROR(G36/E36,0)*100 -> 0 | M36: =IFERROR(G36/F36,0)*100 -> 0
C37: 나. 융자금회수이자수입 | I37: =F37-G37-H37 -> 0 | J37: =I37-K37 -> 0 | L37: =IFERROR(G37/E37,0)*100 -> 0 | M37: =IFERROR(G37/F37,0)*100 -> 0
C38: 다. 기타이자수입 | F38: 641060 | G38: 641060 | I38: =F38-G38-H38 -> 0 | J38: =I38-K38 -> 0 | L38: =IFERROR(G38/E38,0)*100 -> 0 | M38: =IFERROR(G38/F38,0)*100 -> 100
B39: 임시적세외수입 | F39: =F40+F45+F47+F50 -> 1383651288 | G39: =G40+G45+G47+G50 -> 150088079 | H39: =H40+H45+H47+H50 -> 0 | I39: =F39-G39-H39 -> 1233563209 | J39: =I39-K39 -> 1233563209 | K39: =K40+K45+K47+K50 -> 0 | L39: =IFERROR(G39/E39,0)*100 -> 0 | M39: =IFERROR(G39/F39,0)*100 -> 10.847247
B40: 7. 재산매각수입 | F40: =SUM(F41:F44) -> 0 | G40: =SUM(G41:G44) -> 0 | H40: =SUM(H41:H44) -> 0 | I40: =F40-G40-H40 -> 0 | J40: =I40-K40 -> 0 | K40: =SUM(K41:K44) -> 0 | L40: =IFERROR(G40/E40,0)*100 -> 0 | M40: =IFERROR(G40/F40,0)*100 -> 0
C41: 가. 국유재산매각 귀속수입금 | I41: =F41-G41-H41 -> 0 | J41: =I41-K41 -> 0 | L41: =IFERROR(G41/E41,0)*100 -> 0 | M41: =IFERROR(G41/F41,0)*100 -> 0
C42: 나. 시·도유재산매각귀속수입금 | I42: =F42-G42-H42 -> 0 | J42: =I42-K42 -> 0 | L42: =IFERROR(G42/E42,0)*100 -> 0 | M42: =IFERROR(G42/F42,0)*100 -> 0
C43: 다. 공유재산매각수입금
C44: 라. 불용품 매각대금 | I44: =F44-G44-H44 -> 0 | J44: =I44-K44 -> 0 | L44: =IFERROR(G44/E44,0)*100 -> 0 | M44: =IFERROR(G44/F44,0)*100 -> 0
B45: 8. 자치단체간 부담금 | F45: =SUM(F46:F46) -> 0 | G45: =SUM(G46:G46) -> 0 | H45: =SUM(H46:H46) -> 0 | I45: =F45-G45-H45 -> 0 | J45: =I45-K45 -> 0 | K45: =SUM(K46:K46) -> 0 | L45: =IFERROR(G45/E45,0)*100 -> 0 | M45: =IFERROR(G45/F45,0)*100 -> 0
C46: 가. 자치단체간 부담금 | I46: =F46-G46-H46 -> 0 | J46: =I46-K46 -> 0 | L46: =IFERROR(G46/E46,0)*100 -> 0 | M46: =IFERROR(G46/F46,0)*100 -> 0
B47: 9. 보조금 반환수입 | F47: =SUM(F48:F49) -> 0 | G47: =SUM(G48:G49) -> 0 | H47: =SUM(H48:H49) -> 0 | I47: =F47-G47-H47 -> 0 | J47: =I47-K47 -> 0 | K47: =SUM(K48:K49) -> 0 | L47: =IFERROR(G47/E47,0)*100 -> 0 | M47: =IFERROR(G47/F47,0)*100 -> 0
C48: 가. 시도비보조금등반환수입 | I48: =F48-G48-H48 -> 0 | J48: =I48-K48 -> 0 | L48: =IFERROR(G48/E48,0)*100 -> 0 | M48: =IFERROR(G48/F48,0)*100 -> 0
C49: 나. 자체보조금등반환수입 | I49: =F49-G49-H49 -> 0 | J49: =I49-K49 -> 0 | L49: =IFERROR(G49/E49,0)*100 -> 0 | M49: =IFERROR(G49/F49,0)*100 -> 0
B50: 10. 기타수입 | F50: =SUM(F51:F57) -> 1383651288 | G50: =SUM(G51:G57) -> 150088079 | H50: =SUM(H51:H57) -> 0 | I50: =F50-G50-H50 -> 1233563209 | J50: =I50-K50 -> 1233563209 | K50: =SUM(K51:K57) -> 0 | L50: =IFERROR(G50/E50,0)*100 -> 0 | M50: =IFERROR(G50/F50,0)*100 -> 10.847247
C51: 가. 체납처분수입 | I51: =F51-G51-H51 -> 0 | J51: =I51-K51 -> 0 | L51: =IFERROR(G51/E51,0)*100 -> 0 | M51: =IFERROR(G51/F51,0)*100 -> 0
C52: 나. 보상금수납금 | I52: =F52-G52-H52 -> 0 | J52: =I52-K52 -> 0 | L52: =IFERROR(G52/E52,0)*100 -> 0 | M52: =IFERROR(G52/F52,0)*100 -> 0
C53: 다. 기부금수입 | I53: =F53-G53-H53 -> 0 | J53: =I53-K53 -> 0 | L53: =IFERROR(G53/E53,0)*100 -> 0 | M53: =IFERROR(G53/F53,0)*100 -> 0
C54: 라. 지적재조사조정금 | I54: =F54-G54-H54 -> 0 | J54: =I54-K54 -> 0 | L54: =IFERROR(G54/E54,0)*100 -> 0 | M54: =IFERROR(G54/F54,0)*100 -> 0
C55: 마. 지방교부세감소분보전수입 | I55: =F55-G55-H55 -> 0 | J55: =I55-K55 -> 0 | L55: =IFERROR(G55/E55,0)*100 -> 0 | M55: =IFERROR(G55/F55,0)*100 -> 0
C56: 바. 위약금
C57: 사. 그외수입 | F57: 1383651288 | G57: 150088079 | I57: =F57-G57-H57 -> 1233563209 | J57: =I57-K57 -> 1233563209 | L57: =IFERROR(G57/E57,0)*100 -> 0 | M57: =IFERROR(G57/F57,0)*100 -> 10.847247
B58: 지방행정제재‧부과금 | F58: =F59+F60+F61+F62+F65+F66 -> 31557288470 | G58: =G59+G60+G61+G62+G65+G66 -> 2850456042 | H58: =H59+H60+H61+H62+H65+H66 -> 496711155 | I58: =F58-G58-H58 -> 28210121273 | J58: =I58-K58 -> 27056560953 | K58: =K59+K60+K61+K62+K65+K66 -> 1153560320 | L58: =IFERROR(G58/E58,0)*100 -> 0 | M58: =IFERROR(G58/F58,0)*100 -> 9.0326393
B59: 12. 과징금 | F59: 5508130323 | G59: 32460110 | H59: 500000 | I59: =F59-G59-H59 -> 5475170213 | J59: =I59-K59 -> 5475170213 | L59: =IFERROR(G59/E59,0)*100 -> 0 | M59: =IFERROR(G59/F59,0)*100 -> 0.58931267
B60: 13. 이행강제금 | F60: 2241511845 | G60: 247540790 | H60: 33782270 | I60: =F60-G60-H60 -> 1960188785 | J60: =I60-K60 -> 1960188785 | L60: =IFERROR(G60/E60,0)*100 -> 0 | M60: =IFERROR(G60/F60,0)*100 -> 11.043475
B61: 14. 변상금 | F61: 252979350 | G61: -3281950 | H61: 4550940 | I61: =F61-G61-H61 -> 251710360 | J61: =I61-K61 -> 251710360 | L61: =IFERROR(G61/E61,0)*100 -> 0 | M61: =IFERROR(G61/F61,0)*100 -> -1.2973193
B62: 15. 과태료 | F62: =SUM(F63:F64) -> 20485403391 | G62: =SUM(G63:G64) -> 1437048152 | H62: =SUM(H63:H64) -> 457877945 | I62: =F62-G62-H62 -> 18590477294 | J62: =I62-K62 -> 18590477294 | K62: =SUM(K63:K64) -> 0 | L62: =IFERROR(G62/E62,0)*100 -> 0 | M62: =IFERROR(G62/F62,0)*100 -> 7.0149859
C63: 가. 차량관련 과태료 | F63: 18338055668 | G63: 1242185056 | H63: 425600655 | I63: =F63-G63-H63 -> 16670269957 | J63: =I63-K63 -> 16670269957 | L63: =IFERROR(G63/E63,0)*100 -> 0 | M63: =IFERROR(G63/F63,0)*100 -> 6.77381
C64: 나. 기타 과태료 | F64: 2147347723 | G64: 194863096 | H64: 32277290 | I64: =F64-G64-H64 -> 1920207337 | J64: =I64-K64 -> 1920207337 | L64: =IFERROR(G64/E64,0)*100 -> 0 | M64: =IFERROR(G64/F64,0)*100 -> 9.0745944
B65: 16. 환수금 | F65: 10931140 | I65: =F65-G65-H65 -> 10931140 | J65: =I65-K65 -> 10931140 | L65: =IFERROR(G65/E65,0)*100 -> 0 | M65: =IFERROR(G65/F65,0)*100 -> 0
B66: 17. 부담금 | F66: 3058332421 | G66: 1136688940 | I66: =F66-G66-H66 -> 1921643481 | J66: =I66-K66 -> 768083161 | K66: 1153560320 | L66: =IFERROR(G66/E66,0)*100 -> 0 | M66: =IFERROR(G66/F66,0)*100 -> 37.166952

Sheet 군구세외 특별회계
B2: 2022년 9월 군·구 특별회계 세외수입 징수현황
K3: 기관(부서)명 | L3: ='군구세외 일반회계 '!L3:M3 -> 서구
B4: 2022. 9월 | L4: (단위:원,%)
D5: 구 분 | E5: 최종예산액 | F5: 징수결정액 | G5: 징 수 액 | H5: 불납결손액 | I5: 미수납액 | L5: 징수율
B6: 항 목 별 | E6: (A) | F6: (B) | G6: (C) | H6: (D) | I6: 미수납액 (E=B-C-D) | J6: 체납액 (F=E-G) | K6: 납기미도래 (G) | L6: (C/A) | M6: (C/B)
B7: 합 계 | E7: =E8+E39+E59 -> 8441132000 | F7: =F8+F39+F59 -> 31173072236 | G7: =G8+G39+G59 -> 21351572421 | H7: =H8+H39+H59 -> 460958710 | I7: =F7-G7-H7 -> 9360541105 | J7: =I7-K7 -> 9068011105 | K7: =K8+K39+K59 -> 292530000 | L7: =IFERROR(G7/E7,0)*100 -> 252.94679 | M7: =IFERROR(G7/F7,0)*100 -> 68.493642
B8: 경상적세외수입 | E8: =E9+E12+E22+E28+E34+E35 -> 2560303000 | F8: =F9+F12+F22+F28+F34+F35 -> 17209351090 | G8: =G9+G12+G22+G28+G34+G35 -> 17209351090 | H8: =H9+H12+H22+H28+H34+H35 -> 0 | I8: =F8-G8-H8 -> 0 | J8: =I8-K8 -> 0 | K8: =K9+K12+K22+K28+K34+K35 -> 0 | L8: =IFERROR(G8/E8,0)*100 -> 672.16072 | M8: =IFERROR(G8/F8,0)*100 -> 100
B9: 1. 재산임대수입 | E9: =SUM(E10:E11) -> 0 | F9: =SUM(F10:F11) -> 0 | G9: =SUM(G10:G11) -> 0 | H9: =SUM(H10:H11) -> 0 | I9: =F9-G9-H9 -> 0 | J9: =I9-K9 -> 0 | K9: =SUM(K10:K11) -> 0 | L9: =IFERROR(G9/E9,0)*100 -> 0 | M9: =IFERROR(G9/F9,0)*100 -> 0
C10: 가. 국유재산임대료 | I10: =F10-G10-H10 -> 0 | J10: =I10-K10 -> 0 | L10: =IFERROR(G10/E10,0)*100 -> 0 | M10: =IFERROR(G10/F10,0)*100 -> 0
C11: 나. 공유재산임대료 | I11: =F11-G11-H11 -> 0 | J11: =I11-K11 -> 0 | L11: =IFERROR(G11/E11,0)*100 -> 0 | M11: =IFERROR(G11/F11,0)*100 -> 0
B12: 2. 사용료수입 | E12: =SUM(E13:E21) -> 2099833000 | F12: =SUM(F13:F21) -> 1173882280 | G12: =SUM(G13:G21) -> 1173882280 | H12: =SUM(H13:H21) -> 0 | I12: =F12-G12-H12 -> 0 | J12: =I12-K12 -> 0 | K12: =SUM(K13:K21) -> 0 | L12: =IFERROR(G12/E12,0)*100 -> 55.903602 | M12: =IFERROR(G12/F12,0)*100 -> 100
C13: 가. 도로사용료 | I13: =F13-G13-H13 -> 0 | J13: =I13-K13 -> 0 | L13: =IFERROR(G13/E13,0)*100 -> 0 | M13: =IFERROR(G13/F13,0)*100 -> 0
C14: 나. 하천사용료 | I14: =F14-G14-H14 -> 0 | J14: =I14-K14 -> 0 | L14: =IFERROR(G14/E14,0)*100 -> 0 | M14: =IFERROR(G14/F14,0)*100 -> 0
C15: 다. 하수도사용료 | I15: =F15-G15-H15 -> 0 | J15: =I15-K15 -> 0 | L15: =IFERROR(G15/E15,0)*100 -> 0 | M15: =IFERROR(G15/F15,0)*100 -> 0
C16: 라. 상수도사용료 | I16: =F16-G16-H16 -> 0 | J16: =I16-K16 -> 0 | L16: =IFERROR(G16/E16,0)*100 -> 0 | M16: =IFERROR(G16/F16,0)*100 -> 0
C17: 마. 공유수면사용료 | I17: =F17-G17-H17 -> 0 | J17: =I17-K17 -> 0 | L17: =IFERROR(G17/E17,0)*100 -> 0 | M17: =IFERROR(G17/F17,0)*100 -> 0
C18: 바. 시장사용료 | I18: =F18-G18-H18 -> 0 | J18: =I18-K18 -> 0 | L18: =IFERROR(G18/E18,0)*100 -> 0 | M18: =IFERROR(G18/F18,0)*100 -> 0
C19: 사. 입장료수입 | I19: =F19-G19-H19 -> 0 | J19: =I19-K19 -> 0 | L19: =IFERROR(G19/E19,0)*100 -> 0 | M19: =IFERROR(G19/F19,0)*100 -> 0
C20: 아. 주차요금수입 | E20: 2099833000 | F20: 1173882280 | G20: 1173882280
C21: 자. 기타사용료 | I21: =F21-G21-H21 -> 0 | J21: =I21-K21 -> 0 | L21: =IFERROR(G21/E21,0)*100 -> 0 | M21: =IFERROR(G21/F21,0)*100 -> 0
B22: 3. 수수료수입 | E22: =SUM(E23:E27) -> 0 | F22: =SUM(F23:F27) -> 0 | G22: =SUM(G23:G27) -> 0 | H22: =SUM(H23:H27) -> 0 | I22: =F22-G22-H22 -> 0 | J22: =I22-K22 -> 0 | K22: =SUM(K23:K27) -> 0 | L22: =IFERROR(G22/E22,0)*100 -> 0 | M22: =IFERROR(G22/F22,0)*100 -> 0
C23: 가. 증지수입 | I23: =F23-G23-H23 -> 0 | J23: =I23-K23 -> 0 | L23: =IFERROR(G23/E23,0)*100 -> 0 | M23: =IFERROR(G23/F23,0)*100 -> 0
C24: 나. 폐기물처리수수료 | I24: =F24-G24-H24 -> 0 | J24: =I24-K24 -> 0 | L24: =IFERROR(G24/E24,0)*100 -> 0 | M24: =IFERROR(G24/F24,0)*100 -> 0
C25: 다. 재활용품수거판매수입 | I25: =F25-G25-H25 -> 0 | J25: =I25-K25 -> 0 | L25: =IFERROR(G25/E25,0)*100 -> 0 | M25: =IFERROR(G25/F25,0)*100 -> 0
C26: 라. 보건의료수수료
C27: 마. 기타수수료 | I27: =F27-G27-H27 -> 0 | J27: =I27-K27 -> 0 | L27: =IFERROR(G27/E27,0)*100 -> 0 | M27: =IFERROR(G27/F27,0)*100 -> 0
B28: 4. 사업수입 | E28: =SUM(E29:E33) -> 0 | F28: =SUM(F29:F33) -> 15257439540 | G28: =SUM(G29:G33) -> 15257439540 | H28: =SUM(H29:H33) -> 0 | I28: =F28-G28-H28 -> 0 | J28: =I28-K28 -> 0 | K28: =SUM(K29:K33) -> 0 | L28: =IFERROR(G28/E28,0)*100 -> 0 | M28: =IFERROR(G28/F28,0)*100 -> 100
C29: 가. 사업장 생산수입 | I29: =F29-G29-H29 -> 0 | J29: =I29-K29 -> 0 | L29: =IFERROR(G29/E29,0)*100 -> 0 | M29: =IFERROR(G29/F29,0)*100 -> 0
C30: 나. 청산금수입 | I30: =F30-G30-H30 -> 0 | J30: =I30-K30 -> 0 | L30: =IFERROR(G30/E30,0)*100 -> 0 | M30: =IFERROR(G30/F30,0)*100 -> 0
C31: 다. 매각 사업수입 | F31: 15257439540 | G31: 15257439540 | I31: =F31-G31-H31 -> 0 | J31: =I31-K31 -> 0 | L31: =IFERROR(G31/E31,0)*100 -> 0 | M31: =IFERROR(G31/F31,0)*100 -> 100
C32: 라. 배당금수입 | I32: =F32-G32-H32 -> 0 | J32: =I32-K32 -> 0 | L32: =IFERROR(G32/E32,0)*100 -> 0 | M32: =IFERROR(G32/F32,0)*100 -> 0
C33: 마. 기타 사업수입 | I33: =F33-G33-H33 -> 0 | J33: =I33-K33 -> 0 | L33: =IFERROR(G33/E33,0)*100 -> 0 | M33: =IFERROR(G33/F33,0)*100 -> 0
B34: 5. 징수교부금수입 | L34: =IFERROR(G34/E34,0)*100 -> 0 | M34: =IFERROR(G34/F34,0)*100 -> 0
B35: 6. 이자수입 | E35: =SUM(E36:E38) -> 460470000 | F35: =SUM(F36:F38) -> 778029270 | G35: =SUM(G36:G38) -> 778029270 | H35: =SUM(H36:H38) -> 0 | I35: =F35-G35-H35 -> 0 | J35: =I35-K35 -> 0 | K35: =SUM(K36:K38) -> 0 | L35: =IFERROR(G35/E35,0)*100 -> 168.96416 | M35: =IFERROR(G35/F35,0)*100 -> 100
C36: 가. 공공예금이자수입 | E36: 460470000 | F36: =428678890+5074360+311915080+4899840+27461100 -> 778029270 | G36: =428678890+5074360+311915080+4899840+27461100 -> 778029270 | I36: =F36-G36-H36 -> 0 | J36: =I36-K36 -> 0 | L36: =IFERROR(G36/E36,0)*100 -> 168.96416 | M36: =IFERROR(G36/F36,0)*100 -> 100
C37: 나. 융자금회수이자수입 | I37: =F37-G37-H37 -> 0 | J37: =I37-K37 -> 0 | L37: =IFERROR(G37/E37,0)*100 -> 0 | M37: =IFERROR(G37/F37,0)*100 -> 0
C38: 다. 기타이자수입 | I38: =F38-G38-H38 -> 0 | J38: =I38-K38 -> 0 | L38: =IFERROR(G38/E38,0)*100 -> 0 | M38: =IFERROR(G38/F38,0)*100 -> 0
B39: 임시적세외수입 | E39: =E40+E45+E47+E50+E58 -> 3861058000 | F39: =F40+F45+F47+F50+F58 -> 9766955076 | G39: =G40+G45+G47+G50+G58 -> 858982491 | H39: =H40+H45+H47+H50+H58 -> 454448390 | I39: =F39-G39-H39 -> 8453524195 | J39: =I39-K39 -> 8453524195 | K39: =K40+K45+K47+K50+K58 -> 0 | L39: =IFERROR(G39/E39,0)*100 -> 22.247335 | M39: =IFERROR(G39/F39,0)*100 -> 8.7947829
B40: 7. 재산매각수입 | E40: =SUM(E41:E44) -> 3065000000 | F40: =SUM(F41:F44) -> 0 | G40: =SUM(G41:G44) -> 0 | H40: =SUM(H41:H44) -> 0 | I40: =F40-G40-H40 -> 0 | J40: =I40-K40 -> 0 | K40: =SUM(K41:K44) -> 0 | L40: =IFERROR(G40/E40,0)*100 -> 0 | M40: =IFERROR(G40/F40,0)*100 -> 0
C41: 가. 국유재산매각 귀속수입금 | I41: =F41-G41-H41 -> 0 | J41: =I41-K41 -> 0 | L41: =IFERROR(G41/E41,0)*100 -> 0 | M41: =IFERROR(G41/F41,0)*100 -> 0
C42: 나. 시·도유재산매각귀속수입금 | I42: =F42-G42-H42 -> 0 | J42: =I42-K42 -> 0 | L42: =IFERROR(G42/E42,0)*100 -> 0 | M42: =IFERROR(G42/F42,0)*100 -> 0
C43: 다. 공유재산매각수입금 | E43: 3065000000
C44: 라. 불용품 매각대금 | I44: =F44-G44-H44 -> 0 | J44: =I44-K44 -> 0 | L44: =IFERROR(G44/E44,0)*100 -> 0 | M44: =IFERROR(G44/F44,0)*100 -> 0
B45: 8. 자치단체간 부담금 | E45: =SUM(E46:E46) -> 0 | F45: =SUM(F46:F46) -> 0 | G45: =SUM(G46:G46) -> 0 | H45: =SUM(H46:H46) -> 0 | I45: =F45-G45-H45 -> 0 | J45: =I45-K45 -> 0 | K45: =SUM(K46:K46) -> 0 | L45: =IFERROR(G45/E45,0)*100 -> 0 | M45: =IFERROR(G45/F45,0)*100 -> 0
C46: 가. 자치단체간 부담금 | I46: =F46-G46-H46 -> 0 | J46: =I46-K46 -> 0 | L46: =IFERROR(G46/E46,0)*100 -> 0 | M46: =IFERROR(G46/F46,0)*100 -> 0
B47: 9. 보조금 반환수입 | E47: =SUM(E48:E49) -> 0 | F47: =SUM(F48:F49) -> 0 | G47: =SUM(G48:G49) -> 0 | H47: =SUM(H48:H49) -> 0 | I47: =F47-G47-H47 -> 0 | J47: =I47-K47 -> 0 | K47: =SUM(K48:K49) -> 0 | L47: =IFERROR(G47/E47,0)*100 -> 0 | M47: =IFERROR(G47/F47,0)*100 -> 0
C48: 가. 시도비보조금등반환수입 | I48: =F48-G48-H48 -> 0 | J48: =I48-K48 -> 0 | L48: =IFERROR(G48/E48,0)*100 -> 0 | M48: =IFERROR(G48/F48,0)*100 -> 0
C49: 나. 자체보조금등반환수입 | I49: =F49-G49-H49 -> 0 | J49: =I49-K49 -> 0 | L49: =IFERROR(G49/E49,0)*100 -> 0 | M49: =IFERROR(G49/F49,0)*100 -> 0
B50: 10. 기타수입 | E50: =SUM(E51:E57) -> 93321000 | F50: =SUM(F51:F57) -> 564086931 | G50: =SUM(G51:G57) -> 98554441 | H50: =SUM(H51:H57) -> 0 | I50: =F50-G50-H50 -> 465532490 | J50: =I50-K50 -> 465532490 | K50: =SUM(K51:K57) -> 0 | L50: =IFERROR(G50/E50,0)*100 -> 105.608 | M50: =IFERROR(G50/F50,0)*100 -> 17.471499
C51: 가. 체납처분수입 | I51: =F51-G51-H51 -> 0 | J51: =I51-K51 -> 0 | L51: =IFERROR(G51/E51,0)*100 -> 0 | M51: =IFERROR(G51/F51,0)*100 -> 0
C52: 나. 보상금수납금 | I52: =F52-G52-H52 -> 0 | J52: =I52-K52 -> 0 | L52: =IFERROR(G52/E52,0)*100 -> 0 | M52: =IFERROR(G52/F52,0)*100 -> 0
C53: 다. 기부금수입 | I53: =F53-G53-H53 -> 0 | J53: =I53-K53 -> 0 | L53: =IFERROR(G53/E53,0)*100 -> 0 | M53: =IFERROR(G53/F53,0)*100 -> 0
C54: 라. 지적재조사조정금 | I54: =F54-G54-H54 -> 0 | J54: =I54-K54 -> 0 | L54: =IFERROR(G54/E54,0)*100 -> 0 | M54: =IFERROR(G54/F54,0)*100 -> 0
C55: 마. 지방교부세감소분보전수입 | I55: =F55-G55-H55 -> 0 | J55: =I55-K55 -> 0 | L55: =IFERROR(G55/E55,0)*100 -> 0 | M55: =IFERROR(G55/F55,0)*100 -> 0
C56: 바. 위약금
C57: 사. 그외수입 | E57: 93321000 | F57: =34665811+503290620+26130500 -> 564086931 | G57: =34665811+37758130+26130500 -> 98554441 | I57: =F57-G57-H57 -> 465532490 | J57: =I57-K57 -> 465532490 | L57: =IFERROR(G57/E57,0)*100 -> 105.608 | M57: =IFERROR(G57/F57,0)*100 -> 17.471499
B58: 11. 지난년도수입 | E58: 702737000 | F58: =31725640+3536283745+5634858760 -> 9202868145 | G58: =687210+83000650+676740190 -> 760428050 | H58: =5119250+8740750+440588390 -> 454448390 | I58: =F58-G58-H58 -> 7987991705 | J58: =I58-K58 -> 7987991705 | L58: =IFERROR(G58/E58,0)*100 -> 108.20948 | M58: =IFERROR(G58/F58,0)*100 -> 8.2629463
B59: 지방행정제재‧부과금 | E59: =E60+E61+E62+E63+E66+E67 -> 2019771000 | F59: =F60+F61+F62+F63+F66+F67 -> 4196766070 | G59: =G60+G61+G62+G63+G66+G67 -> 3283238840 | H59: =H60+H61+H62+H63+H66+H67 -> 6510320 | I59: =F59-G59-H59 -> 907016910 | J59: =I59-K59 -> 614486910 | K59: =K60+K61+K62+K63+K66+K67 -> 292530000 | L59: =IFERROR(G59/E59,0)*100 -> 162.555 | M59: =IFERROR(G59/F59,0)*100 -> 78.232591
B60: 12. 과징금 | I60: =F60-G60-H60 -> 0 | J60: =I60-K60 -> 0 | L60: =IFERROR(G60/E60,0)*100 -> 0 | M60: =IFERROR(G60/F60,0)*100 -> 0
B61: 13. 이행강제금 | I61: =F61-G61-H61 -> 0 | J61: =I61-K61 -> 0 | L61: =IFERROR(G61/E61,0)*100 -> 0 | M61: =IFERROR(G61/F61,0)*100 -> 0
B62: 14. 변상금 | I62: =F62-G62-H62 -> 0 | J62: =I62-K62 -> 0 | L62: =IFERROR(G62/E62,0)*100 -> 0 | M62: =IFERROR(G62/F62,0)*100 -> 0
B63: 15. 과태료 | E63: =SUM(E64:E65) -> 1980000000 | F63: =SUM(F64:F65) -> 4173853150 | G63: =SUM(G64:G65) -> 3260977440 | H63: =SUM(H64:H65) -> 6510320 | I63: =F63-G63-H63 -> 906365390 | J63: =I63-K63 -> 613835390 | K63: =SUM(K64:K65) -> 292530000 | L63: =IFERROR(G63/E63,0)*100 -> 164.69583 | M63: =IFERROR(G63/F63,0)*100 -> 78.128706
C64: 가. 차량관련 과태료 | E64: 1980000000 | F64: 4173853150 | G64: 3260977440 | H64: 6510320 | I64: =F64-G64-H64 -> 906365390 | J64: =I64-K64 -> 613835390 | K64: 292530000 | L64: =IFERROR(G64/E64,0)*100 -> 164.69583 | M64: =IFERROR(G64/F64,0)*100 -> 78.128706
C65: 나. 기타 과태료 | I65: =F65-G65-H65 -> 0 | J65: =I65-K65 -> 0 | L65: =IFERROR(G65/E65,0)*100 -> 0 | M65: =IFERROR(G65/F65,0)*100 -> 0
B66: 16. 환수금 | E66: 4771000 | I66: =F66-G66-H66 -> 0 | J66: =I66-K66 -> 0 | L66: =IFERROR(G66/E66,0)*100 -> 0 | M66: =IFERROR(G66/F66,0)*100 -> 0
B67: 17. 부담금 | E67: 35000000 | F67: 22912920 | G67: 22261400 | I67: =F67-G67-H67 -> 651520 | J67: =I67-K67 -> 651520 | L67: =IFERROR(G67/E67,0)*100 -> 63.604 | M67: =IFERROR(G67/F67,0)*100 -> 97.156539
B68: 보전수입등및내부거래 | E68: =SUM(E69,E70,E74,E75,E78,E84) -> 0 | F68: =SUM(F69,F70,F74,F75,F78,F84) -> 0 | G68: =SUM(G69,G70,G74,G75,G78,G84) -> 0 | H68: =SUM(H69,H70,H74,H75,H78,H84) -> 0 | I68: =SUM(I69,I70,I74,I75,I78,I84) -> 0 | J68: =SUM(J69,J70,J74,J75,J78,J84) -> 0 | K68: =SUM(K69,K70,K74,K75,K78,K84) -> 0 | L68: =IFERROR(G68/E68,0)*100 -> 0 | M68: =IFERROR(G68/F68,0)*100 -> 0
B69: 18. 순세계잉여금 | I69: =F69-G69-H69 -> 0 | J69: =I69-K69 -> 0 | L69: =IFERROR(G69/E69,0)*100 -> 0 | M69: =IFERROR(G69/F69,0)*100 -> 0
B70: 19. 전년도이월금 | E70: =SUM(E71:E73) -> 0 | F70: =SUM(F71:F73) -> 0 | G70: =SUM(G71:G73) -> 0 | H70: =SUM(H71:H73) -> 0 | I70: =F70-G70-H70 -> 0 | J70: =I70-K70 -> 0 | K70: =SUM(K71:K73) -> 0 | L70: =IFERROR(G70/E70,0)*100 -> 0 | M70: =IFERROR(G70/F70,0)*100 -> 0
C71: 가. 국고보조금사용잔액 | I71: =F71-G71-H71 -> 0 | J71: =I71-K71 -> 0 | L71: =IFERROR(G71/E71,0)*100 -> 0 | M71: =IFERROR(G71/F71,0)*100 -> 0
C72: 나. 시도비보조금 사용잔액 | I72: =F72-G72-H72 -> 0 | J72: =I72-K72 -> 0 | L72: =IFERROR(G72/E72,0)*100 -> 0 | M72: =IFERROR(G72/F72,0)*100 -> 0
C73: 다. 전년도이월사업비 | I73: =F73-G73-H73 -> 0 | J73: =I73-K73 -> 0 | L73: =IFERROR(G73/E73,0)*100 -> 0 | M73: =IFERROR(G73/F73,0)*100 -> 0
B74: 20. 융자금 원금수입 | I74: =F74-G74-H74 -> 0 | J74: =I74-K74 -> 0 | L74: =IFERROR(G74/E74,0)*100 -> 0 | M74: =IFERROR(G74/F74,0)*100 -> 0
B75: 21. 보조금등반환금 | E75: =SUM(E76:E77) -> 0 | F75: =SUM(F76:F77) -> 0 | G75: =SUM(G76:G77) -> 0 | H75: =SUM(H76:H77) -> 0 | I75: =F75-G75-H75 -> 0 | J75: =I75-K75 -> 0 | K75: =SUM(K76:K77) -> 0 | L75: =IFERROR(G75/E75,0)*100 -> 0 | M75: =IFERROR(G75/F75,0)*100 -> 0
C76: 가. 국고보조금등반환금 | I76: =F76-G76-H76 -> 0 | J76: =I76-K76 -> 0 | L76: =IFERROR(G76/E76,0)*100 -> 0 | M76: =IFERROR(G76/F76,0)*100 -> 0
C77: 나. 시도비보조금등반환금 | I77: =F77-G77-H77 -> 0 | J77: =I77-K77 -> 0 | L77: =IFERROR(G77/E77,0)*100 -> 0 | M77: =IFERROR(G77/F77,0)*100 -> 0
B78: 22. 전입금 | E78: =SUM(E79:E83) -> 0 | F78: =SUM(F79:F83) -> 0 | G78: =SUM(G79:G83) -> 0 | H78: =SUM(H79:H83) -> 0 | I78: =F78-G78-H78 -> 0 | J78: =I78-K78 -> 0 | K78: =SUM(K79:K83) -> 0 | L78: =IFERROR(G78/E78,0)*100 -> 0 | M78: =IFERROR(G78/F78,0)*100 -> 0
C79: 가. 공기업특별회계전입금 | I79: =F79-G79-H79 -> 0 | J79: =I79-K79 -> 0 | L79: =IFERROR(G79/E79,0)*100 -> 0 | M79: =IFERROR(G79/F79,0)*100 -> 0
C80: 나. 공사공단전입금 | I80: =F80-G80-H80 -> 0 | J80: =I80-K80 -> 0 | L80: =IFERROR(G80/E80,0)*100 -> 0 | M80: =IFERROR(G80/F80,0)*100 -> 0
C81: 다. 기타회계전입금 | I81: =F81-G81-H81 -> 0 | J81: =I81-K81 -> 0 | L81: =IFERROR(G81/E81,0)*100 -> 0 | M81: =IFERROR(G81/F81,0)*100 -> 0
C82: 라. 기금전입금 | I82: =F82-G82-H82 -> 0 | J82: =I82-K82 -> 0 | L82: =IFERROR(G82/E82,0)*100 -> 0 | M82: =IFERROR(G82/F82,0)*100 -> 0
C83: 마. 교육비특별회계전입금 | I83: =F83-G83-H83 -> 0 | J83: =I83-K83 -> 0 | L83: =IFERROR(G83/E83,0)*100 -> 0 | M83: =IFERROR(G83/F83,0)*100 -> 0
B84: 23. 예탁금 및 예수금 | E84: =SUM(E85:E88) -> 0 | F84: =SUM(F85:F88) -> 0 | G84: =SUM(G85:G88) -> 0 | H84: =SUM(H85:H88) -> 0 | I84: =F84-G84-H84 -> 0 | J84: =I84-K84 -> 0 | K84: =SUM(K85:K88) -> 0 | L84: =IFERROR(G84/E84,0)*100 -> 0 | M84: =IFERROR(G84/F84,0)*100 -> 0
C85: 가. 예수금수입 | I85: =F85-G85-H85 -> 0 | J85: =I85-K85 -> 0 | L85: =IFERROR(G85/E85,0)*100 -> 0 | M85: =IFERROR(G85/F85,0)*100 -> 0
C86: 나. 시도지역개발기금예수금수입 | I86: =F86-G86-H86 -> 0 | J86: =I86-K86 -> 0 | L86: =IFERROR(G86/E86,0)*100 -> 0 | M86: =IFERROR(G86/F86,0)*100 -> 0
C87: 다. 예탁금 원금 회수수입 | I87: =F87-G87-H87 -> 0 | J87: =I87-K87 -> 0 | L87: =IFERROR(G87/E87,0)*100 -> 0 | M87: =IFERROR(G87/F87,0)*100 -> 0
C88: 라. 예탁금 이자수입 | I88: =F88-G88-H88 -> 0 | J88: =I88-K88 -> 0 | L88: =IFERROR(G88/E88,0)*100 -> 0 | M88: =IFERROR(G88/F88,0)*100 -> 0

Sheet 군구 과목별
B2: 2022년 9월 군·구 과목별 세외수입 징수현황
K3: 기관(부서)명 | L3: ='군구세외 일반회계 '!L3:M3 -> 서구
B4: 2022. 9월 | L4: (단위:원,%)
D5: 구 분 | E5: 최종예산액 | F5: 징수결정액 | G5: 징 수 액 | H5: 불납결손액 | I5: 미수납액 | L5: 징수율
B6: 항 목 별 | E6: (A) | F6: (B) | G6: (C) | H6: (D) | I6: 미수납액 '(E=B-C-D) | J6: 체납액 (F=E-G) | K6: 납기미도래 (G) | L6: (C/A) | M6: (C/B)
B7: 합 계 | E7: =SUM(E8:E9) -> 5050000000 | F7: =SUM(F8:F9) -> 36492262167 | G7: =SUM(G8:G9) -> 6868449793 | H7: =SUM(H8:H9) -> 903370655 | I7: =F7-G7-H7 -> 28720441719 | J7: =I7-K7 -> 28232290689 | K7: =SUM(K8:K9) -> 488151030 | L7: =IFERROR(G7/E7,0)*100 -> 136.00891 | M7: =IFERROR(G7/F7,0)*100 -> 18.821661
C8: 현년도 | E8: =E11+E32 -> 4350000000 | F8: =F11+F32 -> 6812872486 | G8: =G11+G32 -> 4718265597 | H8: =H11+H32 -> 8170440 | I8: =F8-G8-H8 -> 2086436449 | J8: =I8-K8 -> 1598285419 | K8: =K11+K32 -> 488151030 | L8: =IFERROR(G8/E8,0)*100 -> 108.46588 | M8: =IFERROR(G8/F8,0)*100 -> 69.255158
C9: 과년도 | E9: =E12+E33 -> 700000000 | F9: =F12+F33 -> 29679389681 | G9: =G12+G33 -> 2150184196 | H9: =H12+H33 -> 895200215 | I9: =F9-G9-H9 -> 26634005270 | J9: =I9-K9 -> 26634005270 | K9: =K12+K33 -> 0 | L9: =IFERROR(G9/E9,0)*100 -> 307.16917 | M9: =IFERROR(G9/F9,0)*100 -> 7.2447049
B10: 일반회계 | E10: =SUM(E11:E12) -> 2370000000 | F10: =SUM(F11:F12) -> 26683550257 | G10: =SUM(G11:G12) -> 2930732163 | H10: =SUM(H11:H12) -> 456271945 | I10: =F10-G10-H10 -> 23296546149 | J10: =I10-K10 -> 23100925119 | K10: =SUM(K11:K12) -> 195621030 | L10: =IFERROR(G10/E10,0)*100 -> 123.65958 | M10: =IFERROR(G10/F10,0)*100 -> 10.983292
C11: 현년도 | E11: =E14+E17+E20+E23+E26+E29 -> 2370000000 | F11: =F14+F17+F20+F23+F26+F29 -> 2639019336 | G11: =G14+G17+G20+G23+G26+G29 -> 1457288157 | H11: =H14+H17+H20+H23+H26+H29 -> 1660120 | I11: =F11-G11-H11 -> 1180071059 | J11: =I11-K11 -> 984450029 | K11: =K14+K17+K20+K23+K26+K29 -> 195621030 | L11: =IFERROR(G11/E11,0)*100 -> 61.488952 | M11: =IFERROR(G11/F11,0)*100 -> 55.220822
C12: 과년도 | E12: =E15+E18+E21+E24+E27+E30 -> 0 | F12: =F15+F18+F21+F24+F27+F30 -> 24044530921 | G12: =G15+G18+G21+G24+G27+G30 -> 1473444006 | H12: =H15+H18+H21+H24+H27+H30 -> 454611825 | I12: =F12-G12-H12 -> 22116475090 | J12: =I12-K12 -> 22116475090 | K12: =K15+K18+K21+K24+K27+K30 -> 0 | L12: =IFERROR(G12/E12,0)*100 -> 0 | M12: =IFERROR(G12/F12,0)*100 -> 6.1279798
B13: 국공유변상금 | E13: =SUM(E14:E15) -> 0 | F13: =SUM(F14:F15) -> 195303450 | G13: =SUM(G14:G15) -> 7637900 | H13: =SUM(H14:H15) -> 4550940 | I13: =F13-G13-H13 -> 183114610 | J13: =I13-K13 -> 182665430 | K13: =SUM(K14:K15) -> 449180 | L13: =IFERROR(G13/E13,0)*100 -> 0 | M13: =IFERROR(G13/F13,0)*100 -> 3.910786
C14: 현년도 | F14: 11230380 | G14: 7381510 | H14: 0 | I14: =F14-G14-H14 -> 3848870 | J14: =I14-K14 -> 3399690 | K14: 449180 | L14: =IFERROR(G14/E14,0)*100 -> 0 | M14: =IFERROR(G14/F14,0)*100 -> 65.728052
C15: 과년도 | F15: 184073070 | G15: 256390 | H15: 4550940 | I15: =F15-G15-H15 -> 179265740 | J15: =I15-K15 -> 179265740 | L15: =IFERROR(G15/E15,0)*100 -> 0 | M15: =IFERROR(G15/F15,0)*100 -> 0.13928708
B16: 책임보험미가입과태료 | E16: =SUM(E17:E18) -> 1350000000 | F16: =SUM(F17:F18) -> 14082815407 | G16: =SUM(G17:G18) -> 1098196751 | H16: =SUM(H17:H18) -> 279458745 | I16: =F16-G16-H16 -> 12705159911 | J16: =I16-K16 -> 12600327061 | K16: =SUM(K17:K18) -> 104832850 | L16: =IFERROR(G16/E16,0)*100 -> 81.347907 | M16: =IFERROR(G16/F16,0)*100 -> 7.7981335
C17: 현년도 | E17: 1350000000 | F17: 750670590 | G17: 253022800 | H17: 1638560 | I17: =F17-G17-H17 -> 496009230 | J17: =I17-K17 -> 391176380 | K17: 104832850 | L17: =IFERROR(G17/E17,0)*100 -> 18.74243 | M17: =IFERROR(G17/F17,0)*100 -> 33.706236
C18: 과년도 | F18: 13332144817 | G18: 845173951 | H18: 277820185 | I18: =F18-G18-H18 -> 12209150681 | J18: =I18-K18 -> 12209150681 | L18: =IFERROR(G18/E18,0)*100 -> 0 | M18: =IFERROR(G18/F18,0)*100 -> 6.3393697
B19: 자동차검사지연과태료 | E19: =SUM(E20:E21) -> 720000000 | F19: =SUM(F20:F21) -> 4589336677 | G19: =SUM(G20:G21) -> 639214405 | H19: =SUM(H20:H21) -> 103346020 | I19: =F19-G19-H19 -> 3846776252 | J19: =I19-K19 -> 3791506252 | K19: =SUM(K20:K21) -> 55270000 | L19: =IFERROR(G19/E19,0)*100 -> 88.779778 | M19: =IFERROR(G19/F19,0)*100 -> 13.928253
C20: 현년도 | E20: 720000000 | F20: 495929630 | G20: 272073640 | H20: 21560 | I20: =F20-G20-H20 -> 223834430 | J20: =I20-K20 -> 168564430 | K20: 55270000 | L20: =IFERROR(G20/E20,0)*100 -> 37.788006 | M20: =IFERROR(G20/F20,0)*100 -> 54.86134
C21: 과년도 | F21: 4093407047 | G21: 367140765 | H21: 103324460 | I21: =F21-G21-H21 -> 3622941822 | J21: =I21-K21 -> 3622941822 | L21: =IFERROR(G21/E21,0)*100 -> 0 | M21: =IFERROR(G21/F21,0)*100 -> 8.9690754
B22: 자동차정밀검사과태료 | E22: =SUM(E23:E24) -> 0 | F22: =SUM(F23:F24) -> 727550924 | G22: =SUM(G23:G24) -> 19048000 | H22: =SUM(H23:H24) -> 35133970 | I22: =F22-G22-H22 -> 673368954 | J22: =I22-K22 -> 673368954 | K22: =SUM(K23:K24) -> 0 | L22: =IFERROR(G22/E22,0)*100 -> 0 | M22: =IFERROR(G22/F22,0)*100 -> 2.6180985
C23: 현년도 | F23: 0 | G23: 0 | H23: 0 | I23: =F23-G23-H23 -> 0 | J23: =I23-K23 -> 0 | L23: =IFERROR(G23/E23,0)*100 -> 0 | M23: =IFERROR(G23/F23,0)*100 -> 0
C24: 과년도 | F24: 727550924 | G24: 19048000 | H24: 35133970 | I24: =F24-G24-H24 -> 673368954 | J24: =I24-K24 -> 673368954 | L24: =IFERROR(G24/E24,0)*100 -> 0 | M24: =IFERROR(G24/F24,0)*100 -> 2.6180985
B25: 부동산실명법과징금 | E25: =SUM(E26:E27) -> 0 | F25: =SUM(F26:F27) -> 3863298123 | G25: =SUM(G26:G27) -> 4155110 | H25: =SUM(H26:H27) -> 0 | I25: =F25-G25-H25 -> 3859143013 | J25: =I25-K25 -> 3859143013 | K25: =SUM(K26:K27) -> 0 | L25: =IFERROR(G25/E25,0)*100 -> 0 | M25: =IFERROR(G25/F25,0)*100 -> 0.10755344
C26: 현년도 | F26: 0 | G26: 0 | H26: 0 | I26: =F26-G26-H26 -> 0 | J26: =I26-K26 -> 0 | L26: =IFERROR(G26/E26,0)*100 -> 0 | M26: =IFERROR(G26/F26,0)*100 -> 0
C27: 과년도 | F27: 3863298123 | G27: 4155110 | H27: 0 | I27: =F27-G27-H27 -> 3859143013 | J27: =I27-K27 -> 3859143013 | L27: =IFERROR(G27/E27,0)*100 -> 0 | M27: =IFERROR(G27/F27,0)*100 -> 0.10755344
B28: 건축법이행강제금 | E28: =SUM(E29:E30) -> 300000000 | F28: =SUM(F29:F30) -> 3225245676 | G28: =SUM(G29:G30) -> 1162479997 | H28: =SUM(H29:H30) -> 33782270 | I28: =F28-G28-H28 -> 2028983409 | J28: =I28-K28 -> 1993914409 | K28: =SUM(K29:K30) -> 35069000 | L28: =IFERROR(G28/E28,0)*100 -> 387.49333 | M28: =IFERROR(G28/F28,0)*100 -> 36.043146
C29: 현년도 | E29: 300000000 | F29: 1381188736 | G29: 924810207 | H29: 0 | I29: =F29-G29-H29 -> 456378529 | J29: =I29-K29 -> 421309529 | K29: 35069000 | L29: =IFERROR(G29/E29,0)*100 -> 308.27007 | M29: =IFERROR(G29/F29,0)*100 -> 66.957555
C30: 과년도 | F30: 1844056940 | G30: 237669790 | H30: 33782270 | I30: =F30-G30-H30 -> 1572604880 | J30: =I30-K30 -> 1572604880 | L30: =IFERROR(G30/E30,0)*100 -> 0 | M30: =IFERROR(G30/F30,0)*100 -> 12.888419
B31: 특별회계 | E31: =SUM(E32:E33) -> 2680000000 | F31: =SUM(F32:F33) -> 9808711910 | G31: =SUM(G32:G33) -> 3937717630 | H31: =SUM(H32:H33) -> 447098710 | I31: =F31-G31-H31 -> 5423895570 | J31: =I31-K31 -> 5131365570 | K31: =SUM(K32:K33) -> 292530000 | L31: =IFERROR(G31/E31,0)*100 -> 146.92976 | M31: =IFERROR(G31/F31,0)*100 -> 40.145104
C32: 현년도 | E32: =E35 -> 1980000000 | F32: =F35 -> 4173853150 | G32: =G35 -> 3260977440 | H32: =H35 -> 6510320 | I32: =F32-G32-H32 -> 906365390 | J32: =I32-K32 -> 613835390 | K32: =K35 -> 292530000 | L32: =IFERROR(G32/E32,0)*100 -> 164.69583 | M32: =IFERROR(G32/F32,0)*100 -> 78.128706
C33: 과년도 | E33: =E36 -> 700000000 | F33: =F36 -> 5634858760 | G33: =G36 -> 676740190 | H33: =H36 -> 440588390 | I33: =F33-G33-H33 -> 4517530180 | J33: =I33-K33 -> 4517530180 | K33: =K36 -> 0 | L33: =IFERROR(G33/E33,0)*100 -> 96.67717 | M33: =IFERROR(G33/F33,0)*100 -> 12.009887
B34: 주정차위반과태료 | E34: =SUM(E35:E36) -> 2680000000 | F34: =SUM(F35:F36) -> 9808711910 | G34: =SUM(G35:G36) -> 3937717630 | H34: =SUM(H35:H36) -> 447098710 | I34: =F34-G34-H34 -> 5423895570 | J34: =I34-K34 -> 5131365570 | K34: =SUM(K35:K36) -> 292530000 | L34: =IFERROR(G34/E34,0)*100 -> 146.92976 | M34: =IFERROR(G34/F34,0)*100 -> 40.145104
C35: 현년도 | E35: 1980000000 | F35: 4173853150 | G35: 3260977440 | H35: 6510320 | I35: =F35-G35-H35 -> 906365390 | J35: =I35-K35 -> 613835390 | K35: 292530000 | L35: =IFERROR(G35/E35,0)*100 -> 164.69583 | M35: =IFERROR(G35/F35,0)*100 -> 78.128706
C36: 과년도 | E36: 700000000 | F36: 5634858760 | G36: 676740190 | H36: 440588390 | I36: =F36-G36-H36 -> 4517530180 | J36: =I36-K36 -> 4517530180 | L36: =IFERROR(G36/E36,0)*100 -> 96.67717 | M36: =IFERROR(G36/F36,0)*100 -> 12.009887

Sheet 시세외 특별회계(위임)
B1: 2022년 9월 시 특별회계 세외수입 징수현황
J2: 수임기관명 | K2: 서구
B3: ='군구세외 일반회계 '!B4:D4 -> 2022. 9월 | K3: (단위:원,%)
B4: 항 목 별 | D4: 최종예산액 (A) | E4: 징수결정액 (B) | F4: 징 수 액 (C) | G4: 불납결손액 (D) | H4: 미수납액 | K4: 징 수 율
H5: 미수납액 '(E=B-C-D) | I5: 체납액 (F=E-G) | J5: 납기미도래 (G) | K5: (C/B) | L5: ((C+D)/B)
B6: 합 계 | D6: =D7+D14+D29 -> 0 | E6: =E7+E14+E29 -> 12086522374 | F6: =F7+F14+F29 -> 11261919130 | G6: =G7+G14+G29 -> 0 | H6: =(E6-(F6+G6)) -> 824603244 | I6: =H6-J6 -> 824603244 | J6: =J7+J14+J29 -> 0 | K6: =IFERROR(F6/E6,0)*100 -> 93.177498 | L6: =IF(F6=0,0,+(F6+G6)/E6)*100 -> 93.177498
B7: 경상적세외수입 | D7: =D8+D10 -> 0 | E7: =E8+E10 -> 8650793730 | F7: =F8+F10 -> 8650793730 | G7: =G8+G10 -> 0 | H7: =(E7-(F7+G7)) -> 0 | I7: =H7-J7 -> 0 | J7: =J8+J10 -> 0 | K7: =IFERROR(F7/E7,0)*100 -> 100 | L7: =IF(F7=0,0,+(F7+G7)/E7)*100 -> 100
B8: 1. 사용료수입 | D8: =SUM(D9:D9) -> 0 | E8: =SUM(E9:E9) -> 0 | F8: =SUM(F9:F9) -> 0 | G8: =SUM(G9:G9) -> 0 | H8: =(E8-(F8+G8)) -> 0 | I8: =H8-J8 -> 0 | J8: =SUM(J9:J9) -> 0 | K8: =IFERROR(F8/E8,0)*100 -> 0 | L8: =IF(F8=0,0,+(F8+G8)/E8)*100 -> 0
C9: 주차요금수입 | H9: =(E9-(F9+G9)) -> 0 | I9: =H9-J9 -> 0 | K9: =IFERROR(F9/E9,0)*100 -> 0 | L9: =IF(F9=0,0,+(F9+G9)/E9)*100 -> 0
B10: 2. 사업수입 | D10: =SUM(D11:D13) -> 0 | E10: =SUM(E11:E13) -> 8650793730 | F10: =SUM(F11:F13) -> 8650793730 | G10: =SUM(G11:G13) -> 0 | H10: =(E10-(F10+G10)) -> 0 | I10: =H10-J10 -> 0 | J10: =SUM(J11:J13) -> 0 | K10: =IFERROR(F10/E10,0)*100 -> 100 | L10: =IF(F10=0,0,+(F10+G10)/E10)*100 -> 100
C11: 청산금수입 | H11: =(E11-(F11+G11)) -> 0 | I11: =H11-J11 -> 0 | K11: =IFERROR(F11/E11,0)*100 -> 0 | L11: =IF(F11=0,0,+(F11+G11)/E11)*100 -> 0
C12: 매각사업수입 | E12: 8640688000 | F12: 8640688000 | H12: =(E12-(F12+G12)) -> 0 | I12: =H12-J12 -> 0 | K12: =IFERROR(F12/E12,0)*100 -> 100 | L12: =IF(F12=0,0,+(F12+G12)/E12)*100 -> 100
C13: 기타사업수입 | E13: 10105730 | F13: 10105730 | H13: =(E13-(F13+G13)) -> 0 | I13: =H13-J13 -> 0 | K13: =IFERROR(F13/E13,0)*100 -> 100 | L13: =IF(F13=0,0,+(F13+G13)/E13)*100 -> 100
B14: 임시적세외수입 | D14: =D15+D17 -> 0 | E14: =E15+E17 -> 1173690274 | F14: =F15+F17 -> 349687030 | G14: =G15+G17 -> 0 | H14: =(E14-(F14+G14)) -> 824003244 | I14: =H14-J14 -> 824003244 | J14: =J15+J17 -> 0 | K14: =IFERROR(F14/E14,0)*100 -> 29.793808 | L14: =IF(F14=0,0,+(F14+G14)/E14)*100 -> 29.793808
B15: 3. 기타수입 | D15: =SUM(D16) -> 0 | E15: =SUM(E16) -> 0 | F15: =SUM(F16) -> 0 | G15: =SUM(G16) -> 0 | H15: =(E15-(F15+G15)) -> 0 | I15: =H15-J15 -> 0 | J15: =SUM(J16) -> 0 | K15: =IFERROR(F15/E15,0)*100 -> 0 | L15: =IF(F15=0,0,+(F15+G15)/E15)*100 -> 0
C16: 그외수입 | H16: =(E16-(F16+G16)) -> 0 | I16: =H16-J16 -> 0 | K16: =IFERROR(F16/E16,0)*100 -> 0 | L16: =IF(F16=0,0,+(F16+G16)/E16)*100 -> 0
B17: 4. 지난년도수입 | D17: =SUM(D18:D28) -> 0 | E17: =SUM(E18:E28) -> 1173690274 | F17: =SUM(F18:F28) -> 349687030 | G17: =SUM(G18:G28) -> 0 | H17: =(E17-(F17+G17)) -> 824003244 | I17: =H17-J17 -> 824003244 | J17: =SUM(J18:J28) -> 0 | K17: =IFERROR(F17/E17,0)*100 -> 29.793808 | L17: =IF(F17=0,0,+(F17+G17)/E17)*100 -> 29.793808
C18: 주차요금수입 | H18: =(E18-(F18+G18)) -> 0 | I18: =H18-J18 -> 0 | K18: =IFERROR(F18/E18,0)*100 -> 0 | L18: =IF(F18=0,0,+(F18+G18)/E18)*100 -> 0
C19: 청산금수입 | H19: =(E19-(F19+G19)) -> 0 | I19: =H19-J19 -> 0 | K19: =IFERROR(F19/E19,0)*100 -> 0 | L19: =IF(F19=0,0,+(F19+G19)/E19)*100 -> 0
C20: 매각사업수입 | H20: =(E20-(F20+G20)) -> 0 | I20: =H20-J20 -> 0 | K20: =IFERROR(F20/E20,0)*100 -> 0 | L20: =IF(F20=0,0,+(F20+G20)/E20)*100 -> 0
C21: 기타사업수입 | H21: =(E21-(F21+G21)) -> 0 | I21: =H21-J21 -> 0 | K21: =IFERROR(F21/E21,0)*100 -> 0 | L21: =IF(F21=0,0,+(F21+G21)/E21)*100 -> 0
C22: 그외수입 | H22: =(E22-(F22+G22)) -> 0 | I22: =H22-J22 -> 0 | K22: =IFERROR(F22/E22,0)*100 -> 0 | L22: =IF(F22=0,0,+(F22+G22)/E22)*100 -> 0
C23: 여객자동차운수사업법위반 과징금 | E23: 47702500 | F23: 14000000 | H23: =(E23-(F23+G23)) -> 33702500 | I23: =H23-J23 -> 33702500 | K23: =IFERROR(F23/E23,0)*100 -> 29.348567 | L23: =IF(F23=0,0,+(F23+G23)/E23)*100 -> 29.348567
C24: 과징금 | H24: =(E24-(F24+G24)) -> 0 | I24: =H24-J24 -> 0 | K24: =IFERROR(F24/E24,0)*100 -> 0 | L24: =IF(F24=0,0,+(F24+G24)/E24)*100 -> 0
C25: 변상금 | H25: =(E25-(F25+G25)) -> 0 | I25: =H25-J25 -> 0 | K25: =IFERROR(F25/E25,0)*100 -> 0 | L25: =IF(F25=0,0,+(F25+G25)/E25)*100 -> 0
C26: 학교용지부담금 | E26: 1701000 | H26: =(E26-(F26+G26)) -> 1701000 | I26: =H26-J26 -> 1701000 | K26: =IFERROR(F26/E26,0)*100 -> 0 | L26: =IF(F26=0,0,+(F26+G26)/E26)*100 -> 0
C27: 교통유발부담금 | E27: 1124286774 | F27: 335687030 | H27: =(E27-(F27+G27)) -> 788599744 | I27: =H27-J27 -> 788599744 | K27: =IFERROR(F27/E27,0)*100 -> 29.857776 | L27: =IF(F27=0,0,+(F27+G27)/E27)*100 -> 29.857776
C28: 기반시설부담금 | H28: =(E28-(F28+G28)) -> 0 | I28: =H28-J28 -> 0 | K28: =IFERROR(F28/E28,0)*100 -> 0 | L28: =IF(F28=0,0,+(F28+G28)/E28)*100 -> 0
B29: 지방행정제재‧부과금 | D29: =D30+D33+D35 -> 0 | E29: =E30+E33+E35 -> 2262038370 | F29: =F30+F33+F35 -> 2261438370 | G29: =G30+G33+G35 -> 0 | H29: =(E29-(F29+G29)) -> 600000 | I29: =H29-J29 -> 600000 | J29: =J30+J33+J35 -> 0 | K29: =IFERROR(F29/E29,0)*100 -> 99.973475 | L29: =IF(F29=0,0,+(F29+G29)/E29)*100 -> 99.973475
B30: 5. 과징금 | D30: =SUM(D31:D32) -> 0 | E30: =SUM(E31:E32) -> 12100000 | F30: =SUM(F31:F32) -> 11500000 | G30: =SUM(G31:G32) -> 0 | H30: =(E30-(F30+G30)) -> 600000 | I30: =H30-J30 -> 600000 | J30: =SUM(J31:J32) -> 0 | K30: =IFERROR(F30/E30,0)*100 -> 95.041322 | L30: =IF(F30=0,0,+(F30+G30)/E30)*100 -> 95.041322
C31: 여객자동차운수사업법위반 과징금 | E31: 12100000 | F31: 11500000 | H31: =(E31-(F31+G31)) -> 600000 | I31: =H31-J31 -> 600000 | K31: =IFERROR(F31/E31,0)*100 -> 95.041322 | L31: =IF(F31=0,0,+(F31+G31)/E31)*100 -> 95.041322
C32: 과징금 | H32: =(E32-(F32+G32)) -> 0 | I32: =H32-J32 -> 0 | K32: =IFERROR(F32/E32,0)*100 -> 0 | L32: =IF(F32=0,0,+(F32+G32)/E32)*100 -> 0
B33: 6. 변상금 | D33: =SUM(D34) -> 0 | E33: =SUM(E34) -> 0 | F33: =SUM(F34) -> 0 | G33: =SUM(G34) -> 0 | H33: =(E33-(F33+G33)) -> 0 | I33: =H33-J33 -> 0 | J33: =SUM(J34) -> 0 | K33: =IFERROR(F33/E33,0)*100 -> 0 | L33: =IF(F33=0,0,+(F33+G33)/E33)*100 -> 0
C34: 변상금 | H34: =(E34-(F34+G34)) -> 0 | I34: =H34-J34 -> 0 | K34: =IFERROR(F34/E34,0)*100 -> 0 | L34: =IF(F34=0,0,+(F34+G34)/E34)*100 -> 0
B35: 7. 부담금 | D35: =SUM(D36:D38) -> 0 | E35: =SUM(E36:E38) -> 2249938370 | F35: =SUM(F36:F38) -> 2249938370 | G35: =SUM(G36:G38) -> 0 | H35: =(E35-(F35+G35)) -> 0 | I35: =H35-J35 -> 0 | J35: =SUM(J36:J38) -> 0 | K35: =IFERROR(F35/E35,0)*100 -> 100 | L35: =IF(F35=0,0,+(F35+G35)/E35)*100 -> 100
C36: 학교용지부담금 | E36: 2249938370 | F36: 2249938370 | H36: =(E36-(F36+G36)) -> 0 | I36: =H36-J36 -> 0 | K36: =IFERROR(F36/E36,0)*100 -> 100 | L36: =IF(F36=0,0,+(F36+G36)/E36)*100 -> 100
C37: 교통유발부담금 | H37: =(E37-(F37+G37)) -> 0 | I37: =H37-J37 -> 0 | K37: =IFERROR(F37/E37,0)*100 -> 0 | L37: =IF(F37=0,0,+(F37+G37)/E37)*100 -> 0
C38: 기반시설부담금 | H38: =(E38-(F38+G38)) -> 0 | I38: =H38-J38 -> 0 | K38: =IFERROR(F38/E38,0)*100 -> 0 | L38: =IF(F38=0,0,+(F38+G38)/E38)*100 -> 0
B39: 보전수입등및내부거래 | D39: =D40 -> 0 | E39: =E40 -> 0 | F39: =F40 -> 0 | G39: =G40 -> 0 | H39: =(E39-(F39+G39)) -> 0 | I39: =H39-J39 -> 0 | J39: =J40 -> 0 | K39: =IFERROR(F39/E39,0)*100 -> 0 | L39: =IF(F39=0,0,+(F39+G39)/E39)*100 -> 0
B40: 8. 융자금 원금수입 | D40: =SUM(D41:D42) -> 0 | E40: =SUM(E41:E42) -> 0 | F40: =SUM(F41:F42) -> 0 | G40: =SUM(G41:G42) -> 0 | H40: =(E40-(F40+G40)) -> 0 | I40: =H40-J40 -> 0 | J40: =SUM(J41:J42) -> 0 | K40: =IFERROR(F40/E40,0)*100 -> 0 | L40: =IF(F40=0,0,+(F40+G40)/E40)*100 -> 0
C41: 융자금원금수입(현년도) | H41: =(E41-(F41+G41)) -> 0 | I41: =H41-J41 -> 0 | K41: =IFERROR(F41/E41,0)*100 -> 0 | L41: =IF(F41=0,0,+(F41+G41)/E41)*100 -> 0
C42: 융자금원금수입(지난년도) | H42: =(E42-(F42+G42)) -> 0 | I42: =H42-J42 -> 0 | K42: =IFERROR(F42/E42,0)*100 -> 0 | L42: =IF(F42=0,0,+(F42+G42)/E42)*100 -> 0
