Workbook

Sheet 전국 민방위 비상급수시설 통계현황
A5: 지역별 | B5: 대상인구(명) | C5: 급수 소요량 대비 확보율 | L5: 시설별 확보현황
C6: 계 | F6: 음용수 | I6: 생활용수 | L6: 계 | N6: 정부지원 시설 | P6: 지자체 시설 | R6: 공공용 시설
C7: 소요량(톤) | D7: 확보량(톤) | E7: 확보율(%) | F7: 소요량(톤) | G7: 확보량(톤) | H7: 확보율(%) | I7: 소요량(톤) | J7: 확보량(톤) | K7: 확보율(%) | L7: 개소 | M7: 톤/일 | N7: 개소 | O7: 톤/일 | P7: 개소 | Q7: 톤/일 | R7: 개소 | S7: 톤/일
A8: 계 | B8: =SUM(B9:B25) -> 2948542 | C8: =SUM(C9:C25) -> 73713.55 | D8: =SUM(D9:D25) -> 5991 | E8: =D8/C8 -> 0.081274067 | F8: =SUM(F9:F25) -> 26536.878 | G8: =SUM(G9:G25) -> 2205 | H8: =G8/F8 -> 0.083091915 | I8: =SUM(I9:I25) -> 47176.672 | J8: =SUM(J9:J25) -> 3786 | K8: =J8/I8 -> 0.080251528 | L8: =N8+P8+R8 -> 90 | M8: =O8+Q8+S8 -> 6892 | N8: =SUM(N9:N25) -> 6 | O8: =SUM(O9:O25) -> 920 | P8: =SUM(P9:P25) -> 1 | Q8: =SUM(Q9:Q25) -> 51 | R8: =SUM(R9:R25) -> 83 | S8: =SUM(S9:S25) -> 5921
A9: 서울 | C9: =F9+I9 -> 0 | D9: =G9+J9 -> 0 | E9: =D9/C9 -> #DIV/0! | F9: =B9*9/1000 -> 0 | G9: =SUMIFS('전국 민방위 비상급수시설 현황'!$J$11:$J$100,'전국 민방위 비상급수시설 현황'!$B$11:$B$100,"서울",'전국 민방위 비상급수시설 현황'!$F$11:$F$100,"음용수")-SUMIFS('전국 민방위 비상급수시설 현황'!$J$11:$J$100,'전국 민방위 비상급수시설 현황'!$B$11:$B$100,"서울",'전국 민방위 비상급수시설 현황'!$F$11:$F$100,"음용수",'전국 민방위 비상급수시설 현황'!$O$11:$O$100,"지정해제")-SUMIFS('전국 민방위 비상급수시설 현황'!$J$11:$J$100,'전국 민방위 비상급수시설 현황'!$B$11:$B$100,"서울",'전국 민방위 비상급수시설 현황'!$F$11:$F$100,"음용수",'전국 민방위 비상급수시설 현황'!$O$11:$O$100,"폐공") -> 0 | H9: =G9/F9 -> #DIV/0! | I9: =B9*16/1000 -> 0 | J9: =SUMIFS('전국 민방위 비상급수시설 현황'!$J$11:$J$100,'전국 민방위 비상급수시설 현황'!$B$11:$B$100,"서울",'전국 민방위 비상급수시설 현황'!$F$11:$F$100,"생활용수")-SUMIFS('전국 민방위 비상급수시설 현황'!$J$11:$J$100,'전국 민방위 비상급수시설 현황'!$B$11:$B$100,"서울",'전국 민방위 비상급수시설 현황'!$F$11:$F$100,"생활용수",'전국 민방위 비상급수시설 현황'!$O$11:$O$100,"지정해제")-SUMIFS('전국 민방위 비상급수시설 현황'!$J$11:$J$100,'전국 민방위 비상급수시설 현황'!$B$11:$B$100,"서울",'전국 민방위 비상급수시설 현황'!$F$11:$F$100,"생활용수",'전국 민방위 비상급수시설 현황'!$O$11:$O$100,"폐공") -> 0 | K9: =J9/I9 -> #DIV/0! | L9: =N9+P9+R9 -> 0 | M9: =O9+Q9+S9 -> 0 | N9: =COUNTIFS('전국 민방위 비상급수시설 현황'!$B$11:$B$100,"서울",'전국 민방위 비상급수시설 현황'!$E$11:$E$100,"정부지원") - COUNTIFS('전국 민방위 비상급수시설 현황'!$B$11:$B$100,"서울",'전국 민방위 비상급수시설 현황'!$E$11:$E$100,"정부지원",'전국 민방위 비상급수시설 현황'!$O$11:$O$100,"지정해제") - COUNTIFS('전국 민방위 비상급수시설 현황'!$B$11:$B$100,"서울",'전국 민방위 비상급수시설 현황'!$E$11:$E$100,"정부지원",'전국 민방위 비상급수시설 현황'!$O$11:$O$100,"폐공") -> 0 | O9: =SUMIFS('전국 민방위 비상급수시설 현황'!$J$11:$J$100,'전국 민방위 비상급수시설 현황'!$B$11:$B$100,"서울",'전국 민방위 비상급수시설 현황'!$E$11:$E$100,"정부지원") -SUMIFS('전국 민방위 비상급수시설 현황'!$J$11:$J$100,'전국 민방위 비상급수시설 현황'!$B$11:$B$100,"서울",'전국 민방위 비상급수시설 현황'!$E$11:$E$100,"정부지원",'전국 민방위 비상급수시설 현황'!$O$11:$O$100,"지정해제") -SUMIFS('전국 민방위 비상급수시설 현황'!$J$11:$J$100,'전국 민방위 비상급수시설 현황'!$B$11:$B$100,"서울",'전국 민방위 비상급수시설 현황'!$E$11:$E$100,"정부지원",'전국 민방위 비상급수시설 현황'!$O$11:$O$100,"폐공") -> 0 | P9: =COUNTIFS('전국 민방위 비상급수시설 현황'!$B$11:$B$100,"서울",'전국 민방위 비상급수시설 현황'!$E$11:$E$100,"지자체") - COUNTIFS('전국 민방위 비상급수시설 현황'!$B$11:$B$100,"서울",'전국 민방위 비상급수시설 현황'!$E$11:$E$100,"지자체",'전국 민방위 비상급수시설 현황'!$O$11:$O$100,"지정해제") - COUNTIFS('전국 민방위 비상급수시설 현황'!$B$11:$B$100,"서울",'전국 민방위 비상급수시설 현황'!$E$11:$E$100,"지자체",'전국 민방위 비상급수시설 현황'!$O$11:$O$100,"폐공") -> 0 | Q9: =SUMIFS('전국 민방위 비상급수시설 현황'!$J$11:$J$100,'전국 민방위 비상급수시설 현황'!$B$11:$B$100,"서울",'전국 민방위 비상급수시설 현황'!$E$11:$E$100,"지자체") -SUMIFS('전국 민방위 비상급수시설 현황'!$J$11:$J$100,'전국 민방위 비상급수시설 현황'!$B$11:$B$100,"서울",'전국 민방위 비상급수시설 현황'!$E$11:$E$100,"지자체",'전국 민방위 비상급수시설 현황'!$O$11:$O$100,"지정해제") -SUMIFS('전국 민방위 비상급수시설 현황'!$J$11:$J$100,'전국 민방위 비상급수시설 현황'!$B$11:$B$100,"서울",'전국 민방위 비상급수시설 현황'!$E$11:$E$100,"지자체",'전국 민방위 비상급수시설 현황'!$O$11:$O$100,"폐공") -> 0 | R9: =COUNTIFS('전국 민방위 비상급수시설 현황'!$B$11:$B$100,"서울",'전국 민방위 비상급수시설 현황'!$E$11:$E$100,"공공용") - COUNTIFS('전국 민방위 비상급수시설 현황'!$B$11:$B$100,"서울",'전국 민방위 비상급수시설 현황'!$E$11:$E$100,"공공용",'전국 민방위 비상급수시설 현황'!$O$11:$O$100,"지정해제") - COUNTIFS('전국 민방위 비상급수시설 현황'!$B$11:$B$100,"서울",'전국 민방위 비상급수시설 현황'!$E$11:$E$100,"공공용",'전국 민방위 비상급수시설 현황'!$O$11:$O$100,"폐공") -> 0 | S9: =SUMIFS('전국 민방위 비상급수시설 현황'!$J$11:$J$100,'전국 민방위 비상급수시설 현황'!$B$11:$B$100,"서울",'전국 민방위 비상급수시설 현황'!$E$11:$E$100,"공공용") -SUMIFS('전국 민방위 비상급수시설 현황'!$J$11:$J$100,'전국 민방위 비상급수시설 현황'!$B$11:$B$100,"서울",'전국 민방위 비상급수시설 현황'!$E$11:$E$100,"공공용",'전국 민방위 비상급수시설 현황'!$O$11:$O$100,"지정해제") -SUMIFS('전국 민방위 비상급수시설 현황'!$J$11:$J$100,'전국 민방위 비상급수시설 현황'!$B$11:$B$100,"서울",'전국 민방위 비상급수시설 현황'!$E$11:$E$100,"공공용",'전국 민방위 비상급수시설 현황'!$O$11:$O$100,"폐공") -> 0
A10: 부산 | C10: =F10+I10 -> 0 | D10: =G10+J10 -> 0 | E10: =D10/C10 -> #DIV/0! | F10: =B10*9/1000 -> 0 | G10: =SUMIFS('전국 민방위 비상급수시설 현황'!$J$11:$J$100,'전국 민방위 비상급수시설 현황'!$B$11:$B$100,"부산",'전국 민방위 비상급수시설 현황'!$F$11:$F$100,"음용수")-SUMIFS('전국 민방위 비상급수시설 현황'!$J$11:$J$100,'전국 민방위 비상급수시설 현황'!$B$11:$B$100,"부산",'전국 민방위 비상급수시설 현황'!$F$11:$F$100,"음용수",'전국 민방위 비상급수시설 현황'!$O$11:$O$100,"지정해제")-SUMIFS('전국 민방위 비상급수시설 현황'!$J$11:$J$100,'전국 민방위 비상급수시설 현황'!$B$11:$B$100,"부산",'전국 민방위 비상급수시설 현황'!$F$11:$F$100,"음용수",'전국 민방위 비상급수시설 현황'!$O$11:$O$100,"폐공") -> 0 | H10: =G10/F10 -> #DIV/0! | I10: =B10*16/1000 -> 0 | J10: =SUMIFS('전국 민방위 비상급수시설 현황'!$J$11:$J$100,'전국 민방위 비상급수시설 현황'!$B$11:$B$100,"부산",'전국 민방위 비상급수시설 현황'!$F$11:$F$100,"생활용수")-SUMIFS('전국 민방위 비상급수시설 현황'!$J$11:$J$100,'전국 민방위 비상급수시설 현황'!$B$11:$B$100,"부산",'전국 민방위 비상급수시설 현황'!$F$11:$F$100,"생활용수",'전국 민방위 비상급수시설 현황'!$O$11:$O$100,"지정해제")-SUMIFS('전국 민방위 비상급수시설 현황'!$J$11:$J$100,'전국 민방위 비상급수시설 현황'!$B$11:$B$100,"부산",'전국 민방위 비상급수시설 현황'!$F$11:$F$100,"생활용수",'전국 민방위 비상급수시설 현황'!$O$11:$O$100,"폐공") -> 0 | K10: =J10/I10 -> #DIV/0! | L10: =N10+P10+R10 -> 0 | M10: =O10+Q10+S10 -> 0 | N10: =COUNTIFS('전국 민방위 비상급수시설 현황'!$B$11:$B$100,"부산",'전국 민방위 비상급수시설 현황'!$E$11:$E$100,"정부지원")*COUNTIFS('전국 민방위 비상급수시설 현황'!$B$11:$B$100,"부산",'전국 민방위 비상급수시설 현황'!$E$11:$E$100,"정부지원",'전국 민방위 비상급수시설 현황'!$O$11:$O$100,"지정해제") -COUNTIFS('전국 민방위 비상급수시설 현황'!$B$11:$B$100,"부산",'전국 민방위 비상급수시설 현황'!$E$11:$E$100,"정부지원",'전국 민방위 비상급수시설 현황'!$O$11:$O$100,"폐공") -> 0 | O10: =-SUMIFS('전국 민방위 비상급수시설 현황'!$J$11:$J$100,'전국 민방위 비상급수시설 현황'!$B$11:$B$100,"부산",'전국 민방위 비상급수시설 현황'!$E$11:$E$100,"정부지원",'전국 민방위 비상급수시설 현황'!$O$11:$O$100,"지정해제")-SUMIFS('전국 민방위 비상급수시설 현황'!$J$11:$J$100,'전국 민방위 비상급수시설 현황'!$B$11:$B$100,"부산",'전국 민방위 비상급수시설 현황'!$E$11:$E$100,"정부지원",'전국 민방위 비상급수시설 현황'!$O$11:$O$100,"지정해제") -SUMIFS('전국 민방위 비상급수시설 현황'!$J$11:$J$100,'전국 민방위 비상급수시설 현황'!$B$11:$B$100,"부산",'전국 민방위 비상급수시설 현황'!$E$11:$E$100,"정부지원",'전국 민방위 비상급수시설 현황'!$O$11:$O$100,"폐공") -> 0 | P10: =COUNTIFS('전국 민방위 비상급수시설 현황'!$B$11:$B$100,"부산",'전국 민방위 비상급수시설 현황'!$E$11:$E$100,"지자체")*COUNTIFS('전국 민방위 비상급수시설 현황'!$B$11:$B$100,"부산",'전국 민방위 비상급수시설 현황'!$E$11:$E$100,"지자체",'전국 민방위 비상급수시설 현황'!$O$11:$O$100,"지정해제") -COUNTIFS('전국 민방위 비상급수시설 현황'!$B$11:$B$100,"부산",'전국 민방위 비상급수시설 현황'!$E$11:$E$100,"지자체",'전국 민방위 비상급수시설 현황'!$O$11:$O$100,"폐공") -> 0 | Q10: =-SUMIFS('전국 민방위 비상급수시설 현황'!$J$11:$J$100,'전국 민방위 비상급수시설 현황'!$B$11:$B$100,"부산",'전국 민방위 비상급수시설 현황'!$E$11:$E$100,"지자체",'전국 민방위 비상급수시설 현황'!$O$11:$O$100,"지정해제")-SUMIFS('전국 민방위 비상급수시설 현황'!$J$11:$J$100,'전국 민방위 비상급수시설 현황'!$B$11:$B$100,"부산",'전국 민방위 비상급수시설 현황'!$E$11:$E$100,"지자체",'전국 민방위 비상급수시설 현황'!$O$11:$O$100,"지정해제") -SUMIFS('전국 민방위 비상급수시설 현황'!$J$11:$J$100,'전국 민방위 비상급수시설 현황'!$B$11:$B$100,"부산",'전국 민방위 비상급수시설 현황'!$E$11:$E$100,"지자체",'전국 민방위 비상급수시설 현황'!$O$11:$O$100,"폐공") -> 0 | R10: =COUNTIFS('전국 민방위 비상급수시설 현황'!$B$11:$B$100,"부산",'전국 민방위 비상급수시설 현황'!$E$11:$E$100,"공공용")*COUNTIFS('전국 민방위 비상급수시설 현황'!$B$11:$B$100,"부산",'전국 민방위 비상급수시설 현황'!$E$11:$E$100,"공공용",'전국 민방위 비상급수시설 현황'!$O$11:$O$100,"지정해제") -COUNTIFS('전국 민방위 비상급수시설 현황'!$B$11:$B$100,"부산",'전국 민방위 비상급수시설 현황'!$E$11:$E$100,"공공용",'전국 민방위 비상급수시설 현황'!$O$11:$O$100,"폐공") -> 0 | S10: =-SUMIFS('전국 민방위 비상급수시설 현황'!$J$11:$J$100,'전국 민방위 비상급수시설 현황'!$B$11:$B$100,"부산",'전국 민방위 비상급수시설 현황'!$E$11:$E$100,"공공용",'전국 민방위 비상급수시설 현황'!$O$11:$O$100,"지정해제")-SUMIFS('전국 민방위 비상급수시설 현황'!$J$11:$J$100,'전국 민방위 비상급수시설 현황'!$B$11:$B$100,"부산",'전국 민방위 비상급수시설 현황'!$E$11:$E$100,"공공용",'전국 민방위 비상급수시설 현황'!$O$11:$O$100,"지정해제") -SUMIFS('전국 민방위 비상급수시설 현황'!$J$11:$J$100,'전국 민방위 비상급수시설 현황'!$B$11:$B$100,"부산",'전국 민방위 비상급수시설 현황'!$E$11:$E$100,"공공용",'전국 민방위 비상급수시설 현황'!$O$11:$O$100,"폐공") -> 0
A11: 대구 | C11: =F11+I11 -> 0 | D11: =G11+J11 -> 0 | E11: =D11/C11 -> #DIV/0! | F11: =B11*9/1000 -> 0 | G11: =SUMIFS('전국 민방위 비상급수시설 현황'!$J$11:$J$100,'전국 민방위 비상급수시설 현황'!$B$11:$B$100,"대구",'전국 민방위 비상급수시설 현황'!$F$11:$F$100,"음용수")-SUMIFS('전국 민방위 비상급수시설 현황'!$J$11:$J$100,'전국 민방위 비상급수시설 현황'!$B$11:$B$100,"대구",'전국 민방위 비상급수시설 현황'!$F$11:$F$100,"음용수",'전국 민방위 비상급수시설 현황'!$O$11:$O$100,"지정해제")-SUMIFS('전국 민방위 비상급수시설 현황'!$J$11:$J$100,'전국 민방위 비상급수시설 현황'!$B$11:$B$100,"대구",'전국 민방위 비상급수시설 현황'!$F$11:$F$100,"음용수",'전국 민방위 비상급수시설 현황'!$O$11:$O$100,"폐공") -> 0 | H11: =G11/F11 -> #DIV/0! | I11: =B11*16/1000 -> 0 | J11: =SUMIFS('전국 민방위 비상급수시설 현황'!$J$11:$J$100,'전국 민방위 비상급수시설 현황'!$B$11:$B$100,"대구",'전국 민방위 비상급수시설 현황'!$F$11:$F$100,"생활용수")-SUMIFS('전국 민방위 비상급수시설 현황'!$J$11:$J$100,'전국 민방위 비상급수시설 현황'!$B$11:$B$100,"대구",'전국 민방위 비상급수시설 현황'!$F$11:$F$100,"생활용수",'전국 민방위 비상급수시설 현황'!$O$11:$O$100,"지정해제")-SUMIFS('전국 민방위 비상급수시설 현황'!$J$11:$J$100,'전국 민방위 비상급수시설 현황'!$B$11:$B$100,"대구",'전국 민방위 비상급수시설 현황'!$F$11:$F$100,"생활용수",'전국 민방위 비상급수시설 현황'!$O$11:$O$100,"폐공") -> 0 | K11: =J11/I11 -> #DIV/0! | L11: =N11+P11+R11 -> 0 | M11: =O11+Q11+S11 -> 0 | N11: =COUNTIFS('전국 민방위 비상급수시설 현황'!$B$11:$B$100,"대구",'전국 민방위 비상급수시설 현황'!$E$11:$E$100,"정부지원")*COUNTIFS('전국 민방위 비상급수시설 현황'!$B$11:$B$100,"대구",'전국 민방위 비상급수시설 현황'!$E$11:$E$100,"정부지원",'전국 민방위 비상급수시설 현황'!$O$11:$O$100,"지정해제") -COUNTIFS('전국 민방위 비상급수시설 현황'!$B$11:$B$100,"대구",'전국 민방위 비상급수시설 현황'!$E$11:$E$100,"정부지원",'전국 민방위 비상급수시설 현황'!$O$11:$O$100,"폐공") -> 0 | O11: =-SUMIFS('전국 민방위 비상급수시설 현황'!$J$11:$J$100,'전국 민방위 비상급수시설 현황'!$B$11:$B$100,"대구",'전국 민방위 비상급수시설 현황'!$E$11:$E$100,"정부지원",'전국 민방위 비상급수시설 현황'!$O$11:$O$100,"폐공")-SUMIFS('전국 민방위 비상급수시설 현황'!$J$11:$J$100,'전국 민방위 비상급수시설 현황'!$B$11:$B$100,"대구",'전국 민방위 비상급수시설 현황'!$E$11:$E$100,"정부지원",'전국 민방위 비상급수시설 현황'!$O$11:$O$100,"지정해제") -SUMIFS('전국 민방위 비상급수시설 현황'!$J$11:$J$100,'전국 민방위 비상급수시설 현황'!$B$11:$B$100,"대구",'전국 민방위 비상급수시설 현황'!$E$11:$E$100,"정부지원",'전국 민방위 비상급수시설 현황'!$O$11:$O$100,"폐공") -> 0 | P11: =COUNTIFS('전국 민방위 비상급수시설 현황'!$B$11:$B$100,"대구",'전국 민방위 비상급수시설 현황'!$E$11:$E$100,"지자체")*COUNTIFS('전국 민방위 비상급수시설 현황'!$B$11:$B$100,"대구",'전국 민방위 비상급수시설 현황'!$E$11:$E$100,"지자체",'전국 민방위 비상급수시설 현황'!$O$11:$O$100,"지정해제") -COUNTIFS('전국 민방위 비상급수시설 현황'!$B$11:$B$100,"대구",'전국 민방위 비상급수시설 현황'!$E$11:$E$100,"지자체",'전국 민방위 비상급수시설 현황'!$O$11:$O$100,"폐공") -> 0 | Q11: =-SUMIFS('전국 민방위 비상급수시설 현황'!$J$11:$J$100,'전국 민방위 비상급수시설 현황'!$B$11:$B$100,"대구",'전국 민방위 비상급수시설 현황'!$E$11:$E$100,"지자체",'전국 민방위 비상급수시설 현황'!$O$11:$O$100,"폐공")-SUMIFS('전국 민방위 비상급수시설 현황'!$J$11:$J$100,'전국 민방위 비상급수시설 현황'!$B$11:$B$100,"대구",'전국 민방위 비상급수시설 현황'!$E$11:$E$100,"지자체",'전국 민방위 비상급수시설 현황'!$O$11:$O$100,"지정해제") -SUMIFS('전국 민방위 비상급수시설 현황'!$J$11:$J$100,'전국 민방위 비상급수시설 현황'!$B$11:$B$100,"대구",'전국 민방위 비상급수시설 현황'!$E$11:$E$100,"지자체",'전국 민방위 비상급수시설 현황'!$O$11:$O$100,"폐공") -> 0 | R11: =COUNTIFS('전국 민방위 비상급수시설 현황'!$B$11:$B$100,"대구",'전국 민방위 비상급수시설 현황'!$E$11:$E$100,"공공용")*COUNTIFS('전국 민방위 비상급수시설 현황'!$B$11:$B$100,"대구",'전국 민방위 비상급수시설 현황'!$E$11:$E$100,"공공용",'전국 민방위 비상급수시설 현황'!$O$11:$O$100,"지정해제") -COUNTIFS('전국 민방위 비상급수시설 현황'!$B$11:$B$100,"대구",'전국 민방위 비상급수시설 현황'!$E$11:$E$100,"공공용",'전국 민방위 비상급수시설 현황'!$O$11:$O$100,"폐공") -> 0 | S11: =-SUMIFS('전국 민방위 비상급수시설 현황'!$J$11:$J$100,'전국 민방위 비상급수시설 현황'!$B$11:$B$100,"대구",'전국 민방위 비상급수시설 현황'!$E$11:$E$100,"공공용",'전국 민방위 비상급수시설 현황'!$O$11:$O$100,"폐공")-SUMIFS('전국 민방위 비상급수시설 현황'!$J$11:$J$100,'전국 민방위 비상급수시설 현황'!$B$11:$B$100,"대구",'전국 민방위 비상급수시설 현황'!$E$11:$E$100,"공공용",'전국 민방위 비상급수시설 현황'!$O$11:$O$100,"지정해제") -SUMIFS('전국 민방위 비상급수시설 현황'!$J$11:$J$100,'전국 민방위 비상급수시설 현황'!$B$11:$B$100,"대구",'전국 민방위 비상급수시설 현황'!$E$11:$E$100,"공공용",'전국 민방위 비상급수시설 현황'!$O$11:$O$100,"폐공") -> 0
A12: 인천 | B12: 2948542 | C12: =F12+I12 -> 73713.55 | D12: =G12+J12 -> 5991 | E12: =D12/C12 -> 0.081274067 | F12: =B12*9/1000 -> 26536.878 | G12: =SUMIFS('전국 민방위 비상급수시설 현황'!$J$11:$J$100,'전국 민방위 비상급수시설 현황'!$B$11:$B$100,"인천",'전국 민방위 비상급수시설 현황'!$F$11:$F$100,"음용수")-SUMIFS('전국 민방위 비상급수시설 현황'!$J$11:$J$100,'전국 민방위 비상급수시설 현황'!$B$11:$B$100,"인천",'전국 민방위 비상급수시설 현황'!$F$11:$F$100,"음용수",'전국 민방위 비상급수시설 현황'!$O$11:$O$100,"지정해제")-SUMIFS('전국 민방위 비상급수시설 현황'!$J$11:$J$100,'전국 민방위 비상급수시설 현황'!$B$11:$B$100,"인천",'전국 민방위 비상급수시설 현황'!$F$11:$F$100,"음용수",'전국 민방위 비상급수시설 현황'!$O$11:$O$100,"폐공") -> 2205 | H12: =G12/F12 -> 0.083091915 | I12: =B12*16/1000 -> 47176.672 | J12: =SUMIFS('전국 민방위 비상급수시설 현황'!$J$11:$J$100,'전국 민방위 비상급수시설 현황'!$B$11:$B$100,"인천",'전국 민방위 비상급수시설 현황'!$F$11:$F$100,"생활용수")-SUMIFS('전국 민방위 비상급수시설 현황'!$J$11:$J$100,'전국 민방위 비상급수시설 현황'!$B$11:$B$100,"인천",'전국 민방위 비상급수시설 현황'!$F$11:$F$100,"생활용수",'전국 민방위 비상급수시설 현황'!$O$11:$O$100,"지정해제")-SUMIFS('전국 민방위 비상급수시설 현황'!$J$11:$J$100,'전국 민방위 비상급수시설 현황'!$B$11:$B$100,"인천",'전국 민방위 비상급수시설 현황'!$F$11:$F$100,"생활용수",'전국 민방위 비상급수시설 현황'!$O$11:$O$100,"폐공") -> 3786 | K12: =J12/I12 -> 0.080251528 | L12: =N12+P12+R12 -> 90 | M12: =O12+Q12+S12 -> 6892 | N12: =COUNTIFS('전국 민방위 비상급수시설 현황'!$B$11:$B$100,"인천",'전국 민방위 비상급수시설 현황'!$E$11:$E$100,"정부지원")-COUNTIFS('전국 민방위 비상급수시설 현황'!$B$11:$B$100,"대구",'전국 민방위 비상급수시설 현황'!$E$11:$E$100,"정부지원",'전국 민방위 비상급수시설 현황'!$O$11:$O$100,"지정해제") - COUNTIFS('전국 민방위 비상급수시설 현황'!$B$11:$B$100,"대구",'전국 민방위 비상급수시설 현황'!$E$11:$E$100,"정부지원",'전국 민방위 비상급수시설 현황'!$O$11:$O$100,"폐공") -> 6 | O12: =SUMIFS('전국 민방위 비상급수시설 현황'!$J$11:$J$100,'전국 민방위 비상급수시설 현황'!$B$11:$B$100,"인천",'전국 민방위 비상급수시설 현황'!$E$11:$E$100,"정부지원")-SUMIFS('전국 민방위 비상급수시설 현황'!$J$11:$J$100,'전국 민방위 비상급수시설 현황'!$B$11:$B$100,"인천",'전국 민방위 비상급수시설 현황'!$E$11:$E$100,"정부지원",'전국 민방위 비상급수시설 현황'!$O$11:$O$100,"지정해제") -SUMIFS('전국 민방위 비상급수시설 현황'!$J$11:$J$100,'전국 민방위 비상급수시설 현황'!$B$11:$B$100,"인천",'전국 민방위 비상급수시설 현황'!$E$11:$E$100,"정부지원",'전국 민방위 비상급수시설 현황'!$O$11:$O$100,"폐공") -> 920 | P12: =COUNTIFS('전국 민방위 비상급수시설 현황'!$B$11:$B$100,"인천",'전국 민방위 비상급수시설 현황'!$E$11:$E$100,"지자체")-COUNTIFS('전국 민방위 비상급수시설 현황'!$B$11:$B$100,"대구",'전국 민방위 비상급수시설 현황'!$E$11:$E$100,"지자체",'전국 민방위 비상급수시설 현황'!$O$11:$O$100,"지정해제") - COUNTIFS('전국 민방위 비상급수시설 현황'!$B$11:$B$100,"대구",'전국 민방위 비상급수시설 현황'!$E$11:$E$100,"지자체",'전국 민방위 비상급수시설 현황'!$O$11:$O$100,"폐공") -> 1 | Q12: =SUMIFS('전국 민방위 비상급수시설 현황'!$J$11:$J$100,'전국 민방위 비상급수시설 현황'!$B$11:$B$100,"인천",'전국 민방위 비상급수시설 현황'!$E$11:$E$100,"지자체")-SUMIFS('전국 민방위 비상급수시설 현황'!$J$11:$J$100,'전국 민방위 비상급수시설 현황'!$B$11:$B$100,"인천",'전국 민방위 비상급수시설 현황'!$E$11:$E$100,"지자체",'전국 민방위 비상급수시설 현황'!$O$11:$O$100,"지정해제") -SUMIFS('전국 민방위 비상급수시설 현황'!$J$11:$J$100,'전국 민방위 비상급수시설 현황'!$B$11:$B$100,"인천",'전국 민방위 비상급수시설 현황'!$E$11:$E$100,"지자체",'전국 민방위 비상급수시설 현황'!$O$11:$O$100,"폐공") -> 51 | R12: =COUNTIFS('전국 민방위 비상급수시설 현황'!$B$11:$B$100,"인천",'전국 민방위 비상급수시설 현황'!$E$11:$E$100,"공공용")-COUNTIFS('전국 민방위 비상급수시설 현황'!$B$11:$B$100,"대구",'전국 민방위 비상급수시설 현황'!$E$11:$E$100,"공공용",'전국 민방위 비상급수시설 현황'!$O$11:$O$100,"지정해제") - COUNTIFS('전국 민방위 비상급수시설 현황'!$B$11:$B$100,"대구",'전국 민방위 비상급수시설 현황'!$E$11:$E$100,"공공용",'전국 민방위 비상급수시설 현황'!$O$11:$O$100,"폐공") -> 83 | S12: =SUMIFS('전국 민방위 비상급수시설 현황'!$J$11:$J$100,'전국 민방위 비상급수시설 현황'!$B$11:$B$100,"인천",'전국 민방위 비상급수시설 현황'!$E$11:$E$100,"공공용")-SUMIFS('전국 민방위 비상급수시설 현황'!$J$11:$J$100,'전국 민방위 비상급수시설 현황'!$B$11:$B$100,"인천",'전국 민방위 비상급수시설 현황'!$E$11:$E$100,"공공용",'전국 민방위 비상급수시설 현황'!$O$11:$O$100,"지정해제") -SUMIFS('전국 민방위 비상급수시설 현황'!$J$11:$J$100,'전국 민방위 비상급수시설 현황'!$B$11:$B$100,"인천",'전국 민방위 비상급수시설 현황'!$E$11:$E$100,"공공용",'전국 민방위 비상급수시설 현황'!$O$11:$O$100,"폐공") -> 5921
A13: 광주 | C13: =F13+I13 -> 0 | O13: =SUMIFS('전국 민방위 비상급수시설 현황'!$J$11:$J$100,'전국 민방위 비상급수시설 현황'!$B$11:$B$100,"광주",'전국 민방위 비상급수시설 현황'!$E$11:$E$100,"정부지원")-SUMIFS('전국 민방위 비상급수시설 현황'!$J$11:$J$100,'전국 민방위 비상급수시설 현황'!$B$11:$B$100,"광주",'전국 민방위 비상급수시설 현황'!$E$11:$E$100,"정부지원",'전국 민방위 비상급수시설 현황'!$O$11:$O$100,"지정해제") -SUMIFS('전국 민방위 비상급수시설 현황'!$J$11:$J$100,'전국 민방위 비상급수시설 현황'!$B$11:$B$100,"광주",'전국 민방위 비상급수시설 현황'!$E$11:$E$100,"정부지원",'전국 민방위 비상급수시설 현황'!$O$11:$O$100,"폐공") -> 0 | P13: =COUNTIFS('전국 민방위 비상급수시설 현황'!$B$11:$B$100,"광주",'전국 민방위 비상급수시설 현황'!$E$11:$E$100,"지자체")-COUNTIFS('전국 민방위 비상급수시설 현황'!$B$11:$B$100,"광주",'전국 민방위 비상급수시설 현황'!$E$11:$E$100,"지자체",'전국 민방위 비상급수시설 현황'!$O$11:$O$100,"지정해제") - COUNTIFS('전국 민방위 비상급수시설 현황'!$B$11:$B$100,"광주",'전국 민방위 비상급수시설 현황'!$E$11:$E$100,"지자체",'전국 민방위 비상급수시설 현황'!$O$11:$O$100,"폐공") -> 0 | Q13: =SUMIFS('전국 민방위 비상급수시설 현황'!$J$11:$J$100,'전국 민방위 비상급수시설 현황'!$B$11:$B$100,"광주",'전국 민방위 비상급수시설 현황'!$E$11:$E$100,"지자체")-SUMIFS('전국 민방위 비상급수시설 현황'!$J$11:$J$100,'전국 민방위 비상급수시설 현황'!$B$11:$B$100,"광주",'전국 민방위 비상급수시설 현황'!$E$11:$E$100,"지자체",'전국 민방위 비상급수시설 현황'!$O$11:$O$100,"지정해제") -SUMIFS('전국 민방위 비상급수시설 현황'!$J$11:$J$100,'전국 민방위 비상급수시설 현황'!$B$11:$B$100,"광주",'전국 민방위 비상급수시설 현황'!$E$11:$E$100,"지자체",'전국 민방위 비상급수시설 현황'!$O$11:$O$100,"폐공") -> 0 | R13: =COUNTIFS('전국 민방위 비상급수시설 현황'!$B$11:$B$100,"광주",'전국 민방위 비상급수시설 현황'!$E$11:$E$100,"공공용")-COUNTIFS('전국 민방위 비상급수시설 현황'!$B$11:$B$100,"광주",'전국 민방위 비상급수시설 현황'!$E$11:$E$100,"공공용",'전국 민방위 비상급수시설 현황'!$O$11:$O$100,"지정해제") - COUNTIFS('전국 민방위 비상급수시설 현황'!$B$11:$B$100,"광주",'전국 민방위 비상급수시설 현황'!$E$11:$E$100,"공공용",'전국 민방위 비상급수시설 현황'!$O$11:$O$100,"폐공") -> 0 | S13: =SUMIFS('전국 민방위 비상급수시설 현황'!$J$11:$J$100,'전국 민방위 비상급수시설 현황'!$B$11:$B$100,"광주",'전국 민방위 비상급수시설 현황'!$E$11:$E$100,"공공용")-SUMIFS('전국 민방위 비상급수시설 현황'!$J$11:$J$100,'전국 민방위 비상급수시설 현황'!$B$11:$B$100,"광주",'전국 민방위 비상급수시설 현황'!$E$11:$E$100,"공공용",'전국 민방위 비상급수시설 현황'!$O$11:$O$100,"지정해제") -SUMIFS('전국 민방위 비상급수시설 현황'!$J$11:$J$100,'전국 민방위 비상급수시설 현황'!$B$11:$B$100,"광주",'전국 민방위 비상급수시설 현황'!$E$11:$E$100,"공공용",'전국 민방위 비상급수시설 현황'!$O$11:$O$100,"폐공") -> 0
A14: 대전 | C14: =F14+I14 -> 0 | D14: =G14+J14 -> 0 | E14: =D14/C14 -> #DIV/0! | F14: =B14*9/1000 -> 0 | G14: =SUMIFS('전국 민방위 비상급수시설 현황'!$J$11:$J$100,'전국 민방위 비상급수시설 현황'!$B$11:$B$100,"대전",'전국 민방위 비상급수시설 현황'!$F$11:$F$100,"음용수")-SUMIFS('전국 민방위 비상급수시설 현황'!$J$11:$J$100,'전국 민방위 비상급수시설 현황'!$B$11:$B$100,"대전",'전국 민방위 비상급수시설 현황'!$F$11:$F$100,"음용수",'전국 민방위 비상급수시설 현황'!$O$11:$O$100,"지정해제")-SUMIFS('전국 민방위 비상급수시설 현황'!$J$11:$J$100,'전국 민방위 비상급수시설 현황'!$B$11:$B$100,"대전",'전국 민방위 비상급수시설 현황'!$F$11:$F$100,"음용수",'전국 민방위 비상급수시설 현황'!$O$11:$O$100,"폐공") -> 0 | H14: =G14/F14 -> #DIV/0! | I14: =B14*16/1000 -> 0 | J14: =SUMIFS('전국 민방위 비상급수시설 현황'!$J$11:$J$100,'전국 민방위 비상급수시설 현황'!$B$11:$B$100,"대전",'전국 민방위 비상급수시설 현황'!$F$11:$F$100,"생활용수")-SUMIFS('전국 민방위 비상급수시설 현황'!$J$11:$J$100,'전국 민방위 비상급수시설 현황'!$B$11:$B$100,"대전",'전국 민방위 비상급수시설 현황'!$F$11:$F$100,"생활용수",'전국 민방위 비상급수시설 현황'!$O$11:$O$100,"지정해제")-SUMIFS('전국 민방위 비상급수시설 현황'!$J$11:$J$100,'전국 민방위 비상급수시설 현황'!$B$11:$B$100,"대전",'전국 민방위 비상급수시설 현황'!$F$11:$F$100,"생활용수",'전국 민방위 비상급수시설 현황'!$O$11:$O$100,"폐공") -> 0 | K14: =J14/I14 -> #DIV/0! | L14: =N14+P14+R14 -> 0 | M14: =O14+Q14+S14 -> 0 | N14: =COUNTIFS('전국 민방위 비상급수시설 현황'!$B$11:$B$100,"대전",'전국 민방위 비상급수시설 현황'!$E$11:$E$100,"정부지원")-COUNTIFS('전국 민방위 비상급수시설 현황'!$B$11:$B$100,"대전",'전국 민방위 비상급수시설 현황'!$E$11:$E$100,"정부지원",'전국 민방위 비상급수시설 현황'!$O$11:$O$100,"지정해제") - COUNTIFS('전국 민방위 비상급수시설 현황'!$B$11:$B100,"대전",'전국 민방위 비상급수시설 현황'!$E$11:$E$100,"정부지원",'전국 민방위 비상급수시설 현황'!$O$11:$O$100,"폐공") -> 0 | O14: =SUMIFS('전국 민방위 비상급수시설 현황'!$J$11:$J$100,'전국 민방위 비상급수시설 현황'!$B$11:$B$100,"대전",'전국 민방위 비상급수시설 현황'!$E$11:$E$100,"정부지원")-SUMIFS('전국 민방위 비상급수시설 현황'!$J$11:$J$100,'전국 민방위 비상급수시설 현황'!$B$11:$B$100,"대전",'전국 민방위 비상급수시설 현황'!$E$11:$E$100,"정부지원",'전국 민방위 비상급수시설 현황'!$O$11:$O$100,"지정해제") -SUMIFS('전국 민방위 비상급수시설 현황'!$J$11:$J$100,'전국 민방위 비상급수시설 현황'!$B$11:$B$100,"대전",'전국 민방위 비상급수시설 현황'!$E$11:$E$100,"정부지원",'전국 민방위 비상급수시설 현황'!$O$11:$O$100,"폐공") -> 0 | P14: =COUNTIFS('전국 민방위 비상급수시설 현황'!$B$11:$B$100,"대전",'전국 민방위 비상급수시설 현황'!$E$11:$E$100,"지자체")-COUNTIFS('전국 민방위 비상급수시설 현황'!$B$11:$B$100,"대전",'전국 민방위 비상급수시설 현황'!$E$11:$E$100,"지자체",'전국 민방위 비상급수시설 현황'!$O$11:$O$100,"지정해제") - COUNTIFS('전국 민방위 비상급수시설 현황'!$B$11:$B100,"대전",'전국 민방위 비상급수시설 현황'!$E$11:$E$100,"지자체",'전국 민방위 비상급수시설 현황'!$O$11:$O$100,"폐공") -> 0 | Q14: =SUMIFS('전국 민방위 비상급수시설 현황'!$J$11:$J$100,'전국 민방위 비상급수시설 현황'!$B$11:$B$100,"대전",'전국 민방위 비상급수시설 현황'!$E$11:$E$100,"지자체")-SUMIFS('전국 민방위 비상급수시설 현황'!$J$11:$J$100,'전국 민방위 비상급수시설 현황'!$B$11:$B$100,"대전",'전국 민방위 비상급수시설 현황'!$E$11:$E$100,"지자체",'전국 민방위 비상급수시설 현황'!$O$11:$O$100,"지정해제") -SUMIFS('전국 민방위 비상급수시설 현황'!$J$11:$J$100,'전국 민방위 비상급수시설 현황'!$B$11:$B$100,"대전",'전국 민방위 비상급수시설 현황'!$E$11:$E$100,"지자체",'전국 민방위 비상급수시설 현황'!$O$11:$O$100,"폐공") -> 0 | R14: =COUNTIFS('전국 민방위 비상급수시설 현황'!$B$11:$B$100,"대전",'전국 민방위 비상급수시설 현황'!$E$11:$E$100,"공공용")-COUNTIFS('전국 민방위 비상급수시설 현황'!$B$11:$B$100,"대전",'전국 민방위 비상급수시설 현황'!$E$11:$E$100,"공공용",'전국 민방위 비상급수시설 현황'!$O$11:$O$100,"지정해제") - COUNTIFS('전국 민방위 비상급수시설 현황'!$B$11:$B100,"대전",'전국 민방위 비상급수시설 현황'!$E$11:$E$100,"공공용",'전국 민방위 비상급수시설 현황'!$O$11:$O$100,"폐공") -> 0 | S14: =SUMIFS('전국 민방위 비상급수시설 현황'!$J$11:$J$100,'전국 민방위 비상급수시설 현황'!$B$11:$B$100,"대전",'전국 민방위 비상급수시설 현황'!$E$11:$E$100,"공공용")-SUMIFS('전국 민방위 비상급수시설 현황'!$J$11:$J$100,'전국 민방위 비상급수시설 현황'!$B$11:$B$100,"대전",'전국 민방위 비상급수시설 현황'!$E$11:$E$100,"공공용",'전국 민방위 비상급수시설 현황'!$O$11:$O$100,"지정해제") -SUMIFS('전국 민방위 비상급수시설 현황'!$J$11:$J$100,'전국 민방위 비상급수시설 현황'!$B$11:$B$100,"대전",'전국 민방위 비상급수시설 현황'!$E$11:$E$100,"공공용",'전국 민방위 비상급수시설 현황'!$O$11:$O$100,"폐공") -> 0
A15: 울산 | C15: =F15+I15 -> 0 | D15: =G15+J15 -> 0 | E15: =D15/C15 -> #DIV/0! | F15: =B15*9/1000 -> 0 | G15: =SUMIFS('전국 민방위 비상급수시설 현황'!$J$11:$J$100,'전국 민방위 비상급수시설 현황'!$B$11:$B$100,"울산",'전국 민방위 비상급수시설 현황'!$F$11:$F$100,"음용수")-SUMIFS('전국 민방위 비상급수시설 현황'!$J$11:$J$100,'전국 민방위 비상급수시설 현황'!$B$11:$B$100,"울산",'전국 민방위 비상급수시설 현황'!$F$11:$F$100,"음용수",'전국 민방위 비상급수시설 현황'!$O$11:$O$100,"지정해제")-SUMIFS('전국 민방위 비상급수시설 현황'!$J$11:$J$100,'전국 민방위 비상급수시설 현황'!$B$11:$B$100,"울산",'전국 민방위 비상급수시설 현황'!$F$11:$F$100,"음용수",'전국 민방위 비상급수시설 현황'!$O$11:$O$100,"폐공") -> 0 | H15: =G15/F15 -> #DIV/0! | I15: =B15*16/1000 -> 0 | J15: =SUMIFS('전국 민방위 비상급수시설 현황'!$J$11:$J$100,'전국 민방위 비상급수시설 현황'!$B$11:$B$100,"울산",'전국 민방위 비상급수시설 현황'!$F$11:$F$100,"생활용수")-SUMIFS('전국 민방위 비상급수시설 현황'!$J$11:$J$100,'전국 민방위 비상급수시설 현황'!$B$11:$B$100,"울산",'전국 민방위 비상급수시설 현황'!$F$11:$F$100,"생활용수",'전국 민방위 비상급수시설 현황'!$O$11:$O$100,"지정해제")-SUMIFS('전국 민방위 비상급수시설 현황'!$J$11:$J$100,'전국 민방위 비상급수시설 현황'!$B$11:$B$100,"울산",'전국 민방위 비상급수시설 현황'!$F$11:$F$100,"생활용수",'전국 민방위 비상급수시설 현황'!$O$11:$O$100,"폐공") -> 0 | K15: =J15/I15 -> #DIV/0! | L15: =N15+P15+R15 -> 0 | M15: =O15+Q15+S15 -> 0 | N15: =COUNTIFS('전국 민방위 비상급수시설 현황'!$B$11:$B$100,"울산",'전국 민방위 비상급수시설 현황'!$E$11:$E$100,"정부지원") -> 0 | O15: =SUMIFS('전국 민방위 비상급수시설 현황'!$J$11:$J$100,'전국 민방위 비상급수시설 현황'!$B$11:$B$100,"울산",'전국 민방위 비상급수시설 현황'!$E$11:$E$100,"정부지원")-SUMIFS('전국 민방위 비상급수시설 현황'!$J$11:$J$100,'전국 민방위 비상급수시설 현황'!$B$11:$B$100,"울산",'전국 민방위 비상급수시설 현황'!$E$11:$E$100,"정부지원",'전국 민방위 비상급수시설 현황'!$O$11:$O$100,"지정해제") -SUMIFS('전국 민방위 비상급수시설 현황'!$J$11:$J$100,'전국 민방위 비상급수시설 현황'!$B$11:$B$100,"울산",'전국 민방위 비상급수시설 현황'!$E$11:$E$100,"정부지원",'전국 민방위 비상급수시설 현황'!$O$11:$O$100,"폐공") -> 0 | P15: =COUNTIFS('전국 민방위 비상급수시설 현황'!$B$11:$B$100,"울산",'전국 민방위 비상급수시설 현황'!$E$11:$E$100,"지자체") -> 0 | Q15: =SUMIFS('전국 민방위 비상급수시설 현황'!$J$11:$J$100,'전국 민방위 비상급수시설 현황'!$B$11:$B$100,"울산",'전국 민방위 비상급수시설 현황'!$E$11:$E$100,"지자체")-SUMIFS('전국 민방위 비상급수시설 현황'!$J$11:$J$100,'전국 민방위 비상급수시설 현황'!$B$11:$B$100,"울산",'전국 민방위 비상급수시설 현황'!$E$11:$E$100,"지자체",'전국 민방위 비상급수시설 현황'!$O$11:$O$100,"지정해제") -SUMIFS('전국 민방위 비상급수시설 현황'!$J$11:$J$100,'전국 민방위 비상급수시설 현황'!$B$11:$B$100,"울산",'전국 민방위 비상급수시설 현황'!$E$11:$E$100,"지자체",'전국 민방위 비상급수시설 현황'!$O$11:$O$100,"폐공") -> 0 | R15: =COUNTIFS('전국 민방위 비상급수시설 현황'!$B$11:$B$100,"울산",'전국 민방위 비상급수시설 현황'!$E$11:$E$100,"공공용") -> 0 | S15: =SUMIFS('전국 민방위 비상급수시설 현황'!$J$11:$J$100,'전국 민방위 비상급수시설 현황'!$B$11:$B$100,"울산",'전국 민방위 비상급수시설 현황'!$E$11:$E$100,"공공용")-SUMIFS('전국 민방위 비상급수시설 현황'!$J$11:$J$100,'전국 민방위 비상급수시설 현황'!$B$11:$B$100,"울산",'전국 민방위 비상급수시설 현황'!$E$11:$E$100,"공공용",'전국 민방위 비상급수시설 현황'!$O$11:$O$100,"지정해제") -SUMIFS('전국 민방위 비상급수시설 현황'!$J$11:$J$100,'전국 민방위 비상급수시설 현황'!$B$11:$B$100,"울산",'전국 민방위 비상급수시설 현황'!$E$11:$E$100,"공공용",'전국 민방위 비상급수시설 현황'!$O$11:$O$100,"폐공") -> 0
A16: 세종 | C16: =F16+I16 -> 0 | D16: =G16+J16 -> 0 | E16: =D16/C16 -> #DIV/0! | F16: =B16*9/1000 -> 0 | G16: =SUMIFS('전국 민방위 비상급수시설 현황'!$J$11:$J$100,'전국 민방위 비상급수시설 현황'!$B$11:$B$100,"세종",'전국 민방위 비상급수시설 현황'!$F$11:$F$100,"음용수")-SUMIFS('전국 민방위 비상급수시설 현황'!$J$11:$J$100,'전국 민방위 비상급수시설 현황'!$B$11:$B$100,"세종",'전국 민방위 비상급수시설 현황'!$F$11:$F$100,"음용수",'전국 민방위 비상급수시설 현황'!$O$11:$O$100,"지정해제")-SUMIFS('전국 민방위 비상급수시설 현황'!$J$11:$J$100,'전국 민방위 비상급수시설 현황'!$B$11:$B$100,"세종",'전국 민방위 비상급수시설 현황'!$F$11:$F$100,"음용수",'전국 민방위 비상급수시설 현황'!$O$11:$O$100,"폐공") -> 0 | H16: =G16/F16 -> #DIV/0! | I16: =B16*16/1000 -> 0 | J16: =SUMIFS('전국 민방위 비상급수시설 현황'!$J$11:$J$100,'전국 민방위 비상급수시설 현황'!$B$11:$B$100,"세종",'전국 민방위 비상급수시설 현황'!$F$11:$F$100,"생활용수")-SUMIFS('전국 민방위 비상급수시설 현황'!$J$11:$J$100,'전국 민방위 비상급수시설 현황'!$B$11:$B$100,"세종",'전국 민방위 비상급수시설 현황'!$F$11:$F$100,"생활용수",'전국 민방위 비상급수시설 현황'!$O$11:$O$100,"지정해제")-SUMIFS('전국 민방위 비상급수시설 현황'!$J$11:$J$100,'전국 민방위 비상급수시설 현황'!$B$11:$B$100,"세종",'전국 민방위 비상급수시설 현황'!$F$11:$F$100,"생활용수",'전국 민방위 비상급수시설 현황'!$O$11:$O$100,"폐공") -> 0 | K16: =J16/I16 -> #DIV/0! | L16: =N16+P16+R16 -> 0 | M16: =O16+Q16+S16 -> 0 | N16: =COUNTIFS('전국 민방위 비상급수시설 현황'!$B$11:$B$100,"세종",'전국 민방위 비상급수시설 현황'!$E$11:$E$100,"정부지원")-COUNTIFS('전국 민방위 비상급수시설 현황'!$B$11:$B$100,"세종",'전국 민방위 비상급수시설 현황'!$E$11:$E$100,"정부지원",'전국 민방위 비상급수시설 현황'!$O$11:$O$100,"지정해제") - COUNTIFS('전국 민방위 비상급수시설 현황'!$B$11:$B$100,"세종",'전국 민방위 비상급수시설 현황'!$E$11:$E$100,"정부지원",'전국 민방위 비상급수시설 현황'!$O$11:$O$100,"폐공") -> 0 | O16: =SUMIFS('전국 민방위 비상급수시설 현황'!$J$11:$J$100,'전국 민방위 비상급수시설 현황'!$B$11:$B$100,"세종",'전국 민방위 비상급수시설 현황'!$E$11:$E$100,"정부지원")-SUMIFS('전국 민방위 비상급수시설 현황'!$J$11:$J$100,'전국 민방위 비상급수시설 현황'!$B$11:$B$100,"세종",'전국 민방위 비상급수시설 현황'!$E$11:$E$100,"정부지원",'전국 민방위 비상급수시설 현황'!$O$11:$O$100,"지정해제") -SUMIFS('전국 민방위 비상급수시설 현황'!$J$11:$J$100,'전국 민방위 비상급수시설 현황'!$B$11:$B$100,"세종",'전국 민방위 비상급수시설 현황'!$E$11:$E$100,"정부지원",'전국 민방위 비상급수시설 현황'!$O$11:$O$100,"폐공") -> 0 | P16: =COUNTIFS('전국 민방위 비상급수시설 현황'!$B$11:$B$100,"세종",'전국 민방위 비상급수시설 현황'!$E$11:$E$100,"지자체")-COUNTIFS('전국 민방위 비상급수시설 현황'!$B$11:$B$100,"세종",'전국 민방위 비상급수시설 현황'!$E$11:$E$100,"지자체",'전국 민방위 비상급수시설 현황'!$O$11:$O$100,"지정해제") - COUNTIFS('전국 민방위 비상급수시설 현황'!$B$11:$B$100,"세종",'전국 민방위 비상급수시설 현황'!$E$11:$E$100,"지자체",'전국 민방위 비상급수시설 현황'!$O$11:$O$100,"폐공") -> 0 | Q16: =SUMIFS('전국 민방위 비상급수시설 현황'!$J$11:$J$100,'전국 민방위 비상급수시설 현황'!$B$11:$B$100,"세종",'전국 민방위 비상급수시설 현황'!$E$11:$E$100,"지자체")-SUMIFS('전국 민방위 비상급수시설 현황'!$J$11:$J$100,'전국 민방위 비상급수시설 현황'!$B$11:$B$100,"세종",'전국 민방위 비상급수시설 현황'!$E$11:$E$100,"지자체",'전국 민방위 비상급수시설 현황'!$O$11:$O$100,"지정해제") -SUMIFS('전국 민방위 비상급수시설 현황'!$J$11:$J$100,'전국 민방위 비상급수시설 현황'!$B$11:$B$100,"세종",'전국 민방위 비상급수시설 현황'!$E$11:$E$100,"지자체",'전국 민방위 비상급수시설 현황'!$O$11:$O$100,"폐공") -> 0 | R16: =COUNTIFS('전국 민방위 비상급수시설 현황'!$B$11:$B$100,"세종",'전국 민방위 비상급수시설 현황'!$E$11:$E$100,"공공용")-COUNTIFS('전국 민방위 비상급수시설 현황'!$B$11:$B$100,"세종",'전국 민방위 비상급수시설 현황'!$E$11:$E$100,"공공용",'전국 민방위 비상급수시설 현황'!$O$11:$O$100,"지정해제") - COUNTIFS('전국 민방위 비상급수시설 현황'!$B$11:$B$100,"세종",'전국 민방위 비상급수시설 현황'!$E$11:$E$100,"공공용",'전국 민방위 비상급수시설 현황'!$O$11:$O$100,"폐공") -> 0 | S16: =SUMIFS('전국 민방위 비상급수시설 현황'!$J$11:$J$100,'전국 민방위 비상급수시설 현황'!$B$11:$B$100,"세종",'전국 민방위 비상급수시설 현황'!$E$11:$E$100,"공공용")-SUMIFS('전국 민방위 비상급수시설 현황'!$J$11:$J$100,'전국 민방위 비상급수시설 현황'!$B$11:$B$100,"세종",'전국 민방위 비상급수시설 현황'!$E$11:$E$100,"공공용",'전국 민방위 비상급수시설 현황'!$O$11:$O$100,"지정해제") -SUMIFS('전국 민방위 비상급수시설 현황'!$J$11:$J$100,'전국 민방위 비상급수시설 현황'!$B$11:$B$100,"세종",'전국 민방위 비상급수시설 현황'!$E$11:$E$100,"공공용",'전국 민방위 비상급수시설 현황'!$O$11:$O$100,"폐공") -> 0
A17: 경기 | C17: =F17+I17 -> 0 | D17: =G17+J17 -> 0 | E17: =D17/C17 -> #DIV/0! | F17: =B17*9/1000 -> 0 | G17: =SUMIFS('전국 민방위 비상급수시설 현황'!$J$11:$J$100,'전국 민방위 비상급수시설 현황'!$B$11:$B$100,"경기",'전국 민방위 비상급수시설 현황'!$F$11:$F$100,"음용수")-SUMIFS('전국 민방위 비상급수시설 현황'!$J$11:$J$100,'전국 민방위 비상급수시설 현황'!$B$11:$B$100,"경기",'전국 민방위 비상급수시설 현황'!$F$11:$F$100,"음용수",'전국 민방위 비상급수시설 현황'!$O$11:$O$100,"지정해제")-SUMIFS('전국 민방위 비상급수시설 현황'!$J$11:$J$100,'전국 민방위 비상급수시설 현황'!$B$11:$B$100,"경기",'전국 민방위 비상급수시설 현황'!$F$11:$F$100,"음용수",'전국 민방위 비상급수시설 현황'!$O$11:$O$100,"폐공") -> 0 | H17: =G17/F17 -> #DIV/0! | I17: =B17*16/1000 -> 0 | J17: =SUMIFS('전국 민방위 비상급수시설 현황'!$J$11:$J$100,'전국 민방위 비상급수시설 현황'!$B$11:$B$100,"경기",'전국 민방위 비상급수시설 현황'!$F$11:$F$100,"생활용수")-SUMIFS('전국 민방위 비상급수시설 현황'!$J$11:$J$100,'전국 민방위 비상급수시설 현황'!$B$11:$B$100,"경기",'전국 민방위 비상급수시설 현황'!$F$11:$F$100,"생활용수",'전국 민방위 비상급수시설 현황'!$O$11:$O$100,"지정해제")-SUMIFS('전국 민방위 비상급수시설 현황'!$J$11:$J$100,'전국 민방위 비상급수시설 현황'!$B$11:$B$100,"경기",'전국 민방위 비상급수시설 현황'!$F$11:$F$100,"생활용수",'전국 민방위 비상급수시설 현황'!$O$11:$O$100,"폐공") -> 0 | K17: =J17/I17 -> #DIV/0! | L17: =N17+P17+R17 -> 0 | M17: =O17+Q17+S17 -> 0 | N17: =COUNTIFS('전국 민방위 비상급수시설 현황'!$B$11:$B$100,"경기",'전국 민방위 비상급수시설 현황'!$E$11:$E$100,"정부지원")-COUNTIFS('전국 민방위 비상급수시설 현황'!$B$11:$B$100,"경기",'전국 민방위 비상급수시설 현황'!$E$11:$E$100,"정부지원",'전국 민방위 비상급수시설 현황'!$O$11:$O$100,"지정해제") - COUNTIFS('전국 민방위 비상급수시설 현황'!$B$11:$B$100,"경기",'전국 민방위 비상급수시설 현황'!$E$11:$E$100,"정부지원",'전국 민방위 비상급수시설 현황'!$O$11:$O$100,"폐공") -> 0 | O17: =SUMIFS('전국 민방위 비상급수시설 현황'!$J$11:$J$100,'전국 민방위 비상급수시설 현황'!$B$11:$B$100,"경기",'전국 민방위 비상급수시설 현황'!$E$11:$E$100,"정부지원")-SUMIFS('전국 민방위 비상급수시설 현황'!$J$11:$J$100,'전국 민방위 비상급수시설 현황'!$B$11:$B$100,"경기",'전국 민방위 비상급수시설 현황'!$E$11:$E$100,"정부지원",'전국 민방위 비상급수시설 현황'!$O$11:$O$100,"지정해제") -SUMIFS('전국 민방위 비상급수시설 현황'!$J$11:$J$100,'전국 민방위 비상급수시설 현황'!$B$11:$B$100,"경기",'전국 민방위 비상급수시설 현황'!$E$11:$E$100,"정부지원",'전국 민방위 비상급수시설 현황'!$O$11:$O$100,"폐공") -> 0 | P17: =COUNTIFS('전국 민방위 비상급수시설 현황'!$B$11:$B$100,"경기",'전국 민방위 비상급수시설 현황'!$E$11:$E$100,"지자체")-COUNTIFS('전국 민방위 비상급수시설 현황'!$B$11:$B$100,"경기",'전국 민방위 비상급수시설 현황'!$E$11:$E$100,"지자체",'전국 민방위 비상급수시설 현황'!$O$11:$O$100,"지정해제") - COUNTIFS('전국 민방위 비상급수시설 현황'!$B$11:$B$100,"경기",'전국 민방위 비상급수시설 현황'!$E$11:$E$100,"지자체",'전국 민방위 비상급수시설 현황'!$O$11:$O$100,"폐공") -> 0 | Q17: =SUMIFS('전국 민방위 비상급수시설 현황'!$J$11:$J$100,'전국 민방위 비상급수시설 현황'!$B$11:$B$100,"경기",'전국 민방위 비상급수시설 현황'!$E$11:$E$100,"지자체")-SUMIFS('전국 민방위 비상급수시설 현황'!$J$11:$J$100,'전국 민방위 비상급수시설 현황'!$B$11:$B$100,"경기",'전국 민방위 비상급수시설 현황'!$E$11:$E$100,"지자체",'전국 민방위 비상급수시설 현황'!$O$11:$O$100,"지정해제") -SUMIFS('전국 민방위 비상급수시설 현황'!$J$11:$J$100,'전국 민방위 비상급수시설 현황'!$B$11:$B$100,"경기",'전국 민방위 비상급수시설 현황'!$E$11:$E$100,"지자체",'전국 민방위 비상급수시설 현황'!$O$11:$O$100,"폐공") -> 0 | R17: =COUNTIFS('전국 민방위 비상급수시설 현황'!$B$11:$B$100,"경기",'전국 민방위 비상급수시설 현황'!$E$11:$E$100,"공공용")-COUNTIFS('전국 민방위 비상급수시설 현황'!$B$11:$B$100,"경기",'전국 민방위 비상급수시설 현황'!$E$11:$E$100,"공공용",'전국 민방위 비상급수시설 현황'!$O$11:$O$100,"지정해제") - COUNTIFS('전국 민방위 비상급수시설 현황'!$B$11:$B$100,"경기",'전국 민방위 비상급수시설 현황'!$E$11:$E$100,"공공용",'전국 민방위 비상급수시설 현황'!$O$11:$O$100,"폐공") -> 0 | S17: =SUMIFS('전국 민방위 비상급수시설 현황'!$J$11:$J$100,'전국 민방위 비상급수시설 현황'!$B$11:$B$100,"경기",'전국 민방위 비상급수시설 현황'!$E$11:$E$100,"공공용")-SUMIFS('전국 민방위 비상급수시설 현황'!$J$11:$J$100,'전국 민방위 비상급수시설 현황'!$B$11:$B$100,"경기",'전국 민방위 비상급수시설 현황'!$E$11:$E$100,"공공용",'전국 민방위 비상급수시설 현황'!$O$11:$O$100,"지정해제") -SUMIFS('전국 민방위 비상급수시설 현황'!$J$11:$J$100,'전국 민방위 비상급수시설 현황'!$B$11:$B$100,"경기",'전국 민방위 비상급수시설 현황'!$E$11:$E$100,"공공용",'전국 민방위 비상급수시설 현황'!$O$11:$O$100,"폐공") -> 0
A18: 강원 | C18: =F18+I18 -> 0 | D18: =G18+J18 -> 0 | E18: =D18/C18 -> #DIV/0! | F18: =B18*9/1000 -> 0 | G18: =SUMIFS('전국 민방위 비상급수시설 현황'!$J$11:$J$100,'전국 민방위 비상급수시설 현황'!$B$11:$B$100,"강원",'전국 민방위 비상급수시설 현황'!$F$11:$F$100,"음용수")-SUMIFS('전국 민방위 비상급수시설 현황'!$J$11:$J$100,'전국 민방위 비상급수시설 현황'!$B$11:$B$100,"강원",'전국 민방위 비상급수시설 현황'!$F$11:$F$100,"음용수",'전국 민방위 비상급수시설 현황'!$O$11:$O$100,"지정해제")-SUMIFS('전국 민방위 비상급수시설 현황'!$J$11:$J$100,'전국 민방위 비상급수시설 현황'!$B$11:$B$100,"강원",'전국 민방위 비상급수시설 현황'!$F$11:$F$100,"음용수",'전국 민방위 비상급수시설 현황'!$O$11:$O$100,"폐공") -> 0 | H18: =G18/F18 -> #DIV/0! | I18: =B18*16/1000 -> 0 | J18: =SUMIFS('전국 민방위 비상급수시설 현황'!$J$11:$J$100,'전국 민방위 비상급수시설 현황'!$B$11:$B$100,"강원",'전국 민방위 비상급수시설 현황'!$F$11:$F$100,"생활용수")-SUMIFS('전국 민방위 비상급수시설 현황'!$J$11:$J$100,'전국 민방위 비상급수시설 현황'!$B$11:$B$100,"강원",'전국 민방위 비상급수시설 현황'!$F$11:$F$100,"생활용수",'전국 민방위 비상급수시설 현황'!$O$11:$O$100,"지정해제")-SUMIFS('전국 민방위 비상급수시설 현황'!$J$11:$J$100,'전국 민방위 비상급수시설 현황'!$B$11:$B$100,"강원",'전국 민방위 비상급수시설 현황'!$F$11:$F$100,"생활용수",'전국 민방위 비상급수시설 현황'!$O$11:$O$100,"폐공") -> 0 | K18: =J18/I18 -> #DIV/0! | L18: =N18+P18+R18 -> 0 | M18: =O18+Q18+S18 -> 0 | N18: =COUNTIFS('전국 민방위 비상급수시설 현황'!$B$11:$B$100,"강원",'전국 민방위 비상급수시설 현황'!$E$11:$E$100,"정부지원")-COUNTIFS('전국 민방위 비상급수시설 현황'!$B$11:$B$100,"강원",'전국 민방위 비상급수시설 현황'!$E$11:$E$100,"정부지원",'전국 민방위 비상급수시설 현황'!$O$11:$O$100,"지정해제") - COUNTIFS('전국 민방위 비상급수시설 현황'!$B$11:$B$100,"강원",'전국 민방위 비상급수시설 현황'!$E$11:$E$100,"정부지원",'전국 민방위 비상급수시설 현황'!$O$11:$O$100,"폐공") -> 0 | O18: =SUMIFS('전국 민방위 비상급수시설 현황'!$J$11:$J$100,'전국 민방위 비상급수시설 현황'!$B$11:$B$100,"강원",'전국 민방위 비상급수시설 현황'!$E$11:$E$100,"정부지원")-SUMIFS('전국 민방위 비상급수시설 현황'!$J$11:$J$100,'전국 민방위 비상급수시설 현황'!$B$11:$B$100,"강원",'전국 민방위 비상급수시설 현황'!$E$11:$E$100,"정부지원",'전국 민방위 비상급수시설 현황'!$O$11:$O$100,"지정해제") -SUMIFS('전국 민방위 비상급수시설 현황'!$J$11:$J$100,'전국 민방위 비상급수시설 현황'!$B$11:$B$100,"강원",'전국 민방위 비상급수시설 현황'!$E$11:$E$100,"정부지원",'전국 민방위 비상급수시설 현황'!$O$11:$O$100,"폐공") -> 0 | P18: =COUNTIFS('전국 민방위 비상급수시설 현황'!$B$11:$B$100,"강원",'전국 민방위 비상급수시설 현황'!$E$11:$E$100,"지자체")-COUNTIFS('전국 민방위 비상급수시설 현황'!$B$11:$B$100,"강원",'전국 민방위 비상급수시설 현황'!$E$11:$E$100,"지자체",'전국 민방위 비상급수시설 현황'!$O$11:$O$100,"지정해제") - COUNTIFS('전국 민방위 비상급수시설 현황'!$B$11:$B$100,"강원",'전국 민방위 비상급수시설 현황'!$E$11:$E$100,"지자체",'전국 민방위 비상급수시설 현황'!$O$11:$O$100,"폐공") -> 0 | Q18: =SUMIFS('전국 민방위 비상급수시설 현황'!$J$11:$J$100,'전국 민방위 비상급수시설 현황'!$B$11:$B$100,"강원",'전국 민방위 비상급수시설 현황'!$E$11:$E$100,"지자체")-SUMIFS('전국 민방위 비상급수시설 현황'!$J$11:$J$100,'전국 민방위 비상급수시설 현황'!$B$11:$B$100,"강원",'전국 민방위 비상급수시설 현황'!$E$11:$E$100,"지자체",'전국 민방위 비상급수시설 현황'!$O$11:$O$100,"지정해제") -SUMIFS('전국 민방위 비상급수시설 현황'!$J$11:$J$100,'전국 민방위 비상급수시설 현황'!$B$11:$B$100,"강원",'전국 민방위 비상급수시설 현황'!$E$11:$E$100,"지자체",'전국 민방위 비상급수시설 현황'!$O$11:$O$100,"폐공") -> 0 | R18: =COUNTIFS('전국 민방위 비상급수시설 현황'!$B$11:$B$100,"강원",'전국 민방위 비상급수시설 현황'!$E$11:$E$100,"공공용")-COUNTIFS('전국 민방위 비상급수시설 현황'!$B$11:$B$100,"강원",'전국 민방위 비상급수시설 현황'!$E$11:$E$100,"공공용",'전국 민방위 비상급수시설 현황'!$O$11:$O$100,"지정해제") - COUNTIFS('전국 민방위 비상급수시설 현황'!$B$11:$B$100,"강원",'전국 민방위 비상급수시설 현황'!$E$11:$E$100,"공공용",'전국 민방위 비상급수시설 현황'!$O$11:$O$100,"폐공") -> 0 | S18: =SUMIFS('전국 민방위 비상급수시설 현황'!$J$11:$J$100,'전국 민방위 비상급수시설 현황'!$B$11:$B$100,"강원",'전국 민방위 비상급수시설 현황'!$E$11:$E$100,"공공용")-SUMIFS('전국 민방위 비상급수시설 현황'!$J$11:$J$100,'전국 민방위 비상급수시설 현황'!$B$11:$B$100,"강원",'전국 민방위 비상급수시설 현황'!$E$11:$E$100,"공공용",'전국 민방위 비상급수시설 현황'!$O$11:$O$100,"지정해제") -SUMIFS('전국 민방위 비상급수시설 현황'!$J$11:$J$100,'전국 민방위 비상급수시설 현황'!$B$11:$B$100,"강원",'전국 민방위 비상급수시설 현황'!$E$11:$E$100,"공공용",'전국 민방위 비상급수시설 현황'!$O$11:$O$100,"폐공") -> 0
A19: 충북 | C19: =F19+I19 -> 0 | D19: =G19+J19 -> 0 | E19: =D19/C19 -> #DIV/0! | F19: =B19*9/1000 -> 0 | G19: =SUMIFS('전국 민방위 비상급수시설 현황'!$J$11:$J$100,'전국 민방위 비상급수시설 현황'!$B$11:$B$100,"충북",'전국 민방위 비상급수시설 현황'!$F$11:$F$100,"음용수")-SUMIFS('전국 민방위 비상급수시설 현황'!$J$11:$J$100,'전국 민방위 비상급수시설 현황'!$B$11:$B$100,"충북",'전국 민방위 비상급수시설 현황'!$F$11:$F$100,"음용수",'전국 민방위 비상급수시설 현황'!$O$11:$O$100,"지정해제")-SUMIFS('전국 민방위 비상급수시설 현황'!$J$11:$J$100,'전국 민방위 비상급수시설 현황'!$B$11:$B$100,"충북",'전국 민방위 비상급수시설 현황'!$F$11:$F$100,"음용수",'전국 민방위 비상급수시설 현황'!$O$11:$O$100,"폐공") -> 0 | H19: =G19/F19 -> #DIV/0! | I19: =B19*16/1000 -> 0 | J19: =SUMIFS('전국 민방위 비상급수시설 현황'!$J$11:$J$100,'전국 민방위 비상급수시설 현황'!$B$11:$B$100,"충북",'전국 민방위 비상급수시설 현황'!$F$11:$F$100,"생활용수")-SUMIFS('전국 민방위 비상급수시설 현황'!$J$11:$J$100,'전국 민방위 비상급수시설 현황'!$B$11:$B$100,"충북",'전국 민방위 비상급수시설 현황'!$F$11:$F$100,"생활용수",'전국 민방위 비상급수시설 현황'!$O$11:$O$100,"지정해제")-SUMIFS('전국 민방위 비상급수시설 현황'!$J$11:$J$100,'전국 민방위 비상급수시설 현황'!$B$11:$B$100,"충북",'전국 민방위 비상급수시설 현황'!$F$11:$F$100,"생활용수",'전국 민방위 비상급수시설 현황'!$O$11:$O$100,"폐공") -> 0 | K19: =J19/I19 -> #DIV/0! | L19: =N19+P19+R19 -> 0 | M19: =O19+Q19+S19 -> 0 | N19: =COUNTIFS('전국 민방위 비상급수시설 현황'!$B$11:$B$100,"충북",'전국 민방위 비상급수시설 현황'!$E$11:$E$100,"정부지원")-COUNTIFS('전국 민방위 비상급수시설 현황'!$B$11:$B$100,"충북",'전국 민방위 비상급수시설 현황'!$E$11:$E$100,"정부지원",'전국 민방위 비상급수시설 현황'!$O$11:$O$100,"지정해제") - COUNTIFS('전국 민방위 비상급수시설 현황'!$B$11:$B$100,"충북",'전국 민방위 비상급수시설 현황'!$E$11:$E$100,"정부지원",'전국 민방위 비상급수시설 현황'!$O$11:$O$100,"폐공") -> 0 | O19: =SUMIFS('전국 민방위 비상급수시설 현황'!$J$11:$J$100,'전국 민방위 비상급수시설 현황'!$B$11:$B$100,"충북",'전국 민방위 비상급수시설 현황'!$E$11:$E$100,"정부지원")-SUMIFS('전국 민방위 비상급수시설 현황'!$J$11:$J$100,'전국 민방위 비상급수시설 현황'!$B$11:$B$100,"충북",'전국 민방위 비상급수시설 현황'!$E$11:$E$100,"정부지원",'전국 민방위 비상급수시설 현황'!$O$11:$O$100,"지정해제") -SUMIFS('전국 민방위 비상급수시설 현황'!$J$11:$J$100,'전국 민방위 비상급수시설 현황'!$B$11:$B$100,"충북",'전국 민방위 비상급수시설 현황'!$E$11:$E$100,"정부지원",'전국 민방위 비상급수시설 현황'!$O$11:$O$100,"폐공") -> 0 | P19: =COUNTIFS('전국 민방위 비상급수시설 현황'!$B$11:$B$100,"충북",'전국 민방위 비상급수시설 현황'!$E$11:$E$100,"지자체")-COUNTIFS('전국 민방위 비상급수시설 현황'!$B$11:$B$100,"충북",'전국 민방위 비상급수시설 현황'!$E$11:$E$100,"지자체",'전국 민방위 비상급수시설 현황'!$O$11:$O$100,"지정해제") - COUNTIFS('전국 민방위 비상급수시설 현황'!$B$11:$B$100,"충북",'전국 민방위 비상급수시설 현황'!$E$11:$E$100,"지자체",'전국 민방위 비상급수시설 현황'!$O$11:$O$100,"폐공") -> 0 | Q19: =SUMIFS('전국 민방위 비상급수시설 현황'!$J$11:$J$100,'전국 민방위 비상급수시설 현황'!$B$11:$B$100,"충북",'전국 민방위 비상급수시설 현황'!$E$11:$E$100,"지자체")-SUMIFS('전국 민방위 비상급수시설 현황'!$J$11:$J$100,'전국 민방위 비상급수시설 현황'!$B$11:$B$100,"충북",'전국 민방위 비상급수시설 현황'!$E$11:$E$100,"지자체",'전국 민방위 비상급수시설 현황'!$O$11:$O$100,"지정해제") -SUMIFS('전국 민방위 비상급수시설 현황'!$J$11:$J$100,'전국 민방위 비상급수시설 현황'!$B$11:$B$100,"충북",'전국 민방위 비상급수시설 현황'!$E$11:$E$100,"지자체",'전국 민방위 비상급수시설 현황'!$O$11:$O$100,"폐공") -> 0 | R19: =COUNTIFS('전국 민방위 비상급수시설 현황'!$B$11:$B$100,"충북",'전국 민방위 비상급수시설 현황'!$E$11:$E$100,"공공용")-COUNTIFS('전국 민방위 비상급수시설 현황'!$B$11:$B$100,"충북",'전국 민방위 비상급수시설 현황'!$E$11:$E$100,"공공용",'전국 민방위 비상급수시설 현황'!$O$11:$O$100,"지정해제") - COUNTIFS('전국 민방위 비상급수시설 현황'!$B$11:$B$100,"충북",'전국 민방위 비상급수시설 현황'!$E$11:$E$100,"공공용",'전국 민방위 비상급수시설 현황'!$O$11:$O$100,"폐공") -> 0 | S19: =SUMIFS('전국 민방위 비상급수시설 현황'!$J$11:$J$100,'전국 민방위 비상급수시설 현황'!$B$11:$B$100,"충북",'전국 민방위 비상급수시설 현황'!$E$11:$E$100,"공공용")-SUMIFS('전국 민방위 비상급수시설 현황'!$J$11:$J$100,'전국 민방위 비상급수시설 현황'!$B$11:$B$100,"충북",'전국 민방위 비상급수시설 현황'!$E$11:$E$100,"공공용",'전국 민방위 비상급수시설 현황'!$O$11:$O$100,"지정해제") -SUMIFS('전국 민방위 비상급수시설 현황'!$J$11:$J$100,'전국 민방위 비상급수시설 현황'!$B$11:$B$100,"충북",'전국 민방위 비상급수시설 현황'!$E$11:$E$100,"공공용",'전국 민방위 비상급수시설 현황'!$O$11:$O$100,"폐공") -> 0
A20: 충남 | C20: =F20+I20 -> 0 | D20: =G20+J20 -> 0 | E20: =D20/C20 -> #DIV/0! | F20: =B20*9/1000 -> 0 | G20: =SUMIFS('전국 민방위 비상급수시설 현황'!$J$11:$J$100,'전국 민방위 비상급수시설 현황'!$B$11:$B$100,"충남",'전국 민방위 비상급수시설 현황'!$F$11:$F$100,"음용수")-SUMIFS('전국 민방위 비상급수시설 현황'!$J$11:$J$100,'전국 민방위 비상급수시설 현황'!$B$11:$B$100,"충남",'전국 민방위 비상급수시설 현황'!$F$11:$F$100,"음용수",'전국 민방위 비상급수시설 현황'!$O$11:$O$100,"지정해제")-SUMIFS('전국 민방위 비상급수시설 현황'!$J$11:$J$100,'전국 민방위 비상급수시설 현황'!$B$11:$B$100,"충남",'전국 민방위 비상급수시설 현황'!$F$11:$F$100,"음용수",'전국 민방위 비상급수시설 현황'!$O$11:$O$100,"폐공") -> 0 | H20: =G20/F20 -> #DIV/0! | I20: =B20*16/1000 -> 0 | J20: =SUMIFS('전국 민방위 비상급수시설 현황'!$J$11:$J$100,'전국 민방위 비상급수시설 현황'!$B$11:$B$100,"충남",'전국 민방위 비상급수시설 현황'!$F$11:$F$100,"생활용수")-SUMIFS('전국 민방위 비상급수시설 현황'!$J$11:$J$100,'전국 민방위 비상급수시설 현황'!$B$11:$B$100,"충남",'전국 민방위 비상급수시설 현황'!$F$11:$F$100,"생활용수",'전국 민방위 비상급수시설 현황'!$O$11:$O$100,"지정해제")-SUMIFS('전국 민방위 비상급수시설 현황'!$J$11:$J$100,'전국 민방위 비상급수시설 현황'!$B$11:$B$100,"충남",'전국 민방위 비상급수시설 현황'!$F$11:$F$100,"생활용수",'전국 민방위 비상급수시설 현황'!$O$11:$O$100,"폐공") -> 0 | K20: =J20/I20 -> #DIV/0! | L20: =N20+P20+R20 -> 0 | M20: =O20+Q20+S20 -> 0 | N20: =COUNTIFS('전국 민방위 비상급수시설 현황'!$B$11:$B$100,"충남",'전국 민방위 비상급수시설 현황'!$E$11:$E$100,"정부지원")-COUNTIFS('전국 민방위 비상급수시설 현황'!$B$11:$B$100,"충남",'전국 민방위 비상급수시설 현황'!$E$11:$E$100,"정부지원",'전국 민방위 비상급수시설 현황'!$O$11:$O$100,"지정해제") - COUNTIFS('전국 민방위 비상급수시설 현황'!$B$11:$B$100,"충남",'전국 민방위 비상급수시설 현황'!$E$11:$E$100,"정부지원",'전국 민방위 비상급수시설 현황'!$O$11:$O$100,"폐공") -> 0 | O20: =SUMIFS('전국 민방위 비상급수시설 현황'!$J$11:$J$100,'전국 민방위 비상급수시설 현황'!$B$11:$B$100,"충남",'전국 민방위 비상급수시설 현황'!$E$11:$E$100,"정부지원")-SUMIFS('전국 민방위 비상급수시설 현황'!$J$11:$J$100,'전국 민방위 비상급수시설 현황'!$B$11:$B$100,"충남",'전국 민방위 비상급수시설 현황'!$E$11:$E$100,"정부지원",'전국 민방위 비상급수시설 현황'!$O$11:$O$100,"지정해제") -SUMIFS('전국 민방위 비상급수시설 현황'!$J$11:$J$100,'전국 민방위 비상급수시설 현황'!$B$11:$B$100,"충남",'전국 민방위 비상급수시설 현황'!$E$11:$E$100,"정부지원",'전국 민방위 비상급수시설 현황'!$O$11:$O$100,"폐공") -> 0 | P20: =COUNTIFS('전국 민방위 비상급수시설 현황'!$B$11:$B$100,"충남",'전국 민방위 비상급수시설 현황'!$E$11:$E$100,"지자체")-COUNTIFS('전국 민방위 비상급수시설 현황'!$B$11:$B$100,"충남",'전국 민방위 비상급수시설 현황'!$E$11:$E$100,"지자체",'전국 민방위 비상급수시설 현황'!$O$11:$O$100,"지정해제") - COUNTIFS('전국 민방위 비상급수시설 현황'!$B$11:$B$100,"충남",'전국 민방위 비상급수시설 현황'!$E$11:$E$100,"지자체",'전국 민방위 비상급수시설 현황'!$O$11:$O$100,"폐공") -> 0 | Q20: =SUMIFS('전국 민방위 비상급수시설 현황'!$J$11:$J$100,'전국 민방위 비상급수시설 현황'!$B$11:$B$100,"충남",'전국 민방위 비상급수시설 현황'!$E$11:$E$100,"지자체")-SUMIFS('전국 민방위 비상급수시설 현황'!$J$11:$J$100,'전국 민방위 비상급수시설 현황'!$B$11:$B$100,"충남",'전국 민방위 비상급수시설 현황'!$E$11:$E$100,"지자체",'전국 민방위 비상급수시설 현황'!$O$11:$O$100,"지정해제") -SUMIFS('전국 민방위 비상급수시설 현황'!$J$11:$J$100,'전국 민방위 비상급수시설 현황'!$B$11:$B$100,"충남",'전국 민방위 비상급수시설 현황'!$E$11:$E$100,"지자체",'전국 민방위 비상급수시설 현황'!$O$11:$O$100,"폐공") -> 0 | R20: =COUNTIFS('전국 민방위 비상급수시설 현황'!$B$11:$B$100,"충남",'전국 민방위 비상급수시설 현황'!$E$11:$E$100,"공공용")-COUNTIFS('전국 민방위 비상급수시설 현황'!$B$11:$B$100,"충남",'전국 민방위 비상급수시설 현황'!$E$11:$E$100,"공공용",'전국 민방위 비상급수시설 현황'!$O$11:$O$100,"지정해제") - COUNTIFS('전국 민방위 비상급수시설 현황'!$B$11:$B$100,"충남",'전국 민방위 비상급수시설 현황'!$E$11:$E$100,"공공용",'전국 민방위 비상급수시설 현황'!$O$11:$O$100,"폐공") -> 0 | S20: =SUMIFS('전국 민방위 비상급수시설 현황'!$J$11:$J$100,'전국 민방위 비상급수시설 현황'!$B$11:$B$100,"충남",'전국 민방위 비상급수시설 현황'!$E$11:$E$100,"공공용")-SUMIFS('전국 민방위 비상급수시설 현황'!$J$11:$J$100,'전국 민방위 비상급수시설 현황'!$B$11:$B$100,"충남",'전국 민방위 비상급수시설 현황'!$E$11:$E$100,"공공용",'전국 민방위 비상급수시설 현황'!$O$11:$O$100,"지정해제") -SUMIFS('전국 민방위 비상급수시설 현황'!$J$11:$J$100,'전국 민방위 비상급수시설 현황'!$B$11:$B$100,"충남",'전국 민방위 비상급수시설 현황'!$E$11:$E$100,"공공용",'전국 민방위 비상급수시설 현황'!$O$11:$O$100,"폐공") -> 0
A21: 전북 | C21: =F21+I21 -> 0 | D21: =G21+J21 -> 0 | E21: =D21/C21 -> #DIV/0! | F21: =B21*9/1000 -> 0 | G21: =SUMIFS('전국 민방위 비상급수시설 현황'!$J$11:$J$100,'전국 민방위 비상급수시설 현황'!$B$11:$B$100,"전북",'전국 민방위 비상급수시설 현황'!$F$11:$F$100,"음용수")-SUMIFS('전국 민방위 비상급수시설 현황'!$J$11:$J$100,'전국 민방위 비상급수시설 현황'!$B$11:$B$100,"전북",'전국 민방위 비상급수시설 현황'!$F$11:$F$100,"음용수",'전국 민방위 비상급수시설 현황'!$O$11:$O$100,"지정해제")-SUMIFS('전국 민방위 비상급수시설 현황'!$J$11:$J$100,'전국 민방위 비상급수시설 현황'!$B$11:$B$100,"전북",'전국 민방위 비상급수시설 현황'!$F$11:$F$100,"음용수",'전국 민방위 비상급수시설 현황'!$O$11:$O$100,"폐공") -> 0 | H21: =G21/F21 -> #DIV/0! | I21: =B21*16/1000 -> 0 | J21: =SUMIFS('전국 민방위 비상급수시설 현황'!$J$11:$J$100,'전국 민방위 비상급수시설 현황'!$B$11:$B$100,"전북",'전국 민방위 비상급수시설 현황'!$F$11:$F$100,"생활용수")-SUMIFS('전국 민방위 비상급수시설 현황'!$J$11:$J$100,'전국 민방위 비상급수시설 현황'!$B$11:$B$100,"전북",'전국 민방위 비상급수시설 현황'!$F$11:$F$100,"생활용수",'전국 민방위 비상급수시설 현황'!$O$11:$O$100,"지정해제")-SUMIFS('전국 민방위 비상급수시설 현황'!$J$11:$J$100,'전국 민방위 비상급수시설 현황'!$B$11:$B$100,"전북",'전국 민방위 비상급수시설 현황'!$F$11:$F$100,"생활용수",'전국 민방위 비상급수시설 현황'!$O$11:$O$100,"폐공") -> 0 | K21: =J21/I21 -> #DIV/0! | L21: =N21+P21+R21 -> 0 | M21: =O21+Q21+S21 -> 0 | N21: =COUNTIFS('전국 민방위 비상급수시설 현황'!$B$11:$B$100,"전북",'전국 민방위 비상급수시설 현황'!$E$11:$E$100,"정부지원")-COUNTIFS('전국 민방위 비상급수시설 현황'!$B$11:$B$100,"전북",'전국 민방위 비상급수시설 현황'!$E$11:$E$100,"정부지원",'전국 민방위 비상급수시설 현황'!$O$11:$O$100,"지정해제") - COUNTIFS('전국 민방위 비상급수시설 현황'!$B$11:$B$100,"전북",'전국 민방위 비상급수시설 현황'!$E$11:$E$100,"정부지원",'전국 민방위 비상급수시설 현황'!$O$11:$O$100,"폐공") -> 0 | O21: =SUMIFS('전국 민방위 비상급수시설 현황'!$J$11:$J$100,'전국 민방위 비상급수시설 현황'!$B$11:$B$100,"전북",'전국 민방위 비상급수시설 현황'!$E$11:$E$100,"정부지원")-SUMIFS('전국 민방위 비상급수시설 현황'!$J$11:$J$100,'전국 민방위 비상급수시설 현황'!$B$11:$B$100,"전북",'전국 민방위 비상급수시설 현황'!$E$11:$E$100,"정부지원",'전국 민방위 비상급수시설 현황'!$O$11:$O$100,"지정해제") -SUMIFS('전국 민방위 비상급수시설 현황'!$J$11:$J$100,'전국 민방위 비상급수시설 현황'!$B$11:$B$100,"전북",'전국 민방위 비상급수시설 현황'!$E$11:$E$100,"정부지원",'전국 민방위 비상급수시설 현황'!$O$11:$O$100,"폐공") -> 0 | P21: =COUNTIFS('전국 민방위 비상급수시설 현황'!$B$11:$B$100,"전북",'전국 민방위 비상급수시설 현황'!$E$11:$E$100,"지자체")-COUNTIFS('전국 민방위 비상급수시설 현황'!$B$11:$B$100,"전북",'전국 민방위 비상급수시설 현황'!$E$11:$E$100,"지자체",'전국 민방위 비상급수시설 현황'!$O$11:$O$100,"지정해제") - COUNTIFS('전국 민방위 비상급수시설 현황'!$B$11:$B$100,"전북",'전국 민방위 비상급수시설 현황'!$E$11:$E$100,"지자체",'전국 민방위 비상급수시설 현황'!$O$11:$O$100,"폐공") -> 0 | Q21: =SUMIFS('전국 민방위 비상급수시설 현황'!$J$11:$J$100,'전국 민방위 비상급수시설 현황'!$B$11:$B$100,"전북",'전국 민방위 비상급수시설 현황'!$E$11:$E$100,"지자체")-SUMIFS('전국 민방위 비상급수시설 현황'!$J$11:$J$100,'전국 민방위 비상급수시설 현황'!$B$11:$B$100,"전북",'전국 민방위 비상급수시설 현황'!$E$11:$E$100,"지자체",'전국 민방위 비상급수시설 현황'!$O$11:$O$100,"지정해제") -SUMIFS('전국 민방위 비상급수시설 현황'!$J$11:$J$100,'전국 민방위 비상급수시설 현황'!$B$11:$B$100,"전북",'전국 민방위 비상급수시설 현황'!$E$11:$E$100,"지자체",'전국 민방위 비상급수시설 현황'!$O$11:$O$100,"폐공") -> 0 | R21: =COUNTIFS('전국 민방위 비상급수시설 현황'!$B$11:$B$100,"전북",'전국 민방위 비상급수시설 현황'!$E$11:$E$100,"공공용")-COUNTIFS('전국 민방위 비상급수시설 현황'!$B$11:$B$100,"전북",'전국 민방위 비상급수시설 현황'!$E$11:$E$100,"공공용",'전국 민방위 비상급수시설 현황'!$O$11:$O$100,"지정해제") - COUNTIFS('전국 민방위 비상급수시설 현황'!$B$11:$B$100,"전북",'전국 민방위 비상급수시설 현황'!$E$11:$E$100,"공공용",'전국 민방위 비상급수시설 현황'!$O$11:$O$100,"폐공") -> 0 | S21: =SUMIFS('전국 민방위 비상급수시설 현황'!$J$11:$J$100,'전국 민방위 비상급수시설 현황'!$B$11:$B$100,"전북",'전국 민방위 비상급수시설 현황'!$E$11:$E$100,"공공용")-SUMIFS('전국 민방위 비상급수시설 현황'!$J$11:$J$100,'전국 민방위 비상급수시설 현황'!$B$11:$B$100,"전북",'전국 민방위 비상급수시설 현황'!$E$11:$E$100,"공공용",'전국 민방위 비상급수시설 현황'!$O$11:$O$100,"지정해제") -SUMIFS('전국 민방위 비상급수시설 현황'!$J$11:$J$100,'전국 민방위 비상급수시설 현황'!$B$11:$B$100,"전북",'전국 민방위 비상급수시설 현황'!$E$11:$E$100,"공공용",'전국 민방위 비상급수시설 현황'!$O$11:$O$100,"폐공") -> 0
A22: 전남 | C22: =F22+I22 -> 0 | D22: =G22+J22 -> 0 | E22: =D22/C22 -> #DIV/0! | F22: =B22*9/1000 -> 0 | G22: =SUMIFS('전국 민방위 비상급수시설 현황'!$J$11:$J$100,'전국 민방위 비상급수시설 현황'!$B$11:$B$100,"전남",'전국 민방위 비상급수시설 현황'!$F$11:$F$100,"음용수")-SUMIFS('전국 민방위 비상급수시설 현황'!$J$11:$J$100,'전국 민방위 비상급수시설 현황'!$B$11:$B$100,"전남",'전국 민방위 비상급수시설 현황'!$F$11:$F$100,"음용수",'전국 민방위 비상급수시설 현황'!$O$11:$O$100,"지정해제")-SUMIFS('전국 민방위 비상급수시설 현황'!$J$11:$J$100,'전국 민방위 비상급수시설 현황'!$B$11:$B$100,"전남",'전국 민방위 비상급수시설 현황'!$F$11:$F$100,"음용수",'전국 민방위 비상급수시설 현황'!$O$11:$O$100,"폐공") -> 0 | H22: =G22/F22 -> #DIV/0! | I22: =B22*16/1000 -> 0 | J22: =SUMIFS('전국 민방위 비상급수시설 현황'!$J$11:$J$100,'전국 민방위 비상급수시설 현황'!$B$11:$B$100,"전남",'전국 민방위 비상급수시설 현황'!$F$11:$F$100,"생활용수")-SUMIFS('전국 민방위 비상급수시설 현황'!$J$11:$J$100,'전국 민방위 비상급수시설 현황'!$B$11:$B$100,"전남",'전국 민방위 비상급수시설 현황'!$F$11:$F$100,"생활용수",'전국 민방위 비상급수시설 현황'!$O$11:$O$100,"지정해제")-SUMIFS('전국 민방위 비상급수시설 현황'!$J$11:$J$100,'전국 민방위 비상급수시설 현황'!$B$11:$B$100,"전남",'전국 민방위 비상급수시설 현황'!$F$11:$F$100,"생활용수",'전국 민방위 비상급수시설 현황'!$O$11:$O$100,"폐공") -> 0 | K22: =J22/I22 -> #DIV/0! | L22: =N22+P22+R22 -> 0 | M22: =O22+Q22+S22 -> 0 | N22: =COUNTIFS('전국 민방위 비상급수시설 현황'!$B$11:$B$100,"전남",'전국 민방위 비상급수시설 현황'!$E$11:$E$100,"정부지원")-COUNTIFS('전국 민방위 비상급수시설 현황'!$B$11:$B$100,"전남",'전국 민방위 비상급수시설 현황'!$E$11:$E$100,"정부지원",'전국 민방위 비상급수시설 현황'!$O$11:$O$100,"지정해제") - COUNTIFS('전국 민방위 비상급수시설 현황'!$B$11:$B$100,"전남",'전국 민방위 비상급수시설 현황'!$E$11:$E$100,"정부지원",'전국 민방위 비상급수시설 현황'!$O$11:$O$100,"폐공") -> 0 | O22: =SUMIFS('전국 민방위 비상급수시설 현황'!$J$11:$J$100,'전국 민방위 비상급수시설 현황'!$B$11:$B$100,"전남",'전국 민방위 비상급수시설 현황'!$E$11:$E$100,"정부지원")-SUMIFS('전국 민방위 비상급수시설 현황'!$J$11:$J$100,'전국 민방위 비상급수시설 현황'!$B$11:$B$100,"전남",'전국 민방위 비상급수시설 현황'!$E$11:$E$100,"정부지원",'전국 민방위 비상급수시설 현황'!$O$11:$O$100,"지정해제") -SUMIFS('전국 민방위 비상급수시설 현황'!$J$11:$J$100,'전국 민방위 비상급수시설 현황'!$B$11:$B$100,"전남",'전국 민방위 비상급수시설 현황'!$E$11:$E$100,"정부지원",'전국 민방위 비상급수시설 현황'!$O$11:$O$100,"폐공") -> 0 | P22: =COUNTIFS('전국 민방위 비상급수시설 현황'!$B$11:$B$100,"전남",'전국 민방위 비상급수시설 현황'!$E$11:$E$100,"지자체")-COUNTIFS('전국 민방위 비상급수시설 현황'!$B$11:$B$100,"전남",'전국 민방위 비상급수시설 현황'!$E$11:$E$100,"지자체",'전국 민방위 비상급수시설 현황'!$O$11:$O$100,"지정해제") - COUNTIFS('전국 민방위 비상급수시설 현황'!$B$11:$B$100,"전남",'전국 민방위 비상급수시설 현황'!$E$11:$E$100,"지자체",'전국 민방위 비상급수시설 현황'!$O$11:$O$100,"폐공") -> 0 | Q22: =SUMIFS('전국 민방위 비상급수시설 현황'!$J$11:$J$100,'전국 민방위 비상급수시설 현황'!$B$11:$B$100,"전남",'전국 민방위 비상급수시설 현황'!$E$11:$E$100,"지자체")-SUMIFS('전국 민방위 비상급수시설 현황'!$J$11:$J$100,'전국 민방위 비상급수시설 현황'!$B$11:$B$100,"전남",'전국 민방위 비상급수시설 현황'!$E$11:$E$100,"지자체",'전국 민방위 비상급수시설 현황'!$O$11:$O$100,"지정해제") -SUMIFS('전국 민방위 비상급수시설 현황'!$J$11:$J$100,'전국 민방위 비상급수시설 현황'!$B$11:$B$100,"전남",'전국 민방위 비상급수시설 현황'!$E$11:$E$100,"지자체",'전국 민방위 비상급수시설 현황'!$O$11:$O$100,"폐공") -> 0 | R22: =COUNTIFS('전국 민방위 비상급수시설 현황'!$B$11:$B$100,"전남",'전국 민방위 비상급수시설 현황'!$E$11:$E$100,"공공용")-COUNTIFS('전국 민방위 비상급수시설 현황'!$B$11:$B$100,"전남",'전국 민방위 비상급수시설 현황'!$E$11:$E$100,"공공용",'전국 민방위 비상급수시설 현황'!$O$11:$O$100,"지정해제") - COUNTIFS('전국 민방위 비상급수시설 현황'!$B$11:$B$100,"전남",'전국 민방위 비상급수시설 현황'!$E$11:$E$100,"공공용",'전국 민방위 비상급수시설 현황'!$O$11:$O$100,"폐공") -> 0 | S22: =SUMIFS('전국 민방위 비상급수시설 현황'!$J$11:$J$100,'전국 민방위 비상급수시설 현황'!$B$11:$B$100,"전남",'전국 민방위 비상급수시설 현황'!$E$11:$E$100,"공공용")-SUMIFS('전국 민방위 비상급수시설 현황'!$J$11:$J$100,'전국 민방위 비상급수시설 현황'!$B$11:$B$100,"전남",'전국 민방위 비상급수시설 현황'!$E$11:$E$100,"공공용",'전국 민방위 비상급수시설 현황'!$O$11:$O$100,"지정해제") -SUMIFS('전국 민방위 비상급수시설 현황'!$J$11:$J$100,'전국 민방위 비상급수시설 현황'!$B$11:$B$100,"전남",'전국 민방위 비상급수시설 현황'!$E$11:$E$100,"공공용",'전국 민방위 비상급수시설 현황'!$O$11:$O$100,"폐공") -> 0
A23: 경북 | C23: =F23+I23 -> 0 | D23: =G23+J23 -> 0 | E23: =D23/C23 -> #DIV/0! | F23: =B23*9/1000 -> 0 | G23: =SUMIFS('전국 민방위 비상급수시설 현황'!$J$11:$J$100,'전국 민방위 비상급수시설 현황'!$B$11:$B$100,"경북",'전국 민방위 비상급수시설 현황'!$F$11:$F$100,"음용수")-SUMIFS('전국 민방위 비상급수시설 현황'!$J$11:$J$100,'전국 민방위 비상급수시설 현황'!$B$11:$B$100,"경북",'전국 민방위 비상급수시설 현황'!$F$11:$F$100,"음용수",'전국 민방위 비상급수시설 현황'!$O$11:$O$100,"지정해제")-SUMIFS('전국 민방위 비상급수시설 현황'!$J$11:$J$100,'전국 민방위 비상급수시설 현황'!$B$11:$B$100,"경북",'전국 민방위 비상급수시설 현황'!$F$11:$F$100,"음용수",'전국 민방위 비상급수시설 현황'!$O$11:$O$100,"폐공") -> 0 | H23: =G23/F23 -> #DIV/0! | I23: =B23*16/1000 -> 0 | J23: =SUMIFS('전국 민방위 비상급수시설 현황'!$J$11:$J$100,'전국 민방위 비상급수시설 현황'!$B$11:$B$100,"경북",'전국 민방위 비상급수시설 현황'!$F$11:$F$100,"생활용수")-SUMIFS('전국 민방위 비상급수시설 현황'!$J$11:$J$100,'전국 민방위 비상급수시설 현황'!$B$11:$B$100,"경북",'전국 민방위 비상급수시설 현황'!$F$11:$F$100,"생활용수",'전국 민방위 비상급수시설 현황'!$O$11:$O$100,"지정해제")-SUMIFS('전국 민방위 비상급수시설 현황'!$J$11:$J$100,'전국 민방위 비상급수시설 현황'!$B$11:$B$100,"경북",'전국 민방위 비상급수시설 현황'!$F$11:$F$100,"생활용수",'전국 민방위 비상급수시설 현황'!$O$11:$O$100,"폐공") -> 0 | K23: =J23/I23 -> #DIV/0! | L23: =N23+P23+R23 -> 0 | M23: =O23+Q23+S23 -> 0 | N23: =COUNTIFS('전국 민방위 비상급수시설 현황'!$B$11:$B$100,"경북",'전국 민방위 비상급수시설 현황'!$E$11:$E$100,"정부지원")-COUNTIFS('전국 민방위 비상급수시설 현황'!$B$11:$B$100,"경북",'전국 민방위 비상급수시설 현황'!$E$11:$E$100,"정부지원",'전국 민방위 비상급수시설 현황'!$O$11:$O$100,"지정해제") - COUNTIFS('전국 민방위 비상급수시설 현황'!$B$11:$B$100,"경북",'전국 민방위 비상급수시설 현황'!$E$11:$E$100,"정부지원",'전국 민방위 비상급수시설 현황'!$O$11:$O$100,"폐공") -> 0 | O23: =SUMIFS('전국 민방위 비상급수시설 현황'!$J$11:$J$100,'전국 민방위 비상급수시설 현황'!$B$11:$B$100,"경북",'전국 민방위 비상급수시설 현황'!$E$11:$E$100,"정부지원")-SUMIFS('전국 민방위 비상급수시설 현황'!$J$11:$J$100,'전국 민방위 비상급수시설 현황'!$B$11:$B$100,"경북",'전국 민방위 비상급수시설 현황'!$E$11:$E$100,"정부지원",'전국 민방위 비상급수시설 현황'!$O$11:$O$100,"지정해제") -SUMIFS('전국 민방위 비상급수시설 현황'!$J$11:$J$100,'전국 민방위 비상급수시설 현황'!$B$11:$B$100,"경북",'전국 민방위 비상급수시설 현황'!$E$11:$E$100,"정부지원",'전국 민방위 비상급수시설 현황'!$O$11:$O$100,"폐공") -> 0 | P23: =COUNTIFS('전국 민방위 비상급수시설 현황'!$B$11:$B$100,"경북",'전국 민방위 비상급수시설 현황'!$E$11:$E$100,"지자체")-COUNTIFS('전국 민방위 비상급수시설 현황'!$B$11:$B$100,"경북",'전국 민방위 비상급수시설 현황'!$E$11:$E$100,"지자체",'전국 민방위 비상급수시설 현황'!$O$11:$O$100,"지정해제") - COUNTIFS('전국 민방위 비상급수시설 현황'!$B$11:$B$100,"경북",'전국 민방위 비상급수시설 현황'!$E$11:$E$100,"지자체",'전국 민방위 비상급수시설 현황'!$O$11:$O$100,"폐공") -> 0 | Q23: =SUMIFS('전국 민방위 비상급수시설 현황'!$J$11:$J$100,'전국 민방위 비상급수시설 현황'!$B$11:$B$100,"경북",'전국 민방위 비상급수시설 현황'!$E$11:$E$100,"지자체")-SUMIFS('전국 민방위 비상급수시설 현황'!$J$11:$J$100,'전국 민방위 비상급수시설 현황'!$B$11:$B$100,"경북",'전국 민방위 비상급수시설 현황'!$E$11:$E$100,"지자체",'전국 민방위 비상급수시설 현황'!$O$11:$O$100,"지정해제") -SUMIFS('전국 민방위 비상급수시설 현황'!$J$11:$J$100,'전국 민방위 비상급수시설 현황'!$B$11:$B$100,"경북",'전국 민방위 비상급수시설 현황'!$E$11:$E$100,"지자체",'전국 민방위 비상급수시설 현황'!$O$11:$O$100,"폐공") -> 0 | R23: =COUNTIFS('전국 민방위 비상급수시설 현황'!$B$11:$B$100,"경북",'전국 민방위 비상급수시설 현황'!$E$11:$E$100,"공공용")-COUNTIFS('전국 민방위 비상급수시설 현황'!$B$11:$B$100,"경북",'전국 민방위 비상급수시설 현황'!$E$11:$E$100,"공공용",'전국 민방위 비상급수시설 현황'!$O$11:$O$100,"지정해제") - COUNTIFS('전국 민방위 비상급수시설 현황'!$B$11:$B$100,"경북",'전국 민방위 비상급수시설 현황'!$E$11:$E$100,"공공용",'전국 민방위 비상급수시설 현황'!$O$11:$O$100,"폐공") -> 0 | S23: =SUMIFS('전국 민방위 비상급수시설 현황'!$J$11:$J$100,'전국 민방위 비상급수시설 현황'!$B$11:$B$100,"경북",'전국 민방위 비상급수시설 현황'!$E$11:$E$100,"공공용")-SUMIFS('전국 민방위 비상급수시설 현황'!$J$11:$J$100,'전국 민방위 비상급수시설 현황'!$B$11:$B$100,"경북",'전국 민방위 비상급수시설 현황'!$E$11:$E$100,"공공용",'전국 민방위 비상급수시설 현황'!$O$11:$O$100,"지정해제") -SUMIFS('전국 민방위 비상급수시설 현황'!$J$11:$J$100,'전국 민방위 비상급수시설 현황'!$B$11:$B$100,"경북",'전국 민방위 비상급수시설 현황'!$E$11:$E$100,"공공용",'전국 민방위 비상급수시설 현황'!$O$11:$O$100,"폐공") -> 0
A24: 경남 | C24: =F24+I24 -> 0 | D24: =G24+J24 -> 0 | E24: =D24/C24 -> #DIV/0! | F24: =B24*9/1000 -> 0 | G24: =SUMIFS('전국 민방위 비상급수시설 현황'!$J$11:$J$100,'전국 민방위 비상급수시설 현황'!$B$11:$B$100,"경남",'전국 민방위 비상급수시설 현황'!$F$11:$F$100,"음용수")-SUMIFS('전국 민방위 비상급수시설 현황'!$J$11:$J$100,'전국 민방위 비상급수시설 현황'!$B$11:$B$100,"경남",'전국 민방위 비상급수시설 현황'!$F$11:$F$100,"음용수",'전국 민방위 비상급수시설 현황'!$O$11:$O$100,"지정해제")-SUMIFS('전국 민방위 비상급수시설 현황'!$J$11:$J$100,'전국 민방위 비상급수시설 현황'!$B$11:$B$100,"경남",'전국 민방위 비상급수시설 현황'!$F$11:$F$100,"음용수",'전국 민방위 비상급수시설 현황'!$O$11:$O$100,"폐공") -> 0 | H24: =G24/F24 -> #DIV/0! | I24: =B24*16/1000 -> 0 | J24: =SUMIFS('전국 민방위 비상급수시설 현황'!$J$11:$J$100,'전국 민방위 비상급수시설 현황'!$B$11:$B$100,"경남",'전국 민방위 비상급수시설 현황'!$F$11:$F$100,"생활용수")-SUMIFS('전국 민방위 비상급수시설 현황'!$J$11:$J$100,'전국 민방위 비상급수시설 현황'!$B$11:$B$100,"경남",'전국 민방위 비상급수시설 현황'!$F$11:$F$100,"생활용수",'전국 민방위 비상급수시설 현황'!$O$11:$O$100,"지정해제")-SUMIFS('전국 민방위 비상급수시설 현황'!$J$11:$J$100,'전국 민방위 비상급수시설 현황'!$B$11:$B$100,"경남",'전국 민방위 비상급수시설 현황'!$F$11:$F$100,"생활용수",'전국 민방위 비상급수시설 현황'!$O$11:$O$100,"폐공") -> 0 | K24: =J24/I24 -> #DIV/0! | L24: =N24+P24+R24 -> 0 | M24: =O24+Q24+S24 -> 0 | N24: =COUNTIFS('전국 민방위 비상급수시설 현황'!$B$11:$B$100,"경남",'전국 민방위 비상급수시설 현황'!$E$11:$E$100,"정부지원")-COUNTIFS('전국 민방위 비상급수시설 현황'!$B$11:$B$100,"경남",'전국 민방위 비상급수시설 현황'!$E$11:$E$100,"정부지원",'전국 민방위 비상급수시설 현황'!$O$11:$O$100,"지정해제") - COUNTIFS('전국 민방위 비상급수시설 현황'!$B$11:$B$100,"경남",'전국 민방위 비상급수시설 현황'!$E$11:$E$100,"정부지원",'전국 민방위 비상급수시설 현황'!$O$11:$O$100,"폐공") -> 0 | O24: =SUMIFS('전국 민방위 비상급수시설 현황'!$J$11:$J$100,'전국 민방위 비상급수시설 현황'!$B$11:$B$100,"경남",'전국 민방위 비상급수시설 현황'!$E$11:$E$100,"정부지원")-SUMIFS('전국 민방위 비상급수시설 현황'!$J$11:$J$100,'전국 민방위 비상급수시설 현황'!$B$11:$B$100,"경남",'전국 민방위 비상급수시설 현황'!$E$11:$E$100,"정부지원",'전국 민방위 비상급수시설 현황'!$O$11:$O$100,"지정해제") -SUMIFS('전국 민방위 비상급수시설 현황'!$J$11:$J$100,'전국 민방위 비상급수시설 현황'!$B$11:$B$100,"경남",'전국 민방위 비상급수시설 현황'!$E$11:$E$100,"정부지원",'전국 민방위 비상급수시설 현황'!$O$11:$O$100,"폐공") -> 0 | P24: =COUNTIFS('전국 민방위 비상급수시설 현황'!$B$11:$B$100,"경남",'전국 민방위 비상급수시설 현황'!$E$11:$E$100,"지자체")-COUNTIFS('전국 민방위 비상급수시설 현황'!$B$11:$B$100,"경남",'전국 민방위 비상급수시설 현황'!$E$11:$E$100,"지자체",'전국 민방위 비상급수시설 현황'!$O$11:$O$100,"지정해제") - COUNTIFS('전국 민방위 비상급수시설 현황'!$B$11:$B$100,"경남",'전국 민방위 비상급수시설 현황'!$E$11:$E$100,"지자체",'전국 민방위 비상급수시설 현황'!$O$11:$O$100,"폐공") -> 0 | Q24: =SUMIFS('전국 민방위 비상급수시설 현황'!$J$11:$J$100,'전국 민방위 비상급수시설 현황'!$B$11:$B$100,"경남",'전국 민방위 비상급수시설 현황'!$E$11:$E$100,"지자체")-SUMIFS('전국 민방위 비상급수시설 현황'!$J$11:$J$100,'전국 민방위 비상급수시설 현황'!$B$11:$B$100,"경남",'전국 민방위 비상급수시설 현황'!$E$11:$E$100,"지자체",'전국 민방위 비상급수시설 현황'!$O$11:$O$100,"지정해제") -SUMIFS('전국 민방위 비상급수시설 현황'!$J$11:$J$100,'전국 민방위 비상급수시설 현황'!$B$11:$B$100,"경남",'전국 민방위 비상급수시설 현황'!$E$11:$E$100,"지자체",'전국 민방위 비상급수시설 현황'!$O$11:$O$100,"폐공") -> 0 | R24: =COUNTIFS('전국 민방위 비상급수시설 현황'!$B$11:$B$100,"경남",'전국 민방위 비상급수시설 현황'!$E$11:$E$100,"공공용")-COUNTIFS('전국 민방위 비상급수시설 현황'!$B$11:$B$100,"경남",'전국 민방위 비상급수시설 현황'!$E$11:$E$100,"공공용",'전국 민방위 비상급수시설 현황'!$O$11:$O$100,"지정해제") - COUNTIFS('전국 민방위 비상급수시설 현황'!$B$11:$B$100,"경남",'전국 민방위 비상급수시설 현황'!$E$11:$E$100,"공공용",'전국 민방위 비상급수시설 현황'!$O$11:$O$100,"폐공") -> 0 | S24: =SUMIFS('전국 민방위 비상급수시설 현황'!$J$11:$J$100,'전국 민방위 비상급수시설 현황'!$B$11:$B$100,"경남",'전국 민방위 비상급수시설 현황'!$E$11:$E$100,"공공용")-SUMIFS('전국 민방위 비상급수시설 현황'!$J$11:$J$100,'전국 민방위 비상급수시설 현황'!$B$11:$B$100,"경남",'전국 민방위 비상급수시설 현황'!$E$11:$E$100,"공공용",'전국 민방위 비상급수시설 현황'!$O$11:$O$100,"지정해제") -SUMIFS('전국 민방위 비상급수시설 현황'!$J$11:$J$100,'전국 민방위 비상급수시설 현황'!$B$11:$B$100,"경남",'전국 민방위 비상급수시설 현황'!$E$11:$E$100,"공공용",'전국 민방위 비상급수시설 현황'!$O$11:$O$100,"폐공") -> 0
A25: 제주 | C25: =F25+I25 -> 0 | D25: =G25+J25 -> 0 | E25: =D25/C25 -> #DIV/0! | F25: =B25*9/1000 -> 0 | G25: =SUMIFS('전국 민방위 비상급수시설 현황'!$J$11:$J$100,'전국 민방위 비상급수시설 현황'!$B$11:$B$100,"제주",'전국 민방위 비상급수시설 현황'!$F$11:$F$100,"음용수")-SUMIFS('전국 민방위 비상급수시설 현황'!$J$11:$J$100,'전국 민방위 비상급수시설 현황'!$B$11:$B$100,"제주",'전국 민방위 비상급수시설 현황'!$F$11:$F$100,"음용수",'전국 민방위 비상급수시설 현황'!$O$11:$O$100,"지정해제")-SUMIFS('전국 민방위 비상급수시설 현황'!$J$11:$J$100,'전국 민방위 비상급수시설 현황'!$B$11:$B$100,"제주",'전국 민방위 비상급수시설 현황'!$F$11:$F$100,"음용수",'전국 민방위 비상급수시설 현황'!$O$11:$O$100,"폐공") -> 0 | H25: =G25/F25 -> #DIV/0! | I25: =B25*16/1000 -> 0 | J25: =SUMIFS('전국 민방위 비상급수시설 현황'!$J$11:$J$100,'전국 민방위 비상급수시설 현황'!$B$11:$B$100,"제주",'전국 민방위 비상급수시설 현황'!$F$11:$F$100,"생활용수")-SUMIFS('전국 민방위 비상급수시설 현황'!$J$11:$J$100,'전국 민방위 비상급수시설 현황'!$B$11:$B$100,"제주",'전국 민방위 비상급수시설 현황'!$F$11:$F$100,"생활용수",'전국 민방위 비상급수시설 현황'!$O$11:$O$100,"지정해제")-SUMIFS('전국 민방위 비상급수시설 현황'!$J$11:$J$100,'전국 민방위 비상급수시설 현황'!$B$11:$B$100,"제주",'전국 민방위 비상급수시설 현황'!$F$11:$F$100,"생활용수",'전국 민방위 비상급수시설 현황'!$O$11:$O$100,"폐공") -> 0 | K25: =J25/I25 -> #DIV/0! | L25: =N25+P25+R25 -> 0 | M25: =O25+Q25+S25 -> 0 | N25: =COUNTIFS('전국 민방위 비상급수시설 현황'!$B$11:$B$100,"제주",'전국 민방위 비상급수시설 현황'!$E$11:$E$100,"정부지원")-COUNTIFS('전국 민방위 비상급수시설 현황'!$B$11:$B$100,"제주",'전국 민방위 비상급수시설 현황'!$E$11:$E$100,"정부지원",'전국 민방위 비상급수시설 현황'!$O$11:$O$100,"지정해제") - COUNTIFS('전국 민방위 비상급수시설 현황'!$B$11:$B$100,"제주",'전국 민방위 비상급수시설 현황'!$E$11:$E$100,"정부지원",'전국 민방위 비상급수시설 현황'!$O$11:$O$100,"폐공") -> 0 | O25: =SUMIFS('전국 민방위 비상급수시설 현황'!$J$11:$J$100,'전국 민방위 비상급수시설 현황'!$B$11:$B$100,"제주",'전국 민방위 비상급수시설 현황'!$E$11:$E$100,"정부지원")-SUMIFS('전국 민방위 비상급수시설 현황'!$J$11:$J$100,'전국 민방위 비상급수시설 현황'!$B$11:$B$100,"제주",'전국 민방위 비상급수시설 현황'!$E$11:$E$100,"정부지원",'전국 민방위 비상급수시설 현황'!$O$11:$O$100,"지정해제") -SUMIFS('전국 민방위 비상급수시설 현황'!$J$11:$J$100,'전국 민방위 비상급수시설 현황'!$B$11:$B$100,"제주",'전국 민방위 비상급수시설 현황'!$E$11:$E$100,"정부지원",'전국 민방위 비상급수시설 현황'!$O$11:$O$100,"폐공") -> 0 | P25: =COUNTIFS('전국 민방위 비상급수시설 현황'!$B$11:$B$100,"제주",'전국 민방위 비상급수시설 현황'!$E$11:$E$100,"지자체")-COUNTIFS('전국 민방위 비상급수시설 현황'!$B$11:$B$100,"제주",'전국 민방위 비상급수시설 현황'!$E$11:$E$100,"지자체",'전국 민방위 비상급수시설 현황'!$O$11:$O$100,"지정해제") - COUNTIFS('전국 민방위 비상급수시설 현황'!$B$11:$B$100,"제주",'전국 민방위 비상급수시설 현황'!$E$11:$E$100,"지자체",'전국 민방위 비상급수시설 현황'!$O$11:$O$100,"폐공") -> 0 | Q25: =SUMIFS('전국 민방위 비상급수시설 현황'!$J$11:$J$100,'전국 민방위 비상급수시설 현황'!$B$11:$B$100,"제주",'전국 민방위 비상급수시설 현황'!$E$11:$E$100,"지자체")-SUMIFS('전국 민방위 비상급수시설 현황'!$J$11:$J$100,'전국 민방위 비상급수시설 현황'!$B$11:$B$100,"제주",'전국 민방위 비상급수시설 현황'!$E$11:$E$100,"지자체",'전국 민방위 비상급수시설 현황'!$O$11:$O$100,"지정해제") -SUMIFS('전국 민방위 비상급수시설 현황'!$J$11:$J$100,'전국 민방위 비상급수시설 현황'!$B$11:$B$100,"제주",'전국 민방위 비상급수시설 현황'!$E$11:$E$100,"지자체",'전국 민방위 비상급수시설 현황'!$O$11:$O$100,"폐공") -> 0 | R25: =COUNTIFS('전국 민방위 비상급수시설 현황'!$B$11:$B$100,"제주",'전국 민방위 비상급수시설 현황'!$E$11:$E$100,"공공용")-COUNTIFS('전국 민방위 비상급수시설 현황'!$B$11:$B$100,"제주",'전국 민방위 비상급수시설 현황'!$E$11:$E$100,"공공용",'전국 민방위 비상급수시설 현황'!$O$11:$O$100,"지정해제") - COUNTIFS('전국 민방위 비상급수시설 현황'!$B$11:$B$100,"제주",'전국 민방위 비상급수시설 현황'!$E$11:$E$100,"공공용",'전국 민방위 비상급수시설 현황'!$O$11:$O$100,"폐공") -> 0 | S25: =SUMIFS('전국 민방위 비상급수시설 현황'!$J$11:$J$100,'전국 민방위 비상급수시설 현황'!$B$11:$B$100,"제주",'전국 민방위 비상급수시설 현황'!$E$11:$E$100,"공공용")-SUMIFS('전국 민방위 비상급수시설 현황'!$J$11:$J$100,'전국 민방위 비상급수시설 현황'!$B$11:$B$100,"제주",'전국 민방위 비상급수시설 현황'!$E$11:$E$100,"공공용",'전국 민방위 비상급수시설 현황'!$O$11:$O$100,"지정해제") -SUMIFS('전국 민방위 비상급수시설 현황'!$J$11:$J$100,'전국 민방위 비상급수시설 현황'!$B$11:$B$100,"제주",'전국 민방위 비상급수시설 현황'!$E$11:$E$100,"공공용",'전국 민방위 비상급수시설 현황'!$O$11:$O$100,"폐공") -> 0

Sheet 전국 민방위 비상급수시설 현황
B4: 정부지원 | C4: =COUNTIF(E11:E100,"정부지원") -> 6 | E4: 음용수 | F4: =COUNTIF(F11:F100,"음용수") -> 27 | H4: 신규지정 및 신축(개소) | I4: =K4+K6 -> 0 | J4: 17년 정부지원 신규구축 | K4: =COUNTIF($O$11:$O$100,"신규구축") -> 0 | O4: 신규구축
B5: 지자체 | C5: =COUNTIF(E11:E100,"지자체") -> 1 | E5: 생활용수 | F5: =COUNTIF(F11:F100,"생활용수") -> 61 | H5: 지정해제(개소) | I5: =K5+K7 -> 0 | J5: 17년 정부지원 폐공현황 | K5: =COUNTIF($O$11:$O$100,"폐공") -> 0 | O5: 신규지정
B6: 공공용 | C6: =COUNTIF(E11:E100,"공공용") -> 83 | J6: 17년 신규지정(지자체/공공용) | K6: =COUNTIF($O$11:$O$100,"신규지정") -> 0 | O6: 지정해제
B7: 계 | C7: =SUM(C4:C6) -> 90 | E7: 계 | F7: =SUM(F4:F6) -> 88 | J7: 17년 지정해제(지자체/공공용) | K7: =COUNTIF($O$11:$O$100,"지정해제") -> 0 | O7: 폐공
A8: *자료입력 수 및 합계 | D8: =SUBTOTAL(3,D11:D100) -> 90 | J8: =SUBTOTAL(9,J11:J100) -> 6892 | K8: =SUBTOTAL(9,K11:K100) -> 275680 | O8: =SUBTOTAL(3,O11:O100) -> 0
A9: 임시연번 | B9: 시도 | C9: 시군구 | D9: 읍면동 | E9: 시설종류 | F9: 용도 | G9: 급수시설 세부 현황 데이터 | L9: 정보이력 변경현황
G10: 민방위 비상급수시설 명 | H10: 소재지 도로명 주소 | I10: 소재지 지번주소 | J10: 급수능력(일일 생산능력/톤) | K10: 일일 사용가능인원 | L10: 시설 건축(구축)연도 | M10: 시설 지정연도(정부시설 제외) | N10: 이력변경 | O10: 비고(신규구축, 폐공, 지정해제, 신규구축)
A11: =SUBTOTAL(3,$B$11:$B11) -> 1 | B11: 인천 | C11: 서구 | D11: 공촌동 | E11: 정부지원 | F11: 음용수 | G11: 대인고등학교 | H11: 서구 서곶로 446(공촌동) | I11: 인천.서공촌동47-3 | J11: 150 | K11: =J11/0.025 -> 6000 | L11: 33900 | M11: 33969
A12: =SUBTOTAL(3,$B$11:$B12) -> 2 | B12: 인천 | C12: 서구 | D12: 석남동 | E12: 지자체 | F12: 음용수 | G12: 석남체육공원 | H12: 가정로 294번길 20(석남동) | I12: 인천.서석남1동 483번지 | J12: 51 | K12: =J12/0.025 -> 2040 | L12: 34247 | M12: 34308
A13: =SUBTOTAL(3,$B$11:$B13) -> 3 | B13: 인천 | C13: 서구 | D13: 가좌동 | E13: 정부지원 | F13: 음용수 | G13: 가좌초등학교 | H13: 장고개로 309번길5(가좌동) | I13: 인천.서.가좌2동 30-87 | J13: 150 | K13: =J13/0.025 -> 6000 | L13: 32671 | M13: 32852
A14: =SUBTOTAL(3,$B$11:$B14) -> 4 | B14: 인천 | C14: 서구 | D14: 가좌동 | E14: 정부지원 | F14: 음용수 | G14: 가재울공원 | H14: 고래울로35(가좌동) | I14: 인천.서. 가좌4동 354 | J14: 150 | K14: =J14/0.025 -> 6000 | L14: 32322 | M14: 32477
A15: =SUBTOTAL(3,$B$11:$B15) -> 5 | B15: 인천 | C15: 서구 | D15: 가좌동 | E15: 정부지원 | F15: 음용수 | G15: 가좌체육공원 | H15: 고래룰로 12(가좌동) | I15: 인천.서.가좌4동 339번지 | J15: 270 | K15: =J15/0.025 -> 10800 | L15: 33003 | M15: 33214
A16: =SUBTOTAL(3,$B$11:$B16) -> 6 | B16: 인천 | C16: 서구 | D16: 심곡동 | E16: 정부지원 | F16: 음용수 | G16: 갈마공원 | H16: 승학로272번길 13(심곡동) | I16: 인천.서.심곡동 238-5 | J16: 100 | K16: =J16/0.025 -> 4000 | L16: 35297 | M16: 35430
A17: =SUBTOTAL(3,$B$11:$B17) -> 7 | B17: 인천 | C17: 서구 | D17: 가좌동 | E17: 정부지원 | F17: 생활용수 | G17: 가좌근린공원 | H17: 장고개로 287번길25(가좌동) | I17: 인천.서. 가좌2동 220 외3필지 | J17: 100 | K17: =J17/0.025 -> 4000 | L17: 38610 | M17: 38760
A18: =SUBTOTAL(3,$B$11:$B18) -> 8 | B18: 인천 | C18: 서구 | D18: 검암경서동 | E18: 공공용 | F18: 생황용수 | G18: ㈜ 신태진 | H18: 인천광역시 서구 도요지로 37 (경서동) | I18: 경서동 438-22 | J18: 630 | K18: =J18/0.025 -> 25200 | L18: 38655 | M18: 38655
A19: =SUBTOTAL(3,$B$11:$B19) -> 9 | B19: 인천 | C19: 서구 | D19: 검암경서동 | E19: 공공용 | F19: 생황용수 | G19: ㈜ 신태진 | H19: 인천광역시 서구 도요지로 37 (경서동) | I19: 경서동 438-21 | J19: 271 | K19: =J19/0.025 -> 10840 | L19: 39051 | M19: 39051
A20: =SUBTOTAL(3,$B$11:$B20) -> 10 | B20: 인천 | C20: 서구 | D20: 연희동 | E20: 공공용 | F20: 음용수 | G20: 소방본부 소방교육대 | H20: 인천광역시 서구 심곡로100번길 8-13 (심곡동) | I20: 연희동 산48 | J20: 90 | K20: =J20/0.025 -> 3600 | L20: 39051 | M20: 39051
A21: =SUBTOTAL(3,$B$11:$B21) -> 11 | B21: 인천 | C21: 서구 | D21: 연희동 | E21: 공공용 | F21: 생활용수 | G21: 녹지관리사업소 | H21: 인천광역시 서구 봉수대로 755 (연희동) | I21: 연희동 산129 | J21: 100 | K21: =J21/0.025 -> 4000 | L21: 36248 | M21: 36248
A22: =SUBTOTAL(3,$B$11:$B22) -> 12 | B22: 인천 | C22: 서구 | D22: 연희동 | E22: 공공용 | F22: 생활용수 | G22: 녹지관리사업소(w-1) | H22: 인천광역시 서구 봉수대로 755 (연희동) | I22: 연희동 산143-1 | J22: 100 | K22: =J22/0.025 -> 4000 | L22: 39051 | M22: 39051
A23: =SUBTOTAL(3,$B$11:$B23) -> 13 | B23: 인천 | C23: 서구 | D23: 연희동 | E23: 공공용 | F23: 생활용수 | G23: 인천교회 | H23: 인천광역시 서구 심곡로194번길 40 (공촌동) | I23: 공촌동 106-41 | J23: 90 | K23: =J23/0.025 -> 3600 | L23: 1998--10-02 | M23: 1998--10-02
A24: =SUBTOTAL(3,$B$11:$B24) -> 14 | B24: 인천 | C24: 서구 | D24: 연희동 | E24: 공공용 | F24: 생활용수 | G24: 이용옥 | H24: 인천광역시 서구 경명대로 725-23 (공촌동) | I24: 공촌동 112 | J24: 100 | K24: =J24/0.025 -> 4000 | L24: 39051 | M24: 39051
A25: =SUBTOTAL(3,$B$11:$B25) -> 15 | B25: 인천 | C25: 서구 | D25: 연희동 | E25: 공공용 | F25: 생활용수 | G25: 김용희 | H25: 인천광역시 서구 연희동 16번지 1 호 | I25: 공촌동 16-1 | J25: 80 | K25: =J25/0.025 -> 3200 | L25: 39051 | M25: 39051
A26: =SUBTOTAL(3,$B$11:$B26) -> 16 | B26: 인천 | C26: 서구 | D26: 연희동 | E26: 공공용 | F26: 생활용수 | G26: 동호목용탕 | H26: 인천광역시 서구 경명대로 664 (공촌동) | I26: 공촌동 309 | J26: 86 | K26: =J26/0.025 -> 3440 | L26: 35795 | M26: 35795
A27: =SUBTOTAL(3,$B$11:$B27) -> 17 | B27: 인천 | C27: 서구 | D27: 연희동 | E27: 공공용 | F27: 생활용수 | G27: 대양개발 | H27: 인천광역시 서구 공촌동 산163번지 2 호 | I27: 공촌동 산163-2 | J27: 86 | K27: =J27/0.025 -> 3440 | L27: 34512 | M27: 34512
A28: =SUBTOTAL(3,$B$11:$B28) -> 18 | B28: 인천 | C28: 서구 | D28: 연희동 | E28: 공공용 | F28: 생활용수 | G28: 김미화 | H28: 인천광역시 서구 심곡로124번길 14 (심곡동) | I28: 심곡동 13-2 | J28: 80 | K28: =J28/0.025 -> 3200 | L28: 39051 | M28: 39051
A29: =SUBTOTAL(3,$B$11:$B29) -> 19 | B29: 인천 | C29: 서구 | D29: 연희동 | E29: 공공용 | F29: 생활용수 | G29: 보령주유소 | H29: 인천광역시 서구 심곡로 209 (연희동) | I29: 연희동 695-2 | J29: 86 | K29: =J29/0.025 -> 3440 | L29: 34500 | M29: 34500
A30: =SUBTOTAL(3,$B$11:$B30) -> 20 | B30: 인천 | C30: 서구 | D30: 연희동 | E30: 공공용 | F30: 생활용수 | G30: 녹주불가마사우나 | H30: 인천광역시 서구 심곡로 49번길 지하 7(심곡동) | I30: 심곡동 252-6 | J30: 60 | K30: =J30/0.025 -> 2400 | L30: 35016 | M30: 35016
A31: =SUBTOTAL(3,$B$11:$B31) -> 21 | B31: 인천 | C31: 서구 | D31: 가정1동 | E31: 공공용 | F31: 음용수 | G31: 동아상가 | H31: 인천광역시 서구 가정로 378 (가정동) | I31: 가정동 505 | J31: 150 | K31: =J31/0.025 -> 6000 | L31: 34337 | M31: 34337
A32: =SUBTOTAL(3,$B$11:$B32) -> 22 | B32: 인천 | C32: 서구 | D32: 가정3동 | E32: 공공용 | F32: 음용수 | G32: 진흥아파트 | H32: 인천광역시 서구 서달로179번길 6-10 (가정동) | I32: 가정동 564 | J32: 96 | K32: =J32/0.025 -> 3840 | L32: 34638 | M32: 34638
A33: =SUBTOTAL(3,$B$11:$B33) -> 23 | B33: 인천 | C33: 서구 | D33: 가정3동 | E33: 공공용 | F33: 음용수 | G33: 대진아파트(1단지) | H33: 인천광역시 서구 서달로193번길 4 (가정동) | I33: 가정동 563-1 | J33: 72 | K33: =J33/0.025 -> 2880 | L33: 39051 | M33: 39051
A34: =SUBTOTAL(3,$B$11:$B34) -> 24 | B34: 인천 | C34: 서구 | D34: 신현원창동 | E34: 공공용 | F34: 음용수 | G34: 해성카센터 | H34: 인천광역시 서구 원창로 180 (신현동) | I34: 신현동278 | J34: 30 | K34: =J34/0.025 -> 1200 | L34: 32510 | M34: 32510
A35: =SUBTOTAL(3,$B$11:$B35) -> 25 | B35: 인천 | C35: 서구 | D35: 신현원창동 | E35: 공공용 | F35: 음용수 | G35: 이환수 | H35: 인천광역시 서구 가정로335번길 32-3 (신현동) | I35: 신현동 289-12 | J35: 30 | K35: =J35/0.025 -> 1200 | L35: 32510 | M35: 32510
... A98: =SUBTOTAL(3,$B$11:$B98) -> 88 | B98: 인천 | C98: 서구 | D98: 검단5동 | E98: 공공용 | F98: 음용수 | G98: 검단식품 | H98: 인천광역시 서구 드림로209번길 43 (왕길동) | I98: 왕길동 3-1 | J98: 70 | K98: =J98/0.025 -> 2800 | L98: 35376 | M98: 35376
A99: =SUBTOTAL(3,$B$11:$B99) -> 89 | B99: 인천 | C99: 서구 | D99: 검단5동 | E99: 공공용 | F99: 음용수 | G99: 내리기도원 | H99: 인천광역시 서구 봉수대로 1369-9 (왕길동) | I99: 왕길동 산130-1 | J99: 86 | K99: =J99/0.025 -> 3440 | L99: 1999--06-29 | M99: 1999--06-29
A100: =SUBTOTAL(3,$B$11:$B100) -> 90 | B100: 인천 | C100: 서구 | D100: 검단5동 | E100: 공공용 | F100: 생활용수 | G100: 이기철 | H100: 인천광역시 서구 봉화로 99 (오류동) | I100: 오류동 90번지 | J100: 30 | K100: =J100/0.025 -> 1200 | L100: 39408 | M100: 39408
