Workbook

Sheet 수급자 현황
A1: □ 2014년 기초생활수급자 현황
J2: (단위 : 가구, 명)
A3: 구분 | B3: 계 (A+B+C) | D3: 일반수급자 (A) | F3: 특례수급자 (B) | H3: 시설수급자 (C) | J3: 비 고
B4: 가구 | C4: 인원 | D4: 가구 | E4: 인원 | F4: 가구 | G4: 인원 | H4: 시설수 | I4: 인원
A5: 1월 | B5: =SUM(D5,F5,H5) -> 4347 | C5: =SUM(E5,G5,I5) -> 7853 | D5: 3966 | E5: 6452 | F5: =SUM([1]특례수급자!B6) -> 347 | G5: =SUM([1]특례수급자!C6) -> 723 | H5: 34 | I5: 678
A6: 2월 | B6: =SUM(D6,F6,H6) -> 4346 | C6: =SUM(E6,G6,I6) -> 7885 | D6: 3953 | E6: 6452 | F6: =SUM([1]특례수급자!B7) -> 356 | G6: =SUM([1]특례수급자!C7) -> 737 | H6: 37 | I6: 696
A7: 3월 | B7: =SUM(D7,F7,H7) -> 4358 | C7: =SUM(E7,G7,I7) -> 7841 | D7: 3978 | E7: 6454 | F7: =SUM([1]특례수급자!B8) -> 343 | G7: =SUM([1]특례수급자!C8) -> 701 | H7: 37 | I7: 686
A8: 4월 | B8: =SUM(D8,F8,H8) -> 4396 | C8: =SUM(E8,G8,I8) -> 7902 | D8: 4003 | E8: 6488 | F8: =SUM([1]특례수급자!B9) -> 356 | G8: =SUM([1]특례수급자!C9) -> 730 | H8: 37 | I8: 684
A9: 5월 | B9: =SUM(D9,F9,H9) -> 4408 | C9: =SUM(E9,G9,I9) -> 7878 | D9: 4029 | E9: 6518 | F9: =SUM([1]특례수급자!B10) -> 342 | G9: =SUM([1]특례수급자!C10) -> 683 | H9: 37 | I9: 677
A10: 6월 | B10: =SUM(D10,F10,H10) -> 4449 | C10: =SUM(E10,G10,I10) -> 7945 | D10: 4063 | E10: 6570 | F10: =SUM([1]특례수급자!B11) -> 350 | G10: =SUM([1]특례수급자!C11) -> 700 | H10: 36 | I10: 675
A11: 7월 | B11: =SUM(D11,F11,H11) -> 4469 | C11: =SUM(E11,G11,I11) -> 7975 | D11: 4067 | E11: 6555 | F11: =SUM([1]특례수급자!B12) -> 366 | G11: =SUM([1]특례수급자!C12) -> 738 | H11: 36 | I11: 682
A12: 8월 | B12: =SUM(D12,F12,H12) -> 4498 | C12: =SUM(E12,G12,I12) -> 7992 | D12: 4087 | E12: 6564 | F12: =SUM([1]특례수급자!B13) -> 376 | G12: =SUM([1]특례수급자!C13) -> 747 | H12: 35 | I12: 681
A13: 9월 | B13: =SUM(D13,F13,H13) -> 4527 | C13: =SUM(E13,G13,I13) -> 8021 | D13: 4115 | E13: 6599 | F13: =SUM([1]특례수급자!B14) -> 377 | G13: =SUM([1]특례수급자!C14) -> 745 | H13: 35 | I13: 677
A14: 10월 | B14: =SUM(D14,F14,H14) -> 0 | C14: =SUM(E14,G14,I14) -> 0 | F14: =SUM([1]특례수급자!B15) -> 0 | G14: =SUM([1]특례수급자!C15) -> 0
A15: 11월 | B15: =SUM(D15,F15,H15) -> 0 | C15: =SUM(E15,G15,I15) -> 0 | F15: =SUM([1]특례수급자!B16) -> 0 | G15: =SUM([1]특례수급자!C16) -> 0
A16: 12월 | B16: =SUM(D16,F16,H16) -> 0 | C16: =SUM(E16,G16,I16) -> 0 | F16: =SUM([1]특례수급자!B17) -> 0 | G16: =SUM([1]특례수급자!C17) -> 0
A18: ※ 특례수급자(B)는 2번 시트 작성시 자동 입력

Sheet 총수급자현황(9월말)
A1: 2014년 9월말 국민기초생활보장수급자 동별현황
A3: 월별 | B3: 총수급자 | D3: 일반수급자 (특례 제외) | F3: 특례수급자
B5: 가구 | C5: 인원 | D5: 가구 | E5: 인원 | F5: 가구 | G5: 인원
A6: 계 | B6: 4492 | C6: 7344 | D6: 4115 | E6: 6599 | F6: 377 | G6: 745
A7: 검암경서동 | B7: 308 | C7: 563 | D7: 287 | E7: 515 | F7: 21 | G7: 48
A8: 연희동 | B8: 545 | C8: 940 | D8: 495 | E8: 822 | F8: 50 | G8: 118
A9: 청라1동 | B9: 22 | C9: 30 | D9: 21 | E9: 27 | F9: 1 | G9: 3
A10: 청라2동 | B10: 130 | C10: 200 | D10: 106 | E10: 155 | F10: 24 | G10: 45
A11: 가정1동 | B11: 383 | C11: 576 | D11: 327 | E11: 478 | F11: 56 | G11: 98
A12: 가정2동 | B12: 74 | C12: 110 | D12: 70 | E12: 105 | F12: 4 | G12: 5
A13: 가정3동 | B13: 155 | C13: 275 | D13: 146 | E13: 250 | F13: 9 | G13: 25
A14: 신현원창동 | B14: 316 | C14: 534 | D14: 294 | E14: 483 | F14: 22 | G14: 51
A15: 석남1동 | B15: 423 | C15: 685 | D15: 395 | E15: 634 | F15: 28 | G15: 51
A16: 석남2동 | B16: 229 | C16: 344 | D16: 214 | E16: 315 | F16: 15 | G16: 29
A17: 석남3동 | B17: 301 | C17: 501 | D17: 284 | E17: 472 | F17: 17 | G17: 29
... A26: 검단5동 | B26: 239 | C26: 409 | D26: 218 | E26: 361 | F26: 21 | G26: 48

Sheet Sheet1

Sheet Sheet2

Sheet Sheet3
