Workbook

Sheet 1P
B1: [별지 제1호 서식]
B2: 총사업비 산출 총괄표
H3: (단위 : 천원)
B4: 구분 | C4: 분야 | D4: 공종 | E4: 전체 | F4: 감리대상 | G4: 감리제외 | H4: 타법감리
B5: 총공사비 | C5: 순공사비 | D5: 토목공사 | E5: ='[1]2P'!E19 -> 0.106 | F5: ='[1]2P'!F19 -> 0.106 | G5: ='[1]2P'!G19 -> 0 | H5: ='[1]2P'!H19 -> 0
D6: 건축공사 | E6: ='[1]2P'!E43 -> 0.564 | F6: ='[1]2P'!F43 -> 0.564 | G6: ='[1]2P'!G43 -> 0 | H6: ='[1]2P'!H43 -> 0
D7: 기계설비공사 | E7: ='[1]2P'!E53 -> 0.11 | F7: ='[1]2P'!F53 -> 0.11 | G7: ='[1]2P'!G53 -> 0 | H7: ='[1]2P'!H53 -> 0
D8: 전기공사 | E8: ='[1]2P'!E54 -> 0.059 | F8: ='[1]2P'!F54 -> 0 | G8: ='[1]2P'!G54 -> 0 | H8: ='[1]2P'!H54 -> 0.059
D9: 정보통신공사 | E9: ='[1]2P'!E55 -> 0.039 | F9: ='[1]2P'!F55 -> 0 | G9: ='[1]2P'!G55 -> 0 | H9: ='[1]2P'!H55 -> 0.039
D10: 소방설비공사 | E10: ='[1]2P'!E56 -> 0.025 | F10: ='[1]2P'!F56 -> 0 | G10: ='[1]2P'!G56 -> 0 | H10: ='[1]2P'!H56 -> 0.025
D11: 소 계 | E11: =SUM(E5:E10) -> 0.903 | F11: =SUM(F5:F10) -> 0.78 | G11: =SUM(G5:G10) -> 0 | H11: =SUM(H5:H10) -> 0.123
C12: 일반관리비 | E12: 0 | F12: ='[1]2P'!F57 -> 0 | G12: 0 | H12: ='[1]2P'!H57 -> 0
C13: 이 윤
B14: 소 계 | E14: =SUM(E11:E13) -> 0.903 | F14: =SUM(F11:F13) -> 0.78 | G14: =SUM(G11:G13) -> 0 | H14: =SUM(H11:H13) -> 0.123
B15: 간접비 | C15: 설계비
C16: 감리비
C17: 일반분양시설 경비
C18: 분담금 및 부담금
C19: 보상비
C20: 기타사업비성 경비
B21: 소 계
B22: 대 지 비
B23: 부가가치세액
B24: 총 사 업 비 계

Sheet 총괄표
A1: [별지 제1호 서식]
A3: 총사업비 산출 총괄표
A4: 공사명: 인천 검단신도시 AA11BL 공동주택 신축공사 | G4: (단위:천원)
A5: 구분 | B5: 분야 | C5: 공종 | D5: 전체 | E5: 감리대상 | F5: 감리제외 | G5: 타법감리
A6: 총공사비 | B6: 순공사비 | C6: 토목공사 | D6: =SUM(E6:G6) -> 15179321 | E6: =공종별현황표!F19 -> 15179321
C7: 건축공사 | D7: =SUM(E7:G7) -> 110378902 | E7: =공종별현황표!F43 -> 110378902
C8: 기계설비공사 | D8: =SUM(E8:G8) -> 22413494 | E8: =공종별현황표!F53 -> 22413494
C9: 전기공사 | D9: =SUM(E9:G9) -> 6825362 | G9: =공종별현황표!H54 -> 6825362
C10: 정보통신공사 | D10: =SUM(E10:G10) -> 2257346 | G10: =공종별현황표!H55 -> 2257346
C11: 소방설비공사 | D11: =SUM(E11:G11) -> 2630608 | G11: =공종별현황표!H56 -> 2630608
C12: 소 계 | D12: =SUM(D6:D11) -> 159685033 | E12: =SUM(E6:E11) -> 147971717 | G12: =SUM(G6:G11) -> 11713316
B13: 일반관리비 | D13: =SUM(E13:G13) -> 11073439 | E13: =공종별현황표!F58 -> 7197735 | G13: =공종별현황표!H58 -> 3875704
B14: 이 윤 | D14: =SUM(E14:G14) -> 6985332 | E14: =공종별현황표!F59 -> 4540466 | G14: =공종별현황표!H59 -> 2444866
A15: 소 계 | D15: =SUM(D12:D14) -> 177743804 | E15: =SUM(E12:E14) -> 159709918 | F15: =SUM(F12:F14) -> 0 | G15: =SUM(G12:G14) -> 18033886
A16: 간접비 | B16: 설계비 | D16: 1820600 | F16: =D16 -> 1820600
B17: 감리비 | D17: 5145675 | F17: =D17 -> 5145675
B18: 일반분양시설 경비 | D18: =6956120+24288434+5723024 -> 36967578 | F18: =D18 -> 36967578
B19: 분담금 및 부담금 | D19: 7789112 | F19: =D19 -> 7789112
B20: 보상비 | D20: 0 | F20: =D20 -> 0
B21: 기타사업비성 경비 | D21: =553511154-SUM(D15,D16,D17,D18,D19,D20,D23,D24) -> 148695409 | F21: =D21 -> 148695409
A22: 소 계 | D22: =SUM(D16:D21) -> 200418374 | E22: =SUM(E16:E21) -> 0 | F22: =SUM(F16:F21) -> 200418374 | G22: =SUM(G16:G21) -> 0
A23: 대 지 비 | D23: 169137067 | F23: =D23 -> 169137067
A24: 부가가치세액 | D24: =183955713-D15 -> 6211909 | F24: =D24 -> 6211909
A25: 총 사 업 비 계 | D25: =D15+D22+D23+D24 -> 553511154 | E25: =E15+E22+E23+E24 -> 159709918 | F25: =F15+F22+F23+F24 -> 375767350 | G25: =G15+G22+G23+G24 -> 18033886
A26: 주 1 : 순공사비란 재료비, 노무비, 경비를 합한 금액임.
A27: 2 : 일반관리비와 이윤에 대한 정의 및 산정 방법은 "원가계산에 의한 예정가격작성 준칙(회계예규)"에 따름
A28: 3 : 부가가치세액의 정의와 산정방법은 "부가가치세법"에 따름
A29: 4 : 간접비란 사업비 중 총공사비를 제외한 설계비,감리비,일반분양시설경비 등 사업비성경비를 말하며, 세부 품목은 다음과 같음
A30: * 일반분양시설경비 : 분양 사무실 시공비, 운영비, 광고홍보비
A31: * 분담금 및 부담금 : 인입분담금(가스,전기,수도,지역난방),진입도로, 학교용지확보 부담금
A32: * 기타 사업비성 경비 : 제세공과금, 측량, 교통, 환경 영향평가 수수료, 취득세, 등록세, 건물보존 등기비 및 입주관리비
A33: 감정평가 수수료, 분양 보증 및 하자보증수수료 등 기타 사업비성 경비
A34: * 대지비 : 대지구입비, 대지 구입 관련 금융비용 및 제세공과금
A35: * 감리비 산정 시 발코니 확장 포함금액임

Sheet 전기감리비
A1: 전 기 감 리 용 역 비 산 출 내 역
A2: 용 역 명 | D2: 의정부 민락2지구 푸르지오 아파트신축 전력시설물공사 감리용역
A4: 공사개요 | D4: 아파트 9개동 943세대 지하1층 지상29층 지하주차장 및 부대복리시설 연면적 133,961,378㎡
A5: 적 요 | D5: "전력기술관리법 운영요령"(산자부고시 제2011-272호 시행11.12.27) 실비정액가산방식
A6: 구 분 | D6: 산 출 내 역 | I6: 금 액 | J6: 비 고 | N6: 2012.02
A7: 1.직접인건비 | D7: 배치되는감리원수(인*월) * 등급별 감리원월임금 | I7: =SUM(I8:I10) -> 132920634 | J7: 제25조 | L7: 22일/월 기준
A8: 상주감리원 | B8: 수석감리사 | D8: 1 | E8: 21 | F8: 1 | G8: #REF! | H8: =M8*N8 -> 6329554 | I8: =D8*E8*F8*H8 -> 132920634 | L8: 수석 | M8: 287707 | N8: 22
B9: 감리사보 | D9: 0 | E9: 21 | F9: 0.5 | G9: #REF! | H9: =M9*N9 -> 4290814 | I9: =D9*E9*F9*H9 -> 0 | L9: 감리사보 | M9: 195037 | N9: 22
A10: 비상주 감리원 | B10: 수석감리사 | D10: 상주감리원 직접인건비의 10% | L10: ※한국건설감리협회 임금공표 기준
A11: 2. 제 경 비 | D11: 직접인건비의 110% ~ 120% | I11: =I12 -> 1.462127e+08 | J11: 제28조
D12: =I7 -> 132920634 | G12: 1.1 | H12: 1.1 | I12: =D12*H12 -> 1.462127e+08
A13: 3. 기 술 료 | D13: (직접인건비+제경비) * 20% ~ 40% | I13: =I14 -> 55826666 | J13: 제29조
D14: =I7+I11 -> 2.7913333e+08 | G14: 0.1 | H14: 0.2 | I14: =D14*H14 -> 55826666
A15: 4. 직접경비 | D15: 가) + 나) + 다) + 라) + 마) | I15: =SUM(I16:I20) -> 76807086 | J15: 제27조
A16: 가) 주재비 | D16: 상주 직접인건비의 30% | H16: 0.3 | I16: =I8*H16 -> 39876190
A17: 나) 출장여비 | D17: 비상주 직접인건비의 10% | H17: 0.1 | I17: =I10*H17 -> 0
A18: 다) 인쇄비 | D18: 월간보고서, 최종보고서, 특별보고서 유지관리지침서, 설계변경도서 등 1식 | I18: 2000000
A19: 라) 현지차량비 | I19: =I10*10% -> 0
A20: 마) 현장 운영경비 | D20: 보통인부1인(75,608원/일, 21개월, 22일/월기준) | I20: =M20*E8*N8 -> 34930896 | L20: 보통인부 | M20: 75608 | N20: (한국건설협회 건설임금실태조사보고서 2009년 하반기 기준)
A21: 5. 합 계 | D21: 1 + 2 + 3 + 4 | I21: =I7+I11+I13+I15 -> 4.1176708e+08 | M21: (원/일)
A22: 6. 감액조정 | D22: 900세대 ~ 1000세대 미만 | H22: 0.15 | I22: =-I21*H22 -> -61765063 | J22: 운영요령 제24조 제2항 | L22: 300세대이상 400세대미만 15%, 400세대이상 500세대미만 10%
A23: 7. 합 계 | I23: =+I21+I22 -> 3.5000202e+08
A24: 8. 부 가 세 | D24: 0.1 | I24: =I23*D24 -> 35000202
A25: 9. 기초금액 | D25: 합계 + 부가세 | I25: =I23+I24 -> 3.8500222e+08 | J25: ※ 부가세포함
A26: □ 감리원 등급별 임금은 한국건설감리협회가 통계법 제15조 규정에 의하여 공표한 2012년 적용 임금임.
G27: 할인률(%)
A28: - 전력기술관리법 운영요령에 근거하여 산출(지식경제부) | I28: =+I25*0.94*0.82 -> 2.9675971e+08
A29: - 감리원 임금은 건설공사감리대가기준(국토해양부 고시) 및 한국건설감리협회 공표 근거
A30: - 보통인부 임금은 한국건설협회의 건설임금실태조사보고서에 근거
I31: =+I21*1.1 -> 4.5294379e+08
I32: =+I25*0.85 -> 3.2725189e+08
I33: =+I32*0.94 -> 3.0761678e+08

Sheet 공종별현황표
B1: [별지 제2호 서식]
B3: 공종별 총공사비 구성 현황표
B4: =총괄표!A4 -> 공사명: 인천 검단신도시 AA11BL 공동주택 신축공사 | H4: (단위 : 천원)
B5: 구 분 | C5: 분 야 | D5: 공 종 | E5: 전 체 | F5: 감리대상 | G5: 감리제외 | H5: 타법감리
B6: 순공사비 | C6: 토 목 | D6: 토공사 | E6: =F6+G6+H6 -> 3785723 | F6: 3785723
C7: (13개 공종) | D7: 흙막이공사 | E7: =F7+G7+H7 -> 4644872 | F7: 4644872
D8: 비탈면보호공사 | E8: =F8+G8+H8 -> 0 | F8: 0
D9: 옹벽공사 | E9: =F9+G9+H9 -> 1821519 | F9: 1821519
D10: 석축공사 | E10: =F10+G10+H10 -> 0 | F10: 0
D11: 우,오수공사 | E11: =F11+G11+H11 -> 637531 | F11: 637531
D12: 공동구공사 | E12: =F12+G12+H12 -> 0 | F12: 0
D13: 지하저수조 및 급수공사 | E13: =F13+G13+H13 -> 33395 | F13: 33395
D14: 도로포장공사 | E14: =F14+G14+H14 -> 1152110 | F14: 1152110
D15: 교통안전시설물공사 | E15: =F15+G15+H15 -> 0 | F15: 0
D16: 정화조시설공사 | E16: =F16+G16+H16 -> 0 | F16: 0
D17: 조경공사 | E17: =F17+G17+H17 -> 2774780 | F17: 2774780
D18: 부대시설공사 | E18: =F18+G18+H18 -> 329391 | F18: 329391
D19: 소 계 | E19: =SUM(E6:E18) -> 15179321 | F19: =SUM(F6:F18) -> 15179321 | G19: =SUM(G6:G18) -> 0 | H19: =SUM(H6:H18) -> 0
C20: 건 축 | D20: 공통가설물공사 | E20: =F20+G20+H20 -> 5839044 | F20: 5839044
C21: (23개 공종) | D21: 가시설물공사 | E21: =F21+G21+H21 -> 1997858 | F21: 1997858
D22: 지정 및 기초공사 | E22: =F22+G22+H22 -> 2704283 | F22: 2704283
D23: 철골공사 | E23: =F23+G23+H23 -> 518781 | F23: 518781
D24: 철근콘크리트공사 | E24: =F24+G24+H24 -> 48787475 | F24: 48787475
D25: 용접공사 | E25: =F25+G25+H25 -> 0 | F25: 0
D26: 조적공사 | E26: =F26+G26+H26 -> 2593904 | F26: 2593904
D27: 미장공사 | E27: =F27+G27+H27 -> 3565239 | F27: 3565239
D28: 단열공사 | E28: =F28+G28+H28 -> 1479077 | F28: 1479077
D29: 방수.방습공사 | E29: =F29+G29+H29 -> 2704283 | F29: 2704283
D30: 목공사 | E30: =F30+G30+H30 -> 4106095 | F30: 4106095
D31: 가구공사 | E31: =F31+G31+H31 -> 4922899 | F31: 4922899
D32: 금속공사 | E32: =F32+G32+H32 -> 1114827 | F32: 1114827
D33: 지붕 및 홈통공사 | E33: =F33+G33+H33 -> 916145 | F33: 916145
... D42: 잡공사 | E42: =F42+G42+H42 -> 894069 | F42: 894069
D43: 소 계 | E43: =SUM(E20:E42) -> 110378902 | F43: =SUM(F20:F42) -> 110378902 | G43: =SUM(G20:G42) -> 0 | H43: =SUM(H20:H42) -> 0
C44: 기계설비 | D44: 급수설비공사 | E44: =F44+G44+H44 -> 3341852 | F44: 3341852
C45: (9개 공사) | D45: 급탕설비공사 | E45: =F45+G45+H45 -> 2227901 | F45: 2227901
D46: 오배수 및 통기설비공사 | E46: =F46+G46+H46 -> 3787880 | F46: 3787880
D47: 위생기구공사 | E47: =F47+G47+H47 -> 2452036 | F47: 2452036
D48: 승강기기계공사 | E48: =F48+G48+H48 -> 3474092 | F48: 3474092
D49: 난방설비공사 | E49: =F49+G49+H49 -> 2006008 | F49: 2006008
D50: 가스설비공사 | E50: =F50+G50+H50 -> 1113951 | F50: 1113951
D51: 자동제어설비공사 | E51: =F51+G51+H51 -> 221894 | F51: 221894
D52: 특수설비공사 | E52: =F52+G52+H52 -> 3787880 | F52: 3787880
D53: 소 계 | E53: =SUM(E44:E52) -> 22413494 | F53: =SUM(F44:F52) -> 22413494 | G53: =SUM(G44:G52) -> 0 | H53: =SUM(H44:H52) -> 0
C54: 전 기 (15개 공사) | E54: =F54+G54+H54 -> 6825362 | H54: 6825362
C55: 정보통신 (13개 공사) | E55: =F55+G55+H55 -> 2257346 | H55: 2257346
C56: 소방설비 (2개 공사) | E56: =F56+G56+H56 -> 2630608 | H56: 2630608
C57: 계 | E57: =SUM(E53,E43,E19)+SUM(E54:E56) -> 159685033 | F57: =SUM(F53,F43,F19)+SUM(F54:F56) -> 147971717 | G57: =SUM(G53,G43,G19)+SUM(G54:G56) -> 0 | H57: =SUM(H53,H43,H19)+SUM(H54:H56) -> 11713316
B58: 일반관리비 | E58: 11073439 | F58: 7197735 | G58: 0 | H58: =E58-F58 -> 3875704
B59: 이 윤 | E59: 6985332 | F59: 4540466 | G59: 0 | H59: =E59-F59 -> 2444866
B60: 총 공 사 비 계 | E60: =E19+E43+E53+E54+E55+E56+E58+E59 -> 177743804 | F60: =F19+F43+F53+F54+F55+F56+F58+F59 -> 159709918 | G60: =G19+G43+G53+G54+G55+G56+G58+G59 -> 0 | H60: =H19+H43+H53+H54+H55+H56+H58+H59 -> 18033886

Sheet 예정공정표(건축)
A1: 인천 검단신도시 AA11BL 공동주택 신축공사 (건축) 예정공정표
A3: ▣ 공 사 명 : 인천 검단신도시 AA11BL 공동주택 신축공사
A4: ▣ 착공예정일 : 2019년 11월 01일
A5: ▣ 공 사 기 간 : 2019년 11월 01일~ 2022년 5월 31일 (31개월)
A7: 년도 | B7: 2019년 | H7: 2020년 | AR7: 2021년 | CB7: 2022년 | CQ7: 비 고
A8: 월 | B8: 11월 | E8: 12월 | H8: 1월 | K8: 2월 | N8: 3월 | Q8: 4월 | T8: 5월 | W8: 6월 | Z8: 7월 | AC8: 8월 | AF8: 9월 | AI8: 10월 | AL8: 11월 | AO8: 12월 | AR8: 1월 | AU8: 2월 | AX8: 3월 | BA8: 4월 | BD8: 5월 | BG8: 6월 | BJ8: 7월 | BM8: 8월 | BP8: 9월 | BS8: 10월 | BV8: 11월 | BY8: 12월 | CB8: 1월 | CE8: 2월 | CH8: 3월 | CK8: 4월 | CN8: 5월
A9: 개월수 | B9: 1개월 | E9: 2개월 | H9: 3개월 | K9: 4개월 | N9: 5개월 | Q9: 6개월 | T9: 7개월 | W9: 8개월 | Z9: 9개월 | AC9: 10개월 | AF9: 11개월 | AI9: 12개월 | AL9: 13개월 | AO9: 14개월 | AR9: 15개월 | AU9: 16개월 | AX9: 17개월 | BA9: 18개월 | BD9: 19개월 | BG9: 20개월 | BJ9: 21개월 | BM9: 22개월 | BP9: 23개월 | BS9: 24개월 | BV9: 25개월 | BY9: 26개월 | CB9: 27개월 | CE9: 28개월 | CH9: 29개월 | CK9: 30개월 | CN9: 31개월
A10: 전체공정 | CQ10: 2019.11.01 ~ 2022.5.31 (31개월)
A13: 토목공사 | CQ13: 2019.11.01 ~ 2020.07.31 2021.05.01 ~ 2022.05.31 (22개월)
A16: 조경공사 | CQ16: 2021.08.01 ~ 2022.05.31 (10개월)
A19: 건축공사 | CQ19: =CQ10 -> 2019.11.01 ~ 2022.5.31 (31개월)
A22: 구조체공사 | CQ22: 2020.02.01 ~ 2021.06.30 (17개월)
A25: 설비공사 | CQ25: 2020.03.01 ~ 2022.05.31 (27개월)
A28: 정보통신공사 | CQ28: =CQ25 -> 2020.03.01 ~ 2022.05.31 (27개월)
A31: 소방공사 | CQ31: =CQ25 -> 2020.03.01 ~ 2022.05.31 (27개월)

Sheet 공종별현황표 (2)
B1: [별지 제2호 서식]
B3: 공종별 총공사비 구성 현황표
I4: (단위 : 천원) | N4: (단위 : 천원) | S4: (단위 : 천원) | X4: (단위 : 천원) | AH4: (단위 : 천원) | AM4: (단위 : 천원) | AR4: (단위 : 천원) | AW4: (단위 : 천원) | BC4: (단위 : 천원)
B5: 구 분 | C5: 분 야 | D5: 공 종 | E5: 1.전 체 보할 | F5: 감리대상 | G5: 전기감리 | H5: 감리제외 | I5: 타법감리 | J5: ★.전 체 | K5: 감리대상 | L5: 전기감리 | M5: 감리제외 | N5: 타법감리 | O5: 1.전 체 | P5: 감리대상 | Q5: 전기감리 | R5: 감리제외 | S5: 타법감리 | T5: 2.전 체 | U5: 감리대상 | V5: 전기감리 | W5: 감리제외 | X5: 타법감리 | Y5: 3.전 체 | Z5: 감리대상 | AA5: 전기감리 | AB5: 감리제외 | AC5: 타법감리 | AD5: 4.전 체 | AE5: 감리대상 | AF5: 전기감리 | AG5: 감리제외 | AH5: 타법감리 | AI5: 5.전 체 | AJ5: 감리대상 | AK5: 전기감리 | AL5: 감리제외 | AM5: 타법감리 | AN5: 6.전 체 | AO5: 감리대상 | AP5: 전기감리 | AQ5: 감리제외 | AR5: 타법감리 | AS5: 7.전 체 | AT5: 감리대상 | AU5: 전기감리 | AV5: 감리제외 | AW5: 타법감리 | AX5: 0.전 체 | AY5: 감리대상 | AZ5: 전기감리 | BA5: 감리제외 | BB5: 타법감리 | BC5: 비고
B6: 공사명 | E6: 인천검단지구AA11블럭 공동주택 신축공사 | J6: 인천검단지구AA11블럭 공동주택 신축공사 | O6: 원당동 검단신도시 AB15-2블록 공동주택(아파트) 신축공사 | T6: 인천 검단신도시 AA4블록 유승한내들 공동주택 신축공사 | Y6: 마전지구 지역주택조합 공동주택(아파트) 신축공사 | AD6: 원당동 검단신도시 AB15-1블록 공동주택(아파트) 신축공사 | AI6: 원당동 검단신도시 AB16블록 공동주택 신축공사 | AN6: 원당동 검단신도시 AB6블록 공동주택 신축공사 | AS6: 인천검단 AB-4블럭 대방노블랜드 건설공사 | AX6: 인천 루원시티 주상1,2블록 주상복합 신축공사
B7: 건설사 | E7: 금성백조건설 | J7: 금성백조건설 | O7: 광주광역시 남구 중앙로 87 ㈜호반건설주식회사 | T7: ㈜유승종합건설 대표이사 민광옥(☎032-524-8822) | Y7: 양우건설 주식회사 대표이사 고삼상, 고문철 (☏ 02-2679-5200) | AD7: 우미건설㈜ (☏1588-9950) | AI7: ㈜대우건설 대표이사 김형(☏02-2288-3114) | AN7: 한신공영(주) 대표 태기전, 최문규 (☏02-3393-3313) | AS7: 대방건설㈜ 대표이사 구찬우 (☏031-920-3807) | AX7: 에스케이건설(주) 대표이사 조기행(☎02-3700-7114)
B8: 설계사 | E8: 디에이그룹엔지니어링 종합건축사사무소 | J8: 디에이그룹엔지니어링 종합건축사사무소 | O8: ㈜토담건축사사무소 대표이사 오준석(☏062-374-7311) | T8: ㈜유선엔지니어링건축사사무소 대표이사 조영돈(☎02-2189-5850) | Y8: ㈜성도 건축사사무소 대표자 신현배 (☏ 032-467-1144) | AD8: 에이앤유디자인그룹건축사사무소㈜ 대표이사 오성제(☏02-2047-3000) | AI8: ㈜정림건축종합건축사사무소 대표이사 임진우(☏02-708-8600) | AN8: ㈜티씨엠씨 건축사사무소 대표이사 김태영 (☏032-427-1115) | AS8: ㈜현대건축사사무소 대표이사 조연성 (☏062-528-0101) | AX8: ㈜이안디자인건축사사무소 대표이사 장성열(☎02-588-9188)
B9: 위치 | E9: 인천광역시 서구 원당동 284번지 일대 | J9: 인천광역시 서구 원당동 284번지 일대 | O9: 원당동 검단신도시 AB15-2블록 | T9: 인천광역시 서구 당하동 검단신도시 AA4블록 | Y9: 인천광역시 서구 마전지구 17BL-2LOT 외 4필지 | AD9: 원당동 검단신도시 AB15-1블록 | AI9: 인천광역시 서구 원당동 검단신도시 AB16블록 | AN9: 인천광역시 서구 원당동 검단신도시 AB6블록 | AS9: 인천광역시 서구 원당동 검단신도시 AB4블록 | AX9: 인천광역시 서구 가정동 루원시티 주상1,2블록
B10: 대지면적 | E10: 76,618㎡ | J10: 76,618㎡ | O10: 59,667㎡ | T10: 57,122㎡ | Y10: 23,841.00㎡ | AD10: 65,087㎡ | AI10: 85,540㎡ | AN10: 45,732㎡ | AS10: 69,448㎡ | AX10: 70,422㎡
B11: 연면적 | E11: 205,060.9471㎡(용적률 186.98%) | J11: 205,060.9471㎡(용적률 186.98%) | O11: 177,663.0224㎡(용적률 208.77%) | T11: 153,713.4289㎡(용적률 184.82%) | Y11: 75,776.9324㎡(용적률 215.26%) | AD11: 198,931.2606㎡(용적률 211.77%) | AI11: 284,130.39㎡(용적률 207.83%) | AN11: 143,911.6847㎡(용적률 214.96%) | AS11: 222,390.1418㎡(용적률 209.99%) | AX11: 466,221.1759㎡(용적률 439.64%)
B12: 대지면적 | E12: =76618*0.3025 -> 23176.945 | J12: =76618*0.3025 -> 23176.945 | O12: =59667*0.3025 -> 18049.267 | T12: =57122*0.3025 -> 17279.405 | Y12: =23841*0.3025 -> 7211.9025 | AD12: =65087*0.3025 -> 19688.818 | AI12: =85540*0.3025 -> 25875.85 | AN12: =45732*0.3025 -> 13833.93 | AS12: =69448*0.3025 -> 21008.02 | AX12: =70422*0.3025 -> 21302.655
B13: 연면적 | E13: =205060.9471*0.3025 -> 62030.936 | J13: =205060.9471*0.3025 -> 62030.936 | O13: =177663.0224*0.3025 -> 53743.064 | T13: =153713.4289*0.3025 -> 46498.312 | Y13: =75776.9324*0.3025 -> 22922.522 | AD13: =198931.2606*0.3025 -> 60176.706 | AI13: =284130.39*0.3025 -> 85949.443 | AN13: =143911.6847*0.3025 -> 43533.285 | AS13: =222390.1418*0.3025 -> 67273.018 | AX13: =466221.1759*0.3025 -> 141031.91
B14: 규 모 | E14: 지하2층/지상20~25층(14개동), 공동주택/근린생활시설 | J14: 지하2층/지상20~25층(14개동), 공동주택/근린생활시설 | O14: 지하2층/지상27층(16개동), 공동주택/근린생활시설 | T14: 지하3층/지상24~25층 공동주택(아파트) 10개동 및 부대·복리시설 | Y14: 지하3층/지상18층(7개동), 공동주택/근린생활시설 | AD14: 지하2층/지상29층(13개동), 공동주택/근린생활시설 | AI14: 지하2층/지상18~29층(16개동), 공동주택/근린생활시설 | AN14: 지하2층/지상27층(9개동), 공동주택/근린생활시설 | AS14: 지하2층/지상25층(15개동), 공동주택/부대복리시설 | AX14: 지하4층/지상37~45층 공동주택(아파트) 11개동 및 부대·복리시설, 업무시설 (오피스텔) 1개동
B15: 세대수 | E15: 1,249세대 | J15: 1,249세대 | O15: 1,168세대 | T15: 938세대 | Y15: 545세대 | AD15: 1,268세대 | AI15: 1,540세대 | AN15: 936세대 | AS15: 1,279세대 | AX15: 아파트 2,378세대, 오피스텔 726호
B16: 공사기간 | E16: 2019.05. ~ 2021.11.(33개월) | J16: 2019.05. ~ 2021.11.(33개월) | O16: 2018.09. ~ 2021.5.(33개월) | T16: 2018.10. ~ 2021.08.(착공 후 35개월) | Y16: 2018.10.15. ~ 2021.4.15.(30개월) | AD16: 2018.12. ~ 2021.12.(37개월) | AI16: 2018.12. ~ 2021.6.(31개월) | AN16: 2018.12. ~ 2021.8.(33개월) | AS16: 2019.02.14.~ 2021.11.13.(33개월) | AX16: 2018.10. ~ 2022.01.(착공 후 39개월)
B17: 사업승인일 | E17: 2018. 03. 30. | J17: 2018. 03. 30. | O17: 2018. 07. 26. | T17: 2018. 08. 03. | Y17: 2018. 08. 09. | AD17: 2018. 11. 1. | AI17: 2018. 11. 2. | AN17: 2018. 11. 7. | AS17: 2018. 12. 7. | AX17: 2018. 08. 02.
B18: 총사업비 | E18: 481,840,670천원 | J18: 481,840,670천원 | O18: 481,840,670천원 | T18: 346,520,492천원 | Y18: 134,818,012천원 | AD18: 512,342,530천원 | AI18: 675,048,794천원 | AN18: 359,000,000천원 | AS18: 557,402,785천원 | AX18: 1,231,323,934천원
B19: 대지비 | E19: 155,228,160천원 | J19: 155,228,160천원 | O19: 155,228,160천원 | T19: 127,457,472천원 | Y19: 35,412,956천원 | AD19: 162,885,625천원 | AI19: 226,554,131천원 | AN19: 108,000,000천원 | AS19: 175,897,023천원 | AX19: 343,861,314천원
B20: 총공사비 | E20: 161,417,706천원(일반관리비, 이윤포함) | J20: 161,417,706천원(일반관리비, 이윤포함) | O20: 161,417,706천원(일반관리비, 이윤포함) | T20: 139,465,000천원(타법공사비 포함) | Y20: 82,365,920천원(일반관리비, 이윤포함) | AD20: 204,073,260천원(일반관리비, 이윤포함) | AI20: 272,450,247천원(일반관리비, 이윤포함) | AN20: 147,794,836천원(일반관리비, 이윤포함) | AS20: 214,600,073천원(일반관리비, 이윤포함) | AX20: 559,535,000천원(타법공사비 포함)
B21: 감리대상 공사비 | E21: 121,063,279천원 | J21: 121,063,279천원 | O21: 121,063,279천원 | T21: 123,996,551천원(일반관리비, 이윤 포함) | Y21: 74,009,074천원 | AD21: 170,724,853천원 | AI21: 231,401,077천원 | AN21: 123,422,836천원 | AS21: 188,912,923천원 | AX21: 442,050,360천원(일반관리비, 이윤 포함)
B22: 타법감리대상공사비 | E22: 40,354,427천원 | J22: 40,354,427천원 | O22: 40,354,427천원 | T22: 15,468,449천원(일반관리비, 이윤 포함) | Y22: 8,356,846천원 | AD22: 33,348,407천원 | AI22: 41,049,170천원 | AN22: 15,813,722천원 | AS22: 25,687,150천원 | AX22: 117,484,639천원(일반관리비, 이윤 포함)
B23: 공사범위 | E23: 전기공사 제외 | O23: 전기공사 제외 | T23: 전기공사 제외
B24: 구 분 | C24: 분 야 | D24: 공 종 | E24: 1.전 체 | F24: 감리대상 | G24: 전기감리 | H24: 감리제외 | I24: 타법감리 | J24: ★.전 체 | K24: 감리대상 | L24: 전기감리 | M24: 감리제외 | N24: 타법감리 | O24: 1.전 체 | P24: 감리대상 | Q24: 전기감리 | R24: 감리제외 | S24: 타법감리 | T24: 2.전 체 | U24: 감리대상 | V24: 전기감리 | W24: 감리제외 | X24: 타법감리 | Y24: 3.전 체 | Z24: 감리대상 | AA24: 전기감리 | AB24: 감리제외 | AC24: 타법감리 | AD24: 4.전 체 | AE24: 감리대상 | AF24: 전기감리 | AG24: 감리제외 | AH24: 타법감리 | AI24: 5.전 체 | AJ24: 감리대상 | AK24: 전기감리 | AL24: 감리제외 | AM24: 타법감리 | AN24: 6.전 체 | AO24: 감리대상 | AP24: 전기감리 | AQ24: 감리제외 | AR24: 타법감리 | AS24: 7.전 체 | AT24: 감리대상 | AU24: 전기감리 | AV24: 감리제외 | AW24: 타법감리 | AX24: 0.전 체 | AY24: 감리대상 | AZ24: 감리제외 | BA24: 감리제외 | BB24: 타법감리
B25: 순공사비 | C25: 토 목 | D25: 토공사 | E25: =Y25/Y$79 -> 0.02129876 | F25: =Z25/Z$79 -> 0.023703742 | G25: =AA25/AA$79 -> 0 | I25: =AC25/AC$79 -> 0 | J25: =E25*$J$79 -> 4264324.8 | K25: 4264324.8 | O25: =P25+Q25+R25+S25 -> 2453549 | P25: 2453549 | T25: =U25+V25+W25+X25 -> 3604000 | U25: 3604000 | Y25: =Z25+AA25+AB25+AC25 -> 1754292 | Z25: 1754292 | AA25: 0 | AD25: =AE25+AF25+AG25+AH25 -> 6521026 | AE25: 6521026 | AI25: 5340025 | AJ25: =AI25-AL25-AM25 -> 5340025 | AN25: =AO25+AP25+AQ25+AR25 -> 5160363 | AO25: 5160363 | AS25: =AT25+AU25+AV25+AW25 -> 2198108 | AT25: 2198108 | AU25: 0 | AV25: 0 | AW25: 0 | AX25: =AY25+AZ25+BA25+BB25 -> 2.8817548e+10 | AY25: 2.8817548e+10 | BK25: =BM25+BO25+BQ25 -> 3604000 | BM25: 3604000
C26: (13개 공종) | D26: 흙막이공사 | E26: =Y26/Y$79 -> 0.0261324 | F26: =Z26/Z$79 -> 0.029083179 | G26: =AA26/AA$79 -> 0 | I26: =AC26/AC$79 -> 0 | J26: =E26*$J$79 -> 5232090.6 | K26: 5232090.6 | O26: =P26+Q26+R26+S26 -> 2259848 | P26: 2259848 | T26: =U26+V26+W26+X26 -> 1022000 | U26: 1022000 | Y26: =Z26+AA26+AB26+AC26 -> 2152419.2 | Z26: 2152419.2 | AA26: 0 | AD26: =AE26+AF26+AG26+AH26 -> 1947839 | AE26: 1947839 | AI26: 2670012 | AJ26: =AI26-AL26-AM26 -> 2670012 | AN26: =AO26+AP26+AQ26+AR26 -> 1541407 | AO26: 1541407 | AS26: =AT26+AU26+AV26+AW26 -> 259308 | AT26: 259308 | AU26: 0 | AV26: 0 | AW26: 0 | AX26: =AY26+AZ26+BA26+BB26 -> 7.1680019e+09 | AY26: 7.1680019e+09 | BK26: =BM26+BO26+BQ26 -> 1022000 | BM26: 1022000
D27: 비탈면보호공사 | E27: =Y27/Y$79 -> 0 | F27: =Z27/Z$79 -> 0 | G27: =AA27/AA$79 -> 0 | I27: =AC27/AC$79 -> 0 | J27: =E27*$J$79 -> 0 | K27: 0 | O27: =P27+Q27+R27+S27 -> 0 | P27: 0 | T27: =U27+V27+W27+X27 -> 0 | U27: 0 | Y27: =Z27+AA27+AB27+AC27 -> 0 | Z27: 0 | AA27: 0 | AD27: =AE27+AF27+AG27+AH27 -> 0 | AE27: 0 | AI27: 0 | AJ27: =AI27-AL27-AM27 -> 0 | AN27: =AO27+AP27+AQ27+AR27 -> 0 | AO27: 0 | AS27: =AT27+AU27+AV27+AW27 -> 0 | AT27: 0 | AU27: 0 | AV27: 0 | AW27: 0 | AX27: =AY27+AZ27+BA27+BB27 -> 0 | AY27: 0 | BK27: =BM27+BO27+BQ27 -> 0 | BM27: 0
D28: 옹벽공사 | E28: =Y28/Y$79 -> 0.010248 | F28: =Z28/Z$79 -> 0.011405168 | G28: =AA28/AA$79 -> 0 | I28: =AC28/AC$79 -> 0 | J28: =E28*$J$79 -> 2051800.2 | K28: 2051800.2 | O28: =P28+Q28+R28+S28 -> 0 | P28: 0 | T28: =U28+V28+W28+X28 -> 0 | U28: 0 | Y28: =Z28+AA28+AB28+AC28 -> 844085.95 | Z28: 844085.95 | AA28: 0 | AD28: =AE28+AF28+AG28+AH28 -> 671475 | AE28: 671475 | AI28: 1879907 | AJ28: =AI28-AL28-AM28 -> 1879907 | AN28: =AO28+AP28+AQ28+AR28 -> 531366 | AO28: 531366 | AS28: =AT28+AU28+AV28+AW28 -> 178200 | AT28: 178200 | AU28: 0 | AV28: 0 | AW28: 0 | AX28: =AY28+AZ28+BA28+BB28 -> 2.7362816e+08 | AY28: 2.7362816e+08 | BK28: =BM28+BO28+BQ28 -> 0 | BM28: 0
D29: 석축공사 | E29: =Y29/Y$79 -> 0 | F29: =Z29/Z$79 -> 0 | G29: =AA29/AA$79 -> 0 | I29: =AC29/AC$79 -> 0 | J29: =E29*$J$79 -> 0 | K29: 0 | O29: =P29+Q29+R29+S29 -> 0 | P29: 0 | T29: =U29+V29+W29+X29 -> 59000 | U29: 59000 | Y29: =Z29+AA29+AB29+AC29 -> 0 | Z29: 0 | AA29: 0 | AD29: =AE29+AF29+AG29+AH29 -> 0 | AE29: 0 | AI29: 0 | AJ29: =AI29-AL29-AM29 -> 0 | AN29: =AO29+AP29+AQ29+AR29 -> 0 | AO29: 0 | AS29: =AT29+AU29+AV29+AW29 -> 0 | AT29: 0 | AU29: 0 | AV29: 0 | AW29: 0 | AX29: =AY29+AZ29+BA29+BB29 -> 0 | AY29: 0 | BK29: =BM29+BO29+BQ29 -> 59000 | BM29: 59000
D30: 우,오수공사 | E30: =Y30/Y$79 -> 0.0035868 | F30: =Z30/Z$79 -> 0.0039918089 | G30: =AA30/AA$79 -> 0 | I30: =AC30/AC$79 -> 0 | J30: =E30*$J$79 -> 718130.08 | K30: 718130.08 | O30: =P30+Q30+R30+S30 -> 1129924 | P30: 1129924 | T30: =U30+V30+W30+X30 -> 532000 | U30: 532000 | Y30: =Z30+AA30+AB30+AC30 -> 295430.08 | Z30: 295430.08 | AA30: 0 | AD30: =AE30+AF30+AG30+AH30 -> 1063168 | AE30: 1063168 | AI30: 3487363 | AJ30: =AI30-AL30-AM30 -> 3487363 | AN30: =AO30+AP30+AQ30+AR30 -> 841329 | AO30: 841329 | AS30: =AT30+AU30+AV30+AW30 -> 1210322 | AT30: 1210322 | AU30: 0 | AV30: 0 | AW30: 0 | AX30: =AY30+AZ30+BA30+BB30 -> 2.1890253e+09 | AY30: 2.1890253e+09 | BK30: =BM30+BO30+BQ30 -> 532000 | BM30: 532000
D31: 공동구공사 | E31: =Y31/Y$79 -> 0 | F31: =Z31/Z$79 -> 0 | G31: =AA31/AA$79 -> 0 | I31: =AC31/AC$79 -> 0 | J31: =E31*$J$79 -> 0 | K31: 0 | O31: =P31+Q31+R31+S31 -> 0 | P31: 0 | T31: =U31+V31+W31+X31 -> 0 | U31: 0 | Y31: =Z31+AA31+AB31+AC31 -> 0 | Z31: 0 | AA31: 0 | AD31: =AE31+AF31+AG31+AH31 -> 0 | AE31: 0 | AI31: 0 | AJ31: =AI31-AL31-AM31 -> 0 | AN31: =AO31+AP31+AQ31+AR31 -> 0 | AO31: 0 | AS31: =AT31+AU31+AV31+AW31 -> 0 | AT31: 0 | AU31: 0 | AV31: 0 | AW31: 0 | AX31: =AY31+AZ31+BA31+BB31 -> 0 | AY31: 0 | BK31: =BM31+BO31+BQ31 -> 0 | BM31: 0
D32: 지하저수조 및 급수공사 | E32: =Y32/Y$79 -> 0.00018788 | F32: =Z32/Z$79 -> 0.00020909475 | G32: =AA32/AA$79 -> 0 | I32: =AC32/AC$79 -> 0 | J32: =E32*$J$79 -> 37616.337 | K32: 37616.337 | O32: =P32+Q32+R32+S32 -> 0 | P32: 0 | T32: =U32+V32+W32+X32 -> 69000 | U32: 69000 | Y32: =Z32+AA32+AB32+AC32 -> 15474.909 | Z32: 15474.909 | AA32: 0 | AD32: =AE32+AF32+AG32+AH32 -> 0 | AE32: 0 | AI32: 0 | AJ32: =AI32-AL32-AM32 -> 0 | AN32: =AO32+AP32+AQ32+AR32 -> 0 | AO32: 0 | AS32: =AT32+AU32+AV32+AW32 -> 0 | AT32: 0 | AU32: 0 | AV32: 0 | AW32: 0 | AX32: =AY32+AZ32+BA32+BB32 -> 0 | AY32: 0 | BK32: =BM32+BO32+BQ32 -> 69000 | BM32: 69000
D33: 도로포장공사 | E33: =Y33/Y$79 -> 0.00648186 | F33: =Z33/Z$79 -> 0.007213769 | G33: =AA33/AA$79 -> 0 | I33: =AC33/AC$79 -> 0 | J33: =E33*$J$79 -> 1297763.6 | K33: 1297763.6 | O33: =P33+Q33+R33+S33 -> 1129924 | P33: 1129924 | T33: =U33+V33+W33+X33 -> 510000 | U33: 510000 | Y33: =Z33+AA33+AB33+AC33 -> 533884.36 | Z33: 533884.36 | AA33: 0 | AD33: =AE33+AF33+AG33+AH33 -> 1063168 | AE33: 1063168 | AI33: 2942463 | AJ33: =AI33-AL33-AM33 -> 2942463 | AN33: =AO33+AP33+AQ33+AR33 -> 841329 | AO33: 841329 | AS33: =AT33+AU33+AV33+AW33 -> 0 | AT33: 0 | AU33: 0 | AV33: 0 | AW33: 0 | AX33: =AY33+AZ33+BA33+BB33 -> 3.8992012e+09 | AY33: 3.8992012e+09 | BK33: =BM33+BO33+BQ33 -> 510000 | BM33: 510000
D34: 교통안전시설물공사 | E34: =Y34/Y$79 -> 0 | F34: =Z34/Z$79 -> 0 | G34: =AA34/AA$79 -> 0 | I34: =AC34/AC$79 -> 0 | J34: =E34*$J$79 -> 0 | K34: 0 | O34: =P34+Q34+R34+S34 -> 0 | P34: 0 | T34: =U34+V34+W34+X34 -> 56000 | U34: 56000 | Y34: =Z34+AA34+AB34+AC34 -> 0 | Z34: 0 | AA34: 0 | AD34: =AE34+AF34+AG34+AH34 -> 0 | AE34: 0 | AI34: 0 | AJ34: =AI34-AL34-AM34 -> 0 | AN34: =AO34+AP34+AQ34+AR34 -> 0 | AO34: 0 | AS34: =AT34+AU34+AV34+AW34 -> 140240 | AT34: 140240 | AU34: 0 | AV34: 0 | AW34: 0 | AX34: =AY34+AZ34+BA34+BB34 -> 0 | AY34: 0 | BK34: =BM34+BO34+BQ34 -> 56000 | BM34: 56000
D35: 정화조시설공사 | E35: =Y35/Y$79 -> 0 | F35: =Z35/Z$79 -> 0 | G35: =AA35/AA$79 -> 0 | I35: =AC35/AC$79 -> 0 | J35: =E35*$J$79 -> 0 | K35: 0 | O35: =P35+Q35+R35+S35 -> 0 | P35: 0 | T35: =U35+V35+W35+X35 -> 26000 | U35: 26000 | Y35: =Z35+AA35+AB35+AC35 -> 0 | Z35: 0 | AA35: 0 | AD35: =AE35+AF35+AG35+AH35 -> 0 | AE35: 0 | AI35: 0 | AJ35: =AI35-AL35-AM35 -> 0 | AN35: =AO35+AP35+AQ35+AR35 -> 0 | AO35: 0 | AS35: =AT35+AU35+AV35+AW35 -> 0 | AT35: 0 | AU35: 0 | AV35: 0 | AW35: 0 | AX35: =AY35+AZ35+BA35+BB35 -> 0 | AY35: 0 | BK35: =BM35+BO35+BQ35 -> 26000 | BM35: 26000
D36: 조경공사 | E36: =Y36/Y$79 -> 0.01561112 | F36: =Z36/Z$79 -> 0.017373873 | G36: =AA36/AA$79 -> 0 | I36: =AC36/AC$79 -> 0 | J36: =E36*$J$79 -> 3125575.7 | K36: 3125575.7 | O36: =P36+Q36+R36+S36 -> 3631898 | P36: 3631898 | T36: =U36+V36+W36+X36 -> 1475000 | U36: 1475000 | Y36: =Z36+AA36+AB36+AC36 -> 1285824.3 | Z36: 1285824.3 | AA36: 0 | AD36: =AE36+AF36+AG36+AH36 -> 5919313 | AE36: 5919313 | AI36: 5830435 | AJ36: =AI36-AL36-AM36 -> 5830435 | AN36: =AO36+AP36+AQ36+AR36 -> 4684206 | AO36: 4684206 | AS36: =AT36+AU36+AV36+AW36 -> 7314821 | AT36: 7314821 | AU36: 0 | AV36: 0 | AW36: 0 | AX36: =AY36+AZ36+BA36+BB36 -> 8.4790259e+09 | AY36: 8.4790259e+09 | BK36: =BM36+BO36+BQ36 -> 1475000 | BM36: 1475000
D37: 부대시설공사 | E37: =Y37/Y$79 -> 0.00185318 | F37: =Z37/Z$79 -> 0.0020624346 | G37: =AA37/AA$79 -> 0 | I37: =AC37/AC$79 -> 0 | J37: =E37*$J$79 -> 371033.87 | K37: 371033.87 | O37: =P37+Q37+R37+S37 -> 64567 | P37: 64567 | T37: =U37+V37+W37+X37 -> 751000 | U37: 751000 | Y37: =Z37+AA37+AB37+AC37 -> 152638.88 | Z37: 152638.88 | AA37: 0 | AD37: =AE37+AF37+AG37+AH37 -> 0 | AE37: 0 | AI37: 1852662 | AJ37: =AI37-AL37-AM37 -> 1852662 | AN37: =AO37+AP37+AQ37+AR37 -> 0 | AO37: 0 | AS37: =AT37+AU37+AV37+AW37 -> 2151685 | AT37: 2151685 | AU37: 0 | AV37: 0 | AW37: 0 | AX37: =AY37+AZ37+BA37+BB37 -> 0 | AY37: 0 | BK37: =BM37+BO37+BQ37 -> 751000 | BM37: 751000
D38: 소 계 | E38: =Y38/Y$79 -> 0.0854 | F38: =Z38/Z$79 -> 0.09504307 | G38: =AA38/AA$79 -> 0 | I38: =AC38/AC$79 -> 0 | J38: =SUM(J25:J37) -> 17098335 | K38: 17098335 | L38: 0 | M38: 0 | N38: 0 | O38: =SUM(O25:O37) -> 10669710 | P38: 10669710 | Q38: 0 | R38: 0 | S38: 0 | T38: =SUM(T25:T37) -> 8104000 | U38: 8104000 | V38: =SUM(V25:V37) -> 0 | W38: =SUM(W25:W37) -> 0 | X38: =SUM(X25:X37) -> 0 | Y38: =SUM(Y25:Y37) -> 7034049.6 | Z38: 7034049.6 | AA38: 0 | AB38: 0 | AC38: 0 | AD38: =SUM(AD25:AD37) -> 17185989 | AE38: 17185989 | AF38: 0 | AG38: 0 | AH38: 0 | AI38: =SUM(AI25:AI37) -> 24002867 | AJ38: =SUM(AJ25:AJ37) -> 24002867 | AK38: =SUM(AK25:AK37) -> 0 | AL38: =SUM(AL25:AL37) -> 0 | AM38: =SUM(AM25:AM37) -> 0 | AN38: =SUM(AN25:AN37) -> 13600000 | AO38: =SUM(AO25:AO37) -> 13600000 | AP38: =SUM(AP25:AP37) -> 0 | ... AS38: =SUM(AS25:AS37) -> 13452684 | AT38: 13452684 | AU38: =SUM(AU25:AU37) -> 0 | AV38: =SUM(AV25:AV37) -> 0 | AW38: =SUM(AW25:AW37) -> 0 | AX38: =SUM(AX25:AX37) -> 5.082643e+10 | AY38: 5.082643e+10 | AZ38: 0 | BA38: 0 | BB38: 0 | BK38: =SUM(BK25:BL37) -> 8104000 | BM38: =SUM(BM25:BN37) -> 8104000
C39: 건 축 | D39: 공통가설물공사 | E39: =Y39/Y$79 -> 0.0328509 | F39: =Z39/Z$79 -> 0.036560309 | G39: =AA39/AA$79 -> 0 | I39: =AC39/AC$79 -> 0 | J39: =E39*$J$79 -> 6577233 | K39: 6577233 | L39: 0 | M39: 0 | N39: 0 | O39: =P39+Q39+R39+S39 -> 3869633 | P39: 3869633 | Q39: 0 | R39: 0 | S39: 0 | T39: =U39+V39+W39+X39 -> 2857000 | U39: 2857000 | Y39: =Z39+AA39+AB39+AC39 -> 2705794.6 | Z39: 2705794.6 | AA39: 0 | AB39: 0 | AC39: 0 | AD39: =AE39+AF39+AG39+AH39 -> 3326752 | AE39: 3326752 | AF39: 0 | AG39: 0 | AH39: 0 | AI39: 9780964 | AJ39: =AI39-AL39-AM39 -> 9780964 | AN39: =AO39+AP39+AQ39+AR39 -> 2372021 | AO39: 2372021 | AS39: =AT39+AU39+AV39+AW39 -> 6153002 | AT39: 6153002 | AU39: 0 | AV39: 0 | AW39: 0 | AX39: =AY39+AZ39+BA39+BB39 -> 2.1398202e+10 | AY39: 2.1398202e+10 | AZ39: 0 | BA39: 0 | BB39: 0 | BK39: =BM39+BO39+BQ39 -> 2857000 | BM39: 2857000
C40: (23개 공종) | D40: 가시설물공사 | E40: =Y40/Y$79 -> 0.0112401 | F40: =Z40/Z$79 -> 0.012509293 | G40: =AA40/AA$79 -> 0 | I40: =AC40/AC$79 -> 0 | J40: =E40*$J$79 -> 2250433.2 | K40: 2250433.2 | O40: =P40+Q40+R40+S40 -> 769169 | P40: 769169 | T40: =U40+V40+W40+X40 -> 1100000 | U40: 1100000 | Y40: =Z40+AA40+AB40+AC40 -> 925801.18 | Z40: 925801.18 | AA40: 0 | AD40: =AE40+AF40+AG40+AH40 -> 1056611 | AE40: 1056611 | AI40: 2860728 | AJ40: =AI40-AL40-AM40 -> 2860728 | AN40: =AO40+AP40+AQ40+AR40 -> 753378 | AO40: 753378 | AS40: =AT40+AU40+AV40+AW40 -> 619704 | AT40: 619704 | AU40: 0 | AV40: 0 | AW40: 0 | AX40: =AY40+AZ40+BA40+BB40 -> 5.8954231e+09 | AY40: 5.8954231e+09 | BK40: =BM40+BO40+BQ40 -> 1100000 | BM40: 1100000
D41: 지정 및 기초공사 | E41: =Y41/Y$79 -> 0.0152145 | F41: =Z41/Z$79 -> 0.016932468 | G41: =AA41/AA$79 -> 0 | I41: =AC41/AC$79 -> 0 | J41: =E41*$J$79 -> 3046166.5 | K41: 3046166.5 | O41: =P41+Q41+R41+S41 -> 1942746 | P41: 1942746 | T41: =U41+V41+W41+X41 -> 5936000 | U41: 5936000 | Y41: =Z41+AA41+AB41+AC41 -> 1253156.3 | Z41: 1253156.3 | AA41: 0 | AD41: =AE41+AF41+AG41+AH41 -> 824850 | AE41: 824850 | AI41: 16537730 | AJ41: =AI41-AL41-AM41 -> 16537730 | AN41: =AO41+AP41+AQ41+AR41 -> 588129 | AO41: 588129 | AS41: =AT41+AU41+AV41+AW41 -> 1112581 | AT41: 1112581 | AU41: 0 | AV41: 0 | AW41: 0 | AX41: =AY41+AZ41+BA41+BB41 -> 1.7850031e+10 | AY41: 1.7850031e+10 | BK41: =BM41+BO41+BQ41 -> 5936000 | BM41: 5936000
D42: 철골공사 | E42: =Y42/Y$79 -> 0.0029187 | F42: =Z42/Z$79 -> 0.0032482694 | G42: =AA42/AA$79 -> 0 | I42: =AC42/AC$79 -> 0 | J42: =E42*$J$79 -> 584366.64 | K42: 584366.64 | O42: =P42+Q42+R42+S42 -> 0 | P42: 0 | T42: =U42+V42+W42+X42 -> 0 | U42: 0 | Y42: =Z42+AA42+AB42+AC42 -> 240401.41 | Z42: 240401.41 | AA42: 0 | AD42: =AE42+AF42+AG42+AH42 -> 0 | AE42: 0 | AI42: 0 | AJ42: =AI42-AL42-AM42 -> 0 | AN42: =AO42+AP42+AQ42+AR42 -> 0 | AO42: 0 | AS42: =AT42+AU42+AV42+AW42 -> 15641 | AT42: 15641 | AU42: 0 | AV42: 0 | AW42: 0 | AX42: =AY42+AZ42+BA42+BB42 -> 0 | AY42: 0 | BK42: =BM42+BO42+BQ42 -> 0 | BM42: 0
D43: 철근콘크리트공사 | E43: =Y43/Y$79 -> 0.274482 | F43: =Z43/Z$79 -> 0.30547555 | G43: =AA43/AA$79 -> 0 | I43: =AC43/AC$79 -> 0 | J43: =E43*$J$79 -> 54955331 | K43: 54955331 | O43: =P43+Q43+R43+S43 -> 37321871 | P43: 37321871 | T43: =U43+V43+W43+X43 -> 31600000 | U43: 31600000 | Y43: =Z43+AA43+AB43+AC43 -> 22607962 | Z43: 22607962 | AA43: 0 | AD43: =AE43+AF43+AG43+AH43 -> 54323138 | AE43: 54323138 | AI43: 60756405 | AJ43: =AI43-AL43-AM43 -> 60756405 | AN43: =AO43+AP43+AQ43+AR43 -> 38733164 | AO43: 38733164 | AS43: =AT43+AU43+AV43+AW43 -> 61208335 | AT43: 61208335 | AU43: 0 | AV43: 0 | AW43: 0 | AX43: =AY43+AZ43+BA43+BB43 -> 1.3170531e+11 | AY43: 1.3170531e+11 | BK43: =BM43+BO43+BQ43 -> 31600000 | BM43: 31600000
D44: 용접공사 | E44: =Y44/Y$79 -> 0 | F44: =Z44/Z$79 -> 0 | G44: =AA44/AA$79 -> 0 | I44: =AC44/AC$79 -> 0 | J44: =E44*$J$79 -> 0 | K44: 0 | O44: =P44+Q44+R44+S44 -> 0 | P44: 0 | T44: =U44+V44+W44+X44 -> 0 | U44: 0 | Y44: =Z44+AA44+AB44+AC44 -> 0 | Z44: 0 | AA44: 0 | AD44: =AE44+AF44+AG44+AH44 -> 0 | AE44: 0 | AI44: 0 | AJ44: =AI44-AL44-AM44 -> 0 | AN44: =AO44+AP44+AQ44+AR44 -> 0 | AO44: 0 | AS44: =AT44+AU44+AV44+AW44 -> 0 | AT44: 0 | AU44: 0 | AV44: 0 | AW44: 0 | AX44: =AY44+AZ44+BA44+BB44 -> 0 | AY44: 0 | BM44: 0
D45: 조적공사 | E45: =Y45/Y$79 -> 0.0145935 | F45: =Z45/Z$79 -> 0.016241347 | G45: =AA45/AA$79 -> 0 | I45: =AC45/AC$79 -> 0 | J45: =E45*$J$79 -> 2921833.2 | K45: 2921833.2 | O45: =P45+Q45+R45+S45 -> 1466972 | P45: 1466972 | T45: =U45+V45+W45+X45 -> 1789000 | U45: 1789000 | Y45: =Z45+AA45+AB45+AC45 -> 1202007.1 | Z45: 1202007.1 | AA45: 0 | AD45: =AE45+AF45+AG45+AH45 -> 2827300 | AE45: 2827300 | AI45: 4658899 | AJ45: =AI45-AL45-AM45 -> 4658899 | AN45: =AO45+AP45+AQ45+AR45 -> 2015904 | AO45: 2015904 | AS45: =AT45+AU45+AV45+AW45 -> 3469178 | AT45: 3469178 | AU45: 0 | AV45: 0 | AW45: 0 | AX45: =AY45+AZ45+BA45+BB45 -> 9.6073562e+09 | AY45: 9.6073562e+09 | BK45: =BM45+BO45+BQ45 -> 1789000 | BM45: 1789000
D46: 미장공사 | E46: =Y46/Y$79 -> 0.0200583 | F46: =Z46/Z$79 -> 0.022323213 | G46: =AA46/AA$79 -> 0 | I46: =AC46/AC$79 -> 0 | J46: =E46*$J$79 -> 4015966.5 | K46: 4015966.5 | O46: =P46+Q46+R46+S46 -> 2563896 | P46: 2563896 | T46: =U46+V46+W46+X46 -> 4079000 | U46: 4079000 | Y46: =Z46+AA46+AB46+AC46 -> 1652120.3 | Z46: 1652120.3 | AA46: 0 | AD46: =AE46+AF46+AG46+AH46 -> 3324521 | AE46: 3324521 | AI46: 7328912 | AJ46: =AI46-AL46-AM46 -> 7328912 | AN46: =AO46+AP46+AQ46+AR46 -> 2370430 | AO46: 2370430 | AS46: =AT46+AU46+AV46+AW46 -> 3554658 | AT46: 3554658 | AU46: 0 | AV46: 0 | AW46: 0 | AX46: =AY46+AZ46+BA46+BB46 -> 1.031699e+10 | AY46: 1.031699e+10 | BK46: =BM46+BO46+BQ46 -> 4079000 | BM46: 4079000
D47: 단열공사 | E47: =Y47/Y$79 -> 0.0083214 | F47: =Z47/Z$79 -> 0.0092610234 | G47: =AA47/AA$79 -> 0 | I47: =AC47/AC$79 -> 0 | J47: =E47*$J$79 -> 1666066.6 | K47: 1666066.6 | O47: =P47+Q47+R47+S47 -> 796262 | P47: 796262 | T47: =U47+V47+W47+X47 -> 1476000 | U47: 1476000 | Y47: =Z47+AA47+AB47+AC47 -> 685399.77 | Z47: 685399.77 | AA47: 0 | AD47: =AE47+AF47+AG47+AH47 -> 0 | AE47: 0 | AI47: 1280516 | AJ47: =AI47-AL47-AM47 -> 1280516 | AN47: =AO47+AP47+AQ47+AR47 -> 0 | AO47: 0 | AS47: =AT47+AU47+AV47+AW47 -> 1385270 | AT47: 1385270 | AU47: 0 | AV47: 0 | AW47: 0 | AX47: =AY47+AZ47+BA47+BB47 -> 2797675000 | AY47: 2797675000 | BK47: =BM47+BO47+BQ47 -> 1476000 | BM47: 1476000
D48: 방수.방습공사 | E48: =Y48/Y$79 -> 0.0152145 | F48: =Z48/Z$79 -> 0.016932468 | G48: =AA48/AA$79 -> 0 | I48: =AC48/AC$79 -> 0 | J48: =E48*$J$79 -> 3046166.5 | K48: 3046166.5 | O48: =P48+Q48+R48+S48 -> 1096925 | P48: 1096925 | T48: =U48+V48+W48+X48 -> 1728000 | U48: 1728000 | Y48: =Z48+AA48+AB48+AC48 -> 1253156.3 | Z48: 1253156.3 | AA48: 0 | AD48: =AE48+AF48+AG48+AH48 -> 2725569 | AE48: 2725569 | AI48: 6021150 | AJ48: =AI48-AL48-AM48 -> 6021150 | AN48: =AO48+AP48+AQ48+AR48 -> 1943369 | AO48: 1943369 | AS48: =AT48+AU48+AV48+AW48 -> 1038983 | AT48: 1038983 | AU48: 0 | AV48: 0 | AW48: 0 | AX48: =AY48+AZ48+BA48+BB48 -> 5.8954231e+09 | AY48: 5.8954231e+09 | BK48: =BM48+BO48+BQ48 -> 1728000 | BM48: 1728000
D49: 목공사 | E49: =Y49/Y$79 -> 0.0231012 | F49: =Z49/Z$79 -> 0.025709707 | G49: =AA49/AA$79 -> 0 | I49: =AC49/AC$79 -> 0 | J49: =E49*$J$79 -> 4625199.8 | K49: 4625199.8 | O49: =P49+Q49+R49+S49 -> 2388785 | P49: 2388785 | T49: =U49+V49+W49+X49 -> 3777000 | U49: 3777000 | Y49: =Z49+AA49+AB49+AC49 -> 1902751.6 | Z49: 1902751.6 | AA49: 0 | AD49: =AE49+AF49+AG49+AH49 -> 6796558 | AE49: 6796558 | AI49: 3214913 | AJ49: =AI49-AL49-AM49 -> 3214913 | AN49: =AO49+AP49+AQ49+AR49 -> 4846041 | AO49: 4846041 | AS49: =AT49+AU49+AV49+AW49 -> 4046323 | AT49: 4046323 | AU49: 0 | AV49: 0 | AW49: 0 | AX49: =AY49+AZ49+BA49+BB49 -> 1678605000 | AY49: 1678605000 | BK49: =BM49+BO49+BQ49 -> 3777000 | BM49: 3777000
D50: 가구공사 | E50: =Y50/Y$79 -> 0.0276966 | F50: =Z50/Z$79 -> 0.030824003 | G50: =AA50/AA$79 -> 0 | I50: =AC50/AC$79 -> 0 | J50: =E50*$J$79 -> 5545266.4 | K50: 5545266.4 | O50: =P50+Q50+R50+S50 -> 6251149 | P50: 6251149 | T50: =U50+V50+W50+X50 -> 7167000 | U50: 7167000 | Y50: =Z50+AA50+AB50+AC50 -> 2281255.9 | Z50: 2281255.9 | AA50: 0 | AD50: =AE50+AF50+AG50+AH50 -> 6893965 | AE50: 6893965 | AI50: 4985840 | AJ50: =AI50-AL50-AM50 -> 4985840 | AN50: =AO50+AP50+AQ50+AR50 -> 4915494 | AO50: 4915494 | AS50: =AT50+AU50+AV50+AW50 -> 9126900 | AT50: 9126900 | AU50: 0 | AV50: 0 | AW50: 0 | AX50: =AY50+AZ50+BA50+BB50 -> 2.5710595e+10 | AY50: 2.5710595e+10 | BK50: =BM50+BO50+BQ50 -> 7167000 | BM50: 7167000
D51: 금속공사 | E51: =Y51/Y$79 -> 0.0062721 | F51: =Z51/Z$79 -> 0.0069803236 | G51: =AA51/AA$79 -> 0 | I51: =AC51/AC$79 -> 0 | J51: =E51*$J$79 -> 1255766.6 | K51: 1255766.6 | O51: =P51+Q51+R51+S51 -> 2574469 | P51: 2574469 | T51: =U51+V51+W51+X51 -> 1579000 | U51: 1579000 | Y51: =Z51+AA51+AB51+AC51 -> 516607.29 | Z51: 516607.29 | AA51: 0 | AD51: =AE51+AF51+AG51+AH51 -> 1226252 | AE51: 1226252 | AI51: 2724502 | AJ51: =AI51-AL51-AM51 -> 2724502 | AN51: =AO51+AP51+AQ51+AR51 -> 874334 | AO51: 874334 | AS51: =AT51+AU51+AV51+AW51 -> 4257903 | AT51: 4257903 | AU51: 0 | AV51: 0 | AW51: 0 | AX51: =AY51+AZ51+BA51+BB51 -> 5.4041378e+09 | AY51: 5.4041378e+09 | BK51: =BM51+BO51+BQ51 -> 1579000 | BM51: 1579000
D52: 지붕 및 홈통공사 | E52: =Y52/Y$79 -> 0.0051543 | F52: =Z52/Z$79 -> 0.0057363056 | G52: =AA52/AA$79 -> 0 | I52: =AC52/AC$79 -> 0 | J52: =E52*$J$79 -> 1031966.6 | K52: 1031966.6 | O52: =P52+Q52+R52+S52 -> 237887 | P52: 237887 | T52: =U52+V52+W52+X52 -> 689000 | U52: 689000 | Y52: =Z52+AA52+AB52+AC52 -> 424538.66 | Z52: 424538.66 | AA52: 0 | AD52: =AE52+AF52+AG52+AH52 -> 199094 | AE52: 199094 | AI52: 2370317 | AJ52: =AI52-AL52-AM52 -> 2370317 | AN52: =AO52+AP52+AQ52+AR52 -> 141956 | AO52: 141956 | AS52: =AT52+AU52+AV52+AW52 -> 774054 | AT52: 774054 | AU52: 0 | AV52: 0 | AW52: 0 | AX52: =AY52+AZ52+BA52+BB52 -> 1678605000 | AY52: 1678605000 | BK52: =BM52+BO52+BQ52 -> 689000 | BM52: 689000
D53: 창호공사 | E53: =Y53/Y$79 -> 0.0611685 | F53: =Z53/Z$79 -> 0.068075433 | G53: =AA53/AA$79 -> 0 | I53: =AC53/AC$79 -> 0 | J53: =E53*$J$79 -> 12246833 | K53: 12246833 | O53: =P53+Q53+R53+S53 -> 4070516 | P53: 4070516 | T53: =U53+V53+W53+X53 -> 7531000 | U53: 7531000 | Y53: =Z53+AA53+AB53+AC53 -> 5038199.8 | Z53: 5038199.8 | AA53: 0 | AD53: =AE53+AF53+AG53+AH53 -> 8507433 | AE53: 8507433 | AI53: 9862699 | AJ53: =AI53-AL53-AM53 -> 9862699 | AN53: =AO53+AP53+AQ53+AR53 -> 6065919 | AO53: 6065919 | AS53: =AT53+AU53+AV53+AW53 -> 5115255 | AT53: 5115255 | AU53: 0 | AV53: 0 | AW53: 0 | AX53: =AY53+AZ53+BA53+BB53 -> 2.0197283e+10 | AY53: 2.0197283e+10 | BK53: =BM53+BO53+BQ53 -> 7531000 | BM53: 7531000
D54: 유리공사 | E54: =Y54/Y$79 -> 0.01242 | F54: =Z54/Z$79 -> 0.013822423 | G54: =AA54/AA$79 -> 0 | I54: =AC54/AC$79 -> 0 | J54: =E54*$J$79 -> 2486666.5 | K54: 2486666.5 | O54: =P54+Q54+R54+S54 -> 1123357 | P54: 1123357 | T54: =U54+V54+W54+X54 -> 1393000 | U54: 1393000 | Y54: =Z54+AA54+AB54+AC54 -> 1022984.7 | Z54: 1022984.7 | AA54: 0 | AD54: =AE54+AF54+AG54+AH54 -> 1565919 | AE54: 1565919 | AI54: 3460118 | AJ54: =AI54-AL54-AM54 -> 3460118 | AN54: =AO54+AP54+AQ54+AR54 -> 1116522 | AO54: 1116522 | AS54: =AT54+AU54+AV54+AW54 -> 1143015 | AT54: 1143015 | AU54: 0 | AV54: 0 | AW54: 0 | AX54: =AY54+AZ54+BA54+BB54 -> 5.8408358e+09 | AY54: 5.8408358e+09 | BK54: =BM54+BO54+BQ54 -> 1393000 | BM54: 1393000
D55: 타일공사 | E55: =Y55/Y$79 -> 0.0222939 | F55: =Z55/Z$79 -> 0.024811249 | G55: =AA55/AA$79 -> 0 | I55: =AC55/AC$79 -> 0 | J55: =E55*$J$79 -> 4463566.4 | K55: 4463566.4 | O55: =P55+Q55+R55+S55 -> 2326009 | P55: 2326009 | T55: =U55+V55+W55+X55 -> 2553000 | U55: 2553000 | Y55: =Z55+AA55+AB55+AC55 -> 1836257.6 | Z55: 1836257.6 | AA55: 0 | AD55: =AE55+AF55+AG55+AH55 -> 3849712 | AE55: 3849712 | AI55: 4386449 | AJ55: =AI55-AL55-AM55 -> 4386449 | AN55: =AO55+AP55+AQ55+AR55 -> 2744898 | AO55: 2744898 | AS55: =AT55+AU55+AV55+AW55 -> 3043957 | AT55: 3043957 | AU55: 0 | AV55: 0 | AW55: 0 | AX55: =AY55+AZ55+BA55+BB55 -> 1.1954608e+10 | AY55: 1.1954608e+10 | BK55: =BM55+BO55+BQ55 -> 2553000 | BM55: 2553000
D56: 돌공사 | E56: =Y56/Y$79 -> 0.010557 | F56: =Z56/Z$79 -> 0.01174906 | G56: =AA56/AA$79 -> 0 | I56: =AC56/AC$79 -> 0 | J56: =E56*$J$79 -> 2113666.6 | K56: 2113666.6 | O56: =P56+Q56+R56+S56 -> 2881079 | P56: 2881079 | T56: =U56+V56+W56+X56 -> 1825000 | U56: 1825000 | Y56: =Z56+AA56+AB56+AC56 -> 869537.02 | Z56: 869537.02 | AA56: 0 | AD56: =AE56+AF56+AG56+AH56 -> 339033 | AE56: 339033 | AI56: 2506542 | AJ56: =AI56-AL56-AM56 -> 2506542 | AN56: =AO56+AP56+AQ56+AR56 -> 241735 | AO56: 241735 | AS56: =AT56+AU56+AV56+AW56 -> 10166247 | AT56: 10166247 | AU56: 0 | AV56: 0 | AW56: 0 | AX56: =AY56+AZ56+BA56+BB56 -> 1.1408735e+10 | AY56: 1.1408735e+10 | BK56: =BM56+BO56+BQ56 -> 1825000 | BM56: 1825000
... D61: 잡공사 | E61: =Y61/Y$79 -> 0.0050301 | F61: =Z61/Z$79 -> 0.0055980813 | G61: =AA61/AA$79 -> 0 | I61: =AC61/AC$79 -> 0 | J61: =E61*$J$79 -> 1007099.9 | K61: 1007099.9 | O61: =P61+Q61+R61+S61 -> 3568308 | P61: 3568308 | T61: =U61+V61+W61+X61 -> 2690000 | U61: 2690000 | Y61: =Z61+AA61+AB61+AC61 -> 414308.81 | Z61: 414308.81 | AA61: 0 | AD61: =AE61+AF61+AG61+AH61 -> 7858581 | AE61: 7858581 | AI61: 2479298 | AJ61: =AI61-AL61-AM61 -> 2479298 | AN61: =AO61+AP61+AQ61+AR61 -> 5603290 | AO61: 5603290 | AS61: =AT61+AU61+AV61+AW61 -> 1067985 | AT61: 1067985 | AU61: 0 | AV61: 0 | AW61: 0 | AX61: =AY61+AZ61+BA61+BB61 -> 3.0158986e+09 | AY61: 3.0158986e+09 | BK61: =BM61+BO61+BQ61 -> 2690000 | BM61: 2690000
D62: 소 계 | E62: =Y62/Y$79 -> 0.621 | F62: =Z62/Z$79 -> 0.69112115 | G62: =AA62/AA$79 -> 0 | I62: =AC62/AC$79 -> 0 | J62: =SUM(J39:J61) -> 1.2433333e+08 | K62: 1.2433333e+08 | L62: 0 | M62: 0 | N62: 0 | O62: =SUM(O39:O61) -> 81370666 | P62: 81370666 | Q62: 0 | R62: 0 | S62: 0 | T62: =SUM(T39:T61) -> 88033000 | U62: 88033000 | V62: =SUM(V39:V61) -> 0 | W62: =SUM(W39:W61) -> 0 | X62: =SUM(X39:X61) -> 0 | Y62: =SUM(Y39:Y61) -> 51149236 | Z62: 51149236 | AA62: 0 | AB62: 0 | AC62: 0 | AD62: =SUM(AD39:AD61) -> 116540240 | AE62: 116540240 | AF62: 0 | AG62: 0 | AH62: 0 | AI62: =SUM(AI39:AI61) -> 159328904 | AJ62: =SUM(AJ39:AJ61) -> 159328904 | AK62: =SUM(AK39:AK61) -> 0 | AL62: =SUM(AL39:AL61) -> 0 | AM62: =SUM(AM39:AM61) -> 0 | AN62: =SUM(AN39:AN61) -> 83094836 | AO62: =SUM(AO39:AO61) -> 83094836 | AP62: =SUM(AP39:AP61) -> 0 | ... AS62: =SUM(AS39:AS61) -> 121249042 | AT62: 121249042 | AU62: =SUM(AU39:AU61) -> 0 | AV62: =SUM(AV39:AV61) -> 0 | AW62: =SUM(AW39:AW61) -> 0 | AX62: =SUM(AX39:AX61) -> 3.1671523e+11 | AY62: 3.1671523e+11 | AZ62: 0 | BA62: 0 | BB62: 0 | BK62: =SUM(BK39:BL61) -> 88033000 | BM62: =SUM(BM39:BN61) -> 88033000
C63: 기계설비 | D63: 급수설비공사 | E63: =Y63/Y$79 -> 0.01880151 | F63: =Z63/Z$79 -> 0.020924511 | G63: =AA63/AA$79 -> 0 | I63: =AC63/AC$79 -> 0 | J63: =E63*$J$79 -> 3764338.6 | K63: 3764338.6 | O63: =P63+Q63+R63+S63 -> 1339767 | P63: 1339767 | T63: =U63+V63+W63+X63 -> 2784000 | U63: 2784000 | Y63: =Z63+AA63+AB63+AC63 -> 1548603.7 | Z63: 1548603.7 | AA63: 0 | AD63: =AE63+AF63+AG63+AH63 -> 4856360 | AE63: 4856360 | AI63: 2424807 | AJ63: =AI63-AL63-AM63 -> 2424807 | AN63: =AO63+AP63+AQ63+AR63 -> 3798291 | AO63: 3798291 | AS63: =AT63+AU63+AV63+AW63 -> 1388293 | AT63: 1388293 | AU63: 0 | AV63: 0 | AW63: 0 | AX63: =AY63+AZ63+BA63+BB63 -> 2.7487845e+09 | AY63: 2.7487845e+09 | BE63: 총사업비 | BF63: 총공사비 | BG63: 순공사비 | BH63: =총괄표!D12 -> 159685033 | BI63: =BH63/$BH$66 -> 0.8984 | BK63: =BM63+BO63+BQ63 -> 2784000 | BM63: 2784000
C64: (9개 공사) | D64: 급탕설비공사 | E64: =Y64/Y$79 -> 0.01253434 | F64: =Z64/Z$79 -> 0.013949674 | G64: =AA64/AA$79 -> 0 | I64: =AC64/AC$79 -> 0 | J64: =E64*$J$79 -> 2509559.1 | K64: 2509559.1 | O64: =P64+Q64+R64+S64 -> 1339767 | P64: 1339767 | T64: =U64+V64+W64+X64 -> 2120000 | U64: 2120000 | Y64: =Z64+AA64+AB64+AC64 -> 1032402.4 | Z64: 1032402.4 | AA64: 0 | AD64: =AE64+AF64+AG64+AH64 -> 4356016 | AE64: 4356016 | AI64: 2424807 | AJ64: =AI64-AL64-AM64 -> 2424807 | AN64: =AO64+AP64+AQ64+AR64 -> 3406958 | AO64: 3406958 | AS64: =AT64+AU64+AV64+AW64 -> 2179797 | AT64: 2179797 | AU64: 0 | AV64: 0 | AW64: 0 | AX64: =AY64+AZ64+BA64+BB64 -> 3.0452746e+09 | AY64: 3.0452746e+09 | BG64: 일반관리비 | BH64: =총괄표!D13 -> 11073439 | BI64: =BH64/$BH$66 -> 0.0623 | BK64: =BM64+BO64+BQ64 -> 2120000 | BM64: 2120000
D65: 오배수 및 통기설비공사 | E65: =Y65/Y$79 -> 0.0213109 | F65: =Z65/Z$79 -> 0.023717252 | G65: =AA65/AA$79 -> 0 | I65: =AC65/AC$79 -> 0 | J65: =E65*$J$79 -> 4266755.4 | K65: 4266755.4 | O65: =P65+Q65+R65+S65 -> 1824020 | P65: 1824020 | T65: =U65+V65+W65+X65 -> 2218000 | U65: 2218000 | Y65: =Z65+AA65+AB65+AC65 -> 1755291.9 | Z65: 1755291.9 | AA65: 0 | AD65: =AE65+AF65+AG65+AH65 -> 2928524 | AE65: 2928524 | AI65: 5775945 | AJ65: =AI65-AL65-AM65 -> 5775945 | AN65: =AO65+AP65+AQ65+AR65 -> 2290478 | AO65: 2290478 | AS65: =AT65+AU65+AV65+AW65 -> 8326598 | AT65: 8326598 | AU65: 0 | AV65: 0 | AW65: 0 | AX65: =AY65+AZ65+BA65+BB65 -> 4.1258559e+09 | AY65: 4.1258559e+09 | BG65: 이윤 | BH65: =총괄표!D14 -> 6985332 | BI65: =BH65/$BH$66 -> 0.039300003 | BK65: =BM65+BO65+BQ65 -> 2218000 | BM65: 2218000
D66: 위생기구공사 | E66: =Y66/Y$79 -> 0.01379534 | F66: =Z66/Z$79 -> 0.015353062 | G66: =AA66/AA$79 -> 0 | I66: =AC66/AC$79 -> 0 | J66: =E66*$J$79 -> 2762029.8 | K66: 2762029.8 | O66: =P66+Q66+R66+S66 -> 1097640 | P66: 1097640 | T66: =U66+V66+W66+X66 -> 2161000 | U66: 2161000 | Y66: =Z66+AA66+AB66+AC66 -> 1136265.9 | Z66: 1136265.9 | AA66: 0 | AD66: =AE66+AF66+AG66+AH66 -> 1800089 | AE66: 1800089 | AI66: 6375336 | AJ66: =AI66-AL66-AM66 -> 6375336 | AN66: =AO66+AP66+AQ66+AR66 -> 1407898 | AO66: 1407898 | AS66: =AT66+AU66+AV66+AW66 -> 1686593 | AT66: 1686593 | AU66: 0 | AV66: 0 | AW66: 0 | AX66: =AY66+AZ66+BA66+BB66 -> 4.2240906e+09 | AY66: 4.2240906e+09 | BG66: 계 | BH66: =SUM(BH63:BH65) -> 177743804 | BK66: =BM66+BO66+BQ66 -> 2161000 | BM66: 2161000
D67: 승강기기계공사 | E67: =Y67/Y$79 -> 0.0195455 | F67: =Z67/Z$79 -> 0.02175251 | G67: =AA67/AA$79 -> 0 | I67: =AC67/AC$79 -> 0 | J67: =E67*$J$79 -> 3913296.4 | K67: 3913296.4 | O67: =P67+Q67+R67+S67 -> 2679534 | P67: 2679534 | T67: =U67+V67+W67+X67 -> 2116000 | U67: 2116000 | Y67: =Z67+AA67+AB67+AC67 -> 1609883.1 | Z67: 1609883.1 | AA67: 0 | AD67: =AE67+AF67+AG67+AH67 -> 0 | AE67: 0 | AI67: 0 | AJ67: =AI67-AL67-AM67 -> 0 | AN67: =AO67+AP67+AQ67+AR67 -> 0 | AO67: 0 | AS67: =AT67+AU67+AV67+AW67 -> 2818000 | AT67: 2818000 | AU67: 0 | AV67: 0 | AW67: 0 | AX67: =AY67+AZ67+BA67+BB67 -> 5.1573199e+09 | AY67: 5.1573199e+09 | BF67: 간접비 | BH67: =총괄표!D22 -> 200418374 | BK67: =BM67+BO67+BQ67 -> 2116000 | BM67: 2116000
D68: 난방설비공사 | E68: =Y68/Y$79 -> 0.01128595 | F68: =Z68/Z$79 -> 0.01256032 | G68: =AA68/AA$79 -> 0 | I68: =AC68/AC$79 -> 0 | J68: =E68*$J$79 -> 2259613.1 | K68: 2259613.1 | O68: =P68+Q68+R68+S68 -> 2921660 | P68: 2921660 | T68: =U68+V68+W68+X68 -> 1964000 | U68: 1964000 | Y68: =Z68+AA68+AB68+AC68 -> 929577.65 | Z68: 929577.65 | AA68: 0 | AD68: =AE68+AF68+AG68+AH68 -> 788839 | AE68: 788839 | AI68: 4658899 | AJ68: =AI68-AL68-AM68 -> 4658899 | AN68: =AO68+AP68+AQ68+AR68 -> 616972 | AO68: 616972 | AS68: =AT68+AU68+AV68+AW68 -> 3680962 | AT68: 3680962 | AU68: 0 | AV68: 0 | AW68: 0 | AX68: =AY68+AZ68+BA68+BB68 -> 7.7114211e+09 | AY68: 7.7114211e+09 | BF68: 대지비 | BH68: =총괄표!D23 -> 169137067 | BK68: =BM68+BO68+BQ68 -> 1964000 | BM68: 1964000
D69: 가스설비공사 | E69: =Y69/Y$79 -> 0.00626717 | F69: =Z69/Z$79 -> 0.006974837 | G69: =AA69/AA$79 -> 0 | I69: =AC69/AC$79 -> 0 | J69: =E69*$J$79 -> 1254779.5 | K69: 1254779.5 | O69: =P69+Q69+R69+S69 -> 613387 | P69: 613387 | T69: =U69+V69+W69+X69 -> 475000 | U69: 475000 | Y69: =Z69+AA69+AB69+AC69 -> 516201.22 | Z69: 516201.22 | AA69: 0 | AD69: =AE69+AF69+AG69+AH69 -> 942138 | AE69: 942138 | AI69: 2506542 | AJ69: =AI69-AL69-AM69 -> 2506542 | AN69: =AO69+AP69+AQ69+AR69 -> 736871 | AO69: 736871 | AS69: =AT69+AU69+AV69+AW69 -> 533000 | AT69: 533000 | AU69: 0 | AV69: 0 | AW69: 0 | AX69: =AY69+AZ69+BA69+BB69 -> 1.1296986e+09 | AY69: 1.1296986e+09 | BF69: 부가세 | BH69: =총괄표!D24 -> 6211909 | BK69: =BM69+BO69+BQ69 -> 475000 | BM69: 475000
D70: 자동제어설비공사 | E70: =Y70/Y$79 -> 0.00124839 | F70: =Z70/Z$79 -> 0.0013893538 | G70: =AA70/AA$79 -> 0 | I70: =AC70/AC$79 -> 0 | J70: =E70*$J$79 -> 249946.03 | K70: 249946.03 | O70: =P70+Q70+R70+S70 -> 258269 | P70: 258269 | T70: =U70+V70+W70+X70 -> 415000 | U70: 415000 | Y70: =Z70+AA70+AB70+AC70 -> 102824.79 | Z70: 102824.79 | AA70: 0 | AD70: =AE70+AF70+AG70+AH70 -> 287994 | AE70: 287994 | AI70: 762862 | AJ70: =AI70-AL70-AM70 -> 762862 | AN70: =AO70+AP70+AQ70+AR70 -> 225247 | AO70: 225247 | AS70: =AT70+AU70+AV70+AW70 -> 165000 | AT70: 165000 | AU70: 0 | AV70: 0 | AW70: 0 | AX70: =AY70+AZ70+BA70+BB70 -> 3.9293866e+08 | AY70: 3.9293866e+08 | BE70: =총괄표!D25 -> 553511154 | BF70: 계 | BH70: =SUM(BH66:BH69) -> 553511154 | BK70: =BM70+BO70+BQ70 -> 415000 | BM70: 415000
D71: 특수설비공사 | E71: =Y71/Y$79 -> 0.0213109 | F71: =Z71/Z$79 -> 0.023717252 | G71: =AA71/AA$79 -> 0 | I71: =AC71/AC$79 -> 0 | J71: =E71*$J$79 -> 4266755.4 | K71: 4266755.4 | O71: =P71+Q71+R71+S71 -> 0 | P71: 0 | T71: =U71+V71+W71+X71 -> 1178000 | U71: 1178000 | Y71: =Z71+AA71+AB71+AC71 -> 1755291.9 | Z71: 1755291.9 | AA71: 0 | AD71: =AE71+AF71+AG71+AH71 -> 1172803 | AE71: 1172803 | AI71: 0 | AJ71: =AI71-AL71-AM71 -> 0 | AN71: =AO71+AP71+AQ71+AR71 -> 917285 | AO71: 917285 | AS71: =AT71+AU71+AV71+AW71 -> 522658 | AT71: 522658 | AU71: 0 | AV71: 0 | AW71: 0 | AX71: =AY71+AZ71+BA71+BB71 -> 6.1887839e+09 | AY71: 6.1887839e+09 | BH71: 차이 | BI71: =BE70-BH70 -> 0 | BK71: =BM71+BO71+BQ71 -> 1178000 | BM71: 1178000
D72: 소 계 | E72: =SUM(E63:E71) -> 0.1261 | F72: =Z72/Z$79 -> 0.14033877 | G72: =AA72/AA$79 -> 0 | I72: =AC72/AC$79 -> 0 | J72: =SUM(J63:J71) -> 25247073 | K72: =SUM(K63:K71) -> 25247073 | L72: 0 | M72: 0 | N72: 0 | O72: =SUM(O63:O71) -> 12074044 | P72: 12074044 | Q72: 0 | R72: 0 | S72: 0 | T72: =SUM(T63:T71) -> 15431000 | U72: 15431000 | V72: =SUM(V63:V71) -> 0 | W72: =SUM(W63:W71) -> 0 | X72: =SUM(X63:X71) -> 0 | Y72: =SUM(Y63:Y71) -> 10386343 | Z72: 10386343 | AA72: 0 | AB72: 0 | AC72: 0 | AD72: =SUM(AD63:AD71) -> 17132763 | AE72: 17132763 | AF72: 0 | AG72: 0 | AH72: 0 | AI72: =SUM(AI63:AI71) -> 24929198 | AJ72: =SUM(AJ63:AJ71) -> 24929198 | AK72: =SUM(AK63:AK71) -> 0 | AL72: =SUM(AL63:AL71) -> 0 | AM72: =SUM(AM63:AM71) -> 0 | AN72: =SUM(AN63:AN71) -> 13400000 | AO72: =SUM(AO63:AO71) -> 13400000 | AP72: =SUM(AP63:AP71) -> 0 | ... AS72: =SUM(AS63:AS71) -> 21300901 | AT72: 21300901 | AU72: =SUM(AU63:AU71) -> 0 | AV72: =SUM(AV63:AV71) -> 0 | AW72: =SUM(AW63:AW71) -> 0 | AX72: =SUM(AX63:AX71) -> 3.4724168e+10 | AY72: 3.4724168e+10 | AZ72: 0 | BA72: 0 | BB72: 0 | BK72: =SUM(BK63:BL71) -> 15431000 | BM72: =SUM(BM63:BN71) -> 15431000
C73: 전 기 (15개 공사) | E73: =Y73/Y$79 -> 0.0384 | F73: =Z73/Z$79 -> 0 | G73: =AA73/AA$79 -> 0.91867206 | I73: =AC73/AC$79 -> 0 | J73: =E73*$J$79 -> 7688244.4 | K73: 0 | L73: 7688244.4 | N73: 0 | O73: =P73+Q73+R73+S73 -> 12913417 | P73: 0 | S73: 12913417 | T73: =U73+V73+W73+X73 -> 5757000 | V73: 5757000 | X73: 0 | Y73: =Z73+AA73+AB73+AC73 -> 3162851.3 | Z73: 0 | AA73: 3162851.3 | AC73: 0 | AD73: =AE73+AF73+AG73+AH73 -> 10555171 | AF73: 10555171 | AI73: 14739558 | AJ73: =AI73-AL73-AM73 -> 0 | AM73: =AI73 -> 14739558 | AN73: =AO73+AP73+AQ73+AR73 -> 7620000 | AP73: 7620000 | AS73: =AT73+AU73+AV73+AW73 -> 9191402 | AT73: 0 | AU73: 9191402 | AV73: 0 | AW73: 0 | AX73: =AY73+AZ73+BA73+BB73 -> 4.9505912e+10 | AY73: 0 | BB73: 4.9505912e+10 | BJ73: 5757000 | BK73: 0
C74: 정보통신 (13개 공사) | E74: =Y74/Y$79 -> 0.0127 | F74: =Z74/Z$79 -> 0 | G74: =AA74/AA$79 -> 0 | I74: =AC74/AC$79 -> 0.21287104 | J74: =E74*$J$79 -> 2542726.7 | K74: 0 | L74: 0 | N74: 2542726.7 | O74: =P74+Q74+R74+S74 -> 11299239 | P74: 0 | S74: 11299239 | T74: =U74+V74+W74+X74 -> 2318000 | X74: 2318000 | Y74: =Z74+AA74+AB74+AC74 -> 1046047.2 | Z74: 0 | AA74: 0 | AC74: 1046047.2 | AD74: =AE74+AF74+AG74+AH74 -> 9652964 | AH74: 9652964 | AI74: 11933321 | AJ74: =AI74-AL74-AM74 -> 0 | AM74: =AI74 -> 11933321 | AN74: =AO74+AP74+AQ74+AR74 -> 6400000 | AR74: 6400000 | AS74: =AT74+AU74+AV74+AW74 -> 4613658 | AT74: 0 | AU74: 0 | AV74: 0 | AW74: 4613658 | AX74: =AY74+AZ74+BA74+BB74 -> 2.8301862e+10 | AY74: 0 | BB74: 2.8301862e+10 | BG74: 순공사비 비율 | BH74: =+BH63/BE70 -> 0.2884947 | BK74: 2318000
C75: 소방설비 (2개 공사) | E75: =Y75/Y$79 -> 0.0148 | F75: =Z75/Z$79 -> 0 | G75: =AA75/AA$79 -> 0 | I75: =AC75/AC$79 -> 0.24807018 | J75: =E75*$J$79 -> 2963177.5 | K75: 0 | L75: 0 | N75: 2963177.5 | O75: =P75+Q75+R75+S75 -> 10492151 | P75: 0 | S75: 10492151 | T75: =U75+V75+W75+X75 -> 5843000 | X75: 5843000 | Y75: =Z75+AA75+AB75+AC75 -> 1219015.6 | Z75: 0 | AA75: 0 | AC75: 1219015.6 | AD75: =AE75+AF75+AG75+AH75 -> 9259790 | AH75: 9259790 | AI75: 10271374 | AJ75: =AI75-AL75-AM75 -> 0 | AM75: =AI75 -> 10271374 | AN75: =AO75+AP75+AQ75+AR75 -> 7680000 | AR75: 7680000 | AS75: =AT75+AU75+AV75+AW75 -> 7407163 | AT75: 0 | AU75: 0 | AV75: 0 | AW75: 7407163 | AX75: =AY75+AZ75+BA75+BB75 -> 2.9103248e+10 | AY75: 0 | BB75: 2.9103248e+10 | BG75: 총공사비 비율 | BH75: =+BH66/BE70 -> 0.32112055 | BK75: 5843000
C76: 계 | E76: =SUM(E73:E75) -> 0.0659 | F76: =Z76/Z$79 -> 0 | G76: =AA76/AA$79 -> 0.91867206 | I76: =AC76/AC$79 -> 0.46094122 | J76: =SUM(J73:J75) -> 13194149 | K76: =SUM(K73:K75) -> 0 | L76: =SUM(L73:L75) -> 7688244.4 | M76: =SUM(M73:M75) -> 0 | N76: =SUM(N73:N75) -> 5505904.2 | O76: =SUM(O73:O75) -> 34704807 | P76: =SUM(P73:P75) -> 0 | Q76: =SUM(Q73:Q75) -> 0 | ... AH76: =SUM(AH73:AH75) -> 18912754 | AI76: =SUM(AI72,AI62,AI38)+SUM(AI73:AI75) -> 245205222 | AJ76: =SUM(AJ72,AJ62,AJ38)+SUM(AJ73:AJ75) -> 208260969 | AK76: =SUM(AK72,AK62,AK38)+SUM(AK73:AK75) -> 0 | AL76: =SUM(AL72,AL62,AL38)+SUM(AL73:AL75) -> 0 | AM76: =SUM(AM72,AM62,AM38)+SUM(AM73:AM75) -> 36944253 | AN76: =SUM(AN73:AN75) -> 21700000 | AO76: =SUM(AO73:AO75) -> 0 | AP76: =SUM(AP73:AP75) -> 7620000 | AQ76: =SUM(AQ73:AQ75) -> 0 | AR76: =SUM(AR73:AR75) -> 14080000 | AS76: =SUM(AS73:AS75) -> 21212223 | AT76: =SUM(AT73:AT75) -> 0 | AU76: =SUM(AU73:AU75) -> 9191402 | ... BB76: =SUM(BB73:BB75) -> 1.0691102e+11 | BG76: 대지비 비율 | BH76: =+BH68/BE70 -> 0.3055712 | BJ76: =SUM(BJ73:BJ75) -> 5757000 | BK76: =SUM(BK73:BK75) -> 8161000 | BM76: =BM72+BM62+BM38 -> 111568000
B77: 일반관리비 | E77: =Y77/Y$79 -> 0.0623 | F77: =Z77/Z$79 -> 0.045067554 | G77: =AA77/AA$79 -> 0.029045692 | I77: =AC77/AC$79 -> 0.34513444 | J77: =E77*$J$79 -> 12473376 | K77: =J77*0.65 -> 8107694.2 | L77: =J77*0.02 -> 249467.51 | M77: 0 | N77: =J77-K77-L77 -> 4116214 | O77: =P77+Q77+R77+S77 -> 8070885 | P77: 6053164 | R77: 0 | S77: 2017721 | T77: =U77+V77+W77+X77 -> 9213000 | U77: 8191161 | V77: 422670 | X77: 599169 | Y77: =Z77+AA77+AB77+AC77 -> 5131396.8 | Z77: 3335407.9 | AA77: 100000 | AB77: 0 | AC77: 1695988.9 | AD77: =AE77+AF77+AG77+AH77 -> 12296222 | AE77: 10286849 | AF77: 719741 | AG77: 0 | AH77: 1289632 | AI77: 13622512 | AJ77: 11570054 | AM77: 2052458 | AN77: =AO77+AP77+AQ77+AR77 -> 8000000 | AO77: 6664000 | AP77: 469139 | AQ77: 0 | AR77: 866861 | AS77: =AT77+AU77+AV77+AW77 -> 25904120 | AT77: 22803455 | AU77: 1343539.7 | AV77: 0 | AW77: 1757125.8 | AX77: =AY77+AZ77+BA77+BB77 -> 25179075000 | AY77: 1.9892266e+10 | BA77: 0 | BB77: 5.2868088e+09 | BG77: 간접비 비율 | BH77: =+BH67/BE70 -> 0.36208552 | BJ77: 422670 | BK77: 599169 | BM77: 8191161
B78: 이 윤 | E78: =Y78/Y$79 -> 0.0393 | F78: =Z78/Z$79 -> 0.028429452 | G78: =AA78/AA$79 -> 0.052282246 | I78: =AC78/AC$79 -> 0.19392434 | J78: =E78*$J$79 -> 7868437.6 | K78: =J78*0.65 -> 5114484.4 | L78: =J78*0.06 -> 472106.26 | M78: 0 | N78: =J78-K78-L78 -> 2281846.9 | O78: =P78+Q78+R78+S78 -> 14527594 | P78: 10895695 | R78: 0 | S78: 3631899 | T78: =U78+V78+W78+X78 -> 4766000 | U78: 4237390 | V78: 218653 | X78: 309957 | Y78: =Z78+AA78+AB78+AC78 -> 3236980.7 | Z78: 2104037.4 | AA78: 180000 | AB78: 0 | AC78: 952943.23 | AD78: =AE78+AF78+AG78+AH78 -> 11450121 | AE78: 9579012 | AF78: 670216 | AG78: 0 | AH78: 1200893 | AI78: 13622513 | AJ78: 11570054 | AM78: 2052459 | AN78: =AO78+AP78+AQ78+AR78 -> 8000000 | AO78: 6664000 | AP78: 469139 | AQ78: 0 | AR78: 866861 | AS78: =AT78+AU78+AV78+AW78 -> 11481102 | AT78: 10106840 | AU78: 595477.32 | AV78: 0 | AW78: 778785.03 | AX78: =AY78+AZ78+BA78+BB78 -> 25179075000 | AY78: 1.9892266e+10 | BA78: 0 | BB78: 5.2868088e+09 | BJ78: 218653 | BK78: 309957 | BM78: 4237390
B79: 총 공 사 비 계 | E79: =E78+E77+E76+E72+E62+E38 -> 1 | F79: =Z79/Z$79 -> 1 | G79: =AA79/AA$79 -> 1 | I79: =AC79/AC$79 -> 1 | J79: 2.002147e+08 | K79: =K78+K77+K76+K72+K62+K38 -> 1.7990091e+08 | L79: =L78+L77+L76+L72+L62+L38 -> 8409818.2 | M79: =M78+M77+M76+M72+M62+M38 -> 0 | N79: =N78+N77+N76+N72+N62+N38 -> 11903965 | O79: =O78+O77+O76+O72+O62+O38 -> 161417706 | P79: =P78+P77+P76+P72+P62+P38 -> 121063279 | Q79: =Q78+Q77+Q76+Q72+Q62+Q38 -> 0 | R79: =R78+R77+R76+R72+R62+R38 -> 0 | ... U79: =U78+U77+U76+U72+U62+U38 -> 123996551 | V79: =V38+V62+V72+V73+V74+V75+V77+V78 -> 6398323 | W79: =W38+W62+W72+W73+W74+W75+W77+W78 -> 0 | X79: =X38+X62+X72+X73+X74+X75+X77+X78 -> 9070126 | Y79: =Y78+Y77+Y76+Y72+Y62+Y38 -> 82365920 | Z79: =Z78+Z77+Z76+Z72+Z62+Z38 -> 74009074 | AA79: =AA78+AA77+AA76+AA72+AA62+AA38 -> 3442851.3 | AB79: =AB78+AB77+AB76+AB72+AB62+AB38 -> 0 | AC79: =AC78+AC77+AC76+AC72+AC62+AC38 -> 4913994.9 | AD79: =AD78+AD77+AD76+AD72+AD62+AD38 -> 204073260 | AE79: =AE78+AE77+AE76+AE72+AE62+AE38 -> 170724853 | AF79: =AF78+AF77+AF76+AF72+AF62+AF38 -> 11945128 | ... AH79: =AH78+AH77+AH76+AH72+AH62+AH38 -> 21403279 | AI79: =AI38+AI62+AI72+AI73+AI74+AI75+AI77+AI78 -> 272450247 | AJ79: =AJ38+AJ62+AJ72+AJ73+AJ74+AJ75+AJ77+AJ78 -> 231401077 | AK79: =AK38+AK62+AK72+AK73+AK74+AK75+AK77+AK78 -> 0 | AL79: =AL38+AL62+AL72+AL73+AL74+AL75+AL77+AL78 -> 0 | AM79: =AM38+AM62+AM72+AM73+AM74+AM75+AM77+AM78 -> 41049170 | AN79: =AN78+AN77+AN76+AN72+AN62+AN38 -> 147794836 | AO79: =AO78+AO77+AO76+AO72+AO62+AO38 -> 123422836 | AP79: =AP78+AP77+AP76+AP72+AP62+AP38 -> 8558278 | AQ79: =AQ78+AQ77+AQ76+AQ72+AQ62+AQ38 -> 0 | AR79: =AR78+AR77+AR76+AR72+AR62+AR38 -> 15813722 | AS79: =AS78+AS77+AS76+AS72+AS62+AS38 -> 214600072 | AT79: =AT78+AT77+AT76+AT72+AT62+AT38 -> 1.8891292e+08 | AU79: =AU38+AU62+AU72+AU73+AU74+AU75+AU77+AU78 -> 11130419 | AV79: =AV38+AV62+AV72+AV73+AV74+AV75+AV77+AV78 -> 0 | AW79: =AW38+AW62+AW72+AW73+AW74+AW75+AW77+AW78 -> 14556732 | AX79: =AX78+AX77+AX76+AX72+AX62+AX38 -> 559535000000 | AY79: =AY78+AY77+AY76+AY72+AY62+AY38 -> 4.4205036e+11 | AZ79: =AZ78+AZ77+AZ76+AZ72+AZ62+AZ38 -> 0 | BA79: =BA78+BA77+BA76+BA72+BA62+BA38 -> 0 | BB79: =BB78+BB77+BB76+BB72+BB62+BB38 -> 1.1748464e+11 | BK79: =BM79+BO79+BP79+BQ79 -> 123996551 | BM79: =BM78+BM77+BM75+BM74+BM73+BM72+BM62+BM38 -> 123996551
B80: 총 공 사 평 당 공 사 비 | E80: =E79/E$13 -> 1.6120988e-05 | J80: =J79/J$13 -> 3227.6588 | O80: =O79/O$13 -> 3003.5077 | P80: =P79+P78+P77+P73+P63+P39 -> 143221538 | Q80: =Q79+Q78+Q77+Q73+Q63+Q39 -> 0 | R80: =R79+R78+R77+R73+R63+R39 -> 0 | S80: =S79+S78+S77+S73+S63+S39 -> 58917464 | T80: =T79/T$13 -> 2999.3562 | Y80: =Y79/Y$13 -> 3593.2311 | Z80: =Z79+Z78+Z77+Z73+Z63+Z39 -> 83702917 | AA80: =AA79+AA78+AA77+AA73+AA63+AA39 -> 6885702.7 | AB80: =AB79+AB78+AB77+AB73+AB63+AB39 -> 0 | AC80: =AC79+AC78+AC77+AC73+AC63+AC39 -> 7562927 | AD80: =AD79/AD$13 -> 3391.2335 | AE80: =AE79+AE78+AE77+AE73+AE63+AE39 -> 198773826 | AF80: =AF79+AF78+AF77+AF73+AF63+AF39 -> 23890256 | AG80: =AG79+AG78+AG77+AG73+AG63+AG39 -> 0 | AH80: =AH79+AH78+AH77+AH73+AH63+AH39 -> 23893804 | AI80: =AI79/AI$13 -> 3169.8896 | AJ80: =AJ39+AJ63+AJ73+AJ74+AJ75+AJ76+AJ78+AJ79 -> 463437871 | AK80: =AK39+AK63+AK73+AK74+AK75+AK76+AK78+AK79 -> 0 | AL80: =AL39+AL63+AL73+AL74+AL75+AL76+AL78+AL79 -> 0 | AM80: =AM39+AM63+AM73+AM74+AM75+AM76+AM78+AM79 -> 116990135 | AN80: =AN79/AN$13 -> 3394.9847 | AO80: =AO79+AO78+AO77+AO73+AO63+AO39 -> 142921148 | AP80: =AP79+AP78+AP77+AP73+AP63+AP39 -> 17116556 | AQ80: =AQ79+AQ78+AQ77+AQ73+AQ63+AQ39 -> 0 | AR80: =AR79+AR78+AR77+AR73+AR63+AR39 -> 17547444 | AS80: =AS79/AS$13 -> 3189.9873 | AT80: =AT79+AT78+AT77+AT73+AT63+AT39 -> 2.2936451e+08 | AU80: =AU39+AU63+AU73+AU74+AU75+AU76+AU78+AU79 -> 30108700 | AV80: =AV39+AV63+AV73+AV74+AV75+AV76+AV78+AV79 -> 0 | AW80: =AW39+AW63+AW73+AW74+AW75+AW76+AW78+AW79 -> 39377159 | AX80: =AX79/AX$13 -> 3967435.6 | AY80: =AY79+AY78+AY77+AY73+AY63+AY39 -> 5.0598188e+11 | AZ80: =AZ79+AZ78+AZ77+AZ73+AZ63+AZ39 -> 0 | BA80: =BA79+BA78+BA77+BA73+BA63+BA39 -> 0 | BB80: =BB79+BB78+BB77+BB73+BB63+BB39 -> 1.7756417e+11 | BK80: =BM80+BO80+BP80+BQ80 -> 245442941 | BM80: =BM79+BM78+BM76+BM75+BM74+BM73+BM63+BM39 -> 245442941
G82: =X79-E79-H79 -> 9070125 | H82: =E79-F79-I79 -> -1 | J82: =J78+J77+J76+J72+J62+J38 -> 2.002147e+08 | L82: =AC79-J79-M79 -> -1.953007e+08 | M82: =J79-K79-N79 -> 8409818.2 | Q82: =AH79-O79-R79 -> -140014427 | R82: =O79-P79-S79 -> 0 | V82: =AM79-T79-W79 -> -98415830 | W82: =T79-U79-X79 -> 6398323 | AA82: =AH79-Y79-AB79 -> -60962641 | AB82: =Y79-Z79-AC79 -> 3442851.3 | AF82: =AR79-AD79-AG79 -> -188259538 | AG82: =AD79-AE79-AH79 -> 11945128 | AK82: =D79-AI79-AL79 -> -272450247 | AL82: =AI79-AJ79-AM79 -> 0 | AP82: =AW79-AN79-AQ79 -> -1.332381e+08 | AQ82: =AN79-AO79-AR79 -> 8558278 | AU82: =X79-AS79-AV79 -> -205529946 | AV82: =AS79-AT79-AW79 -> 11130419 | AZ82: =S79-AX79-BA79 -> -559494645573 | BA82: =AX79-AY79-BB79 -> 0
J83: =200214697420.2/1000 -> 2.002147e+08
Z84: =Z77/Y77 -> 0.65 | AA84: =AA77/Y77 -> 0.019487871 | AC84: =AC77/Y77 -> 0.33051213
Z85: =Z78/Y78 -> 0.65 | AA85: =AA78/Y78 -> 0.055607376 | AC85: =AC78/Y78 -> 0.29439262

Sheet 공종별현황표 (3)
B1: [별지 제2호 서식]
B3: 공종별 총공사비 구성 현황표
I4: (단위 : 천원) | N4: (단위 : 천원) | S4: (단위 : 천원) | X4: (단위 : 천원) | AH4: (단위 : 천원) | AM4: (단위 : 천원) | AR4: (단위 : 천원) | AW4: (단위 : 천원) | BC4: (단위 : 천원)
B5: 구 분 | C5: 분 야 | D5: 공 종 | E5: 1.전 체 보할 | F5: 감리대상 | G5: 전기감리 | H5: 감리제외 | I5: 타법감리 | J5: ★.전 체 | K5: 감리대상 | L5: 전기감리 | M5: 감리제외 | N5: 타법감리 | O5: 1.전 체 | P5: 감리대상 | Q5: 전기감리 | R5: 감리제외 | S5: 타법감리 | T5: 2.전 체 | U5: 감리대상 | V5: 전기감리 | W5: 감리제외 | X5: 타법감리 | Y5: 3.전 체 | Z5: 감리대상 | AA5: 전기감리 | AB5: 감리제외 | AC5: 타법감리 | AD5: 4.전 체 | AE5: 감리대상 | AF5: 전기감리 | AG5: 감리제외 | AH5: 타법감리 | AI5: 5.전 체 | AJ5: 감리대상 | AK5: 전기감리 | AL5: 감리제외 | AM5: 타법감리 | AN5: 6.전 체 | AO5: 감리대상 | AP5: 전기감리 | AQ5: 감리제외 | AR5: 타법감리 | AS5: 7.전 체 | AT5: 감리대상 | AU5: 전기감리 | AV5: 감리제외 | AW5: 타법감리 | AX5: 0.전 체 | AY5: 감리대상 | AZ5: 전기감리 | BA5: 감리제외 | BB5: 타법감리 | BC5: 비고
B6: 공사명 | E6: 인천검단지구AA11블럭 공동주택 신축공사 | J6: 인천검단지구AA11블럭 공동주택 신축공사 | O6: 원당동 검단신도시 AB15-2블록 공동주택(아파트) 신축공사 | T6: 인천 검단신도시 AA4블록 유승한내들 공동주택 신축공사 | Y6: 마전지구 지역주택조합 공동주택(아파트) 신축공사 | AD6: 원당동 검단신도시 AB15-1블록 공동주택(아파트) 신축공사 | AI6: 원당동 검단신도시 AB16블록 공동주택 신축공사 | AN6: 원당동 검단신도시 AB6블록 공동주택 신축공사 | AS6: 인천검단 AB-4블럭 대방노블랜드 건설공사 | AX6: 인천 루원시티 주상1,2블록 주상복합 신축공사
B7: 건설사 | E7: 금성백조건설 | J7: 금성백조건설 | O7: ㈜호반건설주식회사 | T7: ㈜유승종합건설 대표이사 | Y7: 양우건설 주식회사 | AD7: 우미건설㈜ | AI7: ㈜대우건설 | AN7: 한신공영㈜ | AS7: 대방건설㈜ | AX7: 에스케이건설(주)
B8: 설계사 | E8: 디에이그룹엔지니어링 종합건축사사무소 | J8: 디에이그룹엔지니어링 종합건축사사무소 | O8: ㈜토담건축사사무소 | T8: ㈜유선엔지니어링건축사사무소 | Y8: ㈜성도 건축사사무소 | AD8: 에이앤유디자인그룹건축사사무소㈜ | AI8: ㈜정림건축종합건축사사무소 | AN8: ㈜티씨엠씨 건축사사무소 | AS8: ㈜현대건축사사무소 | AX8: ㈜이안디자인건축사사무소
B9: 위치 | E9: 인천광역시 서구 원당동 284번지 일대 | J9: 인천광역시 서구 원당동 284번지 일대 | O9: 원당동 검단신도시 AB15-2블록 | T9: 인천광역시 서구 당하동 검단신도시 AA4블록 | Y9: 인천광역시 서구 마전지구 17BL-2LOT 외 4필지 | AD9: 원당동 검단신도시 AB15-1블록 | AI9: 인천광역시 서구 원당동 검단신도시 AB16블록 | AN9: 인천광역시 서구 원당동 검단신도시 AB6블록 | AS9: 인천광역시 서구 원당동 검단신도시 AB4블록 | AX9: 인천광역시 서구 가정동 루원시티 주상1,2블록
B10: 대지면적 | E10: 76,618㎡ | J10: 76,618㎡ | O10: 59,667㎡ | T10: 57,122㎡ | Y10: 23,841.00㎡ | AD10: 65,087㎡ | AI10: 85,540㎡ | AN10: 45,732㎡ | AS10: 69,448㎡ | AX10: 70,422㎡
B11: 연면적 | E11: 205,060.9471㎡(용적률 186.98%) | J11: 205,060.9471㎡(용적률 186.98%) | O11: 177,663.0224㎡(용적률 208.77%) | T11: 153,713.4289㎡(용적률 184.82%) | Y11: 75,776.9324㎡(용적률 215.26%) | AD11: 198,931.2606㎡(용적률 211.77%) | AI11: 284,130.39㎡(용적률 207.83%) | AN11: 143,911.6847㎡(용적률 214.96%) | AS11: 222,390.1418㎡(용적률 209.99%) | AX11: 466,221.1759㎡(용적률 439.64%)
B12: 대지면적 | E12: =76618*0.3025 -> 23176.945 | J12: =76618*0.3025 -> 23176.945 | O12: =59667*0.3025 -> 18049.267 | T12: =57122*0.3025 -> 17279.405 | Y12: =23841*0.3025 -> 7211.9025 | AD12: =65087*0.3025 -> 19688.818 | AI12: =85540*0.3025 -> 25875.85 | AN12: =45732*0.3025 -> 13833.93 | AS12: =69448*0.3025 -> 21008.02 | AX12: =70422*0.3025 -> 21302.655
B13: 연면적 | E13: =205060.9471*0.3025 -> 62030.936 | J13: =205060.9471*0.3025 -> 62030.936 | O13: =177663.0224*0.3025 -> 53743.064 | T13: =153713.4289*0.3025 -> 46498.312 | Y13: =75776.9324*0.3025 -> 22922.522 | AD13: =198931.2606*0.3025 -> 60176.706 | AI13: =284130.39*0.3025 -> 85949.443 | AN13: =143911.6847*0.3025 -> 43533.285 | AS13: =222390.1418*0.3025 -> 67273.018 | AX13: =466221.1759*0.3025 -> 141031.91
B14: 규 모 | E14: 지하2층/지상20~25층(14개동), 공동주택/근린생활시설 | J14: 지하2층/지상20~25층(14개동), 공동주택/근린생활시설 | O14: 지하2층/지상27층(16개동), 공동주택/근린생활시설 | T14: 지하3층/지상24~25층 공동주택(아파트) 10개동 및 부대·복리시설 | Y14: 지하3층/지상18층(7개동), 공동주택/근린생활시설 | AD14: 지하2층/지상29층(13개동), 공동주택/근린생활시설 | AI14: 지하2층/지상18~29층(16개동), 공동주택/근린생활시설 | AN14: 지하2층/지상27층(9개동), 공동주택/근린생활시설 | AS14: 지하2층/지상25층(15개동), 공동주택/부대복리시설 | AX14: 지하4층/지상37~45층 공동주택(아파트) 11개동 및 부대·복리시설, 업무시설 (오피스텔) 1개동
B15: 세대수 | E15: 1,249세대 | J15: 1,249세대 | O15: 1,168세대 | T15: 938세대 | Y15: 545세대 | AD15: 1,268세대 | AI15: 1,540세대 | AN15: 936세대 | AS15: 1,279세대 | AX15: 아파트 2,378세대, 오피스텔 726호
B16: 공사기간 | E16: 2019.05. ~ 2021.11.(33개월) | J16: 2019.05. ~ 2021.11.(33개월) | O16: 2018.09. ~ 2021.5.(33개월) | T16: 2018.10. ~ 2021.08.(착공 후 35개월) | Y16: 2018.10.15. ~ 2021.4.15.(30개월) | AD16: 2018.12. ~ 2021.12.(37개월) | AI16: 2018.12. ~ 2021.6.(31개월) | AN16: 2018.12. ~ 2021.8.(33개월) | AS16: 2019.02.14.~ 2021.11.13.(33개월) | AX16: 2018.10. ~ 2022.01.(착공 후 39개월)
B17: 사업승인일 | E17: 2018. 03. 30. | J17: 2019. 03. 30. 예정 | O17: 2018. 07. 26. | T17: 2018. 08. 03. | Y17: 2018. 08. 09. | AD17: 2018. 11. 1. | AI17: 2018. 11. 2. | AN17: 2018. 11. 7. | AS17: 2018. 12. 7. | AX17: 2018. 08. 02.
B18: 총사업비 | E18: 481,840,670천원 | J18: 481,840,670천원 | O18: 481,840,670천원 | T18: 346,520,492천원 | Y18: 134,818,012천원 | AD18: 512,342,530천원 | AI18: 675,048,794천원 | AN18: 359,000,000천원 | AS18: 557,402,785천원 | AX18: 1,231,323,934천원
B19: 대지비 | E19: 155,228,160천원 | J19: 155,228,160천원 | O19: 155,228,160천원 | T19: 127,457,472천원 | Y19: 35,412,956천원 | AD19: 162,885,625천원 | AI19: 226,554,131천원 | AN19: 108,000,000천원 | AS19: 175,897,023천원 | AX19: 343,861,314천원
B20: 총공사비 | E20: 161,417,706천원(일반관리비, 이윤포함) | J20: 161,417,706천원(일반관리비, 이윤포함) | O20: 161,417,706천원(일반관리비, 이윤포함) | T20: 139,465,000천원(타법공사비 포함) | Y20: 82,365,920천원(일반관리비, 이윤포함) | AD20: 204,073,260천원(일반관리비, 이윤포함) | AI20: 272,450,247천원(일반관리비, 이윤포함) | AN20: 147,794,836천원(일반관리비, 이윤포함) | AS20: 214,600,073천원(일반관리비, 이윤포함) | AX20: 559,535,000천원(타법공사비 포함)
B21: 감리대상 공사비 | E21: 121,063,279천원 | J21: 121,063,279천원 | O21: 121,063,279천원 | T21: 123,996,551천원(일반관리비, 이윤 포함) | Y21: 74,009,074천원 | AD21: 170,724,853천원 | AI21: 231,401,077천원 | AN21: 123,422,836천원 | AS21: 188,912,923천원 | AX21: 442,050,360천원(일반관리비, 이윤 포함)
B22: 타법감리대상공사비 | E22: 40,354,427천원 | J22: 40,354,427천원 | O22: 40,354,427천원 | T22: 15,468,449천원(일반관리비, 이윤 포함) | Y22: 8,356,846천원 | AD22: 33,348,407천원 | AI22: 41,049,170천원 | AN22: 15,813,722천원 | AS22: 25,687,150천원 | AX22: 117,484,639천원(일반관리비, 이윤 포함)
B23: 공사범위 | E23: 전기공사 제외 | O23: 전기공사 제외 | T23: 전기공사 제외
B24: 구 분 | C24: 분 야 | D24: 공 종 | E24: 1.전 체 | F24: 감리대상 | G24: 전기감리 | H24: 감리제외 | I24: 타법감리 | J24: ★.전 체 | K24: 감리대상 | L24: 전기감리 | M24: 감리제외 | N24: 타법감리 | O24: 1.전 체 | P24: 감리대상 | Q24: 전기감리 | R24: 감리제외 | S24: 타법감리 | T24: 2.전 체 | U24: 감리대상 | V24: 전기감리 | W24: 감리제외 | X24: 타법감리 | Y24: 3.전 체 | Z24: 감리대상 | AA24: 전기감리 | AB24: 감리제외 | AC24: 타법감리 | AD24: 4.전 체 | AE24: 감리대상 | AF24: 전기감리 | AG24: 감리제외 | AH24: 타법감리 | AI24: 5.전 체 | AJ24: 감리대상 | AK24: 전기감리 | AL24: 감리제외 | AM24: 타법감리 | AN24: 6.전 체 | AO24: 감리대상 | AP24: 전기감리 | AQ24: 감리제외 | AR24: 타법감리 | AS24: 7.전 체 | AT24: 감리대상 | AU24: 전기감리 | AV24: 감리제외 | AW24: 타법감리 | AX24: 0.전 체 | AY24: 감리대상 | AZ24: 감리제외 | BA24: 감리제외 | BB24: 타법감리
B25: 순공사비 | C25: 토 목 | D25: 토공사 | E25: =Y25/Y$79 -> 0.02129876 | F25: =Z25/Z$79 -> 0.023703742 | G25: =AA25/AA$79 -> 0 | I25: =AC25/AC$79 -> 0 | J25: =E25*$J$79 -> 4264324.8 | K25: 4264324.8 | O25: =P25+Q25+R25+S25 -> 2453549 | P25: 2453549 | T25: =U25+V25+W25+X25 -> 3604000 | U25: 3604000 | Y25: =Z25+AA25+AB25+AC25 -> 1754292 | Z25: 1754292 | AA25: 0 | AD25: =AE25+AF25+AG25+AH25 -> 6521026 | AE25: 6521026 | AI25: 5340025 | AJ25: =AI25-AL25-AM25 -> 5340025 | AN25: =AO25+AP25+AQ25+AR25 -> 5160363 | AO25: 5160363 | AS25: =AT25+AU25+AV25+AW25 -> 2198108 | AT25: 2198108 | AU25: 0 | AV25: 0 | AW25: 0 | AX25: =AY25+AZ25+BA25+BB25 -> 2.8817548e+10 | AY25: 2.8817548e+10 | BK25: =BM25+BO25+BQ25 -> 3604000 | BM25: 3604000
C26: (13개 공종) | D26: 흙막이공사 | E26: =Y26/Y$79 -> 0.0261324 | F26: =Z26/Z$79 -> 0.029083179 | G26: =AA26/AA$79 -> 0 | I26: =AC26/AC$79 -> 0 | J26: =E26*$J$79 -> 5232090.6 | K26: 5232090.6 | O26: =P26+Q26+R26+S26 -> 2259848 | P26: 2259848 | T26: =U26+V26+W26+X26 -> 1022000 | U26: 1022000 | Y26: =Z26+AA26+AB26+AC26 -> 2152419.2 | Z26: 2152419.2 | AA26: 0 | AD26: =AE26+AF26+AG26+AH26 -> 1947839 | AE26: 1947839 | AI26: 2670012 | AJ26: =AI26-AL26-AM26 -> 2670012 | AN26: =AO26+AP26+AQ26+AR26 -> 1541407 | AO26: 1541407 | AS26: =AT26+AU26+AV26+AW26 -> 259308 | AT26: 259308 | AU26: 0 | AV26: 0 | AW26: 0 | AX26: =AY26+AZ26+BA26+BB26 -> 7.1680019e+09 | AY26: 7.1680019e+09 | BK26: =BM26+BO26+BQ26 -> 1022000 | BM26: 1022000
D27: 비탈면보호공사 | E27: =Y27/Y$79 -> 0 | F27: =Z27/Z$79 -> 0 | G27: =AA27/AA$79 -> 0 | I27: =AC27/AC$79 -> 0 | J27: =E27*$J$79 -> 0 | K27: 0 | O27: =P27+Q27+R27+S27 -> 0 | P27: 0 | T27: =U27+V27+W27+X27 -> 0 | U27: 0 | Y27: =Z27+AA27+AB27+AC27 -> 0 | Z27: 0 | AA27: 0 | AD27: =AE27+AF27+AG27+AH27 -> 0 | AE27: 0 | AI27: 0 | AJ27: =AI27-AL27-AM27 -> 0 | AN27: =AO27+AP27+AQ27+AR27 -> 0 | AO27: 0 | AS27: =AT27+AU27+AV27+AW27 -> 0 | AT27: 0 | AU27: 0 | AV27: 0 | AW27: 0 | AX27: =AY27+AZ27+BA27+BB27 -> 0 | AY27: 0 | BK27: =BM27+BO27+BQ27 -> 0 | BM27: 0
D28: 옹벽공사 | E28: =Y28/Y$79 -> 0.010248 | F28: =Z28/Z$79 -> 0.011405168 | G28: =AA28/AA$79 -> 0 | I28: =AC28/AC$79 -> 0 | J28: =E28*$J$79 -> 2051800.2 | K28: 2051800.2 | O28: =P28+Q28+R28+S28 -> 0 | P28: 0 | T28: =U28+V28+W28+X28 -> 0 | U28: 0 | Y28: =Z28+AA28+AB28+AC28 -> 844085.95 | Z28: 844085.95 | AA28: 0 | AD28: =AE28+AF28+AG28+AH28 -> 671475 | AE28: 671475 | AI28: 1879907 | AJ28: =AI28-AL28-AM28 -> 1879907 | AN28: =AO28+AP28+AQ28+AR28 -> 531366 | AO28: 531366 | AS28: =AT28+AU28+AV28+AW28 -> 178200 | AT28: 178200 | AU28: 0 | AV28: 0 | AW28: 0 | AX28: =AY28+AZ28+BA28+BB28 -> 2.7362816e+08 | AY28: 2.7362816e+08 | BK28: =BM28+BO28+BQ28 -> 0 | BM28: 0
D29: 석축공사 | E29: =Y29/Y$79 -> 0 | F29: =Z29/Z$79 -> 0 | G29: =AA29/AA$79 -> 0 | I29: =AC29/AC$79 -> 0 | J29: =E29*$J$79 -> 0 | K29: 0 | O29: =P29+Q29+R29+S29 -> 0 | P29: 0 | T29: =U29+V29+W29+X29 -> 59000 | U29: 59000 | Y29: =Z29+AA29+AB29+AC29 -> 0 | Z29: 0 | AA29: 0 | AD29: =AE29+AF29+AG29+AH29 -> 0 | AE29: 0 | AI29: 0 | AJ29: =AI29-AL29-AM29 -> 0 | AN29: =AO29+AP29+AQ29+AR29 -> 0 | AO29: 0 | AS29: =AT29+AU29+AV29+AW29 -> 0 | AT29: 0 | AU29: 0 | AV29: 0 | AW29: 0 | AX29: =AY29+AZ29+BA29+BB29 -> 0 | AY29: 0 | BK29: =BM29+BO29+BQ29 -> 59000 | BM29: 59000
D30: 우,오수공사 | E30: =Y30/Y$79 -> 0.0035868 | F30: =Z30/Z$79 -> 0.0039918089 | G30: =AA30/AA$79 -> 0 | I30: =AC30/AC$79 -> 0 | J30: =E30*$J$79 -> 718130.08 | K30: 718130.08 | O30: =P30+Q30+R30+S30 -> 1129924 | P30: 1129924 | T30: =U30+V30+W30+X30 -> 532000 | U30: 532000 | Y30: =Z30+AA30+AB30+AC30 -> 295430.08 | Z30: 295430.08 | AA30: 0 | AD30: =AE30+AF30+AG30+AH30 -> 1063168 | AE30: 1063168 | AI30: 3487363 | AJ30: =AI30-AL30-AM30 -> 3487363 | AN30: =AO30+AP30+AQ30+AR30 -> 841329 | AO30: 841329 | AS30: =AT30+AU30+AV30+AW30 -> 1210322 | AT30: 1210322 | AU30: 0 | AV30: 0 | AW30: 0 | AX30: =AY30+AZ30+BA30+BB30 -> 2.1890253e+09 | AY30: 2.1890253e+09 | BK30: =BM30+BO30+BQ30 -> 532000 | BM30: 532000
D31: 공동구공사 | E31: =Y31/Y$79 -> 0 | F31: =Z31/Z$79 -> 0 | G31: =AA31/AA$79 -> 0 | I31: =AC31/AC$79 -> 0 | J31: =E31*$J$79 -> 0 | K31: 0 | O31: =P31+Q31+R31+S31 -> 0 | P31: 0 | T31: =U31+V31+W31+X31 -> 0 | U31: 0 | Y31: =Z31+AA31+AB31+AC31 -> 0 | Z31: 0 | AA31: 0 | AD31: =AE31+AF31+AG31+AH31 -> 0 | AE31: 0 | AI31: 0 | AJ31: =AI31-AL31-AM31 -> 0 | AN31: =AO31+AP31+AQ31+AR31 -> 0 | AO31: 0 | AS31: =AT31+AU31+AV31+AW31 -> 0 | AT31: 0 | AU31: 0 | AV31: 0 | AW31: 0 | AX31: =AY31+AZ31+BA31+BB31 -> 0 | AY31: 0 | BK31: =BM31+BO31+BQ31 -> 0 | BM31: 0
D32: 지하저수조 및 급수공사 | E32: =Y32/Y$79 -> 0.00018788 | F32: =Z32/Z$79 -> 0.00020909475 | G32: =AA32/AA$79 -> 0 | I32: =AC32/AC$79 -> 0 | J32: =E32*$J$79 -> 37616.337 | K32: 37616.337 | O32: =P32+Q32+R32+S32 -> 0 | P32: 0 | T32: =U32+V32+W32+X32 -> 69000 | U32: 69000 | Y32: =Z32+AA32+AB32+AC32 -> 15474.909 | Z32: 15474.909 | AA32: 0 | AD32: =AE32+AF32+AG32+AH32 -> 0 | AE32: 0 | AI32: 0 | AJ32: =AI32-AL32-AM32 -> 0 | AN32: =AO32+AP32+AQ32+AR32 -> 0 | AO32: 0 | AS32: =AT32+AU32+AV32+AW32 -> 0 | AT32: 0 | AU32: 0 | AV32: 0 | AW32: 0 | AX32: =AY32+AZ32+BA32+BB32 -> 0 | AY32: 0 | BK32: =BM32+BO32+BQ32 -> 69000 | BM32: 69000
D33: 도로포장공사 | E33: =Y33/Y$79 -> 0.00648186 | F33: =Z33/Z$79 -> 0.007213769 | G33: =AA33/AA$79 -> 0 | I33: =AC33/AC$79 -> 0 | J33: =E33*$J$79 -> 1297763.6 | K33: 1297763.6 | O33: =P33+Q33+R33+S33 -> 1129924 | P33: 1129924 | T33: =U33+V33+W33+X33 -> 510000 | U33: 510000 | Y33: =Z33+AA33+AB33+AC33 -> 533884.36 | Z33: 533884.36 | AA33: 0 | AD33: =AE33+AF33+AG33+AH33 -> 1063168 | AE33: 1063168 | AI33: 2942463 | AJ33: =AI33-AL33-AM33 -> 2942463 | AN33: =AO33+AP33+AQ33+AR33 -> 841329 | AO33: 841329 | AS33: =AT33+AU33+AV33+AW33 -> 0 | AT33: 0 | AU33: 0 | AV33: 0 | AW33: 0 | AX33: =AY33+AZ33+BA33+BB33 -> 3.8992012e+09 | AY33: 3.8992012e+09 | BK33: =BM33+BO33+BQ33 -> 510000 | BM33: 510000
D34: 교통안전시설물공사 | E34: =Y34/Y$79 -> 0 | F34: =Z34/Z$79 -> 0 | G34: =AA34/AA$79 -> 0 | I34: =AC34/AC$79 -> 0 | J34: =E34*$J$79 -> 0 | K34: 0 | O34: =P34+Q34+R34+S34 -> 0 | P34: 0 | T34: =U34+V34+W34+X34 -> 56000 | U34: 56000 | Y34: =Z34+AA34+AB34+AC34 -> 0 | Z34: 0 | AA34: 0 | AD34: =AE34+AF34+AG34+AH34 -> 0 | AE34: 0 | AI34: 0 | AJ34: =AI34-AL34-AM34 -> 0 | AN34: =AO34+AP34+AQ34+AR34 -> 0 | AO34: 0 | AS34: =AT34+AU34+AV34+AW34 -> 140240 | AT34: 140240 | AU34: 0 | AV34: 0 | AW34: 0 | AX34: =AY34+AZ34+BA34+BB34 -> 0 | AY34: 0 | BK34: =BM34+BO34+BQ34 -> 56000 | BM34: 56000
D35: 정화조시설공사 | E35: =Y35/Y$79 -> 0 | F35: =Z35/Z$79 -> 0 | G35: =AA35/AA$79 -> 0 | I35: =AC35/AC$79 -> 0 | J35: =E35*$J$79 -> 0 | K35: 0 | O35: =P35+Q35+R35+S35 -> 0 | P35: 0 | T35: =U35+V35+W35+X35 -> 26000 | U35: 26000 | Y35: =Z35+AA35+AB35+AC35 -> 0 | Z35: 0 | AA35: 0 | AD35: =AE35+AF35+AG35+AH35 -> 0 | AE35: 0 | AI35: 0 | AJ35: =AI35-AL35-AM35 -> 0 | AN35: =AO35+AP35+AQ35+AR35 -> 0 | AO35: 0 | AS35: =AT35+AU35+AV35+AW35 -> 0 | AT35: 0 | AU35: 0 | AV35: 0 | AW35: 0 | AX35: =AY35+AZ35+BA35+BB35 -> 0 | AY35: 0 | BK35: =BM35+BO35+BQ35 -> 26000 | BM35: 26000
D36: 조경공사 | E36: =Y36/Y$79 -> 0.01561112 | F36: =Z36/Z$79 -> 0.017373873 | G36: =AA36/AA$79 -> 0 | I36: =AC36/AC$79 -> 0 | J36: =E36*$J$79 -> 3125575.7 | K36: 3125575.7 | O36: =P36+Q36+R36+S36 -> 3631898 | P36: 3631898 | T36: =U36+V36+W36+X36 -> 1475000 | U36: 1475000 | Y36: =Z36+AA36+AB36+AC36 -> 1285824.3 | Z36: 1285824.3 | AA36: 0 | AD36: =AE36+AF36+AG36+AH36 -> 5919313 | AE36: 5919313 | AI36: 5830435 | AJ36: =AI36-AL36-AM36 -> 5830435 | AN36: =AO36+AP36+AQ36+AR36 -> 4684206 | AO36: 4684206 | AS36: =AT36+AU36+AV36+AW36 -> 7314821 | AT36: 7314821 | AU36: 0 | AV36: 0 | AW36: 0 | AX36: =AY36+AZ36+BA36+BB36 -> 8.4790259e+09 | AY36: 8.4790259e+09 | BK36: =BM36+BO36+BQ36 -> 1475000 | BM36: 1475000
D37: 부대시설공사 | E37: =Y37/Y$79 -> 0.00185318 | F37: =Z37/Z$79 -> 0.0020624346 | G37: =AA37/AA$79 -> 0 | I37: =AC37/AC$79 -> 0 | J37: =E37*$J$79 -> 371033.87 | K37: 371033.87 | O37: =P37+Q37+R37+S37 -> 64567 | P37: 64567 | T37: =U37+V37+W37+X37 -> 751000 | U37: 751000 | Y37: =Z37+AA37+AB37+AC37 -> 152638.88 | Z37: 152638.88 | AA37: 0 | AD37: =AE37+AF37+AG37+AH37 -> 0 | AE37: 0 | AI37: 1852662 | AJ37: =AI37-AL37-AM37 -> 1852662 | AN37: =AO37+AP37+AQ37+AR37 -> 0 | AO37: 0 | AS37: =AT37+AU37+AV37+AW37 -> 2151685 | AT37: 2151685 | AU37: 0 | AV37: 0 | AW37: 0 | AX37: =AY37+AZ37+BA37+BB37 -> 0 | AY37: 0 | BK37: =BM37+BO37+BQ37 -> 751000 | BM37: 751000
D38: 소 계 | E38: =Y38/Y$79 -> 0.0854 | F38: =Z38/Z$79 -> 0.09504307 | G38: =AA38/AA$79 -> 0 | I38: =AC38/AC$79 -> 0 | J38: =SUM(J25:J37) -> 17098335 | K38: 17098335 | L38: 0 | M38: 0 | N38: 0 | O38: =SUM(O25:O37) -> 10669710 | P38: 10669710 | Q38: 0 | R38: 0 | S38: 0 | T38: =SUM(T25:T37) -> 8104000 | U38: 8104000 | V38: =SUM(V25:V37) -> 0 | W38: =SUM(W25:W37) -> 0 | X38: =SUM(X25:X37) -> 0 | Y38: =SUM(Y25:Y37) -> 7034049.6 | Z38: 7034049.6 | AA38: 0 | AB38: 0 | AC38: 0 | AD38: =SUM(AD25:AD37) -> 17185989 | AE38: 17185989 | AF38: 0 | AG38: 0 | AH38: 0 | AI38: =SUM(AI25:AI37) -> 24002867 | AJ38: =SUM(AJ25:AJ37) -> 24002867 | AK38: =SUM(AK25:AK37) -> 0 | AL38: =SUM(AL25:AL37) -> 0 | AM38: =SUM(AM25:AM37) -> 0 | AN38: =SUM(AN25:AN37) -> 13600000 | AO38: =SUM(AO25:AO37) -> 13600000 | AP38: =SUM(AP25:AP37) -> 0 | ... AS38: =SUM(AS25:AS37) -> 13452684 | AT38: 13452684 | AU38: =SUM(AU25:AU37) -> 0 | AV38: =SUM(AV25:AV37) -> 0 | AW38: =SUM(AW25:AW37) -> 0 | AX38: =SUM(AX25:AX37) -> 5.082643e+10 | AY38: 5.082643e+10 | AZ38: 0 | BA38: 0 | BB38: 0 | BK38: =SUM(BK25:BL37) -> 8104000 | BM38: =SUM(BM25:BN37) -> 8104000
C39: 건 축 | D39: 공통가설물공사 | E39: =Y39/Y$79 -> 0.0328509 | F39: =Z39/Z$79 -> 0.036560309 | G39: =AA39/AA$79 -> 0 | I39: =AC39/AC$79 -> 0 | J39: =E39*$J$79 -> 6577233 | K39: 6577233 | L39: 0 | M39: 0 | N39: 0 | O39: =P39+Q39+R39+S39 -> 3869633 | P39: 3869633 | Q39: 0 | R39: 0 | S39: 0 | T39: =U39+V39+W39+X39 -> 2857000 | U39: 2857000 | Y39: =Z39+AA39+AB39+AC39 -> 2705794.6 | Z39: 2705794.6 | AA39: 0 | AB39: 0 | AC39: 0 | AD39: =AE39+AF39+AG39+AH39 -> 3326752 | AE39: 3326752 | AF39: 0 | AG39: 0 | AH39: 0 | AI39: 9780964 | AJ39: =AI39-AL39-AM39 -> 9780964 | AN39: =AO39+AP39+AQ39+AR39 -> 2372021 | AO39: 2372021 | AS39: =AT39+AU39+AV39+AW39 -> 6153002 | AT39: 6153002 | AU39: 0 | AV39: 0 | AW39: 0 | AX39: =AY39+AZ39+BA39+BB39 -> 2.1398202e+10 | AY39: 2.1398202e+10 | AZ39: 0 | BA39: 0 | BB39: 0 | BK39: =BM39+BO39+BQ39 -> 2857000 | BM39: 2857000
C40: (23개 공종) | D40: 가시설물공사 | E40: =Y40/Y$79 -> 0.0112401 | F40: =Z40/Z$79 -> 0.012509293 | G40: =AA40/AA$79 -> 0 | I40: =AC40/AC$79 -> 0 | J40: =E40*$J$79 -> 2250433.2 | K40: 2250433.2 | O40: =P40+Q40+R40+S40 -> 769169 | P40: 769169 | T40: =U40+V40+W40+X40 -> 1100000 | U40: 1100000 | Y40: =Z40+AA40+AB40+AC40 -> 925801.18 | Z40: 925801.18 | AA40: 0 | AD40: =AE40+AF40+AG40+AH40 -> 1056611 | AE40: 1056611 | AI40: 2860728 | AJ40: =AI40-AL40-AM40 -> 2860728 | AN40: =AO40+AP40+AQ40+AR40 -> 753378 | AO40: 753378 | AS40: =AT40+AU40+AV40+AW40 -> 619704 | AT40: 619704 | AU40: 0 | AV40: 0 | AW40: 0 | AX40: =AY40+AZ40+BA40+BB40 -> 5.8954231e+09 | AY40: 5.8954231e+09 | BK40: =BM40+BO40+BQ40 -> 1100000 | BM40: 1100000
D41: 지정 및 기초공사 | E41: =Y41/Y$79 -> 0.0152145 | F41: =Z41/Z$79 -> 0.016932468 | G41: =AA41/AA$79 -> 0 | I41: =AC41/AC$79 -> 0 | J41: =E41*$J$79 -> 3046166.5 | K41: 3046166.5 | O41: =P41+Q41+R41+S41 -> 1942746 | P41: 1942746 | T41: =U41+V41+W41+X41 -> 5936000 | U41: 5936000 | Y41: =Z41+AA41+AB41+AC41 -> 1253156.3 | Z41: 1253156.3 | AA41: 0 | AD41: =AE41+AF41+AG41+AH41 -> 824850 | AE41: 824850 | AI41: 16537730 | AJ41: =AI41-AL41-AM41 -> 16537730 | AN41: =AO41+AP41+AQ41+AR41 -> 588129 | AO41: 588129 | AS41: =AT41+AU41+AV41+AW41 -> 1112581 | AT41: 1112581 | AU41: 0 | AV41: 0 | AW41: 0 | AX41: =AY41+AZ41+BA41+BB41 -> 1.7850031e+10 | AY41: 1.7850031e+10 | BK41: =BM41+BO41+BQ41 -> 5936000 | BM41: 5936000
D42: 철골공사 | E42: =Y42/Y$79 -> 0.0029187 | F42: =Z42/Z$79 -> 0.0032482694 | G42: =AA42/AA$79 -> 0 | I42: =AC42/AC$79 -> 0 | J42: =E42*$J$79 -> 584366.64 | K42: 584366.64 | O42: =P42+Q42+R42+S42 -> 0 | P42: 0 | T42: =U42+V42+W42+X42 -> 0 | U42: 0 | Y42: =Z42+AA42+AB42+AC42 -> 240401.41 | Z42: 240401.41 | AA42: 0 | AD42: =AE42+AF42+AG42+AH42 -> 0 | AE42: 0 | AI42: 0 | AJ42: =AI42-AL42-AM42 -> 0 | AN42: =AO42+AP42+AQ42+AR42 -> 0 | AO42: 0 | AS42: =AT42+AU42+AV42+AW42 -> 15641 | AT42: 15641 | AU42: 0 | AV42: 0 | AW42: 0 | AX42: =AY42+AZ42+BA42+BB42 -> 0 | AY42: 0 | BK42: =BM42+BO42+BQ42 -> 0 | BM42: 0
D43: 철근콘크리트공사 | E43: =Y43/Y$79 -> 0.274482 | F43: =Z43/Z$79 -> 0.30547555 | G43: =AA43/AA$79 -> 0 | I43: =AC43/AC$79 -> 0 | J43: =E43*$J$79 -> 54955331 | K43: 54955331 | O43: =P43+Q43+R43+S43 -> 37321871 | P43: 37321871 | T43: =U43+V43+W43+X43 -> 31600000 | U43: 31600000 | Y43: =Z43+AA43+AB43+AC43 -> 22607962 | Z43: 22607962 | AA43: 0 | AD43: =AE43+AF43+AG43+AH43 -> 54323138 | AE43: 54323138 | AI43: 60756405 | AJ43: =AI43-AL43-AM43 -> 60756405 | AN43: =AO43+AP43+AQ43+AR43 -> 38733164 | AO43: 38733164 | AS43: =AT43+AU43+AV43+AW43 -> 61208335 | AT43: 61208335 | AU43: 0 | AV43: 0 | AW43: 0 | AX43: =AY43+AZ43+BA43+BB43 -> 1.3170531e+11 | AY43: 1.3170531e+11 | BK43: =BM43+BO43+BQ43 -> 31600000 | BM43: 31600000
D44: 용접공사 | E44: =Y44/Y$79 -> 0 | F44: =Z44/Z$79 -> 0 | G44: =AA44/AA$79 -> 0 | I44: =AC44/AC$79 -> 0 | J44: =E44*$J$79 -> 0 | K44: 0 | O44: =P44+Q44+R44+S44 -> 0 | P44: 0 | T44: =U44+V44+W44+X44 -> 0 | U44: 0 | Y44: =Z44+AA44+AB44+AC44 -> 0 | Z44: 0 | AA44: 0 | AD44: =AE44+AF44+AG44+AH44 -> 0 | AE44: 0 | AI44: 0 | AJ44: =AI44-AL44-AM44 -> 0 | AN44: =AO44+AP44+AQ44+AR44 -> 0 | AO44: 0 | AS44: =AT44+AU44+AV44+AW44 -> 0 | AT44: 0 | AU44: 0 | AV44: 0 | AW44: 0 | AX44: =AY44+AZ44+BA44+BB44 -> 0 | AY44: 0 | BM44: 0
D45: 조적공사 | E45: =Y45/Y$79 -> 0.0145935 | F45: =Z45/Z$79 -> 0.016241347 | G45: =AA45/AA$79 -> 0 | I45: =AC45/AC$79 -> 0 | J45: =E45*$J$79 -> 2921833.2 | K45: 2921833.2 | O45: =P45+Q45+R45+S45 -> 1466972 | P45: 1466972 | T45: =U45+V45+W45+X45 -> 1789000 | U45: 1789000 | Y45: =Z45+AA45+AB45+AC45 -> 1202007.1 | Z45: 1202007.1 | AA45: 0 | AD45: =AE45+AF45+AG45+AH45 -> 2827300 | AE45: 2827300 | AI45: 4658899 | AJ45: =AI45-AL45-AM45 -> 4658899 | AN45: =AO45+AP45+AQ45+AR45 -> 2015904 | AO45: 2015904 | AS45: =AT45+AU45+AV45+AW45 -> 3469178 | AT45: 3469178 | AU45: 0 | AV45: 0 | AW45: 0 | AX45: =AY45+AZ45+BA45+BB45 -> 9.6073562e+09 | AY45: 9.6073562e+09 | BK45: =BM45+BO45+BQ45 -> 1789000 | BM45: 1789000
D46: 미장공사 | E46: =Y46/Y$79 -> 0.0200583 | F46: =Z46/Z$79 -> 0.022323213 | G46: =AA46/AA$79 -> 0 | I46: =AC46/AC$79 -> 0 | J46: =E46*$J$79 -> 4015966.5 | K46: 4015966.5 | O46: =P46+Q46+R46+S46 -> 2563896 | P46: 2563896 | T46: =U46+V46+W46+X46 -> 4079000 | U46: 4079000 | Y46: =Z46+AA46+AB46+AC46 -> 1652120.3 | Z46: 1652120.3 | AA46: 0 | AD46: =AE46+AF46+AG46+AH46 -> 3324521 | AE46: 3324521 | AI46: 7328912 | AJ46: =AI46-AL46-AM46 -> 7328912 | AN46: =AO46+AP46+AQ46+AR46 -> 2370430 | AO46: 2370430 | AS46: =AT46+AU46+AV46+AW46 -> 3554658 | AT46: 3554658 | AU46: 0 | AV46: 0 | AW46: 0 | AX46: =AY46+AZ46+BA46+BB46 -> 1.031699e+10 | AY46: 1.031699e+10 | BK46: =BM46+BO46+BQ46 -> 4079000 | BM46: 4079000
D47: 단열공사 | E47: =Y47/Y$79 -> 0.0083214 | F47: =Z47/Z$79 -> 0.0092610234 | G47: =AA47/AA$79 -> 0 | I47: =AC47/AC$79 -> 0 | J47: =E47*$J$79 -> 1666066.6 | K47: 1666066.6 | O47: =P47+Q47+R47+S47 -> 796262 | P47: 796262 | T47: =U47+V47+W47+X47 -> 1476000 | U47: 1476000 | Y47: =Z47+AA47+AB47+AC47 -> 685399.77 | Z47: 685399.77 | AA47: 0 | AD47: =AE47+AF47+AG47+AH47 -> 0 | AE47: 0 | AI47: 1280516 | AJ47: =AI47-AL47-AM47 -> 1280516 | AN47: =AO47+AP47+AQ47+AR47 -> 0 | AO47: 0 | AS47: =AT47+AU47+AV47+AW47 -> 1385270 | AT47: 1385270 | AU47: 0 | AV47: 0 | AW47: 0 | AX47: =AY47+AZ47+BA47+BB47 -> 2797675000 | AY47: 2797675000 | BK47: =BM47+BO47+BQ47 -> 1476000 | BM47: 1476000
D48: 방수.방습공사 | E48: =Y48/Y$79 -> 0.0152145 | F48: =Z48/Z$79 -> 0.016932468 | G48: =AA48/AA$79 -> 0 | I48: =AC48/AC$79 -> 0 | J48: =E48*$J$79 -> 3046166.5 | K48: 3046166.5 | O48: =P48+Q48+R48+S48 -> 1096925 | P48: 1096925 | T48: =U48+V48+W48+X48 -> 1728000 | U48: 1728000 | Y48: =Z48+AA48+AB48+AC48 -> 1253156.3 | Z48: 1253156.3 | AA48: 0 | AD48: =AE48+AF48+AG48+AH48 -> 2725569 | AE48: 2725569 | AI48: 6021150 | AJ48: =AI48-AL48-AM48 -> 6021150 | AN48: =AO48+AP48+AQ48+AR48 -> 1943369 | AO48: 1943369 | AS48: =AT48+AU48+AV48+AW48 -> 1038983 | AT48: 1038983 | AU48: 0 | AV48: 0 | AW48: 0 | AX48: =AY48+AZ48+BA48+BB48 -> 5.8954231e+09 | AY48: 5.8954231e+09 | BK48: =BM48+BO48+BQ48 -> 1728000 | BM48: 1728000
D49: 목공사 | E49: =Y49/Y$79 -> 0.0231012 | F49: =Z49/Z$79 -> 0.025709707 | G49: =AA49/AA$79 -> 0 | I49: =AC49/AC$79 -> 0 | J49: =E49*$J$79 -> 4625199.8 | K49: 4625199.8 | O49: =P49+Q49+R49+S49 -> 2388785 | P49: 2388785 | T49: =U49+V49+W49+X49 -> 3777000 | U49: 3777000 | Y49: =Z49+AA49+AB49+AC49 -> 1902751.6 | Z49: 1902751.6 | AA49: 0 | AD49: =AE49+AF49+AG49+AH49 -> 6796558 | AE49: 6796558 | AI49: 3214913 | AJ49: =AI49-AL49-AM49 -> 3214913 | AN49: =AO49+AP49+AQ49+AR49 -> 4846041 | AO49: 4846041 | AS49: =AT49+AU49+AV49+AW49 -> 4046323 | AT49: 4046323 | AU49: 0 | AV49: 0 | AW49: 0 | AX49: =AY49+AZ49+BA49+BB49 -> 1678605000 | AY49: 1678605000 | BK49: =BM49+BO49+BQ49 -> 3777000 | BM49: 3777000
D50: 가구공사 | E50: =Y50/Y$79 -> 0.0276966 | F50: =Z50/Z$79 -> 0.030824003 | G50: =AA50/AA$79 -> 0 | I50: =AC50/AC$79 -> 0 | J50: =E50*$J$79 -> 5545266.4 | K50: 5545266.4 | O50: =P50+Q50+R50+S50 -> 6251149 | P50: 6251149 | T50: =U50+V50+W50+X50 -> 7167000 | U50: 7167000 | Y50: =Z50+AA50+AB50+AC50 -> 2281255.9 | Z50: 2281255.9 | AA50: 0 | AD50: =AE50+AF50+AG50+AH50 -> 6893965 | AE50: 6893965 | AI50: 4985840 | AJ50: =AI50-AL50-AM50 -> 4985840 | AN50: =AO50+AP50+AQ50+AR50 -> 4915494 | AO50: 4915494 | AS50: =AT50+AU50+AV50+AW50 -> 9126900 | AT50: 9126900 | AU50: 0 | AV50: 0 | AW50: 0 | AX50: =AY50+AZ50+BA50+BB50 -> 2.5710595e+10 | AY50: 2.5710595e+10 | BK50: =BM50+BO50+BQ50 -> 7167000 | BM50: 7167000
D51: 금속공사 | E51: =Y51/Y$79 -> 0.0062721 | F51: =Z51/Z$79 -> 0.0069803236 | G51: =AA51/AA$79 -> 0 | I51: =AC51/AC$79 -> 0 | J51: =E51*$J$79 -> 1255766.6 | K51: 1255766.6 | O51: =P51+Q51+R51+S51 -> 2574469 | P51: 2574469 | T51: =U51+V51+W51+X51 -> 1579000 | U51: 1579000 | Y51: =Z51+AA51+AB51+AC51 -> 516607.29 | Z51: 516607.29 | AA51: 0 | AD51: =AE51+AF51+AG51+AH51 -> 1226252 | AE51: 1226252 | AI51: 2724502 | AJ51: =AI51-AL51-AM51 -> 2724502 | AN51: =AO51+AP51+AQ51+AR51 -> 874334 | AO51: 874334 | AS51: =AT51+AU51+AV51+AW51 -> 4257903 | AT51: 4257903 | AU51: 0 | AV51: 0 | AW51: 0 | AX51: =AY51+AZ51+BA51+BB51 -> 5.4041378e+09 | AY51: 5.4041378e+09 | BK51: =BM51+BO51+BQ51 -> 1579000 | BM51: 1579000
D52: 지붕 및 홈통공사 | E52: =Y52/Y$79 -> 0.0051543 | F52: =Z52/Z$79 -> 0.0057363056 | G52: =AA52/AA$79 -> 0 | I52: =AC52/AC$79 -> 0 | J52: =E52*$J$79 -> 1031966.6 | K52: 1031966.6 | O52: =P52+Q52+R52+S52 -> 237887 | P52: 237887 | T52: =U52+V52+W52+X52 -> 689000 | U52: 689000 | Y52: =Z52+AA52+AB52+AC52 -> 424538.66 | Z52: 424538.66 | AA52: 0 | AD52: =AE52+AF52+AG52+AH52 -> 199094 | AE52: 199094 | AI52: 2370317 | AJ52: =AI52-AL52-AM52 -> 2370317 | AN52: =AO52+AP52+AQ52+AR52 -> 141956 | AO52: 141956 | AS52: =AT52+AU52+AV52+AW52 -> 774054 | AT52: 774054 | AU52: 0 | AV52: 0 | AW52: 0 | AX52: =AY52+AZ52+BA52+BB52 -> 1678605000 | AY52: 1678605000 | BK52: =BM52+BO52+BQ52 -> 689000 | BM52: 689000
D53: 창호공사 | E53: =Y53/Y$79 -> 0.0611685 | F53: =Z53/Z$79 -> 0.068075433 | G53: =AA53/AA$79 -> 0 | I53: =AC53/AC$79 -> 0 | J53: =E53*$J$79 -> 12246833 | K53: 12246833 | O53: =P53+Q53+R53+S53 -> 4070516 | P53: 4070516 | T53: =U53+V53+W53+X53 -> 7531000 | U53: 7531000 | Y53: =Z53+AA53+AB53+AC53 -> 5038199.8 | Z53: 5038199.8 | AA53: 0 | AD53: =AE53+AF53+AG53+AH53 -> 8507433 | AE53: 8507433 | AI53: 9862699 | AJ53: =AI53-AL53-AM53 -> 9862699 | AN53: =AO53+AP53+AQ53+AR53 -> 6065919 | AO53: 6065919 | AS53: =AT53+AU53+AV53+AW53 -> 5115255 | AT53: 5115255 | AU53: 0 | AV53: 0 | AW53: 0 | AX53: =AY53+AZ53+BA53+BB53 -> 2.0197283e+10 | AY53: 2.0197283e+10 | BK53: =BM53+BO53+BQ53 -> 7531000 | BM53: 7531000
D54: 유리공사 | E54: =Y54/Y$79 -> 0.01242 | F54: =Z54/Z$79 -> 0.013822423 | G54: =AA54/AA$79 -> 0 | I54: =AC54/AC$79 -> 0 | J54: =E54*$J$79 -> 2486666.5 | K54: 2486666.5 | O54: =P54+Q54+R54+S54 -> 1123357 | P54: 1123357 | T54: =U54+V54+W54+X54 -> 1393000 | U54: 1393000 | Y54: =Z54+AA54+AB54+AC54 -> 1022984.7 | Z54: 1022984.7 | AA54: 0 | AD54: =AE54+AF54+AG54+AH54 -> 1565919 | AE54: 1565919 | AI54: 3460118 | AJ54: =AI54-AL54-AM54 -> 3460118 | AN54: =AO54+AP54+AQ54+AR54 -> 1116522 | AO54: 1116522 | AS54: =AT54+AU54+AV54+AW54 -> 1143015 | AT54: 1143015 | AU54: 0 | AV54: 0 | AW54: 0 | AX54: =AY54+AZ54+BA54+BB54 -> 5.8408358e+09 | AY54: 5.8408358e+09 | BK54: =BM54+BO54+BQ54 -> 1393000 | BM54: 1393000
D55: 타일공사 | E55: =Y55/Y$79 -> 0.0222939 | F55: =Z55/Z$79 -> 0.024811249 | G55: =AA55/AA$79 -> 0 | I55: =AC55/AC$79 -> 0 | J55: =E55*$J$79 -> 4463566.4 | K55: 4463566.4 | O55: =P55+Q55+R55+S55 -> 2326009 | P55: 2326009 | T55: =U55+V55+W55+X55 -> 2553000 | U55: 2553000 | Y55: =Z55+AA55+AB55+AC55 -> 1836257.6 | Z55: 1836257.6 | AA55: 0 | AD55: =AE55+AF55+AG55+AH55 -> 3849712 | AE55: 3849712 | AI55: 4386449 | AJ55: =AI55-AL55-AM55 -> 4386449 | AN55: =AO55+AP55+AQ55+AR55 -> 2744898 | AO55: 2744898 | AS55: =AT55+AU55+AV55+AW55 -> 3043957 | AT55: 3043957 | AU55: 0 | AV55: 0 | AW55: 0 | AX55: =AY55+AZ55+BA55+BB55 -> 1.1954608e+10 | AY55: 1.1954608e+10 | BK55: =BM55+BO55+BQ55 -> 2553000 | BM55: 2553000
D56: 돌공사 | E56: =Y56/Y$79 -> 0.010557 | F56: =Z56/Z$79 -> 0.01174906 | G56: =AA56/AA$79 -> 0 | I56: =AC56/AC$79 -> 0 | J56: =E56*$J$79 -> 2113666.6 | K56: 2113666.6 | O56: =P56+Q56+R56+S56 -> 2881079 | P56: 2881079 | T56: =U56+V56+W56+X56 -> 1825000 | U56: 1825000 | Y56: =Z56+AA56+AB56+AC56 -> 869537.02 | Z56: 869537.02 | AA56: 0 | AD56: =AE56+AF56+AG56+AH56 -> 339033 | AE56: 339033 | AI56: 2506542 | AJ56: =AI56-AL56-AM56 -> 2506542 | AN56: =AO56+AP56+AQ56+AR56 -> 241735 | AO56: 241735 | AS56: =AT56+AU56+AV56+AW56 -> 10166247 | AT56: 10166247 | AU56: 0 | AV56: 0 | AW56: 0 | AX56: =AY56+AZ56+BA56+BB56 -> 1.1408735e+10 | AY56: 1.1408735e+10 | BK56: =BM56+BO56+BQ56 -> 1825000 | BM56: 1825000
... D61: 잡공사 | E61: =Y61/Y$79 -> 0.0050301 | F61: =Z61/Z$79 -> 0.0055980813 | G61: =AA61/AA$79 -> 0 | I61: =AC61/AC$79 -> 0 | J61: =E61*$J$79 -> 1007099.9 | K61: 1007099.9 | O61: =P61+Q61+R61+S61 -> 3568308 | P61: 3568308 | T61: =U61+V61+W61+X61 -> 2690000 | U61: 2690000 | Y61: =Z61+AA61+AB61+AC61 -> 414308.81 | Z61: 414308.81 | AA61: 0 | AD61: =AE61+AF61+AG61+AH61 -> 7858581 | AE61: 7858581 | AI61: 2479298 | AJ61: =AI61-AL61-AM61 -> 2479298 | AN61: =AO61+AP61+AQ61+AR61 -> 5603290 | AO61: 5603290 | AS61: =AT61+AU61+AV61+AW61 -> 1067985 | AT61: 1067985 | AU61: 0 | AV61: 0 | AW61: 0 | AX61: =AY61+AZ61+BA61+BB61 -> 3.0158986e+09 | AY61: 3.0158986e+09 | BK61: =BM61+BO61+BQ61 -> 2690000 | BM61: 2690000
D62: 소 계 | E62: =Y62/Y$79 -> 0.621 | F62: =Z62/Z$79 -> 0.69112115 | G62: =AA62/AA$79 -> 0 | I62: =AC62/AC$79 -> 0 | J62: =SUM(J39:J61) -> 1.2433333e+08 | K62: 1.2433333e+08 | L62: 0 | M62: 0 | N62: 0 | O62: =SUM(O39:O61) -> 81370666 | P62: 81370666 | Q62: 0 | R62: 0 | S62: 0 | T62: =SUM(T39:T61) -> 88033000 | U62: 88033000 | V62: =SUM(V39:V61) -> 0 | W62: =SUM(W39:W61) -> 0 | X62: =SUM(X39:X61) -> 0 | Y62: =SUM(Y39:Y61) -> 51149236 | Z62: 51149236 | AA62: 0 | AB62: 0 | AC62: 0 | AD62: =SUM(AD39:AD61) -> 116540240 | AE62: 116540240 | AF62: 0 | AG62: 0 | AH62: 0 | AI62: =SUM(AI39:AI61) -> 159328904 | AJ62: =SUM(AJ39:AJ61) -> 159328904 | AK62: =SUM(AK39:AK61) -> 0 | AL62: =SUM(AL39:AL61) -> 0 | AM62: =SUM(AM39:AM61) -> 0 | AN62: =SUM(AN39:AN61) -> 83094836 | AO62: =SUM(AO39:AO61) -> 83094836 | AP62: =SUM(AP39:AP61) -> 0 | ... AS62: =SUM(AS39:AS61) -> 121249042 | AT62: 121249042 | AU62: =SUM(AU39:AU61) -> 0 | AV62: =SUM(AV39:AV61) -> 0 | AW62: =SUM(AW39:AW61) -> 0 | AX62: =SUM(AX39:AX61) -> 3.1671523e+11 | AY62: 3.1671523e+11 | AZ62: 0 | BA62: 0 | BB62: 0 | BK62: =SUM(BK39:BL61) -> 88033000 | BM62: =SUM(BM39:BN61) -> 88033000
C63: 기계설비 | D63: 급수설비공사 | E63: =Y63/Y$79 -> 0.01880151 | F63: =Z63/Z$79 -> 0.020924511 | G63: =AA63/AA$79 -> 0 | I63: =AC63/AC$79 -> 0 | J63: =E63*$J$79 -> 3764338.6 | K63: 3764338.6 | O63: =P63+Q63+R63+S63 -> 1339767 | P63: 1339767 | T63: =U63+V63+W63+X63 -> 2784000 | U63: 2784000 | Y63: =Z63+AA63+AB63+AC63 -> 1548603.7 | Z63: 1548603.7 | AA63: 0 | AD63: =AE63+AF63+AG63+AH63 -> 4856360 | AE63: 4856360 | AI63: 2424807 | AJ63: =AI63-AL63-AM63 -> 2424807 | AN63: =AO63+AP63+AQ63+AR63 -> 3798291 | AO63: 3798291 | AS63: =AT63+AU63+AV63+AW63 -> 1388293 | AT63: 1388293 | AU63: 0 | AV63: 0 | AW63: 0 | AX63: =AY63+AZ63+BA63+BB63 -> 2.7487845e+09 | AY63: 2.7487845e+09 | BE63: 총사업비 | BF63: 총공사비 | BG63: 순공사비 | BH63: =총괄표!D12 -> 159685033 | BI63: =BH63/$BH$66 -> 0.8984 | BK63: =BM63+BO63+BQ63 -> 2784000 | BM63: 2784000
C64: (9개 공사) | D64: 급탕설비공사 | E64: =Y64/Y$79 -> 0.01253434 | F64: =Z64/Z$79 -> 0.013949674 | G64: =AA64/AA$79 -> 0 | I64: =AC64/AC$79 -> 0 | J64: =E64*$J$79 -> 2509559.1 | K64: 2509559.1 | O64: =P64+Q64+R64+S64 -> 1339767 | P64: 1339767 | T64: =U64+V64+W64+X64 -> 2120000 | U64: 2120000 | Y64: =Z64+AA64+AB64+AC64 -> 1032402.4 | Z64: 1032402.4 | AA64: 0 | AD64: =AE64+AF64+AG64+AH64 -> 4356016 | AE64: 4356016 | AI64: 2424807 | AJ64: =AI64-AL64-AM64 -> 2424807 | AN64: =AO64+AP64+AQ64+AR64 -> 3406958 | AO64: 3406958 | AS64: =AT64+AU64+AV64+AW64 -> 2179797 | AT64: 2179797 | AU64: 0 | AV64: 0 | AW64: 0 | AX64: =AY64+AZ64+BA64+BB64 -> 3.0452746e+09 | AY64: 3.0452746e+09 | BG64: 일반관리비 | BH64: =총괄표!D13 -> 11073439 | BI64: =BH64/$BH$66 -> 0.0623 | BK64: =BM64+BO64+BQ64 -> 2120000 | BM64: 2120000
D65: 오배수 및 통기설비공사 | E65: =Y65/Y$79 -> 0.0213109 | F65: =Z65/Z$79 -> 0.023717252 | G65: =AA65/AA$79 -> 0 | I65: =AC65/AC$79 -> 0 | J65: =E65*$J$79 -> 4266755.4 | K65: 4266755.4 | O65: =P65+Q65+R65+S65 -> 1824020 | P65: 1824020 | T65: =U65+V65+W65+X65 -> 2218000 | U65: 2218000 | Y65: =Z65+AA65+AB65+AC65 -> 1755291.9 | Z65: 1755291.9 | AA65: 0 | AD65: =AE65+AF65+AG65+AH65 -> 2928524 | AE65: 2928524 | AI65: 5775945 | AJ65: =AI65-AL65-AM65 -> 5775945 | AN65: =AO65+AP65+AQ65+AR65 -> 2290478 | AO65: 2290478 | AS65: =AT65+AU65+AV65+AW65 -> 8326598 | AT65: 8326598 | AU65: 0 | AV65: 0 | AW65: 0 | AX65: =AY65+AZ65+BA65+BB65 -> 4.1258559e+09 | AY65: 4.1258559e+09 | BG65: 이윤 | BH65: =총괄표!D14 -> 6985332 | BI65: =BH65/$BH$66 -> 0.039300003 | BK65: =BM65+BO65+BQ65 -> 2218000 | BM65: 2218000
D66: 위생기구공사 | E66: =Y66/Y$79 -> 0.01379534 | F66: =Z66/Z$79 -> 0.015353062 | G66: =AA66/AA$79 -> 0 | I66: =AC66/AC$79 -> 0 | J66: =E66*$J$79 -> 2762029.8 | K66: 2762029.8 | O66: =P66+Q66+R66+S66 -> 1097640 | P66: 1097640 | T66: =U66+V66+W66+X66 -> 2161000 | U66: 2161000 | Y66: =Z66+AA66+AB66+AC66 -> 1136265.9 | Z66: 1136265.9 | AA66: 0 | AD66: =AE66+AF66+AG66+AH66 -> 1800089 | AE66: 1800089 | AI66: 6375336 | AJ66: =AI66-AL66-AM66 -> 6375336 | AN66: =AO66+AP66+AQ66+AR66 -> 1407898 | AO66: 1407898 | AS66: =AT66+AU66+AV66+AW66 -> 1686593 | AT66: 1686593 | AU66: 0 | AV66: 0 | AW66: 0 | AX66: =AY66+AZ66+BA66+BB66 -> 4.2240906e+09 | AY66: 4.2240906e+09 | BG66: 계 | BH66: =SUM(BH63:BH65) -> 177743804 | BK66: =BM66+BO66+BQ66 -> 2161000 | BM66: 2161000
D67: 승강기기계공사 | E67: =Y67/Y$79 -> 0.0195455 | F67: =Z67/Z$79 -> 0.02175251 | G67: =AA67/AA$79 -> 0 | I67: =AC67/AC$79 -> 0 | J67: =E67*$J$79 -> 3913296.4 | K67: 3913296.4 | O67: =P67+Q67+R67+S67 -> 2679534 | P67: 2679534 | T67: =U67+V67+W67+X67 -> 2116000 | U67: 2116000 | Y67: =Z67+AA67+AB67+AC67 -> 1609883.1 | Z67: 1609883.1 | AA67: 0 | AD67: =AE67+AF67+AG67+AH67 -> 0 | AE67: 0 | AI67: 0 | AJ67: =AI67-AL67-AM67 -> 0 | AN67: =AO67+AP67+AQ67+AR67 -> 0 | AO67: 0 | AS67: =AT67+AU67+AV67+AW67 -> 2818000 | AT67: 2818000 | AU67: 0 | AV67: 0 | AW67: 0 | AX67: =AY67+AZ67+BA67+BB67 -> 5.1573199e+09 | AY67: 5.1573199e+09 | BF67: 간접비 | BH67: =총괄표!D22 -> 200418374 | BK67: =BM67+BO67+BQ67 -> 2116000 | BM67: 2116000
D68: 난방설비공사 | E68: =Y68/Y$79 -> 0.01128595 | F68: =Z68/Z$79 -> 0.01256032 | G68: =AA68/AA$79 -> 0 | I68: =AC68/AC$79 -> 0 | J68: =E68*$J$79 -> 2259613.1 | K68: 2259613.1 | O68: =P68+Q68+R68+S68 -> 2921660 | P68: 2921660 | T68: =U68+V68+W68+X68 -> 1964000 | U68: 1964000 | Y68: =Z68+AA68+AB68+AC68 -> 929577.65 | Z68: 929577.65 | AA68: 0 | AD68: =AE68+AF68+AG68+AH68 -> 788839 | AE68: 788839 | AI68: 4658899 | AJ68: =AI68-AL68-AM68 -> 4658899 | AN68: =AO68+AP68+AQ68+AR68 -> 616972 | AO68: 616972 | AS68: =AT68+AU68+AV68+AW68 -> 3680962 | AT68: 3680962 | AU68: 0 | AV68: 0 | AW68: 0 | AX68: =AY68+AZ68+BA68+BB68 -> 7.7114211e+09 | AY68: 7.7114211e+09 | BF68: 대지비 | BH68: =총괄표!D23 -> 169137067 | BK68: =BM68+BO68+BQ68 -> 1964000 | BM68: 1964000
D69: 가스설비공사 | E69: =Y69/Y$79 -> 0.00626717 | F69: =Z69/Z$79 -> 0.006974837 | G69: =AA69/AA$79 -> 0 | I69: =AC69/AC$79 -> 0 | J69: =E69*$J$79 -> 1254779.5 | K69: 1254779.5 | O69: =P69+Q69+R69+S69 -> 613387 | P69: 613387 | T69: =U69+V69+W69+X69 -> 475000 | U69: 475000 | Y69: =Z69+AA69+AB69+AC69 -> 516201.22 | Z69: 516201.22 | AA69: 0 | AD69: =AE69+AF69+AG69+AH69 -> 942138 | AE69: 942138 | AI69: 2506542 | AJ69: =AI69-AL69-AM69 -> 2506542 | AN69: =AO69+AP69+AQ69+AR69 -> 736871 | AO69: 736871 | AS69: =AT69+AU69+AV69+AW69 -> 533000 | AT69: 533000 | AU69: 0 | AV69: 0 | AW69: 0 | AX69: =AY69+AZ69+BA69+BB69 -> 1.1296986e+09 | AY69: 1.1296986e+09 | BF69: 부가세 | BH69: =총괄표!D24 -> 6211909 | BK69: =BM69+BO69+BQ69 -> 475000 | BM69: 475000
D70: 자동제어설비공사 | E70: =Y70/Y$79 -> 0.00124839 | F70: =Z70/Z$79 -> 0.0013893538 | G70: =AA70/AA$79 -> 0 | I70: =AC70/AC$79 -> 0 | J70: =E70*$J$79 -> 249946.03 | K70: 249946.03 | O70: =P70+Q70+R70+S70 -> 258269 | P70: 258269 | T70: =U70+V70+W70+X70 -> 415000 | U70: 415000 | Y70: =Z70+AA70+AB70+AC70 -> 102824.79 | Z70: 102824.79 | AA70: 0 | AD70: =AE70+AF70+AG70+AH70 -> 287994 | AE70: 287994 | AI70: 762862 | AJ70: =AI70-AL70-AM70 -> 762862 | AN70: =AO70+AP70+AQ70+AR70 -> 225247 | AO70: 225247 | AS70: =AT70+AU70+AV70+AW70 -> 165000 | AT70: 165000 | AU70: 0 | AV70: 0 | AW70: 0 | AX70: =AY70+AZ70+BA70+BB70 -> 3.9293866e+08 | AY70: 3.9293866e+08 | BE70: =총괄표!D25 -> 553511154 | BF70: 계 | BH70: =SUM(BH66:BH69) -> 553511154 | BK70: =BM70+BO70+BQ70 -> 415000 | BM70: 415000
D71: 특수설비공사 | E71: =Y71/Y$79 -> 0.0213109 | F71: =Z71/Z$79 -> 0.023717252 | G71: =AA71/AA$79 -> 0 | I71: =AC71/AC$79 -> 0 | J71: =E71*$J$79 -> 4266755.4 | K71: 4266755.4 | O71: =P71+Q71+R71+S71 -> 0 | P71: 0 | T71: =U71+V71+W71+X71 -> 1178000 | U71: 1178000 | Y71: =Z71+AA71+AB71+AC71 -> 1755291.9 | Z71: 1755291.9 | AA71: 0 | AD71: =AE71+AF71+AG71+AH71 -> 1172803 | AE71: 1172803 | AI71: 0 | AJ71: =AI71-AL71-AM71 -> 0 | AN71: =AO71+AP71+AQ71+AR71 -> 917285 | AO71: 917285 | AS71: =AT71+AU71+AV71+AW71 -> 522658 | AT71: 522658 | AU71: 0 | AV71: 0 | AW71: 0 | AX71: =AY71+AZ71+BA71+BB71 -> 6.1887839e+09 | AY71: 6.1887839e+09 | BH71: 차이 | BI71: =BE70-BH70 -> 0 | BK71: =BM71+BO71+BQ71 -> 1178000 | BM71: 1178000
D72: 소 계 | E72: =SUM(E63:E71) -> 0.1261 | F72: =Z72/Z$79 -> 0.14033877 | G72: =AA72/AA$79 -> 0 | I72: =AC72/AC$79 -> 0 | J72: =SUM(J63:J71) -> 25247073 | K72: =SUM(K63:K71) -> 25247073 | L72: 0 | M72: 0 | N72: 0 | O72: =SUM(O63:O71) -> 12074044 | P72: 12074044 | Q72: 0 | R72: 0 | S72: 0 | T72: =SUM(T63:T71) -> 15431000 | U72: 15431000 | V72: =SUM(V63:V71) -> 0 | W72: =SUM(W63:W71) -> 0 | X72: =SUM(X63:X71) -> 0 | Y72: =SUM(Y63:Y71) -> 10386343 | Z72: 10386343 | AA72: 0 | AB72: 0 | AC72: 0 | AD72: =SUM(AD63:AD71) -> 17132763 | AE72: 17132763 | AF72: 0 | AG72: 0 | AH72: 0 | AI72: =SUM(AI63:AI71) -> 24929198 | AJ72: =SUM(AJ63:AJ71) -> 24929198 | AK72: =SUM(AK63:AK71) -> 0 | AL72: =SUM(AL63:AL71) -> 0 | AM72: =SUM(AM63:AM71) -> 0 | AN72: =SUM(AN63:AN71) -> 13400000 | AO72: =SUM(AO63:AO71) -> 13400000 | AP72: =SUM(AP63:AP71) -> 0 | ... AS72: =SUM(AS63:AS71) -> 21300901 | AT72: 21300901 | AU72: =SUM(AU63:AU71) -> 0 | AV72: =SUM(AV63:AV71) -> 0 | AW72: =SUM(AW63:AW71) -> 0 | AX72: =SUM(AX63:AX71) -> 3.4724168e+10 | AY72: 3.4724168e+10 | AZ72: 0 | BA72: 0 | BB72: 0 | BK72: =SUM(BK63:BL71) -> 15431000 | BM72: =SUM(BM63:BN71) -> 15431000
C73: 전 기 (15개 공사) | E73: =Y73/Y$79 -> 0.0384 | F73: =Z73/Z$79 -> 0 | G73: =AA73/AA$79 -> 0.91867206 | I73: =AC73/AC$79 -> 0 | J73: =E73*$J$79 -> 7688244.4 | K73: 0 | L73: 7688244.4 | N73: 0 | O73: =P73+Q73+R73+S73 -> 12913417 | P73: 0 | S73: 12913417 | T73: =U73+V73+W73+X73 -> 5757000 | V73: 5757000 | X73: 0 | Y73: =Z73+AA73+AB73+AC73 -> 3162851.3 | Z73: 0 | AA73: 3162851.3 | AC73: 0 | AD73: =AE73+AF73+AG73+AH73 -> 10555171 | AF73: 10555171 | AI73: 14739558 | AJ73: =AI73-AL73-AM73 -> 0 | AM73: =AI73 -> 14739558 | AN73: =AO73+AP73+AQ73+AR73 -> 7620000 | AP73: 7620000 | AS73: =AT73+AU73+AV73+AW73 -> 9191402 | AT73: 0 | AU73: 9191402 | AV73: 0 | AW73: 0 | AX73: =AY73+AZ73+BA73+BB73 -> 4.9505912e+10 | AY73: 0 | BB73: 4.9505912e+10 | BJ73: 5757000 | BK73: 0
C74: 정보통신 (13개 공사) | E74: =Y74/Y$79 -> 0.0127 | F74: =Z74/Z$79 -> 0 | G74: =AA74/AA$79 -> 0 | I74: =AC74/AC$79 -> 0.21287104 | J74: =E74*$J$79 -> 2542726.7 | K74: 0 | L74: 0 | N74: 2542726.7 | O74: =P74+Q74+R74+S74 -> 11299239 | P74: 0 | S74: 11299239 | T74: =U74+V74+W74+X74 -> 2318000 | X74: 2318000 | Y74: =Z74+AA74+AB74+AC74 -> 1046047.2 | Z74: 0 | AA74: 0 | AC74: 1046047.2 | AD74: =AE74+AF74+AG74+AH74 -> 9652964 | AH74: 9652964 | AI74: 11933321 | AJ74: =AI74-AL74-AM74 -> 0 | AM74: =AI74 -> 11933321 | AN74: =AO74+AP74+AQ74+AR74 -> 6400000 | AR74: 6400000 | AS74: =AT74+AU74+AV74+AW74 -> 4613658 | AT74: 0 | AU74: 0 | AV74: 0 | AW74: 4613658 | AX74: =AY74+AZ74+BA74+BB74 -> 2.8301862e+10 | AY74: 0 | BB74: 2.8301862e+10 | BG74: 순공사비 비율 | BH74: =+BH63/BE70 -> 0.2884947 | BK74: 2318000
C75: 소방설비 (2개 공사) | E75: =Y75/Y$79 -> 0.0148 | F75: =Z75/Z$79 -> 0 | G75: =AA75/AA$79 -> 0 | I75: =AC75/AC$79 -> 0.24807018 | J75: =E75*$J$79 -> 2963177.5 | K75: 0 | L75: 0 | N75: 2963177.5 | O75: =P75+Q75+R75+S75 -> 10492151 | P75: 0 | S75: 10492151 | T75: =U75+V75+W75+X75 -> 5843000 | X75: 5843000 | Y75: =Z75+AA75+AB75+AC75 -> 1219015.6 | Z75: 0 | AA75: 0 | AC75: 1219015.6 | AD75: =AE75+AF75+AG75+AH75 -> 9259790 | AH75: 9259790 | AI75: 10271374 | AJ75: =AI75-AL75-AM75 -> 0 | AM75: =AI75 -> 10271374 | AN75: =AO75+AP75+AQ75+AR75 -> 7680000 | AR75: 7680000 | AS75: =AT75+AU75+AV75+AW75 -> 7407163 | AT75: 0 | AU75: 0 | AV75: 0 | AW75: 7407163 | AX75: =AY75+AZ75+BA75+BB75 -> 2.9103248e+10 | AY75: 0 | BB75: 2.9103248e+10 | BG75: 총공사비 비율 | BH75: =+BH66/BE70 -> 0.32112055 | BK75: 5843000
C76: 계 | E76: =SUM(E73:E75) -> 0.0659 | F76: =Z76/Z$79 -> 0 | G76: =AA76/AA$79 -> 0.91867206 | I76: =AC76/AC$79 -> 0.46094122 | J76: =SUM(J73:J75) -> 13194149 | K76: =SUM(K73:K75) -> 0 | L76: =SUM(L73:L75) -> 7688244.4 | M76: =SUM(M73:M75) -> 0 | N76: =SUM(N73:N75) -> 5505904.2 | O76: =SUM(O73:O75) -> 34704807 | P76: =SUM(P73:P75) -> 0 | Q76: =SUM(Q73:Q75) -> 0 | ... AH76: =SUM(AH73:AH75) -> 18912754 | AI76: =SUM(AI72,AI62,AI38)+SUM(AI73:AI75) -> 245205222 | AJ76: =SUM(AJ72,AJ62,AJ38)+SUM(AJ73:AJ75) -> 208260969 | AK76: =SUM(AK72,AK62,AK38)+SUM(AK73:AK75) -> 0 | AL76: =SUM(AL72,AL62,AL38)+SUM(AL73:AL75) -> 0 | AM76: =SUM(AM72,AM62,AM38)+SUM(AM73:AM75) -> 36944253 | AN76: =SUM(AN73:AN75) -> 21700000 | AO76: =SUM(AO73:AO75) -> 0 | AP76: =SUM(AP73:AP75) -> 7620000 | AQ76: =SUM(AQ73:AQ75) -> 0 | AR76: =SUM(AR73:AR75) -> 14080000 | AS76: =SUM(AS73:AS75) -> 21212223 | AT76: =SUM(AT73:AT75) -> 0 | AU76: =SUM(AU73:AU75) -> 9191402 | ... BB76: =SUM(BB73:BB75) -> 1.0691102e+11 | BG76: 대지비 비율 | BH76: =+BH68/BE70 -> 0.3055712 | BJ76: =SUM(BJ73:BJ75) -> 5757000 | BK76: =SUM(BK73:BK75) -> 8161000 | BM76: =BM72+BM62+BM38 -> 111568000
B77: 일반관리비 | E77: =Y77/Y$79 -> 0.0623 | F77: =Z77/Z$79 -> 0.045067554 | G77: =AA77/AA$79 -> 0.029045692 | I77: =AC77/AC$79 -> 0.34513444 | J77: =E77*$J$79 -> 12473376 | K77: =J77*0.65 -> 8107694.2 | L77: =J77*0.02 -> 249467.51 | M77: 0 | N77: =J77-K77-L77 -> 4116214 | O77: =P77+Q77+R77+S77 -> 8070885 | P77: 6053164 | R77: 0 | S77: 2017721 | T77: =U77+V77+W77+X77 -> 9213000 | U77: 8191161 | V77: 422670 | X77: 599169 | Y77: =Z77+AA77+AB77+AC77 -> 5131396.8 | Z77: 3335407.9 | AA77: 100000 | AB77: 0 | AC77: 1695988.9 | AD77: =AE77+AF77+AG77+AH77 -> 12296222 | AE77: 10286849 | AF77: 719741 | AG77: 0 | AH77: 1289632 | AI77: 13622512 | AJ77: 11570054 | AM77: 2052458 | AN77: =AO77+AP77+AQ77+AR77 -> 8000000 | AO77: 6664000 | AP77: 469139 | AQ77: 0 | AR77: 866861 | AS77: =AT77+AU77+AV77+AW77 -> 25904120 | AT77: 22803455 | AU77: 1343539.7 | AV77: 0 | AW77: 1757125.8 | AX77: =AY77+AZ77+BA77+BB77 -> 25179075000 | AY77: 1.9892266e+10 | BA77: 0 | BB77: 5.2868088e+09 | BG77: 간접비 비율 | BH77: =+BH67/BE70 -> 0.36208552 | BJ77: 422670 | BK77: 599169 | BM77: 8191161
B78: 이 윤 | E78: =Y78/Y$79 -> 0.0393 | F78: =Z78/Z$79 -> 0.028429452 | G78: =AA78/AA$79 -> 0.052282246 | I78: =AC78/AC$79 -> 0.19392434 | J78: =E78*$J$79 -> 7868437.6 | K78: =J78*0.65 -> 5114484.4 | L78: =J78*0.06 -> 472106.26 | M78: 0 | N78: =J78-K78-L78 -> 2281846.9 | O78: =P78+Q78+R78+S78 -> 14527594 | P78: 10895695 | R78: 0 | S78: 3631899 | T78: =U78+V78+W78+X78 -> 4766000 | U78: 4237390 | V78: 218653 | X78: 309957 | Y78: =Z78+AA78+AB78+AC78 -> 3236980.7 | Z78: 2104037.4 | AA78: 180000 | AB78: 0 | AC78: 952943.23 | AD78: =AE78+AF78+AG78+AH78 -> 11450121 | AE78: 9579012 | AF78: 670216 | AG78: 0 | AH78: 1200893 | AI78: 13622513 | AJ78: 11570054 | AM78: 2052459 | AN78: =AO78+AP78+AQ78+AR78 -> 8000000 | AO78: 6664000 | AP78: 469139 | AQ78: 0 | AR78: 866861 | AS78: =AT78+AU78+AV78+AW78 -> 11481102 | AT78: 10106840 | AU78: 595477.32 | AV78: 0 | AW78: 778785.03 | AX78: =AY78+AZ78+BA78+BB78 -> 25179075000 | AY78: 1.9892266e+10 | BA78: 0 | BB78: 5.2868088e+09 | BJ78: 218653 | BK78: 309957 | BM78: 4237390
B79: 총 공 사 비 계 | E79: =E78+E77+E76+E72+E62+E38 -> 1 | F79: =Z79/Z$79 -> 1 | G79: =AA79/AA$79 -> 1 | I79: =AC79/AC$79 -> 1 | J79: 2.002147e+08 | K79: =K78+K77+K76+K72+K62+K38 -> 1.7990091e+08 | L79: =L78+L77+L76+L72+L62+L38 -> 8409818.2 | M79: =M78+M77+M76+M72+M62+M38 -> 0 | N79: =N78+N77+N76+N72+N62+N38 -> 11903965 | O79: =O78+O77+O76+O72+O62+O38 -> 161417706 | P79: =P78+P77+P76+P72+P62+P38 -> 121063279 | Q79: =Q78+Q77+Q76+Q72+Q62+Q38 -> 0 | R79: =R78+R77+R76+R72+R62+R38 -> 0 | ... U79: =U78+U77+U76+U72+U62+U38 -> 123996551 | V79: =V38+V62+V72+V73+V74+V75+V77+V78 -> 6398323 | W79: =W38+W62+W72+W73+W74+W75+W77+W78 -> 0 | X79: =X38+X62+X72+X73+X74+X75+X77+X78 -> 9070126 | Y79: =Y78+Y77+Y76+Y72+Y62+Y38 -> 82365920 | Z79: =Z78+Z77+Z76+Z72+Z62+Z38 -> 74009074 | AA79: =AA78+AA77+AA76+AA72+AA62+AA38 -> 3442851.3 | AB79: =AB78+AB77+AB76+AB72+AB62+AB38 -> 0 | AC79: =AC78+AC77+AC76+AC72+AC62+AC38 -> 4913994.9 | AD79: =AD78+AD77+AD76+AD72+AD62+AD38 -> 204073260 | AE79: =AE78+AE77+AE76+AE72+AE62+AE38 -> 170724853 | AF79: =AF78+AF77+AF76+AF72+AF62+AF38 -> 11945128 | ... AH79: =AH78+AH77+AH76+AH72+AH62+AH38 -> 21403279 | AI79: =AI38+AI62+AI72+AI73+AI74+AI75+AI77+AI78 -> 272450247 | AJ79: =AJ38+AJ62+AJ72+AJ73+AJ74+AJ75+AJ77+AJ78 -> 231401077 | AK79: =AK38+AK62+AK72+AK73+AK74+AK75+AK77+AK78 -> 0 | AL79: =AL38+AL62+AL72+AL73+AL74+AL75+AL77+AL78 -> 0 | AM79: =AM38+AM62+AM72+AM73+AM74+AM75+AM77+AM78 -> 41049170 | AN79: =AN78+AN77+AN76+AN72+AN62+AN38 -> 147794836 | AO79: =AO78+AO77+AO76+AO72+AO62+AO38 -> 123422836 | AP79: =AP78+AP77+AP76+AP72+AP62+AP38 -> 8558278 | AQ79: =AQ78+AQ77+AQ76+AQ72+AQ62+AQ38 -> 0 | AR79: =AR78+AR77+AR76+AR72+AR62+AR38 -> 15813722 | AS79: =AS78+AS77+AS76+AS72+AS62+AS38 -> 214600072 | AT79: =AT78+AT77+AT76+AT72+AT62+AT38 -> 1.8891292e+08 | AU79: =AU38+AU62+AU72+AU73+AU74+AU75+AU77+AU78 -> 11130419 | AV79: =AV38+AV62+AV72+AV73+AV74+AV75+AV77+AV78 -> 0 | AW79: =AW38+AW62+AW72+AW73+AW74+AW75+AW77+AW78 -> 14556732 | AX79: =AX78+AX77+AX76+AX72+AX62+AX38 -> 559535000000 | AY79: =AY78+AY77+AY76+AY72+AY62+AY38 -> 4.4205036e+11 | AZ79: =AZ78+AZ77+AZ76+AZ72+AZ62+AZ38 -> 0 | BA79: =BA78+BA77+BA76+BA72+BA62+BA38 -> 0 | BB79: =BB78+BB77+BB76+BB72+BB62+BB38 -> 1.1748464e+11 | BK79: =BM79+BO79+BP79+BQ79 -> 123996551 | BM79: =BM78+BM77+BM75+BM74+BM73+BM72+BM62+BM38 -> 123996551
B80: 총 공 사 평 당 공 사 비 | E80: =E79/E$13 -> 1.6120988e-05 | J80: =J79/J$13 -> 3227.6588 | O80: =O79/O$13 -> 3003.5077 | P80: =P79+P78+P77+P73+P63+P39 -> 143221538 | Q80: =Q79+Q78+Q77+Q73+Q63+Q39 -> 0 | R80: =R79+R78+R77+R73+R63+R39 -> 0 | S80: =S79+S78+S77+S73+S63+S39 -> 58917464 | T80: =T79/T$13 -> 2999.3562 | Y80: =Y79/Y$13 -> 3593.2311 | Z80: =Z79+Z78+Z77+Z73+Z63+Z39 -> 83702917 | AA80: =AA79+AA78+AA77+AA73+AA63+AA39 -> 6885702.7 | AB80: =AB79+AB78+AB77+AB73+AB63+AB39 -> 0 | AC80: =AC79+AC78+AC77+AC73+AC63+AC39 -> 7562927 | AD80: =AD79/AD$13 -> 3391.2335 | AE80: =AE79+AE78+AE77+AE73+AE63+AE39 -> 198773826 | AF80: =AF79+AF78+AF77+AF73+AF63+AF39 -> 23890256 | AG80: =AG79+AG78+AG77+AG73+AG63+AG39 -> 0 | AH80: =AH79+AH78+AH77+AH73+AH63+AH39 -> 23893804 | AI80: =AI79/AI$13 -> 3169.8896 | AJ80: =AJ39+AJ63+AJ73+AJ74+AJ75+AJ76+AJ78+AJ79 -> 463437871 | AK80: =AK39+AK63+AK73+AK74+AK75+AK76+AK78+AK79 -> 0 | AL80: =AL39+AL63+AL73+AL74+AL75+AL76+AL78+AL79 -> 0 | AM80: =AM39+AM63+AM73+AM74+AM75+AM76+AM78+AM79 -> 116990135 | AN80: =AN79/AN$13 -> 3394.9847 | AO80: =AO79+AO78+AO77+AO73+AO63+AO39 -> 142921148 | AP80: =AP79+AP78+AP77+AP73+AP63+AP39 -> 17116556 | AQ80: =AQ79+AQ78+AQ77+AQ73+AQ63+AQ39 -> 0 | AR80: =AR79+AR78+AR77+AR73+AR63+AR39 -> 17547444 | AS80: =AS79/AS$13 -> 3189.9873 | AT80: =AT79+AT78+AT77+AT73+AT63+AT39 -> 2.2936451e+08 | AU80: =AU39+AU63+AU73+AU74+AU75+AU76+AU78+AU79 -> 30108700 | AV80: =AV39+AV63+AV73+AV74+AV75+AV76+AV78+AV79 -> 0 | AW80: =AW39+AW63+AW73+AW74+AW75+AW76+AW78+AW79 -> 39377159 | AX80: =AX79/AX$13 -> 3967435.6 | AY80: =AY79+AY78+AY77+AY73+AY63+AY39 -> 5.0598188e+11 | AZ80: =AZ79+AZ78+AZ77+AZ73+AZ63+AZ39 -> 0 | BA80: =BA79+BA78+BA77+BA73+BA63+BA39 -> 0 | BB80: =BB79+BB78+BB77+BB73+BB63+BB39 -> 1.7756417e+11 | BK80: =BM80+BO80+BP80+BQ80 -> 245442941 | BM80: =BM79+BM78+BM76+BM75+BM74+BM73+BM63+BM39 -> 245442941
G82: =X79-E79-H79 -> 9070125 | H82: =E79-F79-I79 -> -1 | J82: =J78+J77+J76+J72+J62+J38 -> 2.002147e+08 | L82: =AC79-J79-M79 -> -1.953007e+08 | M82: =J79-K79-N79 -> 8409818.2 | Q82: =AH79-O79-R79 -> -140014427 | R82: =O79-P79-S79 -> 0 | V82: =AM79-T79-W79 -> -98415830 | W82: =T79-U79-X79 -> 6398323 | AA82: =AH79-Y79-AB79 -> -60962641 | AB82: =Y79-Z79-AC79 -> 3442851.3 | AF82: =AR79-AD79-AG79 -> -188259538 | AG82: =AD79-AE79-AH79 -> 11945128 | AK82: =D79-AI79-AL79 -> -272450247 | AL82: =AI79-AJ79-AM79 -> 0 | AP82: =AW79-AN79-AQ79 -> -1.332381e+08 | AQ82: =AN79-AO79-AR79 -> 8558278 | AU82: =X79-AS79-AV79 -> -205529946 | AV82: =AS79-AT79-AW79 -> 11130419 | AZ82: =S79-AX79-BA79 -> -559494645573 | BA82: =AX79-AY79-BB79 -> 0
J83: =200214697420.2/1000 -> 2.002147e+08
Z84: =Z77/Y77 -> 0.65 | AA84: =AA77/Y77 -> 0.019487871 | AC84: =AC77/Y77 -> 0.33051213
Z85: =Z78/Y78 -> 0.65 | AA85: =AA78/Y78 -> 0.055607376 | AC85: =AC78/Y78 -> 0.29439262

Sheet 감리용역비내역서
A1: 감 리 용 역 비 내 역 서
A3: ㅇ 양주 옥정신도시 대우 푸르지오 아파트 신축공사 전력시설물 감리용역
A4: 구 분 | B4: 단 위 | C4: 수 량 | D4: 금 액 | E4: 비고
A6: 1. 직접인건비 | B6: 식 | C6: 1 | D6: =[2]산출내역서!J11 -> 369739458
A7: 2. 제 경 비 | B7: 식 | C7: 1 | D7: =+[2]산출내역서!J18 -> 4.067134e+08
A8: 3. 기 술 료 | B8: 식 | C8: 1 | D8: =+[2]산출내역서!J22 -> 155290572
A9: 4. 직 접 경 비 | D9: =+[2]산출내역서!J27 -> 107199301
A10: 가.주재비 | B10: 식 | C10: 1 | D10: =+[2]산출내역서!J30 -> 100838034
A11: 나.출장비 | B11: 식 | C11: 1 | D11: =+[2]산출내역서!J32 -> 3361267
A12: 다.현지차량비 | B12: 식 | C12: 1 | D12: 0
A13: 라.사무원급료 | B13: 식 | C13: 1 | D13: 0
A14: 마.도서인쇄비 | B14: 식 | C14: 1 | D14: =+[2]산출내역서!J37 -> 3000000
A15: 5. 손해배상보험 공제료 | B15: 식 | C15: 1 | D15: 0
A16: 소 계 | D16: =+[2]산출내역서!J39 -> 1.0389427e+09
A17: VAT | D17: =+[2]산출내역서!J40 -> 1.0389427e+08
A18: 합 계(산출감비대가) | D18: =D16+D17 -> 1.142837e+09
A19: 합 계(적용감리대가) | B19: 세대 | C19: =+[2]산출내역서!D6 -> 1862 | D19: =+[2]산출내역서!D56 -> 1.142837e+09 | E19: =IF(C19<400,85%,IF(C19<500,90%,IF(C19>500,100%))) -> 1
