Workbook

Sheet 1P
B1: [별지 제1호 서식]
B2: 총사업비 산출 총괄표
H3: (단위 : 천원)
B4: 구분 | C4: 분야 | D4: 공종 | E4: 전체 | F4: 감리대상 | G4: 감리제외 | H4: 타법감리
B5: 총공사비 | C5: 순공사비 | D5: 토목공사 | E5: ='[1]2P'!E19 -> 0.106 | F5: ='[1]2P'!F19 -> 0.106 | G5: ='[1]2P'!G19 -> 0 | H5: ='[1]2P'!H19 -> 0
D6: 건축공사 | E6: ='[1]2P'!E43 -> 0.564 | F6: ='[1]2P'!F43 -> 0.564 | G6: ='[1]2P'!G43 -> 0 | H6: ='[1]2P'!H43 -> 0
D7: 기계설비공사 | E7: ='[1]2P'!E53 -> 0.11 | F7: ='[1]2P'!F53 -> 0.11 | G7: ='[1]2P'!G53 -> 0 | H7: ='[1]2P'!H53 -> 0
D8: 전기공사 | E8: ='[1]2P'!E54 -> 0.059 | F8: ='[1]2P'!F54 -> 0 | G8: ='[1]2P'!G54 -> 0 | H8: ='[1]2P'!H54 -> 0.059
D9: 정보통신공사 | E9: ='[1]2P'!E55 -> 0.039 | F9: ='[1]2P'!F55 -> 0 | G9: ='[1]2P'!G55 -> 0 | H9: ='[1]2P'!H55 -> 0.039
D10: 소방설비공사 | E10: ='[1]2P'!E56 -> 0.025 | F10: ='[1]2P'!F56 -> 0 | G10: ='[1]2P'!G56 -> 0 | H10: ='[1]2P'!H56 -> 0.025
D11: 소 계 | E11: =SUM(E5:E10) -> 0.903 | F11: =SUM(F5:F10) -> 0.78 | G11: =SUM(G5:G10) -> 0 | H11: =SUM(H5:H10) -> 0.123
C12: 일반관리비 | E12: 0 | F12: ='[1]2P'!F57 -> 0 | G12: 0 | H12: ='[1]2P'!H57 -> 0
C13: 이 윤
B14: 소 계 | E14: =SUM(E11:E13) -> 0.903 | F14: =SUM(F11:F13) -> 0.78 | G14: =SUM(G11:G13) -> 0 | H14: =SUM(H11:H13) -> 0.123
B15: 간접비 | C15: 설계비
C16: 감리비
C17: 일반분양시설 경비
C18: 분담금 및 부담금
C19: 보상비
C20: 기타사업비성 경비
B21: 소 계
B22: 대 지 비
B23: 부가가치세액
B24: 총 사 업 비 계

Sheet 총괄표
A1: [별지 제1호 서식]
A3: 총사업비 산출 총괄표
A4: 공사명: 인천 검단신도시 AA11BL 공동주택 신축공사 | G4: (단위:천원)
A5: 구분 | B5: 분야 | C5: 공종 | D5: 전체 | E5: 감리대상 | F5: 감리제외 | G5: 타법감리
A6: 총공사비 | B6: 순공사비 | C6: 토목공사 | D6: =SUM(E6:G6) -> 15179321 | E6: =공종별현황표!F19 -> 15179321
C7: 건축공사 | D7: =SUM(E7:G7) -> 110378902 | E7: =공종별현황표!F43 -> 110378902
C8: 기계설비공사 | D8: =SUM(E8:G8) -> 22413494 | E8: =공종별현황표!F53 -> 22413494
C9: 전기공사 | D9: =SUM(E9:G9) -> 6825362 | G9: =공종별현황표!H54 -> 6825362
C10: 정보통신공사 | D10: =SUM(E10:G10) -> 2257346 | G10: =공종별현황표!H55 -> 2257346
C11: 소방설비공사 | D11: =SUM(E11:G11) -> 2630608 | G11: =공종별현황표!H56 -> 2630608
C12: 소 계 | D12: =SUM(D6:D11) -> 159685033 | E12: =SUM(E6:E11) -> 147971717 | G12: =SUM(G6:G11) -> 11713316
B13: 일반관리비 | D13: =SUM(E13:G13) -> 11073439 | E13: =공종별현황표!F58 -> 7197735 | G13: =공종별현황표!H58 -> 3875704
B14: 이 윤 | D14: =SUM(E14:G14) -> 6985332 | E14: =공종별현황표!F59 -> 4540466 | G14: =공종별현황표!H59 -> 2444866
A15: 소 계 | D15: =SUM(D12:D14) -> 177743804 | E15: =SUM(E12:E14) -> 159709918 | F15: =SUM(F12:F14) -> 0 | G15: =SUM(G12:G14) -> 18033886
A16: 간접비 | B16: 설계비 | D16: 1820600 | F16: =D16 -> 1820600
B17: 감리비 | D17: 5145675 | F17: =D17 -> 5145675
B18: 일반분양시설 경비 | D18: =6956120+24288434+5723024 -> 36967578 | F18: =D18 -> 36967578
B19: 분담금 및 부담금 | D19: 7789112 | F19: =D19 -> 7789112
B20: 보상비 | D20: 0 | F20: =D20 -> 0
B21: 기타사업비성 경비 | D21: =553511154-SUM(D15,D16,D17,D18,D19,D20,D23,D24) -> 148695409 | F21: =D21 -> 148695409
A22: 소 계 | D22: =SUM(D16:D21) -> 200418374 | E22: =SUM(E16:E21) -> 0 | F22: =SUM(F16:F21) -> 200418374 | G22: =SUM(G16:G21) -> 0
A23: 대 지 비 | D23: 169137067 | F23: =D23 -> 169137067
A24: 부가가치세액 | D24: =183955713-D15 -> 6211909 | F24: =D24 -> 6211909
A25: 총 사 업 비 계 | D25: =D15+D22+D23+D24 -> 553511154 | E25: =E15+E22+E23+E24 -> 159709918 | F25: =F15+F22+F23+F24 -> 375767350 | G25: =G15+G22+G23+G24 -> 18033886
A26: 주 1 : 순공사비란 재료비, 노무비, 경비를 합한 금액임.
A27: 2 : 일반관리비와 이윤에 대한 정의 및 산정 방법은 "원가계산에 의한 예정가격작성 준칙(회계예규)"에 따름
A28: 3 : 부가가치세액의 정의와 산정방법은 "부가가치세법"에 따름
A29: 4 : 간접비란 사업비 중 총공사비를 제외한 설계비,감리비,일반분양시설경비 등 사업비성경비를 말하며, 세부 품목은 다음과 같음
A30: * 일반분양시설경비 : 분양 사무실 시공비, 운영비, 광고홍보비
A31: * 분담금 및 부담금 : 인입분담금(가스,전기,수도,지역난방),진입도로, 학교용지확보 부담금
A32: * 기타 사업비성 경비 : 제세공과금, 측량, 교통, 환경 영향평가 수수료, 취득세, 등록세, 건물보존 등기비 및 입주관리비
A33: 감정평가 수수료, 분양 보증 및 하자보증수수료 등 기타 사업비성 경비
A34: * 대지비 : 대지구입비, 대지 구입 관련 금융비용 및 제세공과금
A35: * 감리비 산정 시 발코니 확장 포함금액임

Sheet 전기감리비
A1: 전 기 감 리 용 역 비 산 출 내 역
A2: 용 역 명 | D2: 의정부 민락2지구 푸르지오 아파트신축 전력시설물공사 감리용역
A4: 공사개요 | D4: 아파트 9개동 943세대 지하1층 지상29층 지하주차장 및 부대복리시설 연면적 133,961,378㎡
A5: 적 요 | D5: "전력기술관리법 운영요령"(산자부고시 제2011-272호 시행11.12.27) 실비정액가산방식
A6: 구 분 | D6: 산 출 내 역 | I6: 금 액 | J6: 비 고 | N6: 2012.02
A7: 1.직접인건비 | D7: 배치되는감리원수(인*월) * 등급별 감리원월임금 | I7: =SUM(I8:I10) -> 132920634 | J7: 제25조 | L7: 22일/월 기준
A8: 상주감리원 | B8: 수석감리사 | D8: 1 | E8: 21 | F8: 1 | G8: #REF! | H8: =M8*N8 -> 6329554 | I8: =D8*E8*F8*H8 -> 132920634 | L8: 수석 | M8: 287707 | N8: 22
B9: 감리사보 | D9: 0 | E9: 21 | F9: 0.5 | G9: #REF! | H9: =M9*N9 -> 4290814 | I9: =D9*E9*F9*H9 -> 0 | L9: 감리사보 | M9: 195037 | N9: 22
A10: 비상주 감리원 | B10: 수석감리사 | D10: 상주감리원 직접인건비의 10% | L10: ※한국건설감리협회 임금공표 기준
A11: 2. 제 경 비 | D11: 직접인건비의 110% ~ 120% | I11: =I12 -> 1.462127e+08 | J11: 제28조
D12: =I7 -> 132920634 | G12: 1.1 | H12: 1.1 | I12: =D12*H12 -> 1.462127e+08
A13: 3. 기 술 료 | D13: (직접인건비+제경비) * 20% ~ 40% | I13: =I14 -> 55826666 | J13: 제29조
D14: =I7+I11 -> 2.7913333e+08 | G14: 0.1 | H14: 0.2 | I14: =D14*H14 -> 55826666
A15: 4. 직접경비 | D15: 가) + 나) + 다) + 라) + 마) | I15: =SUM(I16:I20) -> 76807086 | J15: 제27조
A16: 가) 주재비 | D16: 상주 직접인건비의 30% | H16: 0.3 | I16: =I8*H16 -> 39876190
A17: 나) 출장여비 | D17: 비상주 직접인건비의 10% | H17: 0.1 | I17: =I10*H17 -> 0
A18: 다) 인쇄비 | D18: 월간보고서, 최종보고서, 특별보고서 유지관리지침서, 설계변경도서 등 1식 | I18: 2000000
A19: 라) 현지차량비 | I19: =I10*10% -> 0
A20: 마) 현장 운영경비 | D20: 보통인부1인(75,608원/일, 21개월, 22일/월기준) | I20: =M20*E8*N8 -> 34930896 | L20: 보통인부 | M20: 75608 | N20: (한국건설협회 건설임금실태조사보고서 2009년 하반기 기준)
A21: 5. 합 계 | D21: 1 + 2 + 3 + 4 | I21: =I7+I11+I13+I15 -> 4.1176708e+08 | M21: (원/일)
A22: 6. 감액조정 | D22: 900세대 ~ 1000세대 미만 | H22: 0.15 | I22: =-I21*H22 -> -61765063 | J22: 운영요령 제24조 제2항 | L22: 300세대이상 400세대미만 15%, 400세대이상 500세대미만 10%
A23: 7. 합 계 | I23: =+I21+I22 -> 3.5000202e+08
A24: 8. 부 가 세 | D24: 0.1 | I24: =I23*D24 -> 35000202
A25: 9. 기초금액 | D25: 합계 + 부가세 | I25: =I23+I24 -> 3.8500222e+08 | J25: ※ 부가세포함
A26: □ 감리원 등급별 임금은 한국건설감리협회가 통계법 제15조 규정에 의하여 공표한 2012년 적용 임금임.
G27: 할인률(%)
A28: - 전력기술관리법 운영요령에 근거하여 산출(지식경제부) | I28: =+I25*0.94*0.82 -> 2.9675971e+08
A29: - 감리원 임금은 건설공사감리대가기준(국토해양부 고시) 및 한국건설감리협회 공표 근거
A30: - 보통인부 임금은 한국건설협회의 건설임금실태조사보고서에 근거
I31: =+I21*1.1 -> 4.5294379e+08
I32: =+I25*0.85 -> 3.2725189e+08
I33: =+I32*0.94 -> 3.0761678e+08

Sheet 공종별현황표
B1: [별지 제2호 서식]
B3: 공종별 총공사비 구성 현황표
B4: =총괄표!A4 -> 공사명: 인천 검단신도시 AA11BL 공동주택 신축공사 | H4: (단위 : 천원)
B5: 구 분 | C5: 분 야 | D5: 공 종 | E5: 전 체 | F5: 감리대상 | G5: 감리제외 | H5: 타법감리
B6: 순공사비 | C6: 토 목 | D6: 토공사 | E6: =F6+G6+H6 -> 3785723 | F6: 3785723
C7: (13개 공종) | D7: 흙막이공사 | E7: =F7+G7+H7 -> 4644872 | F7: 4644872
D8: 비탈면보호공사 | E8: =F8+G8+H8 -> 0 | F8: 0
D9: 옹벽공사 | E9: =F9+G9+H9 -> 1821519 | F9: 1821519
D10: 석축공사 | E10: =F10+G10+H10 -> 0 | F10: 0
D11: 우,오수공사 | E11: =F11+G11+H11 -> 637531 | F11: 637531
D12: 공동구공사 | E12: =F12+G12+H12 -> 0 | F12: 0
D13: 지하저수조 및 급수공사 | E13: =F13+G13+H13 -> 33395 | F13: 33395
D14: 도로포장공사 | E14: =F14+G14+H14 -> 1152110 | F14: 1152110
D15: 교통안전시설물공사 | E15: =F15+G15+H15 -> 0 | F15: 0
D16: 정화조시설공사 | E16: =F16+G16+H16 -> 0 | F16: 0
D17: 조경공사 | E17: =F17+G17+H17 -> 2774780 | F17: 2774780
D18: 부대시설공사 | E18: =F18+G18+H18 -> 329391 | F18: 329391
D19: 소 계 | E19: =SUM(E6:E18) -> 15179321 | F19: =SUM(F6:F18) -> 15179321 | G19: =SUM(G6:G18) -> 0 | H19: =SUM(H6:H18) -> 0
C20: 건 축 | D20: 공통가설물공사 | E20: =F20+G20+H20 -> 5839044 | F20: 5839044
C21: (23개 공종) | D21: 가시설물공사 | E21: =F21+G21+H21 -> 1997858 | F21: 1997858
D22: 지정 및 기초공사 | E22: =F22+G22+H22 -> 2704283 | F22: 2704283
D23: 철골공사 | E23: =F23+G23+H23 -> 518781 | F23: 518781
D24: 철근콘크리트공사 | E24: =F24+G24+H24 -> 48787475 | F24: 48787475
D25: 용접공사 | E25: =F25+G25+H25 -> 0 | F25: 0
D26: 조적공사 | E26: =F26+G26+H26 -> 2593904 | F26: 2593904
D27: 미장공사 | E27: =F27+G27+H27 -> 3565239 | F27: 3565239
D28: 단열공사 | E28: =F28+G28+H28 -> 1479077 | F28: 1479077
D29: 방수.방습공사 | E29: =F29+G29+H29 -> 2704283 | F29: 2704283
D30: 목공사 | E30: =F30+G30+H30 -> 4106095 | F30: 4106095
D31: 가구공사 | E31: =F31+G31+H31 -> 4922899 | F31: 4922899
D32: 금속공사 | E32: =F32+G32+H32 -> 1114827 | F32: 1114827
D33: 지붕 및 홈통공사 | E33: =F33+G33+H33 -> 916145 | F33: 916145
... D42: 잡공사 | E42: =F42+G42+H42 -> 894069 | F42: 894069
D43: 소 계 | E43: =SUM(E20:E42) -> 110378902 | F43: =SUM(F20:F42) -> 110378902 | G43: =SUM(G20:G42) -> 0 | H43: =SUM(H20:H42) -> 0
C44: 기계설비 | D44: 급수설비공사 | E44: =F44+G44+H44 -> 3341852 | F44: 3341852
C45: (9개 공사) | D45: 급탕설비공사 | E45: =F45+G45+H45 -> 2227901 | F45: 2227901
D46: 오배수 및 통기설비공사 | E46: =F46+G46+H46 -> 3787880 | F46: 3787880
D47: 위생기구공사 | E47: =F47+G47+H47 -> 2452036 | F47: 2452036
D48: 승강기기계공사 | E48: =F48+G48+H48 -> 3474092 | F48: 3474092
D49: 난방설비공사 | E49: =F49+G49+H49 -> 2006008 | F49: 2006008
...

Sheet 예정공정표(건축)
A1: 인천 검단신도시 AA11BL 공동주택 신축공사 (건축) 예정공정표
A3: ▣ 공 사 명 : 인천 검단신도시 AA11BL 공동주택 신축공사
A4: ▣ 착공예정일 : 2019년 11월 01일
A5: ▣ 공 사 기 간 : 2019년 11월 01일~ 2022년 5월 31일 (31개월)
A7: 년도 | B7: 2019년 | H7: 2020년 | AR7: 2021년 | CB7: 2022년 | CQ7: 비 고
A8: 월 | B8: 11월 | E8: 12월 | H8: 1월 | K8: 2월 | N8: 3월 | Q8: 4월 | T8: 5월 | W8: 6월 | Z8: 7월 | AC8: 8월 | AF8: 9월 | AI8: 10월 | AL8: 11월 | AO8: 12월 | AR8: 1월 | AU8: 2월 | AX8: 3월 | BA8: 4월 | BD8: 5월 | BG8: 6월 | BJ8: 7월 | BM8: 8월 | BP8: 9월 | BS8: 10월 | BV8: 11월 | BY8: 12월 | CB8: 1월 | CE8: 2월 | CH8: 3월 | CK8: 4월 | CN8: 5월
A9: 개월수 | B9: 1개월 | E9: 2개월 | H9: 3개월 | K9: 4개월 | N9: 5개월 | Q9: 6개월 | T9: 7개월 | W9: 8개월 | Z9: 9개월 | AC9: 10개월 | AF9: 11개월 | AI9: 12개월 | AL9: 13개월 | AO9: 14개월 | AR9: 15개월 | AU9: 16개월 | AX9: 17개월 | BA9: 18개월 | BD9: 19개월 | BG9: 20개월 | BJ9: 21개월 | BM9: 22개월 | BP9: 23개월 | BS9: 24개월 | BV9: 25개월 | BY9: 26개월 | CB9: 27개월 | CE9: 28개월 | CH9: 29개월 | CK9: 30개월 | CN9: 31개월
A10: 전체공정 | CQ10: 2019.11.01 ~ 2022.5.31 (31개월)
A13: 토목공사 | CQ13: 2019.11.01 ~ 2020.07.31 2021.05.01 ~ 2022.05.31 (22개월)
A16: 조경공사 | CQ16: 2021.08.01 ~ 2022.05.31 (10개월)
A19: 건축공사 | CQ19: =CQ10 -> 2019.11.01 ~ 2022.5.31 (31개월)
A22: 구조체공사 | CQ22: 2020.02.01 ~ 2021.06.30 (17개월)
A25: 설비공사 | CQ25: 2020.03.01 ~ 2022.05.31 (27개월)
A28: 정보통신공사 | CQ28: =CQ25 -> 2020.03.01 ~ 2022.05.31 (27개월)
A31: 소방공사 | CQ31: =CQ25 -> 2020.03.01 ~ 2022.05.31 (27개월)

Sheet 공종별현황표 (2)
B1: [별지 제2호 서식]
B3: 공종별 총공사비 구성 현황표
I4: (단위 : 천원) | N4: (단위 : 천원) | S4: (단위 : 천원) | X4: (단위 : 천원) | AH4: (단위 : 천원) | AM4: (단위 : 천원) | AR4: (단위 : 천원) | AW4: (단위 : 천원) | BC4: (단위 : 천원)
B5: 구 분 | C5: 분 야 | D5: 공 종 | E5: 1.전 체 보할 | F5: 감리대상 | G5: 전기감리 | H5: 감리제외 | I5: 타법감리 | J5: ★.전 체 | K5: 감리대상 | L5: 전기감리 | M5: 감리제외 | N5: 타법감리 | O5: 1.전 체 | P5: 감리대상 | Q5: 전기감리 | R5: 감리제외 | S5: 타법감리 | T5: 2.전 체 | U5: 감리대상 | V5: 전기감리 | W5: 감리제외 | X5: 타법감리 | Y5: 3.전 체 | Z5: 감리대상 | AA5: 전기감리 | AB5: 감리제외 | AC5: 타법감리 | AD5: 4.전 체 | AE5: 감리대상 | AF5: 전기감리 | AG5: 감리제외 | AH5: 타법감리 | AI5: 5.전 체 | AJ5: 감리대상 | AK5: 전기감리 | AL5: 감리제외 | AM5: 타법감리 | AN5: 6.전 체 | AO5: 감리대상 | AP5: 전기감리 | AQ5: 감리제외 | AR5: 타법감리 | AS5: 7.전 체 | AT5: 감리대상 | AU5: 전기감리 | AV5: 감리제외 | AW5: 타법감리 | AX5: 0.전 체 | AY5: 감리대상 | AZ5: 전기감리 | BA5: 감리제외 | BB5: 타법감리 | BC5: 비고
B6: 공사명 | E6: 인천검단지구AA11블럭 공동주택 신축공사 | J6: 인천검단지구AA11블럭 공동주택 신축공사 | O6: 원당동 검단신도시 AB15-2블록 공동주택(아파트) 신축공사 | T6: 인천 검단신도시 AA4블록 유승한내들 공동주택 신축공사 | Y6: 마전지구 지역주택조합 공동주택(아파트) 신축공사 | AD6: 원당동 검단신도시 AB15-1블록 공동주택(아파트) 신축공사 | AI6: 원당동 검단신도시 AB16블록 공동주택 신축공사 | AN6: 원당동 검단신도시 AB6블록 공동주택 신축공사 | AS6: 인천검단 AB-4블럭 대방노블랜드 건설공사 | AX6: 인천 루원시티 주상1,2블록 주상복합 신축공사
B7: 건설사 | E7: 금성백조건설 | J7: 금성백조건설 | O7: 광주광역시 남구 중앙로 87 ㈜호반건설주식회사 | T7: ㈜유승종합건설 대표이사 민광옥(☎032-524-8822) | Y7: 양우건설 주식회사 대표이사 고삼상, 고문철 (☏ 02-2679-5200) | AD7: 우미건설㈜ (☏1588-9950) | AI7: ㈜대우건설 대표이사 김형(☏02-2288-3114) | AN7: 한신공영(주) 대표 태기전, 최문규 (☏02-3393-3313) | AS7: 대방건설㈜ 대표이사 구찬우 (☏031-920-3807) | AX7: 에스케이건설(주) 대표이사 조기행(☎02-3700-7114)
B8: 설계사 | E8: 디에이그룹엔지니어링 종합건축사사무소 | J8: 디에이그룹엔지니어링 종합건축사사무소 | O8: ㈜토담건축사사무소 대표이사 오준석(☏062-374-7311) | T8: ㈜유선엔지니어링건축사사무소 대표이사 조영돈(☎02-2189-5850) | Y8: ㈜성도 건축사사무소 대표자 신현배 (☏ 032-467-1144) | AD8: 에이앤유디자인그룹건축사사무소㈜ 대표이사 오성제(☏02-2047-3000) | AI8: ㈜정림건축종합건축사사무소 대표이사 임진우(☏02-708-8600) | AN8: ㈜티씨엠씨 건축사사무소 대표이사 김태영 (☏032-427-1115) | AS8: ㈜현대건축사사무소 대표이사 조연성 (☏062-528-0101) | AX8: ㈜이안디자인건축사사무소 대표이사 장성열(☎02-588-9188)
B9: 위치 | E9: 인천광역시 서구 원당동 284번지 일대 | J9: 인천광역시 서구 원당동 284번지 일대 | O9: 원당동 검단신도시 AB15-2블록 | T9: 인천광역시 서구 당하동 검단신도시 AA4블록 | Y9: 인천광역시 서구 마전지구 17BL-2LOT 외 4필지 | AD9: 원당동 검단신도시 AB15-1블록 | AI9: 인천광역시 서구 원당동 검단신도시 AB16블록 | AN9: 인천광역시 서구 원당동 검단신도시 AB6블록 | AS9: 인천광역시 서구 원당동 검단신도시 AB4블록 | AX9: 인천광역시 서구 가정동 루원시티 주상1,2블록
B10: 대지면적 | E10: 76,618㎡ | J10: 76,618㎡ | O10: 59,667㎡ | T10: 57,122㎡ | Y10: 23,841.00㎡ | AD10: 65,087㎡ | AI10: 85,540㎡ | AN10: 45,732㎡ | AS10: 69,448㎡ | AX10: 70,422㎡
B11: 연면적 | E11: 205,060.9471㎡(용적률 186.98%) | J11: 205,060.9471㎡(용적률 186.98%) | O11: 177,663.0224㎡(용적률 208.77%) | T11: 153,713.4289㎡(용적률 184.82%) | Y11: 75,776.9324㎡(용적률 215.26%) | AD11: 198,931.2606㎡(용적률 211.77%) | AI11: 284,130.39㎡(용적률 207.83%) | AN11: 143,911.6847㎡(용적률 214.96%) | AS11: 222,390.1418㎡(용적률 209.99%) | AX11: 466,221.1759㎡(용적률 439.64%)
B12: 대지면적 | E12: =76618*0.3025 -> 23176.945 | J12: =76618*0.3025 -> 23176.945 | O12: =59667*0.3025 -> 18049.267 | T12: =57122*0.3025 -> 17279.405 | Y12: =23841*0.3025 -> 7211.9025 | AD12: =65087*0.3025 -> 19688.818 | AI12: =85540*0.3025 -> 25875.85 | AN12: =45732*0.3025 -> 13833.93 | AS12: =69448*0.3025 -> 21008.02 | AX12: =70422*0.3025 -> 21302.655
B13: 연면적 | E13: =205060.9471*0.3025 -> 62030.936 | J13: =205060.9471*0.3025 -> 62030.936 | O13: =177663.0224*0.3025 -> 53743.064 | T13: =153713.4289*0.3025 -> 46498.312 | Y13: =75776.9324*0.3025 -> 22922.522 | AD13: =198931.2606*0.3025 -> 60176.706 | AI13: =284130.39*0.3025 -> 85949.443 | AN13: =143911.6847*0.3025 -> 43533.285 | AS13: =222390.1418*0.3025 -> 67273.018 | AX13: =466221.1759*0.3025 -> 141031.91
B14: 규 모 | E14: 지하2층/지상20~25층(14개동), 공동주택/근린생활시설 | J14: 지하2층/지상20~25층(14개동), 공동주택/근린생활시설 | O14: 지하2층/지상27층(16개동), 공동주택/근린생활시설 | T14: 지하3층/지상24~25층 공동주택(아파트) 10개동 및 부대·복리시설 | Y14: 지하3층/지상18층(7개동), 공동주택/근린생활시설 | AD14: 지하2층/지상29층(13개동), 공동주택/근린생활시설 | AI14: 지하2층/지상18~29층(16개동), 공동주택/근린생활시설 | AN14: 지하2층/지상27층(9개동), 공동주택/근린생활시설 | AS14: 지하2층/지상25층(15개동), 공동주택/부대복리시설 | AX14: 지하4층/지상37~45층 공동주택(아파트) 11개동 및 부대·복리시설, 업무시설 (오피스텔) 1개동
B15: 세대수 | E15: 1,249세대 | J15: 1,249세대 | O15: 1,168세대 | T15: 938세대 | Y15: 545세대 | AD15: 1,268세대 | AI15: 1,540세대 | AN15: 936세대 | AS15: 1,279세대 | AX15: 아파트 2,378세대, 오피스텔 726호
B16: 공사기간 | E16: 2019.05. ~ 2021.11.(33개월) | J16: 2019.05. ~ 2021.11.(33개월) | O16: 2018.09. ~ 2021.5.(33개월) | T16: 2018.10. ~ 2021.08.(착공 후 35개월) | Y16: 2018.10.15. ~ 2021.4.15.(30개월) | AD16: 2018.12. ~ 2021.12.(37개월) | AI16: 2018.12. ~ 2021.6.(31개월) | AN16: 2018.12. ~ 2021.8.(33개월) | AS16: 2019.02.14.~ 2021.11.13.(33개월) | AX16: 2018.10. ~ 2022.01.(착공 후 39개월)
B17: 사업승인일 | E17: 2018. 03. 30. | J17: 2018. 03. 30. | O17: 2018. 07. 26. | T17: 2018. 08. 03. | Y17: 2018. 08. 09. | AD17: 2018. 11. 1. | AI17: 2018. 11. 2. | AN17: 2018. 11. 7. | AS17: 2018. 12. 7. | AX17: 2018. 08. 02.
B18: 총사업비 | E18: 481,840,670천원 | J18: 481,840,670천원 | O18: 481,840,670천원 | T18: 346,520,492천원 | Y18: 134,818,012천원 | AD18: 512,342,530천원 | AI18: 675,048,794천원 | AN18: 359,000,000천원 | AS18: 557,402,785천원 | AX18: 1,231,323,934천원
B19: 대지비 | E19: 155,228,160천원 | J19: 155,228,160천원 | O19: 155,228,160천원 | T19: 127,457,472천원 | Y19: 35,412,956천원 | AD19: 162,885,625천원 | AI19: 226,554,131천원 | AN19: 108,000,000천원 | AS19: 175,897,023천원 | AX19: 343,861,314천원
B20: 총공사비 | E20: 161,417,706천원(일반관리비, 이윤포함) | J20: 161,417,706천원(일반관리비, 이윤포함) | O20: 161,417,706천원(일반관리비, 이윤포함) | T20: 139,465,000천원(타법공사비 포함) | Y20: 82,365,920천원(일반관리비, 이윤포함) | AD20: 204,073,260천원(일반관리비, 이윤포함) | AI20: 272,450,247천원(일반관리비, 이윤포함) | AN20: 147,794,836천원(일반관리비, 이윤포함) | AS20: 214,600,073천원(일반관리비, 이윤포함) | AX20: 559,535,000천원(타법공사비 포함)
B21: 감리대상 공사비 | E21: 121,063,279천원 | J21: 121,063,279천원 | O21: 121,063,279천원 | T21: 123,996,551천원(일반관리비, 이윤 포함) | Y21: 74,009,074천원 | AD21: 170,724,853천원 | AI21: 231,401,077천원 | AN21: 123,422,836천원 | AS21: 188,912,923천원 | AX21: 442,050,360천원(일반관리비, 이윤 포함)
B22: 타법감리대상공사비 | E22: 40,354,427천원 | J22: 40,354,427천원 | O22: 40,354,427천원 | T22: 15,468,449천원(일반관리비, 이윤 포함) | Y22: 8,356,846천원 | AD22: 33,348,407천원 | AI22: 41,049,170천원 | AN22: 15,813,722천원 | AS22: 25,687,150천원 | AX22: 117,484,639천원(일반관리비, 이윤 포함)
B23: 공사범위 | E23: 전기공사 제외 | O23: 전기공사 제외 | T23: 전기공사 제외
B24: 구 분 | C24: 분 야 | D24: 공 종 | E24: 1.전 체 | F24: 감리대상 | G24: 전기감리 | H24: 감리제외 | I24: 타법감리 | J24: ★.전 체 | K24: 감리대상 | L24: 전기감리 | M24: 감리제외 | N24: 타법감리 | O24: 1.전 체 | P24: 감리대상 | Q24: 전기감리 | R24: 감리제외 | S24: 타법감리 | T24: 2.전 체 | U24: 감리대상 | V24: 전기감리 | W24: 감리제외 | X24: 타법감리 | Y24: 3.전 체 | Z24: 감리대상 | AA24: 전기감리 | AB24: 감리제외 | AC24: 타법감리 | AD24: 4.전 체 | AE24: 감리대상 | AF24: 전기감리 | AG24: 감리제외 | AH24: 타법감리 | AI24: 5.전 체 | AJ24: 감리대상 | AK24: 전기감리 | AL24: 감리제외 | AM24: 타법감리 | AN24: 6.전 체 | AO24: 감리대상 | AP24: 전기감리 | AQ24: 감리제외 | AR24: 타법감리 | AS24: 7.전 체 | AT24: 감리대상 | AU24: 전기감리 | AV24: 감리제외 | AW24: 타법감리 | AX24: 0.전 체 | AY24: 감리대상 | AZ24: 감리제외 | BA24: 감리제외 | BB24: 타법감리
B25: 순공사비 | C25: 토 목 | D25: 토공사 | E25: =Y25/Y$79 -> 0.02129876 | F25: =Z25/Z$79 -> 0.023703742 | G25: =AA25/AA$79 -> 0 | I25: =AC25/AC$79 -> 0 | J25: =E25*$J$79 -> 4264324.8 | K25: 4264324.8 | O25: =P25+Q25+R25+S25 -> 2453549 | P25: 2453549 | T25: =U25+V25+W25+X25 -> 3604000 | U25: 3604000 | Y25: =Z25+AA25+AB25+AC25 -> 1754292 | Z25: 1754292 | AA25: 0 | AD25: =AE25+AF25+AG25+AH25 -> 6521026 | AE25: 6521026 | AI25: 5340025 | AJ25: =AI25-AL25-AM25 -> 5340025 | AN25: =AO25+AP25+AQ25+AR25 -> 5160363 | AO25: 5160363 | AS25: =AT25+AU25+AV25+AW25 -> 2198108 | AT25: 2198108 | AU25: 0 | AV25: 0 | AW25: 0 | AX25: =AY25+AZ25+BA25+BB25 -> 2.8817548e+10 | AY25: 2.8817548e+10 | BK25: =BM25+BO25+BQ25 -> 3604000 | BM25: 3604000
C26: (13개 공종) | D26: 흙막이공사 | E26: =Y26/Y$79 -> 0.0261324 | F26: =Z26/Z$79 -> 0.029083179 | G26: =AA26/AA$79 -> 0 | I26: =AC26/AC$79 -> 0 | J26: =E26*$J$79 -> 5232090.6 | K26: 5232090.6 | O26: =P26+Q26+R26+S26 -> 2259848 | P26: 2259848 | T26: =U26+V26+W26+X26 -> 1022000 | U26: 1022000 | Y26: =Z26+AA26+AB26+AC26 -> 2152419.2 | Z26: 2152419.2 | AA26: 0 | AD26: =AE26+AF26+AG26+AH26 -> 1947839 | AE26: 1947839 | AI26: 2670012 | AJ26: =AI26-AL26-AM26 -> 2670012 | AN26: =AO26+AP26+AQ26+AR26 -> 1541407 | AO26: 1541407 | AS26: =AT26+AU26+AV26+AW26 -> 259308 | AT26: 259308 | AU26: 0 | AV26: 0 | AW26: 0 | AX26: =AY26+AZ26+BA26+BB26 -> 7.1680019e+09 | AY26: 7.1680019e+09 | BK26: =BM26+BO26+BQ26 -> 1022000 | BM26: 1022000
D27: 비탈면보호공사 | E27: =Y27/Y$79 -> 0 | F27: =Z27/Z$79 -> 0 | G27: =AA27/AA$79 -> 0 | I27: =AC27/AC$79 -> 0 | J27: =E27*$J$79 -> 0 | K27: 0 | O27: =P27+Q27+R27+S27 -> 0 | P27: 0 | T27: =U27+V27+W27+X27 -> 0 | U27: 0 | Y27: =Z27+AA27+AB27+AC27 -> 0 | Z27: 0 | AA27: 0 | AD27: =AE27+AF27+AG27+AH27 -> 0 | AE27: 0 | AI27: 0 | AJ27: =AI27-AL27-AM27 -> 0 | AN27: =AO27+AP27+AQ27+AR27 -> 0 | AO27: 0 | AS27: =AT27+AU27+AV27+AW27 -> 0 | AT27: 0 | AU27: 0 | AV27: 0 | AW27: 0 | AX27: =AY27+AZ27+BA27+BB27 -> 0 | AY27: 0 | BK27: =BM27+BO27+BQ27 -> 0 | BM27: 0
D28: 옹벽공사 | E28: =Y28/Y$79 -> 0.010248 | F28: =Z28/Z$79 -> 0.011405168 | G28: =AA28/AA$79 -> 0 | I28: =AC28/AC$79 -> 0 | J28: =E28*$J$79 -> 2051800.2 | K28: 2051800.2 | O28: =P28+Q28+R28+S28 -> 0 | P28: 0 | T28: =U28+V28+W28+X28 -> 0 | U28: 0 | Y28: =Z28+AA28+AB28+AC28 -> 844085.95 | Z28: 844085.95 | AA28: 0 | AD28: =AE28+AF28+AG28+AH28 -> 671475 | AE28: 671475 | AI28: 1879907 | AJ28: =AI28-AL28-AM28 -> 1879907 | AN28: =AO28+AP28+AQ28+AR28 -> 531366 | AO28: 531366 | AS28: =AT28+AU28+AV28+AW28 -> 178200 | AT28: 178200 | AU28: 0 | AV28: 0 | AW28: 0 | AX28: =AY28+AZ28+BA28+BB28 -> 2.7362816e+08 | AY28: 2.7362816e+08 | BK28: =BM28+BO28+BQ28 -> 0 | BM28: 0
D29: 석축공사 | E29: =Y29/Y$79 -> 0 | F29: =Z29/Z$79 -> 0 | G29: =AA29/AA$79 -> 0 | I29: =AC29/AC$79 -> 0 | J29: =E29*$J$79 -> 0 | K29: 0 | O29: =P29+Q29+R29+S29 -> 0 | P29: 0 | T29: =U29+V29+W29+X29 -> 59000 | U29: 59000 | Y29: =Z29+AA29+AB29+AC29 -> 0 | Z29: 0 | AA29: 0 | AD29: =AE29+AF29+AG29+AH29 -> 0 | AE29: 0 | AI29: 0 | AJ29: =AI29-AL29-AM29 -> 0 | AN29: =AO29+AP29+AQ29+AR29 -> 0 | AO29: 0 | AS29: =AT29+AU29+AV29+AW29 -> 0 | AT29: 0 | AU29: 0 | AV29: 0 | AW29: 0 | AX29: =AY29+AZ29+BA29+BB29 -> 0 | AY29: 0 | BK29: =BM29+BO29+BQ29 -> 59000 | BM29: 59000
D30: 우,오수공사 | E30: =Y30/Y$79 -> 0.0035868 | F30: =Z30/Z$79 -> 0.0039918089 | G30: =AA30/AA$79 -> 0 | I30: =AC30/AC$79 -> 0 | J30: =E30*$J$79 -> 718130.08 | K30: 718130.08 | O30: =P30+Q30+R30+S30 -> 1129924 | P30: 1129924 | T30: =U30+V30+W30+X30 -> 532000 | U30: 532000 | Y30: =Z30+AA30+AB30+AC30 -> 295430.08 | Z30: 295430.08 | AA30: 0 | AD30: =AE30+AF30+AG30+AH30 -> 1063168 | AE30: 1063168 | AI30: 3487363 | AJ30: =AI30-AL30-AM30 -> 3487363 | AN30: =AO30+AP30+AQ30+AR30 -> 841329 | AO30: 841329 | AS30: =AT30+AU30+AV30+AW30 -> 1210322 | AT30: 1210322 | AU30: 0 | AV30: 0 | AW30: 0 | AX30: =AY30+AZ30+BA30+BB30 -> 2.1890253e+09 | AY30: 2.1890253e+09 | BK30: =BM30+BO30+BQ30 -> 532000 | BM30: 532000
D31: 공동구공사 | E31: =Y31/Y$79 -> 0 | F31: =Z31/Z$79 -> 0 | G31: =AA31/AA$79 -> 0 | I31: =AC31/AC$79 -> 0 | J31: =E31*$J$79 -> 0 | K31: 0 | O31: =P31+Q31+R31+S31 -> 0 | P31: 0 | T31: =U31+V31+W31+X31 -> 0 | U31: 0 | Y31: =Z31+AA31+AB31+AC31 -> 0 | Z31: 0 | AA31: 0 | AD31: =AE31+AF31+AG31+AH31 -> 0 | AE31: 0 | AI31: 0 | AJ31: =AI31-AL31-AM31 -> 0 | AN31: =AO31+AP31+AQ31+AR31 -> 0 | AO31: 0 | AS31: =AT31+AU31+AV31+AW31 -> 0 | AT31: 0 | AU31: 0 | AV31: 0 | AW31: 0 | AX31: =AY31+AZ31+BA31+BB31 -> 0 | AY31: 0 | BK31: =BM31+BO31+BQ31 -> 0 | BM31: 0
D32: 지하저수조 및 급수공사 | E32: =Y32/Y$79 -> 0.00018788 | F32: =Z32/Z$79 -> 0.00020909475 | G32: =AA32/AA$79 -> 0 | I32: =AC32/AC$79 -> 0 | J32: =E32*$J$79 -> 37616.337 | K32: 37616.337 | O32: =P32+Q32+R32+S32 -> 0 | P32: 0 | T32: =U32+V32+W32+X32 -> 69000 | U32: 69000 | Y32: =Z32+AA32+AB32+AC32 -> 15474.909 | Z32: 15474.909 | AA32: 0 | AD32: =AE32+AF32+AG32+AH32 -> 0 | AE32: 0 | AI32: 0 | AJ32: =AI32-AL32-AM32 -> 0 | AN32: =AO32+AP32+AQ32+AR32 -> 0 | AO32: 0 | AS32: =AT32+AU32+AV32+AW32 -> 0 | AT32: 0 | AU32: 0 | AV32: 0 | AW32: 0 | AX32: =AY32+AZ32+BA32+BB32 -> 0 | AY32: 0 | BK32: =BM32+BO32+BQ32 -> 69000 | BM32: 69000
D33: 도로포장공사 | E33: =Y33/Y$79 -> 0.00648186 | F33: =Z33/Z$79 -> 0.007213769 | G33: =AA33/AA$79 -> 0 | I33: =AC33/AC$79 -> 0 | J33: =E33*$J$79 -> 1297763.6 | K33: 1297763.6 | O33: =P33+Q33+R33+S33 -> 1129924 | P33: 1129924 | T33: =U33+V33+W33+X33 -> 510000 | U33: 510000 | Y33: =Z33+AA33+AB33+AC33 -> 533884.36 | Z33: 533884.36 | AA33: 0 | AD33: =AE33+AF33+AG33+AH33 -> 1063168 | AE33: 1063168 | AI33: 2942463 | AJ33: =AI33-AL33-AM33 -> 2942463 | AN33: =AO33+AP33+AQ33+AR33 -> 841329 | AO33: 841329 | AS33: =AT33+AU33+AV33+AW33 -> 0 | AT33: 0 | AU33: 0 | AV33: 0 | AW33: 0 | AX33: =AY33+AZ33+BA33+BB33 -> 3.8992012e+09 | AY33: 3.8992012e+09 | BK33: =BM33+BO33+BQ33 -> 510000 | BM33: 510000
D34: 교통안전시설물공사 | E34: =Y34/Y$79 -> 0 | F34: =Z34/Z$79 -> 0 | G34: =AA34/AA$79 -> 0 | I34: =AC34/AC$79 -> 0 | J34: =E34*$J$79 -> 0 | K34: 0 | O34: =P34+Q34+R34+S34 -> 0 | P34: 0 | T34: =U34+V34+W34+X34 -> 56000 | U34: 56000 | Y34: =Z34+AA34+AB34+AC34 -> 0 | Z34: 0 | AA34: 0 | AD34: =AE34+AF34+AG34+AH34 -> 0 | AE34: 0 | AI34: 0 | AJ34: =AI34-AL34-AM34 -> 0 | AN34: =AO34+AP34+AQ34+AR34 -> 0 | AO34: 0 | AS34: =AT34+AU34+AV34+AW34 -> 140240 | AT34: 140240 | AU34: 0 | AV34: 0 | AW34: 0 | AX34: =AY34+AZ34+BA34+BB34 -> 0 | AY34: 0 | BK34: =BM34+BO34+BQ34 -> 56000 | BM34: 56000
D35: 정화조시설공사 | E35: =Y35/Y$79 -> 0 | F35: =Z35/Z$79 -> 0 | G35: =AA35/AA$79 -> 0 | I35: =AC35/AC$79 -> 0 | J35: =E35*$J$79 -> 0 | K35: 0 | O35: =P35+Q35+R35+S35 -> 0 | P35: 0 | T35: =U35+V35+W35+X35 -> 26000 | U35: 26000 | Y35: =Z35+AA35+AB35+AC35 -> 0 | Z35: 0 | AA35: 0 | AD35: =AE35+AF35+AG35+AH35 -> 0 | AE35: 0 | AI35: 0 | AJ35: =AI35-AL35-AM35 -> 0 | AN35: =AO35+AP35+AQ35+AR35 -> 0 | AO35: 0 | AS35: =AT35+AU35+AV35+AW35 -> 0 | AT35: 0 | AU35: 0 | AV35: 0 | AW35: 0 | AX35: =AY35+AZ35+BA35+BB35 -> 0 | AY35: 0 | BK35: =BM35+BO35+BQ35 -> 26000 | BM35: 26000
D36: 조경공사 | E36: =Y36/Y$79 -> 0.01561112 | F36: =Z36/Z$79 -> 0.017373873 | G36: =AA36/AA$79 -> 0 | I36: =AC36/AC$79 -> 0 | J36: =E36*$J$79 -> 3125575.7 | K36: 3125575.7 | O36: =P36+Q36+R36+S36 -> 3631898 | P36: 3631898 | T36: =U36+V36+W36+X36 -> 1475000 | U36: 1475000 | Y36: =Z36+AA36+AB36+AC36 -> 1285824.3 | Z36: 1285824.3 | AA36: 0 | AD36: =AE36+AF36+AG36+AH36 -> 5919313 | AE36: 5919313 | AI36: 5830435 | AJ36: =AI36-AL36-AM36 -> 5830435 | AN36: =AO36+AP36+AQ36+AR36 -> 4684206 | AO36: 4684206 | AS36: =AT36+AU36+AV36+AW36 -> 7314821 | AT36: 7314821 | AU36: 0 | AV36: 0 | AW36: 0 | AX36: =AY36+AZ36+BA36+BB36 -> 8.4790259e+09 | AY36: 8.4790259e+09 | BK36: =BM36+BO36+BQ36 -> 1475000 | BM36: 1475000
D37: 부대시설공사 | E37: =Y37/Y$79 -> 0.00185318 | F37: =Z37/Z$79 -> 0.0020624346 | G37: =AA37/AA$79 -> 0 | I37: =AC37/AC$79 -> 0 | J37: =E37*$J$79 -> 371033.87 | K37: 371033.87 | O37: =P37+Q37+R37+S37 -> 64567 | P37: 64567 | T37: =U37+V37+W37+X37 -> 751000 | U37: 751000 | Y37: =Z37+AA37+AB37+AC37 -> 152638.88 | Z37: 152638.88 | AA37: 0 | AD37: =AE37+AF37+AG37+AH37 -> 0 | AE37: 0 | AI37: 1852662 | AJ37: =AI37-AL37-AM37 -> 1852662 | AN37: =AO37+AP37+AQ37+AR37 -> 0 | AO37: 0 | AS37: =AT37+AU37+AV37+AW37 -> 2151685 | AT37: 2151685 | AU37: 0 | AV37: 0 | AW37: 0 | AX37: =AY37+AZ37+BA37+BB37 -> 0 | AY37: 0 | BK37: =BM37+BO37+BQ37 -> 751000 | BM37: 751000
D38: 소 계 | E38: =Y38/Y$79 -> 0.0854 | F38: =Z38/Z$79 -> 0.09504307 | G38: =AA38/AA$79 -> 0 | I38: =AC38/AC$79 -> 0 | J38: =SUM(J25:J37) -> 17098335 | K38: 17098335 | L38: 0 | M38: 0 | N38: 0 | O38: =SUM(O25:O37) -> 10669710 | P38: 10669710 | Q38: 0 | R38: 0 | S38: 0 | T38: =SUM(T25:T37) -> 8104000 | U38: 8104000 | V38: =SUM(V25:V37) -> 0 | W38: =SUM(W25:W37) -> 0 | X38: =SUM(X25:X37) -> 0 | Y38: =SUM(Y25:Y37) -> 7034049.6 | Z38: 7034049.6 | AA38: 0 | AB38: 0 | AC38: 0 | AD38: =SUM(AD25:AD37) -> 17185989 | AE38: 17185989 | AF38: 0 | AG38: 0 | AH38: 0 | AI38: =SUM(AI25:AI37) -> 24002867 | AJ38: =SUM(AJ25:AJ37) -> 24002867 | AK38: =SUM(AK25:AK37) -> 0 | AL38: =SUM(AL25:AL37) -> 0 | AM38: =SUM(AM25:AM37) -> 0 | AN38: =SUM(AN25:AN37) -> 13600000 | AO38: =SUM(AO25:AO37) -> 13600000 | AP38: =SUM(AP25:AP37) -> 0 | ... AS38: =SUM(AS25:AS37) -> 13452684 | AT38: 13452684 | AU38: =SUM(AU25:AU37) -> 0 | AV38: =SUM(AV25:AV37) -> 0 | AW38: =SUM(AW25:AW37) -> 0 | AX38: =SUM(AX25:AX37) -> 5.082643e+10 | AY38: 5.082643e+10 | AZ38: 0 | BA38: 0 | BB38: 0 | BK38: =SUM(BK25:BL37) -> 8104000 | BM38: =SUM(BM25:BN37) -> 8104000
C39: 건 축 | D39: 공통가설물공사 | E39: =Y39/Y$79 -> 0.0328509 | F39: =Z39/Z$79 -> 0.036560309 | G39: =AA39/AA$79 -> 0 | I39: =AC39/AC$79 -> 0 | J39: =E39*$J$79 -> 6577233 | K39: 6577233 | L39: 0 | M39: 0 | N39: 0 | O39: =P39+Q39+R39+S39 -> 3869633 | P39: 3869633 | Q39: 0 | R39: 0 | S39: 0 | T39: =U39+V39+W39+X39 -> 2857000 | U39: 2857000 | Y39: =Z39+AA39+AB39+AC39 -> 2705794.6 | Z39: 2705794.6 | AA39: 0 | AB39: 0 | AC39: 0 | AD39: =AE39+AF39+AG39+AH39 -> 3326752 | AE39: 3326752 | AF39: 0 | AG39: 0 | AH39: 0 | AI39: 9780964 | AJ39: =AI39-AL39-AM39 -> 9780964 | AN39: =AO39+AP39+AQ39+AR39 -> 2372021 | AO39: 2372021 | AS39: =AT39+AU39+AV39+AW39 -> 6153002 | AT39: 6153002 | AU39: 0 | AV39: 0 | AW39: 0 | AX39: =AY39+AZ39+BA39+BB39 -> 2.1398202e+10 | AY39: 2.1398202e+10 | AZ39: 0 | BA39: 0 | BB39: 0 | BK39: =BM39+BO39+BQ39 -> 2857000 | BM39: 2857000
C40: (23개 공종) | D40: 가시설물공사 | E40: =Y40/Y$79 -> 0.0112401 | F40: =Z40/Z$79 -> 0.012509293 | G40: =AA40/AA$79 -> 0 | I40: =AC40/AC$79 -> 0 | J40: =E40*$J$79 -> 2250433.2 | K40: 2250433.2 | O40: =P40+Q40+R40+S40 -> 769169 | P40: 769169 | T40: =U40+V40+W40+X40 -> 1100000 | U40: 1100000 | Y40: =Z40+AA40+AB40+AC40 -> 925801.18 | Z40: 925801.18 | AA40: 0 | AD40: =AE40+AF40+AG40+AH40 -> 1056611 | AE40: 1056611 | AI40: 2860728 | AJ40: =AI40-AL40-AM40 -> 2860728 | AN40: =AO40+AP40+AQ40+AR40 -> 753378 | AO40: 753378 | AS40: =AT40+AU40+AV40+AW40 -> 619704 | AT40: 619704 | AU40: 0 | AV40: 0 | AW40: 0 | AX40: =AY40+AZ40+BA40+BB40 -> 5.8954231e+09 | AY40: 5.8954231e+09 | BK40: =BM40+BO40+BQ40 -> 1100000 | BM40: 1100000
D41: 지정 및 기초공사 | E41: =Y41/Y$79 -> 0.0152145 | F41: =Z41/Z$79 -> 0.016932468 | G41: =AA41/AA$79 -> 0 | I41: =AC41/AC$79 -> 0 | J41: =E41*$J$79 -> 3046166.5 | K41: 3046166.5 | O41: =P41+Q41+R41+S41 -> 1942746 | P41: 1942746 | T41: =U41+V41+W41+X41 -> 5936000 | U41: 5936000 | Y41: =Z41+AA41+AB41+AC41 -> 1253156.3 | Z41: 1253156.3 | AA41: 0 | AD41: =AE41+AF41+AG41+AH41 -> 824850 | AE41: 824850 | AI41: 16537730 | AJ41: =AI41-AL41-AM41 -> 16537730 | AN41: =AO41+AP41+AQ41+AR41 -> 588129 | AO41: 588129 | AS41: =AT41+AU41+AV41+AW41 -> 1112581 | AT41: 1112581 | AU41: 0 | AV41: 0 | AW41: 0 | AX41: =AY41+AZ41+BA41+BB41 -> 1.7850031e+10 | AY41: 1.7850031e+10 | BK41: =BM41+BO41+BQ41 -> 5936000 | BM41: 5936000
...

Sheet 공종별현황표 (3)
B1: [별지 제2호 서식]
B3: 공종별 총공사비 구성 현황표
I4: (단위 : 천원) | N4: (단위 : 천원) | S4: (단위 : 천원) | X4: (단위 : 천원) | AH4: (단위 : 천원) | AM4: (단위 : 천원) | AR4: (단위 : 천원) | AW4: (단위 : 천원) | BC4: (단위 : 천원)
B5: 구 분 | C5: 분 야 | D5: 공 종 | E5: 1.전 체 보할 | F5: 감리대상 | G5: 전기감리 | H5: 감리제외 | I5: 타법감리 | J5: ★.전 체 | K5: 감리대상 | L5: 전기감리 | M5: 감리제외 | N5: 타법감리 | O5: 1.전 체 | P5: 감리대상 | Q5: 전기감리 | R5: 감리제외 | S5: 타법감리 | T5: 2.전 체 | U5: 감리대상 | V5: 전기감리 | W5: 감리제외 | X5: 타법감리 | Y5: 3.전 체 | Z5: 감리대상 | AA5: 전기감리 | AB5: 감리제외 | AC5: 타법감리 | AD5: 4.전 체 | AE5: 감리대상 | AF5: 전기감리 | AG5: 감리제외 | AH5: 타법감리 | AI5: 5.전 체 | AJ5: 감리대상 | AK5: 전기감리 | AL5: 감리제외 | AM5: 타법감리 | AN5: 6.전 체 | AO5: 감리대상 | AP5: 전기감리 | AQ5: 감리제외 | AR5: 타법감리 | AS5: 7.전 체 | AT5: 감리대상 | AU5: 전기감리 | AV5: 감리제외 | AW5: 타법감리 | AX5: 0.전 체 | AY5: 감리대상 | AZ5: 전기감리 | BA5: 감리제외 | BB5: 타법감리 | BC5: 비고
B6: 공사명 | E6: 인천검단지구AA11블럭 공동주택 신축공사 | J6: 인천검단지구AA11블럭 공동주택 신축공사 | O6: 원당동 검단신도시 AB15-2블록 공동주택(아파트) 신축공사 | T6: 인천 검단신도시 AA4블록 유승한내들 공동주택 신축공사 | Y6: 마전지구 지역주택조합 공동주택(아파트) 신축공사 | AD6: 원당동 검단신도시 AB15-1블록 공동주택(아파트) 신축공사 | AI6: 원당동 검단신도시 AB16블록 공동주택 신축공사 | AN6: 원당동 검단신도시 AB6블록 공동주택 신축공사 | AS6: 인천검단 AB-4블럭 대방노블랜드 건설공사 | AX6: 인천 루원시티 주상1,2블록 주상복합 신축공사
B7: 건설사 | E7: 금성백조건설 | J7: 금성백조건설 | O7: ㈜호반건설주식회사 | T7: ㈜유승종합건설 대표이사 | Y7: 양우건설 주식회사 | AD7: 우미건설㈜ | AI7: ㈜대우건설 | AN7: 한신공영㈜ | AS7: 대방건설㈜ | AX7: 에스케이건설(주)
B8: 설계사 | E8: 디에이그룹엔지니어링 종합건축사사무소 | J8: 디에이그룹엔지니어링 종합건축사사무소 | O8: ㈜토담건축사사무소 | T8: ㈜유선엔지니어링건축사사무소 | Y8: ㈜성도 건축사사무소 | AD8: 에이앤유디자인그룹건축사사무소㈜ | AI8: ㈜정림건축종합건축사사무소 | AN8: ㈜티씨엠씨 건축사사무소 | AS8: ㈜현대건축사사무소 | AX8: ㈜이안디자인건축사사무소
B9: 위치 | E9: 인천광역시 서구 원당동 284번지 일대 | J9: 인천광역시 서구 원당동 284번지 일대 | O9: 원당동 검단신도시 AB15-2블록 | T9: 인천광역시 서구 당하동 검단신도시 AA4블록 | Y9: 인천광역시 서구 마전지구 17BL-2LOT 외 4필지 | AD9: 원당동 검단신도시 AB15-1블록 | AI9: 인천광역시 서구 원당동 검단신도시 AB16블록 | AN9: 인천광역시 서구 원당동 검단신도시 AB6블록 | AS9: 인천광역시 서구 원당동 검단신도시 AB4블록 | AX9: 인천광역시 서구 가정동 루원시티 주상1,2블록
B10: 대지면적 | E10: 76,618㎡ | J10: 76,618㎡ | O10: 59,667㎡ | T10: 57,122㎡ | Y10: 23,841.00㎡ | AD10: 65,087㎡ | AI10: 85,540㎡ | AN10: 45,732㎡ | AS10: 69,448㎡ | AX10: 70,422㎡
B11: 연면적 | E11: 205,060.9471㎡(용적률 186.98%) | J11: 205,060.9471㎡(용적률 186.98%) | O11: 177,663.0224㎡(용적률 208.77%) | T11: 153,713.4289㎡(용적률 184.82%) | Y11: 75,776.9324㎡(용적률 215.26%) | AD11: 198,931.2606㎡(용적률 211.77%) | AI11: 284,130.39㎡(용적률 207.83%) | AN11: 143,911.6847㎡(용적률 214.96%) | AS11: 222,390.1418㎡(용적률 209.99%) | AX11: 466,221.1759㎡(용적률 439.64%)
B12: 대지면적 | E12: =76618*0.3025 -> 23176.945 | J12: =76618*0.3025 -> 23176.945 | O12: =59667*0.3025 -> 18049.267 | T12: =57122*0.3025 -> 17279.405 | Y12: =23841*0.3025 -> 7211.9025 | AD12: =65087*0.3025 -> 19688.818 | AI12: =85540*0.3025 -> 25875.85 | AN12: =45732*0.3025 -> 13833.93 | AS12: =69448*0.3025 -> 21008.02 | AX12: =70422*0.3025 -> 21302.655
B13: 연면적 | E13: =205060.9471*0.3025 -> 62030.936 | J13: =205060.9471*0.3025 -> 62030.936 | O13: =177663.0224*0.3025 -> 53743.064 | T13: =153713.4289*0.3025 -> 46498.312 | Y13: =75776.9324*0.3025 -> 22922.522 | AD13: =198931.2606*0.3025 -> 60176.706 | AI13: =284130.39*0.3025 -> 85949.443 | AN13: =143911.6847*0.3025 -> 43533.285 | AS13: =222390.1418*0.3025 -> 67273.018 | AX13: =466221.1759*0.3025 -> 141031.91
B14: 규 모 | E14: 지하2층/지상20~25층(14개동), 공동주택/근린생활시설 | J14: 지하2층/지상20~25층(14개동), 공동주택/근린생활시설 | O14: 지하2층/지상27층(16개동), 공동주택/근린생활시설 | T14: 지하3층/지상24~25층 공동주택(아파트) 10개동 및 부대·복리시설 | Y14: 지하3층/지상18층(7개동), 공동주택/근린생활시설 | AD14: 지하2층/지상29층(13개동), 공동주택/근린생활시설 | AI14: 지하2층/지상18~29층(16개동), 공동주택/근린생활시설 | AN14: 지하2층/지상27층(9개동), 공동주택/근린생활시설 | AS14: 지하2층/지상25층(15개동), 공동주택/부대복리시설 | AX14: 지하4층/지상37~45층 공동주택(아파트) 11개동 및 부대·복리시설, 업무시설 (오피스텔) 1개동
B15: 세대수 | E15: 1,249세대 | J15: 1,249세대 | O15: 1,168세대 | T15: 938세대 | Y15: 545세대 | AD15: 1,268세대 | AI15: 1,540세대 | AN15: 936세대 | AS15: 1,279세대 | AX15: 아파트 2,378세대, 오피스텔 726호
B16: 공사기간 | E16: 2019.05. ~ 2021.11.(33개월) | J16: 2019.05. ~ 2021.11.(33개월) | O16: 2018.09. ~ 2021.5.(33개월) | T16: 2018.10. ~ 2021.08.(착공 후 35개월) | Y16: 2018.10.15. ~ 2021.4.15.(30개월) | AD16: 2018.12. ~ 2021.12.(37개월) | AI16: 2018.12. ~ 2021.6.(31개월) | AN16: 2018.12. ~ 2021.8.(33개월) | AS16: 2019.02.14.~ 2021.11.13.(33개월) | AX16: 2018.10. ~ 2022.01.(착공 후 39개월)
B17: 사업승인일 | E17: 2018. 03. 30. | J17: 2019. 03. 30. 예정 | O17: 2018. 07. 26. | T17: 2018. 08. 03. | Y17: 2018. 08. 09. | AD17: 2018. 11. 1. | AI17: 2018. 11. 2. | AN17: 2018. 11. 7. | AS17: 2018. 12. 7. | AX17: 2018. 08. 02.
B18: 총사업비 | E18: 481,840,670천원 | J18: 481,840,670천원 | O18: 481,840,670천원 | T18: 346,520,492천원 | Y18: 134,818,012천원 | AD18: 512,342,530천원 | AI18: 675,048,794천원 | AN18: 359,000,000천원 | AS18: 557,402,785천원 | AX18: 1,231,323,934천원
B19: 대지비 | E19: 155,228,160천원 | J19: 155,228,160천원 | O19: 155,228,160천원 | T19: 127,457,472천원 | Y19: 35,412,956천원 | AD19: 162,885,625천원 | AI19: 226,554,131천원 | AN19: 108,000,000천원 | AS19: 175,897,023천원 | AX19: 343,861,314천원
B20: 총공사비 | E20: 161,417,706천원(일반관리비, 이윤포함) | J20: 161,417,706천원(일반관리비, 이윤포함) | O20: 161,417,706천원(일반관리비, 이윤포함) | T20: 139,465,000천원(타법공사비 포함) | Y20: 82,365,920천원(일반관리비, 이윤포함) | AD20: 204,073,260천원(일반관리비, 이윤포함) | AI20: 272,450,247천원(일반관리비, 이윤포함) | AN20: 147,794,836천원(일반관리비, 이윤포함) | AS20: 214,600,073천원(일반관리비, 이윤포함) | AX20: 559,535,000천원(타법공사비 포함)
B21: 감리대상 공사비 | E21: 121,063,279천원 | J21: 121,063,279천원 | O21: 121,063,279천원 | T21: 123,996,551천원(일반관리비, 이윤 포함) | Y21: 74,009,074천원 | AD21: 170,724,853천원 | AI21: 231,401,077천원 | AN21: 123,422,836천원 | AS21: 188,912,923천원 | AX21: 442,050,360천원(일반관리비, 이윤 포함)
B22: 타법감리대상공사비 | E22: 40,354,427천원 | J22: 40,354,427천원 | O22: 40,354,427천원 | T22: 15,468,449천원(일반관리비, 이윤 포함) | Y22: 8,356,846천원 | AD22: 33,348,407천원 | AI22: 41,049,170천원 | AN22: 15,813,722천원 | AS22: 25,687,150천원 | AX22: 117,484,639천원(일반관리비, 이윤 포함)
B23: 공사범위 | E23: 전기공사 제외 | O23: 전기공사 제외 | T23: 전기공사 제외
B24: 구 분 | C24: 분 야 | D24: 공 종 | E24: 1.전 체 | F24: 감리대상 | G24: 전기감리 | H24: 감리제외 | I24: 타법감리 | J24: ★.전 체 | K24: 감리대상 | L24: 전기감리 | M24: 감리제외 | N24: 타법감리 | O24: 1.전 체 | P24: 감리대상 | Q24: 전기감리 | R24: 감리제외 | S24: 타법감리 | T24: 2.전 체 | U24: 감리대상 | V24: 전기감리 | W24: 감리제외 | X24: 타법감리 | Y24: 3.전 체 | Z24: 감리대상 | AA24: 전기감리 | AB24: 감리제외 | AC24: 타법감리 | AD24: 4.전 체 | AE24: 감리대상 | AF24: 전기감리 | AG24: 감리제외 | AH24: 타법감리 | AI24: 5.전 체 | AJ24: 감리대상 | AK24: 전기감리 | AL24: 감리제외 | AM24: 타법감리 | AN24: 6.전 체 | AO24: 감리대상 | AP24: 전기감리 | AQ24: 감리제외 | AR24: 타법감리 | AS24: 7.전 체 | AT24: 감리대상 | AU24: 전기감리 | AV24: 감리제외 | AW24: 타법감리 | AX24: 0.전 체 | AY24: 감리대상 | AZ24: 감리제외 | BA24: 감리제외 | BB24: 타법감리
B25: 순공사비 | C25: 토 목 | D25: 토공사 | E25: =Y25/Y$79 -> 0.02129876 | F25: =Z25/Z$79 -> 0.023703742 | G25: =AA25/AA$79 -> 0 | I25: =AC25/AC$79 -> 0 | J25: =E25*$J$79 -> 4264324.8 | K25: 4264324.8 | O25: =P25+Q25+R25+S25 -> 2453549 | P25: 2453549 | T25: =U25+V25+W25+X25 -> 3604000 | U25: 3604000 | Y25: =Z25+AA25+AB25+AC25 -> 1754292 | Z25: 1754292 | AA25: 0 | AD25: =AE25+AF25+AG25+AH25 -> 6521026 | AE25: 6521026 | AI25: 5340025 | AJ25: =AI25-AL25-AM25 -> 5340025 | AN25: =AO25+AP25+AQ25+AR25 -> 5160363 | AO25: 5160363 | AS25: =AT25+AU25+AV25+AW25 -> 2198108 | AT25: 2198108 | AU25: 0 | AV25: 0 | AW25: 0 | AX25: =AY25+AZ25+BA25+BB25 -> 2.8817548e+10 | AY25: 2.8817548e+10 | BK25: =BM25+BO25+BQ25 -> 3604000 | BM25: 3604000
C26: (13개 공종) | D26: 흙막이공사 | E26: =Y26/Y$79 -> 0.0261324 | F26: =Z26/Z$79 -> 0.029083179 | G26: =AA26/AA$79 -> 0 | I26: =AC26/AC$79 -> 0 | J26: =E26*$J$79 -> 5232090.6 | K26: 5232090.6 | O26: =P26+Q26+R26+S26 -> 2259848 | P26: 2259848 | T26: =U26+V26+W26+X26 -> 1022000 | U26: 1022000 | Y26: =Z26+AA26+AB26+AC26 -> 2152419.2 | Z26: 2152419.2 | AA26: 0 | AD26: =AE26+AF26+AG26+AH26 -> 1947839 | AE26: 1947839 | AI26: 2670012 | AJ26: =AI26-AL26-AM26 -> 2670012 | AN26: =AO26+AP26+AQ26+AR26 -> 1541407 | AO26: 1541407 | AS26: =AT26+AU26+AV26+AW26 -> 259308 | AT26: 259308 | AU26: 0 | AV26: 0 | AW26: 0 | AX26: =AY26+AZ26+BA26+BB26 -> 7.1680019e+09 | AY26: 7.1680019e+09 | BK26: =BM26+BO26+BQ26 -> 1022000 | BM26: 1022000
D27: 비탈면보호공사 | E27: =Y27/Y$79 -> 0 | F27: =Z27/Z$79 -> 0 | G27: =AA27/AA$79 -> 0 | I27: =AC27/AC$79 -> 0 | J27: =E27*$J$79 -> 0 | K27: 0 | O27: =P27+Q27+R27+S27 -> 0 | P27: 0 | T27: =U27+V27+W27+X27 -> 0 | U27: 0 | Y27: =Z27+AA27+AB27+AC27 -> 0 | Z27: 0 | AA27: 0 | AD27: =AE27+AF27+AG27+AH27 -> 0 | AE27: 0 | AI27: 0 | AJ27: =AI27-AL27-AM27 -> 0 | AN27: =AO27+AP27+AQ27+AR27 -> 0 | AO27: 0 | AS27: =AT27+AU27+AV27+AW27 -> 0 | AT27: 0 | AU27: 0 | AV27: 0 | AW27: 0 | AX27: =AY27+AZ27+BA27+BB27 -> 0 | AY27: 0 | BK27: =BM27+BO27+BQ27 -> 0 | BM27: 0
D28: 옹벽공사 | E28: =Y28/Y$79 -> 0.010248 | F28: =Z28/Z$79 -> 0.011405168 | G28: =AA28/AA$79 -> 0 | I28: =AC28/AC$79 -> 0 | J28: =E28*$J$79 -> 2051800.2 | K28: 2051800.2 | O28: =P28+Q28+R28+S28 -> 0 | P28: 0 | T28: =U28+V28+W28+X28 -> 0 | U28: 0 | Y28: =Z28+AA28+AB28+AC28 -> 844085.95 | Z28: 844085.95 | AA28: 0 | AD28: =AE28+AF28+AG28+AH28 -> 671475 | AE28: 671475 | AI28: 1879907 | AJ28: =AI28-AL28-AM28 -> 1879907 | AN28: =AO28+AP28+AQ28+AR28 -> 531366 | AO28: 531366 | AS28: =AT28+AU28+AV28+AW28 -> 178200 | AT28: 178200 | AU28: 0 | AV28: 0 | AW28: 0 | AX28: =AY28+AZ28+BA28+BB28 -> 2.7362816e+08 | AY28: 2.7362816e+08 | BK28: =BM28+BO28+BQ28 -> 0 | BM28: 0
D29: 석축공사 | E29: =Y29/Y$79 -> 0 | F29: =Z29/Z$79 -> 0 | G29: =AA29/AA$79 -> 0 | I29: =AC29/AC$79 -> 0 | J29: =E29*$J$79 -> 0 | K29: 0 | O29: =P29+Q29+R29+S29 -> 0 | P29: 0 | T29: =U29+V29+W29+X29 -> 59000 | U29: 59000 | Y29: =Z29+AA29+AB29+AC29 -> 0 | Z29: 0 | AA29: 0 | AD29: =AE29+AF29+AG29+AH29 -> 0 | AE29: 0 | AI29: 0 | AJ29: =AI29-AL29-AM29 -> 0 | AN29: =AO29+AP29+AQ29+AR29 -> 0 | AO29: 0 | AS29: =AT29+AU29+AV29+AW29 -> 0 | AT29: 0 | AU29: 0 | AV29: 0 | AW29: 0 | AX29: =AY29+AZ29+BA29+BB29 -> 0 | AY29: 0 | BK29: =BM29+BO29+BQ29 -> 59000 | BM29: 59000
D30: 우,오수공사 | E30: =Y30/Y$79 -> 0.0035868 | F30: =Z30/Z$79 -> 0.0039918089 | G30: =AA30/AA$79 -> 0 | I30: =AC30/AC$79 -> 0 | J30: =E30*$J$79 -> 718130.08 | K30: 718130.08 | O30: =P30+Q30+R30+S30 -> 1129924 | P30: 1129924 | T30: =U30+V30+W30+X30 -> 532000 | U30: 532000 | Y30: =Z30+AA30+AB30+AC30 -> 295430.08 | Z30: 295430.08 | AA30: 0 | AD30: =AE30+AF30+AG30+AH30 -> 1063168 | AE30: 1063168 | AI30: 3487363 | AJ30: =AI30-AL30-AM30 -> 3487363 | AN30: =AO30+AP30+AQ30+AR30 -> 841329 | AO30: 841329 | AS30: =AT30+AU30+AV30+AW30 -> 1210322 | AT30: 1210322 | AU30: 0 | AV30: 0 | AW30: 0 | AX30: =AY30+AZ30+BA30+BB30 -> 2.1890253e+09 | AY30: 2.1890253e+09 | BK30: =BM30+BO30+BQ30 -> 532000 | BM30: 532000
D31: 공동구공사 | E31: =Y31/Y$79 -> 0 | F31: =Z31/Z$79 -> 0 | G31: =AA31/AA$79 -> 0 | I31: =AC31/AC$79 -> 0 | J31: =E31*$J$79 -> 0 | K31: 0 | O31: =P31+Q31+R31+S31 -> 0 | P31: 0 | T31: =U31+V31+W31+X31 -> 0 | U31: 0 | Y31: =Z31+AA31+AB31+AC31 -> 0 | Z31: 0 | AA31: 0 | AD31: =AE31+AF31+AG31+AH31 -> 0 | AE31: 0 | AI31: 0 | AJ31: =AI31-AL31-AM31 -> 0 | AN31: =AO31+AP31+AQ31+AR31 -> 0 | AO31: 0 | AS31: =AT31+AU31+AV31+AW31 -> 0 | AT31: 0 | AU31: 0 | AV31: 0 | AW31: 0 | AX31: =AY31+AZ31+BA31+BB31 -> 0 | AY31: 0 | BK31: =BM31+BO31+BQ31 -> 0 | BM31: 0
D32: 지하저수조 및 급수공사 | E32: =Y32/Y$79 -> 0.00018788 | F32: =Z32/Z$79 -> 0.00020909475 | G32: =AA32/AA$79 -> 0 | I32: =AC32/AC$79 -> 0 | J32: =E32*$J$79 -> 37616.337 | K32: 37616.337 | O32: =P32+Q32+R32+S32 -> 0 | P32: 0 | T32: =U32+V32+W32+X32 -> 69000 | U32: 69000 | Y32: =Z32+AA32+AB32+AC32 -> 15474.909 | Z32: 15474.909 | AA32: 0 | AD32: =AE32+AF32+AG32+AH32 -> 0 | AE32: 0 | AI32: 0 | AJ32: =AI32-AL32-AM32 -> 0 | AN32: =AO32+AP32+AQ32+AR32 -> 0 | AO32: 0 | AS32: =AT32+AU32+AV32+AW32 -> 0 | AT32: 0 | AU32: 0 | AV32: 0 | AW32: 0 | AX32: =AY32+AZ32+BA32+BB32 -> 0 | AY32: 0 | BK32: =BM32+BO32+BQ32 -> 69000 | BM32: 69000
D33: 도로포장공사 | E33: =Y33/Y$79 -> 0.00648186 | F33: =Z33/Z$79 -> 0.007213769 | G33: =AA33/AA$79 -> 0 | I33: =AC33/AC$79 -> 0 | J33: =E33*$J$79 -> 1297763.6 | K33: 1297763.6 | O33: =P33+Q33+R33+S33 -> 1129924 | P33: 1129924 | T33: =U33+V33+W33+X33 -> 510000 | U33: 510000 | Y33: =Z33+AA33+AB33+AC33 -> 533884.36 | Z33: 533884.36 | AA33: 0 | AD33: =AE33+AF33+AG33+AH33 -> 1063168 | AE33: 1063168 | AI33: 2942463 | AJ33: =AI33-AL33-AM33 -> 2942463 | AN33: =AO33+AP33+AQ33+AR33 -> 841329 | AO33: 841329 | AS33: =AT33+AU33+AV33+AW33 -> 0 | AT33: 0 | AU33: 0 | AV33: 0 | AW33: 0 | AX33: =AY33+AZ33+BA33+BB33 -> 3.8992012e+09 | AY33: 3.8992012e+09 | BK33: =BM33+BO33+BQ33 -> 510000 | BM33: 510000
D34: 교통안전시설물공사 | E34: =Y34/Y$79 -> 0 | F34: =Z34/Z$79 -> 0 | G34: =AA34/AA$79 -> 0 | I34: =AC34/AC$79 -> 0 | J34: =E34*$J$79 -> 0 | K34: 0 | O34: =P34+Q34+R34+S34 -> 0 | P34: 0 | T34: =U34+V34+W34+X34 -> 56000 | U34: 56000 | Y34: =Z34+AA34+AB34+AC34 -> 0 | Z34: 0 | AA34: 0 | AD34: =AE34+AF34+AG34+AH34 -> 0 | AE34: 0 | AI34: 0 | AJ34: =AI34-AL34-AM34 -> 0 | AN34: =AO34+AP34+AQ34+AR34 -> 0 | AO34: 0 | AS34: =AT34+AU34+AV34+AW34 -> 140240 | AT34: 140240 | AU34: 0 | AV34: 0 | AW34: 0 | AX34: =AY34+AZ34+BA34+BB34 -> 0 | AY34: 0 | BK34: =BM34+BO34+BQ34 -> 56000 | BM34: 56000
D35: 정화조시설공사 | E35: =Y35/Y$79 -> 0 | F35: =Z35/Z$79 -> 0 | G35: =AA35/AA$79 -> 0 | I35: =AC35/AC$79 -> 0 | J35: =E35*$J$79 -> 0 | K35: 0 | O35: =P35+Q35+R35+S35 -> 0 | P35: 0 | T35: =U35+V35+W35+X35 -> 26000 | U35: 26000 | Y35: =Z35+AA35+AB35+AC35 -> 0 | Z35: 0 | AA35: 0 | AD35: =AE35+AF35+AG35+AH35 -> 0 | AE35: 0 | AI35: 0 | AJ35: =AI35-AL35-AM35 -> 0 | AN35: =AO35+AP35+AQ35+AR35 -> 0 | AO35: 0 | AS35: =AT35+AU35+AV35+AW35 -> 0 | AT35: 0 | AU35: 0 | AV35: 0 | AW35: 0 | AX35: =AY35+AZ35+BA35+BB35 -> 0 | AY35: 0 | BK35: =BM35+BO35+BQ35 -> 26000 | BM35: 26000
D36: 조경공사 | E36: =Y36/Y$79 -> 0.01561112 | F36: =Z36/Z$79 -> 0.017373873 | G36: =AA36/AA$79 -> 0 | I36: =AC36/AC$79 -> 0 | J36: =E36*$J$79 -> 3125575.7 | K36: 3125575.7 | O36: =P36+Q36+R36+S36 -> 3631898 | P36: 3631898 | T36: =U36+V36+W36+X36 -> 1475000 | U36: 1475000 | Y36: =Z36+AA36+AB36+AC36 -> 1285824.3 | Z36: 1285824.3 | AA36: 0 | AD36: =AE36+AF36+AG36+AH36 -> 5919313 | AE36: 5919313 | AI36: 5830435 | AJ36: =AI36-AL36-AM36 -> 5830435 | AN36: =AO36+AP36+AQ36+AR36 -> 4684206 | AO36: 4684206 | AS36: =AT36+AU36+AV36+AW36 -> 7314821 | AT36: 7314821 | AU36: 0 | AV36: 0 | AW36: 0 | AX36: =AY36+AZ36+BA36+BB36 -> 8.4790259e+09 | AY36: 8.4790259e+09 | BK36: =BM36+BO36+BQ36 -> 1475000 | BM36: 1475000
D37: 부대시설공사 | E37: =Y37/Y$79 -> 0.00185318 | F37: =Z37/Z$79 -> 0.0020624346 | G37: =AA37/AA$79 -> 0 | I37: =AC37/AC$79 -> 0 | J37: =E37*$J$79 -> 371033.87 | K37: 371033.87 | O37: =P37+Q37+R37+S37 -> 64567 | P37: 64567 | T37: =U37+V37+W37+X37 -> 751000 | U37: 751000 | Y37: =Z37+AA37+AB37+AC37 -> 152638.88 | Z37: 152638.88 | AA37: 0 | AD37: =AE37+AF37+AG37+AH37 -> 0 | AE37: 0 | AI37: 1852662 | AJ37: =AI37-AL37-AM37 -> 1852662 | AN37: =AO37+AP37+AQ37+AR37 -> 0 | AO37: 0 | AS37: =AT37+AU37+AV37+AW37 -> 2151685 | AT37: 2151685 | AU37: 0 | AV37: 0 | AW37: 0 | AX37: =AY37+AZ37+BA37+BB37 -> 0 | AY37: 0 | BK37: =BM37+BO37+BQ37 -> 751000 | BM37: 751000
D38: 소 계 | E38: =Y38/Y$79 -> 0.0854 | F38: =Z38/Z$79 -> 0.09504307 | G38: =AA38/AA$79 -> 0 | I38: =AC38/AC$79 -> 0 | J38: =SUM(J25:J37) -> 17098335 | K38: 17098335 | L38: 0 | M38: 0 | N38: 0 | O38: =SUM(O25:O37) -> 10669710 | P38: 10669710 | Q38: 0 | R38: 0 | S38: 0 | T38: =SUM(T25:T37) -> 8104000 | U38: 8104000 | V38: =SUM(V25:V37) -> 0 | W38: =SUM(W25:W37) -> 0 | X38: =SUM(X25:X37) -> 0 | Y38: =SUM(Y25:Y37) -> 7034049.6 | Z38: 7034049.6 | AA38: 0 | AB38: 0 | AC38: 0 | AD38: =SUM(AD25:AD37) -> 17185989 | AE38: 17185989 | AF38: 0 | AG38: 0 | AH38: 0 | AI38: =SUM(AI25:AI37) -> 24002867 | AJ38: =SUM(AJ25:AJ37) -> 24002867 | AK38: =SUM(AK25:AK37) -> 0 | AL38: =SUM(AL25:AL37) -> 0 | AM38: =SUM(AM25:AM37) -> 0 | AN38: =SUM(AN25:AN37) -> 13600000 | AO38: =SUM(AO25:AO37) -> 13600000 | AP38: =SUM(AP25:AP37) -> 0 | ... AS38: =SUM(AS25:AS37) -> 13452684 | AT38: 13452684 | AU38: =SUM(AU25:AU37) -> 0 | AV38: =SUM(AV25:AV37) -> 0 | AW38: =SUM(AW25:AW37) -> 0 | AX38: =SUM(AX25:AX37) -> 5.082643e+10 | AY38: 5.082643e+10 | AZ38: 0 | BA38: 0 | BB38: 0 | BK38: =SUM(BK25:BL37) -> 8104000 | BM38: =SUM(BM25:BN37) -> 8104000
C39: 건 축 | D39: 공통가설물공사 | E39: =Y39/Y$79 -> 0.0328509 | F39: =Z39/Z$79 -> 0.036560309 | G39: =AA39/AA$79 -> 0 | I39: =AC39/AC$79 -> 0 | J39: =E39*$J$79 -> 6577233 | K39: 6577233 | L39: 0 | M39: 0 | N39: 0 | O39: =P39+Q39+R39+S39 -> 3869633 | P39: 3869633 | Q39: 0 | R39: 0 | S39: 0 | T39: =U39+V39+W39+X39 -> 2857000 | U39: 2857000 | Y39: =Z39+AA39+AB39+AC39 -> 2705794.6 | Z39: 2705794.6 | AA39: 0 | AB39: 0 | AC39: 0 | AD39: =AE39+AF39+AG39+AH39 -> 3326752 | AE39: 3326752 | AF39: 0 | AG39: 0 | AH39: 0 | AI39: 9780964 | AJ39: =AI39-AL39-AM39 -> 9780964 | AN39: =AO39+AP39+AQ39+AR39 -> 2372021 | AO39: 2372021 | AS39: =AT39+AU39+AV39+AW39 -> 6153002 | AT39: 6153002 | AU39: 0 | AV39: 0 | AW39: 0 | AX39: =AY39+AZ39+BA39+BB39 -> 2.1398202e+10 | AY39: 2.1398202e+10 | AZ39: 0 | BA39: 0 | BB39: 0 | BK39: =BM39+BO39+BQ39 -> 2857000 | BM39: 2857000
C40: (23개 공종) | D40: 가시설물공사 | E40: =Y40/Y$79 -> 0.0112401 | F40: =Z40/Z$79 -> 0.012509293 | G40: =AA40/AA$79 -> 0 | I40: =AC40/AC$79 -> 0 | J40: =E40*$J$79 -> 2250433.2 | K40: 2250433.2 | O40: =P40+Q40+R40+S40 -> 769169 | P40: 769169 | T40: =U40+V40+W40+X40 -> 1100000 | U40: 1100000 | Y40: =Z40+AA40+AB40+AC40 -> 925801.18 | Z40: 925801.18 | AA40: 0 | AD40: =AE40+AF40+AG40+AH40 -> 1056611 | AE40: 1056611 | AI40: 2860728 | AJ40: =AI40-AL40-AM40 -> 2860728 | AN40: =AO40+AP40+AQ40+AR40 -> 753378 | AO40: 753378 | AS40: =AT40+AU40+AV40+AW40 -> 619704 | AT40: 619704 | AU40: 0 | AV40: 0 | AW40: 0 | AX40: =AY40+AZ40+BA40+BB40 -> 5.8954231e+09 | AY40: 5.8954231e+09 | BK40: =BM40+BO40+BQ40 -> 1100000 | BM40: 1100000
D41: 지정 및 기초공사 | E41: =Y41/Y$79 -> 0.0152145 | F41: =Z41/Z$79 -> 0.016932468 | G41: =AA41/AA$79 -> 0 | I41: =AC41/AC$79 -> 0 | J41: =E41*$J$79 -> 3046166.5 | K41: 3046166.5 | O41: =P41+Q41+R41+S41 -> 1942746 | P41: 1942746 | T41: =U41+V41+W41+X41 -> 5936000 | U41: 5936000 | Y41: =Z41+AA41+AB41+AC41 -> 1253156.3 | Z41: 1253156.3 | AA41: 0 | AD41: =AE41+AF41+AG41+AH41 -> 824850 | AE41: 824850 | AI41: 16537730 | AJ41: =AI41-AL41-AM41 -> 16537730 | AN41: =AO41+AP41+AQ41+AR41 -> 588129 | AO41: 588129 | AS41: =AT41+AU41+AV41+AW41 -> 1112581 | AT41: 1112581 | AU41: 0 | AV41: 0 | AW41: 0 | AX41: =AY41+AZ41+BA41+BB41 -> 1.7850031e+10 | AY41: 1.7850031e+10 | BK41: =BM41+BO41+BQ41 -> 5936000 | BM41: 5936000
...

Sheet 감리용역비내역서
A1: 감 리 용 역 비 내 역 서
A3: ㅇ 양주 옥정신도시 대우 푸르지오 아파트 신축공사 전력시설물 감리용역
A4: 구 분 | B4: 단 위 | C4: 수 량 | D4: 금 액 | E4: 비고
A6: 1. 직접인건비 | B6: 식 | C6: 1 | D6: =[2]산출내역서!J11 -> 369739458
A7: 2. 제 경 비 | B7: 식 | C7: 1 | D7: =+[2]산출내역서!J18 -> 4.067134e+08
A8: 3. 기 술 료 | B8: 식 | C8: 1 | D8: =+[2]산출내역서!J22 -> 155290572
A9: 4. 직 접 경 비 | D9: =+[2]산출내역서!J27 -> 107199301
A10: 가.주재비 | B10: 식 | C10: 1 | D10: =+[2]산출내역서!J30 -> 100838034
A11: 나.출장비 | B11: 식 | C11: 1 | D11: =+[2]산출내역서!J32 -> 3361267
A12: 다.현지차량비 | B12: 식 | C12: 1 | D12: 0
A13: 라.사무원급료 | B13: 식 | C13: 1 | D13: 0
A14: 마.도서인쇄비 | B14: 식 | C14: 1 | D14: =+[2]산출내역서!J37 -> 3000000
A15: 5. 손해배상보험 공제료 | B15: 식 | C15: 1 | D15: 0
A16: 소 계 | D16: =+[2]산출내역서!J39 -> 1.0389427e+09
A17: VAT | D17: =+[2]산출내역서!J40 -> 1.0389427e+08
A18: 합 계(산출감비대가) | D18: =D16+D17 -> 1.142837e+09
A19: 합 계(적용감리대가) | B19: 세대 | C19: =+[2]산출내역서!D6 -> 1862 | D19: =+[2]산출내역서!D56 -> 1.142837e+09 | E19: =IF(C19<400,85%,IF(C19<500,90%,IF(C19>500,100%))) -> 1
