Workbook
Name _1: #N/A
Name _10: #N/A
Name _10_6: #REF!
Name _11: #N/A
Name _11_6: #REF!
Name _12: #N/A
Name _12_6: #REF!
Name _13: #N/A
Name _13_7: #REF!
Name _14: #N/A
Name _14_7: #REF!
Name _15: #N/A
Name _15_7: #REF!
Name _16: #N/A
Name _16_8: #REF!
Name _17: #N/A
Name _17_8: #REF!
Name _18: #N/A
Name _18_8: #REF!
Name _19: #N/A
Name _19_9: #REF!
Name _1C_: #REF!
Name _2: #N/A
Name _20: #N/A
Name _20_9: #REF!
Name _21: #N/A
Name _21_9: #REF!
Name _22: #N/A
Name _22C_: #REF!
Name _23: #N/A
Name _23C_: #REF!
Name _24: #N/A
Name _24C_: #REF!
Name _25: #N/A
Name _26: #N/A
Name _27: #N/A
Name _28: #N/A
Name _29: #N/A
Name _2C_: #REF!
Name _3: #N/A
Name _30: #N/A
Name _31: #N/A
Name _32: #N/A
Name _33: #N/A
Name _34: #N/A
Name _35: #N/A
Name _36: #N/A
Name _37: #N/A
Name _38: #N/A
Name _39: #N/A
Name _3C_: #REF!
Name _4: #N/A
Name _4_10: #REF!
Name _40: #N/A
Name _41: #N/A
Name _42: #N/A
Name _43: #N/A
Name _44: #N/A
Name _45: #N/A
Name _46: #N/A

Sheet 갑지(소수점정리)
A1: 【별지 제1호 서식】
A2: 총공사비 산출 총괄표
A3: 현장명 : 루원시티 도시개발사업 주상7BL 주상복합 신축공사 | H3: (단위:천원)
A4: 구 분 | D4: 전 체 | E4: 감리대상 | F4: 전기감리 | G4: 감리제외 | H4: 타법감리
A5: 총공사비 | B5: 순공사비 | C5: 토목공사 | D5: =SUM(E5:H5) -> 16865211 | E5: 16865211
C6: 건축공사 | D6: =SUM(E6:H6) -> 182662124 | E6: 182662124
C7: 기계설비공사 | D7: =SUM(E7:H7) -> 27177460 | E7: 27177460
C8: 전기공사 | D8: =SUM(E8:H8) -> 23741486 | F8: 23741486
C9: 정보통신공사 | D9: =SUM(E9:H9) -> 11886711 | H9: 11886711
C10: 소방설비공사 | D10: =SUM(E10:H10) -> 14030596 | H10: 14030596
C11: 소 계 | D11: =SUM(E11:H11) -> 276363588 | E11: =SUM(E5:E10) -> 226704795 | F11: =SUM(F5:F10) -> 23741486 | G11: =SUM(G5:G10) -> 0 | H11: =SUM(H5:H10) -> 25917307
B12: 일반관리비 | D12: =SUM(E12:H12) -> 32442019 | E12: 26612628 | F12: 2786987 | G12: =SUM(G6:G11) -> 0 | H12: 3042404
B13: 이 윤 | D13: =SUM(E13:H13) -> 26543471 | E13: 22205900 | F13: 1553683 | G13: =SUM(G7:G12) -> 0 | H13: 2783888
B14: 소 계 | D14: =SUM(E14:H14) -> 335349078 | E14: =SUM(E11:E13) -> 275523323 | F14: =SUM(F11:F13) -> 28082156 | G14: =SUM(G11:G13) -> 0 | H14: =SUM(H11:H13) -> 31743599 | K14: =F14+H14 -> 59825755
A15: 간 접 비 | B15: 설 계 비 | D15: =[42]제시안!$E$67 -> 2648315.3 | G15: 3054362
B16: 감 리 비 | D16: =[42]제시안!$E$68 -> 4905951.6 | G16: 7821088
B17: 일반분양시설경비 | D17: =[42]제시안!$E$69 -> 22572000 | G17: 40512415
B18: 분담금 및 부담금 | D18: =[42]제시안!$E$70 -> 15882618 | G18: 9482809
B19: 보 상 비 | D19: =SUM(E19:H19) -> 0
B20: 기타 사업비성 경비 | D20: =[42]제시안!$E$72 -> 97853266 | G20: 189611178
B21: 소 계 | D21: =SUM(E21:H21) -> 250481852 | E21: =SUM(E15:E20) -> 0 | F21: =SUM(F15:F20) -> 0 | G21: =SUM(G15:G20) -> 250481852 | H21: =SUM(H15:H20) -> 0
A22: 대 지 비 | D22: 199657942 | E22: - | F22: - | G22: =D22 -> 199657942 | H22: -
A23: 부가가치세 | D23: 4745190 | E23: 0 | F23: 0 | G23: =D23 -> 4745190 | H23: 0
A24: 총사업비계 | D24: =SUM(E24:H24) -> 790234062 | E24: =SUM(E14,E21:E23) -> 275523323 | F24: =SUM(F14,F21:F23) -> 28082156 | G24: =SUM(G14,G21:G23) -> 454884984 | H24: =SUM(H14,H21:H23) -> 31743599
A26: 주 : 1. 순공사비란 재료비, 노무비, 경비를 합한 금액임.
A27: 2. 일반관리비와 이윤에 대한 정의 및 산정방법은 ‘원가계산에 의한 예정가격작성준칙(회계예규)’에 따름
A28: 3. 부가가치세액의 정의와 산정방법은 ‘부가가치세법’에 따름
A29: 4. 간접비란 사업비중 총공사비를 제외한 설계비, 감리비, 분양시설경비등 사업비성 경비를 말하며,
A30: 세부품목은 다음과 같음.
A31: ● 일반분양시설경비 : 분양사무실 시공비, 운영비, 광고홍보비
A32: ● 분담금 및 부담금 : 인입분담금(가스, 전기, 수도, 지역난방), 진입도로, 학교용지부담금 등
A33: ● 보상비 : 민원처리 보상비
A34: ● 기타사업비성 경비 : 제세공과금, 측량수수료, 취득세, 등록세, 건물보존등기비 및 입주관리
A35: 비, 감정평가수수료, 분양보증, 하자보증수수료등 기타 사업비성 경비
A36: ● 대지구입비, 대지구입관련금융비용 및 제세공과금

Sheet 을지(소수점정리)
A1: 【별지 제2호 서식】
A2: 공종별 총공사비 구성 현황표
A4: ='갑지(소수점정리)'!A3 -> 현장명 : 루원시티 도시개발사업 주상7BL 주상복합 신축공사 | H4: (단위:천원)
A5: 구 분 | B5: 분 야 | C5: 공 종 | D5: 전 체 | E5: 감리대상 | F5: 전기감리 | G5: 감리제외 | H5: 타법감리
A6: 순공사비 | B6: 토목 (13개공사) | C6: 토 공 사 | D6: 8235198 | E6: =D6 -> 8235198 | J6: =ROUND(D6,0) -> 8235198
C7: 흙막이 공사 | D7: 2459864 | E7: =D7 -> 2459864 | J7: =ROUND(D7,0) -> 2459864
C8: 비탈면 보호공사 | D8: 0 | E8: =D8 -> 0 | J8: =ROUND(D8,0) -> 0
C9: 옹벽공사 | D9: 40925 | E9: =D9 -> 40925 | J9: =ROUND(D9,0) -> 40925
C10: 석축공사 | D10: 368323 | E10: =D10 -> 368323 | J10: =ROUND(D10,0) -> 368323
C11: 우,오수공사 | D11: 647976 | E11: =D11 -> 647976 | J11: =ROUND(D11,0) -> 647976
C12: 공동구공사 | D12: 0 | E12: =D12 -> 0 | J12: =ROUND(D12,0) -> 0
C13: 지하저수조 및 급수공사 | D13: 0 | E13: =D13 -> 0 | J13: =ROUND(D13,0) -> 0
C14: 도로포장공사 | D14: 583179 | E14: =D14 -> 583179 | J14: =ROUND(D14,0) -> 583179
C15: 교통안전시설물공사 | D15: 64797 | E15: =D15 -> 64797 | J15: =ROUND(D15,0) -> 64797
C16: 정화조시설공사 | D16: 0 | E16: =D16 -> 0 | J16: =ROUND(D16,0) -> 0
C17: 조경공사 | D17: 3571959 | E17: =D17 -> 3571959 | J17: =ROUND(D17,0) -> 3571959
C18: 부대시설공사 | D18: 892990 | E18: =D18 -> 892990 | J18: =ROUND(D18,0) -> 892990
C19: 소 계 | D19: =SUM(E19:H19) -> 16865211 | E19: =SUM(E6:E18) -> 16865211 | F19: =SUM(F6:F18) -> 0 | G19: =SUM(G6:G18) -> 0 | H19: =SUM(H6:H18) -> 0
B20: 건축 (23개공사) | C20: 공통가설공사 | D20: 9279040 | E20: =D20 -> 9279040 | F20: - | G20: - | H20: - | J20: =ROUND(D20,0) -> 9279040
C21: 가시설물공사 | D21: 4329716 | E21: =D21 -> 4329716 | J21: =ROUND(D21,0) -> 4329716
C22: 지정 및 기초공사 | D22: 5298238 | E22: =D22 -> 5298238 | J22: =ROUND(D22,0) -> 5298238
C23: 철골공사 | D23: 0 | E23: =D23 -> 0 | J23: =ROUND(D23,0) -> 0
C24: 철근콘크리트공사 | D24: 93721633 | E24: =D24 -> 93721633 | J24: =ROUND(D24,0) -> 93721633
C25: 용접공사 | D25: 0 | E25: =D25 -> 0 | J25: =ROUND(D25,0) -> 0
C26: 조적공사 | D26: 5096324 | E26: =D26 -> 5096324 | J26: =ROUND(D26,0) -> 5096324
C27: 미장공사 | D27: 4713764 | E27: =D27 -> 4713764 | J27: =ROUND(D27,0) -> 4713764
C28: 단열공사 | D28: 3407904 | E28: =D28 -> 3407904 | J28: =ROUND(D28,0) -> 3407904
C29: 방수, 방습공사 | D29: 4416204 | E29: =D29 -> 4416204 | J29: =ROUND(D29,0) -> 4416204
C30: 목 공 사 | D30: 4306207 | E30: =D30 -> 4306207 | J30: =ROUND(D30,0) -> 4306207
C31: 가구공사 | D31: 2880324 | E31: =D31 -> 2880324 | J31: =ROUND(D31,0) -> 2880324
C32: 금속공사 | D32: 2028253 | E32: =D32 -> 2028253 | J32: =ROUND(D32,0) -> 2028253
... C42: 잡공사 | D42: 14871167 | E42: =D42 -> 14871167 | J42: =ROUND(D42,0) -> 14871167
C43: 소 계 | D43: =SUM(E43:H43) -> 182662124 | E43: =SUM(E20:E42) -> 182662124 | F43: =SUM(F20:F42) -> 0 | G43: =SUM(G20:G42) -> 0 | H43: =SUM(H20:H42) -> 0
B44: 기계설비 (9개공사) | C44: 급수설비공사 | D44: 6920073 | E44: =D44 -> 6920073 | J44: =ROUND(D44,0) -> 6920073
C45: 급탕설비공사 | D45: 6355053 | E45: =D45 -> 6355053 | J45: =ROUND(D45,0) -> 6355053
C46: 오배수 및 통기설비공사 | D46: 2757956 | E46: =D46 -> 2757956 | J46: =ROUND(D46,0) -> 2757956
C47: 위생기구공사 | D47: 2464985 | E47: =D47 -> 2464985 | J47: =ROUND(D47,0) -> 2464985
C48: 난방설비공사 | D48: 1072714 | E48: =D48 -> 1072714 | J48: =ROUND(D48,0) -> 1072714
C49: 가스설비공사 | D49: 1435466 | E49: =D49 -> 1435466 | J49: =ROUND(D49,0) -> 1435466
C50: 자동제어설비공사 | D50: 1279635 | E50: =D50 -> 1279635 | J50: =ROUND(D50,0) -> 1279635
...
