Workbook

Sheet 집계표
A2: 2015 도시가스 공급시설 공사계획 및 실적
M3: (단위 : m, 개소, 천원, 세대)
A4: 구분 | B4: 2015년 공사계획 | J4: 2015년 공사실적
B5: 전 체 | F5: 보수율가산투자 | J5: 전 체 | N5: 보수율가산투자
B6: 배관길이 | C6: 정압기 | D6: 공사비 | E6: 보급세대 | F6: 배관길이 | G6: 정압기 | H6: 공사비 | I6: 보급세대 | J6: 배관길이 | K6: 정압기 | L6: 공사비 | M6: 보급세대 | N6: 배관길이 | O6: 정압기 | P6: 공사비 | Q6: 보급세대
A7: 합계 | B7: =SUM(B8:B16) -> 48560.647 | C7: =SUM(C8:C16) -> 3 | D7: =SUM(D8:D16) -> 18565865 | E7: =SUM(E8:E16) -> 23642 | F7: =SUM(F8:F16) -> 11920 | G7: =SUM(G8:G16) -> 0 | H7: =SUM(H8:H16) -> 4252795 | I7: =SUM(I8:I16) -> 2684 | ... Q7: =SUM(Q8:Q16) -> 2684
A8: 중구 | B8: 9408.6946 | C8: 1 | D8: 3693334.4 | E8: 2107 | F8: 792 | G8: 0 | H8: 225048 | I8: 57 | J8: 9408.6946 | K8: 1 | L8: 3693334.4 | M8: 2107 | N8: 792 | O8: 0 | P8: 225048 | Q8: 57
A9: 동구 | B9: 2601.4023 | C9: 0 | D9: 926157.85 | E9: 264 | F9: 1527 | G9: 0 | H9: 397666 | I9: 175 | J9: 2601.4023 | K9: 0 | L9: 926157.85 | M9: 264 | N9: 1527 | O9: 0 | P9: 397666 | Q9: 175
A10: 남구 | B10: 6558.2691 | C10: 0 | D10: 2159597.9 | E10: 4419 | F10: 1667 | G10: 0 | H10: 540972 | I10: 1289 | J10: 6558.2691 | K10: 0 | L10: 2159597.9 | M10: 4419 | N10: 1667 | O10: 0 | P10: 540972 | Q10: 1289
A11: 연수구 | B11: 4148.6504 | C11: 0 | D11: 1753241.3 | E11: 5502 | F11: 1445 | G11: 0 | H11: 366109 | I11: 127 | J11: 4148.6504 | K11: 0 | L11: 1753241.3 | M11: 5502 | N11: 1445 | O11: 0 | P11: 366109 | Q11: 127
A12: 남동구 | B12: 3004.0124 | C12: 0 | D12: 1090433.6 | E12: 2559 | F12: 90 | G12: 0 | H12: 53000 | I12: 284 | J12: 3004.0124 | K12: 0 | L12: 1090433.6 | M12: 2559 | N12: 90 | O12: 0 | P12: 53000 | Q12: 284
A13: 부평구 | B13: 2435.5619 | C13: 0 | D13: 856500 | E13: 2159 | F13: 375 | G13: 0 | H13: 201000 | I13: 180 | J13: 2435.5619 | K13: 0 | L13: 856500 | M13: 2159 | N13: 375 | O13: 0 | P13: 201000 | Q13: 180
A14: 계양구 | B14: 2710.5619 | C14: 1 | D14: 1117500 | E14: 2016 | F14: 0 | G14: 0 | H14: 0 | I14: 0 | J14: 2710.5619 | K14: 1 | L14: 1117500 | M14: 2016 | N14: 0 | O14: 0 | P14: 0 | Q14: 0
A15: 서구 | B15: 5840.5619 | C15: 0 | D15: 2374500 | E15: 2155 | F15: 480 | G15: 0 | H15: 254000 | I15: 183 | J15: 5840.5619 | K15: 0 | L15: 2374500 | M15: 2155 | N15: 480 | O15: 0 | P15: 254000 | Q15: 183
A16: 강화군 | B16: 11852.932 | C16: 1 | D16: 4594600 | E16: 2461 | F16: 5544 | G16: 0 | H16: 2215000 | I16: 389 | J16: 11852.932 | K16: 1 | L16: 4594600 | M16: 2461 | N16: 5544 | O16: 0 | P16: 2215000 | Q16: 389

Sheet 총괄(변경)
B2: 2019년~2020년 도시가스 공급시설 공사계획(변경 총괄)
N3: (단위 : m, 개소, 천원, 세대)
B4: 구분 | C4: 2019년 | K4: 2020년
C5: 전 체 | G5: 보수율가산투자 | K5: 전 체
C6: 배관길이 | D6: 정압기 | E6: 공사비 | F6: 보급세대 | G6: 배관길이 | H6: 정압기 | I6: 공사비 | J6: 보급세대 | K6: 배관길이 | L6: 정압기 | M6: 공사비 | N6: 보급세대
B7: 합계 | C7: =SUM(C8:C17) -> 52035.4 | D7: =SUM(D8:D17) -> 2 | E7: =SUM(E8:E17) -> 23324611 | F7: =SUM(F8:F17) -> 49830 | G7: =SUM(G8:G17) -> 19465.5 | H7: =SUM(H8:H17) -> 0 | I7: =SUM(I8:I17) -> 6582418.7 | J7: =SUM(J8:J17) -> 1443 | ... N7: =SUM(N8:N17) -> 31934.028
B8: 경제청 | C8: =SUMIFS('19계획(변경)'!$F$5:$F$251,'19계획(변경)'!$A$5:$A$251,"경제청") -> 4730 | D8: =SUMIFS('19계획(변경)'!$G$5:$G$251,'19계획(변경)'!$A$5:$A$251,"경제청") -> 2 | E8: =SUMIFS('19계획(변경)'!$H$5:$H$251,'19계획(변경)'!$A$5:$A$251,"경제청") -> 3130693.1 | F8: =SUMIFS('19계획(변경)'!$I$5:$I$251,'19계획(변경)'!$A$5:$A$251,"경제청") -> 3667 | G8: =SUMIFS('19계획(변경)'!$F$5:$F$251,'19계획(변경)'!$A$5:$A$251,"경제청",'19계획(변경)'!$J$5:$J$251,"보수율가산") -> 0 | H8: =SUMIFS('19계획(변경)'!$G$5:$G$251,'19계획(변경)'!$A$5:$A$251,"경제청",'19계획(변경)'!$J$5:$J$251,"보수율가산") -> 0 | I8: =SUMIFS('19계획(변경)'!$H$5:$H$251,'19계획(변경)'!$A$5:$A$251,"경제청",'19계획(변경)'!$J$5:$J$251,"보수율가산") -> 0 | J8: =SUMIFS('19계획(변경)'!$I$5:$I$251,'19계획(변경)'!$A$5:$A$251,"경제청",'19계획(변경)'!$J$5:$J$251,"보수율가산") -> 0 | K8: =SUMIFS('20계획(변경'!$F$5:$F$208,'20계획(변경'!$A$5:$A$208,"경제청") -> 0 | L8: =SUMIFS('20계획(변경'!$G$5:$G$208,'20계획(변경'!$A$5:$A$208,"경제청") -> 0 | M8: =SUMIFS('20계획(변경'!$H$5:$H$208,'20계획(변경'!$A$5:$A$208,"경제청") -> 0 | N8: =SUMIFS('20계획(변경'!$I$5:$I$208,'20계획(변경'!$A$5:$A$208,"경제청") -> 0
B9: 중구 | C9: =SUMIFS('19계획(변경)'!$F$5:$F$251,'19계획(변경)'!$A$5:$A$251,"중구") -> 6661.4 | D9: =SUMIFS('19계획(변경)'!$G$5:$G$251,'19계획(변경)'!$A$5:$A$251,"중구") -> 0 | E9: =SUMIFS('19계획(변경)'!$H$5:$H$251,'19계획(변경)'!$A$5:$A$251,"중구") -> 2614510.2 | F9: =SUMIFS('19계획(변경)'!$I$5:$I$251,'19계획(변경)'!$A$5:$A$251,"중구") -> 5035 | G9: =SUMIFS('19계획(변경)'!$F$5:$F$251,'19계획(변경)'!$A$5:$A$251,"중구",'19계획(변경)'!$J$5:$J$251,"보수율가산") -> 4455.4 | H9: =SUMIFS('19계획(변경)'!$G$5:$G$251,'19계획(변경)'!$A$5:$A$251,"중구",'19계획(변경)'!$J$5:$J$251,"보수율가산") -> 0 | I9: =SUMIFS('19계획(변경)'!$H$5:$H$251,'19계획(변경)'!$A$5:$A$251,"중구",'19계획(변경)'!$J$5:$J$251,"보수율가산") -> 1308921.6 | J9: =SUMIFS('19계획(변경)'!$I$5:$I$251,'19계획(변경)'!$A$5:$A$251,"중구",'19계획(변경)'!$J$5:$J$251,"보수율가산") -> 231 | K9: =SUMIFS('20계획(변경'!$F$5:$F$208,'20계획(변경'!$A$5:$A$208,"중구") -> 4417 | L9: =SUMIFS('20계획(변경'!$G$5:$G$208,'20계획(변경'!$A$5:$A$208,"중구") -> 1 | M9: =SUMIFS('20계획(변경'!$H$5:$H$208,'20계획(변경'!$A$5:$A$208,"중구") -> 2145906.6 | N9: =SUMIFS('20계획(변경'!$I$5:$I$208,'20계획(변경'!$A$5:$A$208,"중구") -> 3778
B10: 동구 | C10: =SUMIFS('19계획(변경)'!$F$5:$F$251,'19계획(변경)'!$A$5:$A$251,"동구") -> 1672.1 | D10: =SUMIFS('19계획(변경)'!$G$5:$G$251,'19계획(변경)'!$A$5:$A$251,"동구") -> 0 | E10: =SUMIFS('19계획(변경)'!$H$5:$H$251,'19계획(변경)'!$A$5:$A$251,"동구") -> 733412.14 | F10: =SUMIFS('19계획(변경)'!$I$5:$I$251,'19계획(변경)'!$A$5:$A$251,"동구") -> 590 | G10: =SUMIFS('19계획(변경)'!$F$5:$F$251,'19계획(변경)'!$A$5:$A$251,"동구",'19계획(변경)'!$J$5:$J$251,"보수율가산") -> 1468.7 | H10: =SUMIFS('19계획(변경)'!$G$5:$G$251,'19계획(변경)'!$A$5:$A$251,"동구",'19계획(변경)'!$J$5:$J$251,"보수율가산") -> 0 | I10: =SUMIFS('19계획(변경)'!$H$5:$H$251,'19계획(변경)'!$A$5:$A$251,"동구",'19계획(변경)'!$J$5:$J$251,"보수율가산") -> 468771.01 | J10: =SUMIFS('19계획(변경)'!$I$5:$I$251,'19계획(변경)'!$A$5:$A$251,"동구",'19계획(변경)'!$J$5:$J$251,"보수율가산") -> 219 | K10: =SUMIFS('20계획(변경'!$F$5:$F$208,'20계획(변경'!$A$5:$A$208,"동구") -> 366 | L10: =SUMIFS('20계획(변경'!$G$5:$G$208,'20계획(변경'!$A$5:$A$208,"동구") -> 0 | M10: =SUMIFS('20계획(변경'!$H$5:$H$208,'20계획(변경'!$A$5:$A$208,"동구") -> 344556.6 | N10: =SUMIFS('20계획(변경'!$I$5:$I$208,'20계획(변경'!$A$5:$A$208,"동구") -> 9359
B11: 미추홀구 | C11: =SUMIFS('19계획(변경)'!$F$5:$F$251,'19계획(변경)'!$A$5:$A$251,"미추홀구") -> 3478 | D11: =SUMIFS('19계획(변경)'!$G$5:$G$251,'19계획(변경)'!$A$5:$A$251,"미추홀구") -> 0 | E11: =SUMIFS('19계획(변경)'!$H$5:$H$251,'19계획(변경)'!$A$5:$A$251,"미추홀구") -> 1651858 | F11: =SUMIFS('19계획(변경)'!$I$5:$I$251,'19계획(변경)'!$A$5:$A$251,"미추홀구") -> 5024 | G11: =SUMIFS('19계획(변경)'!$F$5:$F$251,'19계획(변경)'!$A$5:$A$251,"미추홀구",'19계획(변경)'!$J$5:$J$251,"보수율가산") -> 2159.4 | H11: =SUMIFS('19계획(변경)'!$G$5:$G$251,'19계획(변경)'!$A$5:$A$251,"미추홀구",'19계획(변경)'!$J$5:$J$251,"보수율가산") -> 0 | I11: =SUMIFS('19계획(변경)'!$H$5:$H$251,'19계획(변경)'!$A$5:$A$251,"미추홀구",'19계획(변경)'!$J$5:$J$251,"보수율가산") -> 718474.19 | J11: =SUMIFS('19계획(변경)'!$I$5:$I$251,'19계획(변경)'!$A$5:$A$251,"미추홀구",'19계획(변경)'!$J$5:$J$251,"보수율가산") -> 219 | K11: =SUMIFS('20계획(변경'!$F$5:$F$208,'20계획(변경'!$A$5:$A$208,"미추홀구") -> 2715 | L11: =SUMIFS('20계획(변경'!$G$5:$G$208,'20계획(변경'!$A$5:$A$208,"미추홀구") -> 0 | M11: =SUMIFS('20계획(변경'!$H$5:$H$208,'20계획(변경'!$A$5:$A$208,"미추홀구") -> 1412287.6 | N11: =SUMIFS('20계획(변경'!$I$5:$I$208,'20계획(변경'!$A$5:$A$208,"미추홀구") -> 2775
B12: 연수구 | C12: =SUMIFS('19계획(변경)'!$F$5:$F$251,'19계획(변경)'!$A$5:$A$251,"연수구") -> 3649 | D12: =SUMIFS('19계획(변경)'!$G$5:$G$251,'19계획(변경)'!$A$5:$A$251,"연수구") -> 0 | E12: =SUMIFS('19계획(변경)'!$H$5:$H$251,'19계획(변경)'!$A$5:$A$251,"연수구") -> 1074714.6 | F12: =SUMIFS('19계획(변경)'!$I$5:$I$251,'19계획(변경)'!$A$5:$A$251,"연수구") -> 734 | G12: =SUMIFS('19계획(변경)'!$F$5:$F$251,'19계획(변경)'!$A$5:$A$251,"연수구",'19계획(변경)'!$J$5:$J$251,"보수율가산") -> 1871 | H12: =SUMIFS('19계획(변경)'!$G$5:$G$251,'19계획(변경)'!$A$5:$A$251,"연수구",'19계획(변경)'!$J$5:$J$251,"보수율가산") -> 0 | I12: =SUMIFS('19계획(변경)'!$H$5:$H$251,'19계획(변경)'!$A$5:$A$251,"연수구",'19계획(변경)'!$J$5:$J$251,"보수율가산") -> 576062.96 | J12: =SUMIFS('19계획(변경)'!$I$5:$I$251,'19계획(변경)'!$A$5:$A$251,"연수구",'19계획(변경)'!$J$5:$J$251,"보수율가산") -> 146 | K12: =SUMIFS('20계획(변경'!$F$5:$F$208,'20계획(변경'!$A$5:$A$208,"연수구") -> 10845 | L12: =SUMIFS('20계획(변경'!$G$5:$G$208,'20계획(변경'!$A$5:$A$208,"연수구") -> 0 | M12: =SUMIFS('20계획(변경'!$H$5:$H$208,'20계획(변경'!$A$5:$A$208,"연수구") -> 4263616.4 | N12: =SUMIFS('20계획(변경'!$I$5:$I$208,'20계획(변경'!$A$5:$A$208,"연수구") -> 1846
B13: 남동구 | C13: =SUMIFS('19계획(변경)'!$F$5:$F$251,'19계획(변경)'!$A$5:$A$251,"남동구") -> 3899.4 | D13: =SUMIFS('19계획(변경)'!$G$5:$G$251,'19계획(변경)'!$A$5:$A$251,"남동구") -> 0 | E13: =SUMIFS('19계획(변경)'!$H$5:$H$251,'19계획(변경)'!$A$5:$A$251,"남동구") -> 2460178.5 | F13: =SUMIFS('19계획(변경)'!$I$5:$I$251,'19계획(변경)'!$A$5:$A$251,"남동구") -> 8792 | G13: =SUMIFS('19계획(변경)'!$F$5:$F$251,'19계획(변경)'!$A$5:$A$251,"남동구",'19계획(변경)'!$J$5:$J$251,"보수율가산") -> 751 | H13: =SUMIFS('19계획(변경)'!$G$5:$G$251,'19계획(변경)'!$A$5:$A$251,"남동구",'19계획(변경)'!$J$5:$J$251,"보수율가산") -> 0 | I13: =SUMIFS('19계획(변경)'!$H$5:$H$251,'19계획(변경)'!$A$5:$A$251,"남동구",'19계획(변경)'!$J$5:$J$251,"보수율가산") -> 256154 | J13: =SUMIFS('19계획(변경)'!$I$5:$I$251,'19계획(변경)'!$A$5:$A$251,"남동구",'19계획(변경)'!$J$5:$J$251,"보수율가산") -> 52 | K13: =SUMIFS('20계획(변경'!$F$5:$F$208,'20계획(변경'!$A$5:$A$208,"남동구") -> 8018.7644 | L13: =SUMIFS('20계획(변경'!$G$5:$G$208,'20계획(변경'!$A$5:$A$208,"남동구") -> 0 | M13: =SUMIFS('20계획(변경'!$H$5:$H$208,'20계획(변경'!$A$5:$A$208,"남동구") -> 1744159.6 | N13: =SUMIFS('20계획(변경'!$I$5:$I$208,'20계획(변경'!$A$5:$A$208,"남동구") -> 3287.1127
B14: 부평구 | C14: =SUMIFS('19계획(변경)'!$F$5:$F$251,'19계획(변경)'!$A$5:$A$251,"부평구") -> 1828 | D14: =SUMIFS('19계획(변경)'!$G$5:$G$251,'19계획(변경)'!$A$5:$A$251,"부평구") -> 0 | E14: =SUMIFS('19계획(변경)'!$H$5:$H$251,'19계획(변경)'!$A$5:$A$251,"부평구") -> 975553 | F14: =SUMIFS('19계획(변경)'!$I$5:$I$251,'19계획(변경)'!$A$5:$A$251,"부평구") -> 7809 | G14: =SUMIFS('19계획(변경)'!$F$5:$F$251,'19계획(변경)'!$A$5:$A$251,"부평구",'19계획(변경)'!$J$5:$J$251,"보수율가산") -> 232 | H14: =SUMIFS('19계획(변경)'!$G$5:$G$251,'19계획(변경)'!$A$5:$A$251,"부평구",'19계획(변경)'!$J$5:$J$251,"보수율가산") -> 0 | I14: =SUMIFS('19계획(변경)'!$H$5:$H$251,'19계획(변경)'!$A$5:$A$251,"부평구",'19계획(변경)'!$J$5:$J$251,"보수율가산") -> 97235 | J14: =SUMIFS('19계획(변경)'!$I$5:$I$251,'19계획(변경)'!$A$5:$A$251,"부평구",'19계획(변경)'!$J$5:$J$251,"보수율가산") -> 15 | K14: =SUMIFS('20계획(변경'!$F$5:$F$208,'20계획(변경'!$A$5:$A$208,"부평구") -> 11356.571 | L14: =SUMIFS('20계획(변경'!$G$5:$G$208,'20계획(변경'!$A$5:$A$208,"부평구") -> 1 | M14: =SUMIFS('20계획(변경'!$H$5:$H$208,'20계획(변경'!$A$5:$A$208,"부평구") -> 1490000 | N14: =SUMIFS('20계획(변경'!$I$5:$I$208,'20계획(변경'!$A$5:$A$208,"부평구") -> 4135.023
B15: 계양구 | C15: =SUMIFS('19계획(변경)'!$F$5:$F$251,'19계획(변경)'!$A$5:$A$251,"계양구") -> 2891.5 | D15: =SUMIFS('19계획(변경)'!$G$5:$G$251,'19계획(변경)'!$A$5:$A$251,"계양구") -> 0 | E15: =SUMIFS('19계획(변경)'!$H$5:$H$251,'19계획(변경)'!$A$5:$A$251,"계양구") -> 983694 | F15: =SUMIFS('19계획(변경)'!$I$5:$I$251,'19계획(변경)'!$A$5:$A$251,"계양구") -> 4796 | G15: =SUMIFS('19계획(변경)'!$F$5:$F$251,'19계획(변경)'!$A$5:$A$251,"계양구",'19계획(변경)'!$J$5:$J$251,"보수율가산") -> 446 | H15: =SUMIFS('19계획(변경)'!$G$5:$G$251,'19계획(변경)'!$A$5:$A$251,"계양구",'19계획(변경)'!$J$5:$J$251,"보수율가산") -> 0 | I15: =SUMIFS('19계획(변경)'!$H$5:$H$251,'19계획(변경)'!$A$5:$A$251,"계양구",'19계획(변경)'!$J$5:$J$251,"보수율가산") -> 150000 | J15: =SUMIFS('19계획(변경)'!$I$5:$I$251,'19계획(변경)'!$A$5:$A$251,"계양구",'19계획(변경)'!$J$5:$J$251,"보수율가산") -> 34 | K15: =SUMIFS('20계획(변경'!$F$5:$F$208,'20계획(변경'!$A$5:$A$208,"계양구") -> 5001.3772 | L15: =SUMIFS('20계획(변경'!$G$5:$G$208,'20계획(변경'!$A$5:$A$208,"계양구") -> 0.74093264 | M15: =SUMIFS('20계획(변경'!$H$5:$H$208,'20계획(변경'!$A$5:$A$208,"계양구") -> 850000 | N15: =SUMIFS('20계획(변경'!$I$5:$I$208,'20계획(변경'!$A$5:$A$208,"계양구") -> 2346.633
B16: 서구 | C16: =SUMIFS('19계획(변경)'!$F$5:$F$251,'19계획(변경)'!$A$5:$A$251,"서구") -> 15352 | D16: =SUMIFS('19계획(변경)'!$G$5:$G$251,'19계획(변경)'!$A$5:$A$251,"서구") -> 0 | E16: =SUMIFS('19계획(변경)'!$H$5:$H$251,'19계획(변경)'!$A$5:$A$251,"서구") -> 6041907 | F16: =SUMIFS('19계획(변경)'!$I$5:$I$251,'19계획(변경)'!$A$5:$A$251,"서구") -> 12945 | G16: =SUMIFS('19계획(변경)'!$F$5:$F$251,'19계획(변경)'!$A$5:$A$251,"서구",'19계획(변경)'!$J$5:$J$251,"보수율가산") -> 1437 | H16: =SUMIFS('19계획(변경)'!$G$5:$G$251,'19계획(변경)'!$A$5:$A$251,"서구",'19계획(변경)'!$J$5:$J$251,"보수율가산") -> 0 | I16: =SUMIFS('19계획(변경)'!$H$5:$H$251,'19계획(변경)'!$A$5:$A$251,"서구",'19계획(변경)'!$J$5:$J$251,"보수율가산") -> 549622 | J16: =SUMIFS('19계획(변경)'!$I$5:$I$251,'19계획(변경)'!$A$5:$A$251,"서구",'19계획(변경)'!$J$5:$J$251,"보수율가산") -> 134 | K16: =SUMIFS('20계획(변경'!$F$5:$F$208,'20계획(변경'!$A$5:$A$208,"서구") -> 8534.74 | L16: =SUMIFS('20계획(변경'!$G$5:$G$208,'20계획(변경'!$A$5:$A$208,"서구") -> 1.1398964 | M16: =SUMIFS('20계획(변경'!$H$5:$H$208,'20계획(변경'!$A$5:$A$208,"서구") -> 1758000 | N16: =SUMIFS('20계획(변경'!$I$5:$I$208,'20계획(변경'!$A$5:$A$208,"서구") -> 4017.2593
B17: 강화군 | C17: =SUMIFS('19계획(변경)'!$F$5:$F$251,'19계획(변경)'!$A$5:$A$251,"강화군") -> 7874 | D17: =SUMIFS('19계획(변경)'!$G$5:$G$251,'19계획(변경)'!$A$5:$A$251,"강화군") -> 0 | E17: =SUMIFS('19계획(변경)'!$H$5:$H$251,'19계획(변경)'!$A$5:$A$251,"강화군") -> 3658090 | F17: =SUMIFS('19계획(변경)'!$I$5:$I$251,'19계획(변경)'!$A$5:$A$251,"강화군") -> 438 | G17: =SUMIFS('19계획(변경)'!$F$5:$F$251,'19계획(변경)'!$A$5:$A$251,"강화군",'19계획(변경)'!$J$5:$J$251,"보수율가산")+SUMIFS('19계획(변경)'!$F$5:$F$251,'19계획(변경)'!$A$5:$A$251,"강화군",'19계획(변경)'!$J$5:$J$251,"보수율가산(공사비의 70% 적용)") -> 6645 | H17: =SUMIFS('19계획(변경)'!$G$5:$G$251,'19계획(변경)'!$A$5:$A$251,"강화군",'19계획(변경)'!$J$5:$J$251,"보수율가산")+SUMIFS('19계획(변경)'!$G$5:$G$251,'19계획(변경)'!$A$5:$A$251,"강화군",'19계획(변경)'!$J$5:$J$251,"보수율가산(공사비의 70% 적용)") -> 0 | I17: =(SUMIFS('19계획(변경)'!$H$5:$H$251,'19계획(변경)'!$A$5:$A$251,"강화군",'19계획(변경)'!$J$5:$J$251,"보수율가산"))+((SUMIFS('19계획(변경)'!$H$5:$H$251,'19계획(변경)'!$A$5:$A$251,"강화군",'19계획(변경)'!$J$5:$J$251,"보수율가산(공사비의 70% 적용)")*0.7)) -> 2457178 | J17: =SUMIFS('19계획(변경)'!$I$5:$I$251,'19계획(변경)'!$A$5:$A$251,"강화군",'19계획(변경)'!$J$5:$J$251,"보수율가산")+SUMIFS('19계획(변경)'!$I$5:$I$251,'19계획(변경)'!$A$5:$A$251,"강화군",'19계획(변경)'!$J$5:$J$251,"보수율가산(공사비의 70% 적용)") -> 393 | K17: =SUMIFS('20계획(변경'!$F$5:$F$208,'20계획(변경'!$A$5:$A$208,"강화군") -> 3980 | L17: =SUMIFS('20계획(변경'!$G$5:$G$208,'20계획(변경'!$A$5:$A$208,"강화군") -> 0 | M17: =SUMIFS('20계획(변경'!$H$5:$H$208,'20계획(변경'!$A$5:$A$208,"강화군") -> 3000000 | N17: =SUMIFS('20계획(변경'!$I$5:$I$208,'20계획(변경'!$A$5:$A$208,"강화군") -> 390

Sheet 19계획(변경)
A1: 도시가스 공급시설 2개년 공사계획(변경)
I2: (2019년도)
A3: 구별 | B3: 구별(사) | C3: 공사명 | D3: 설치시점 | E3: 설치종점 | F3: 배관연장(m) | G3: 정압기 | H3: 공사비(천원) | I3: 보급세대 | J3: 비고 | L3: 계 | M3: =SUM(M4:M5) -> 52035.4 | N3: =SUM(N4:N5) -> 2 | O3: =SUM(O4:O5) -> 23324611 | P3: =SUM(P4:P5) -> 49830
A4: 합계 | F4: =SUM(F5:F251) -> 52035.4 | G4: =SUM(G5:G251) -> 2 | H4: =SUM(H5:H251) -> 23324611 | I4: =SUM(I5:I251) -> 49830 | L4: 삼천리 | M4: 14162.9 | N4: 0 | O4: 6884910.5 | P4: 11276
A5: 경제청 | B5: 인천도시 | C5: 하늘4공구 상업지구 공급관 LOOP 1차 (운서동 3087번지 일원 공급관) | D5: 하늘4공구 | E5: 하늘4공구 | F5: 120 | G5: 0 | H5: 60100 | I5: 0 | L5: 인천도시가스 | M5: 37872.5 | N5: 2 | O5: 16439700 | P5: 38554
A6: 경제청 | B6: 인천도시 | C6: 하늘4공구 상업지구 공급관 LOOP 2차 (운서동 3096번지 일원 공급관) | D6: 하늘4공구 | E6: 하늘4공구 | F6: 205 | G6: 0 | H6: 98980 | I6: 0
A7: 경제청 | B7: 인천도시 | C7: 하늘1공구 공급관 LOOP 1차 (중산동 1958번지 일원 공급관) | D7: 하늘1공구 | E7: 하늘1공구 | F7: 758 | G7: 0 | H7: 381810 | I7: 0 | L7: 삼천리 | M7: 113 | N7: =SUM(M7:M8) -> 247
A8: 경제청 | B8: 인천도시 | C8: 하늘12 지역정압기 본관 연결공사 | D8: 하늘12공구 | E8: 하늘12공구 | F8: 39 | G8: 0 | H8: 26550 | I8: 0 | L8: 인천도시가스 | M8: 134
A9: 경제청 | B9: 인천도시 | C9: 하늘12 지역정압기 후단공급관 연결공사 | D9: 하늘12공구 | E9: 하늘12공구 | F9: 350 | G9: 0 | H9: 185850 | I9: 0
A10: 경제청 | B10: 인천도시 | C10: 하늘12 지역정압기 설치공사 | D10: 하늘12공구 | E10: 하늘12공구 | F10: 0 | G10: 1 | H10: 96560 | I10: 0
A11: 경제청 | B11: 인천도시 | C11: 하늘14 지역정압기 본관 연결공사 | D11: 하늘14공구 | E11: 하늘14공구 | F11: 560 | G11: 0 | H11: 332360 | I11: 0
A12: 경제청 | B12: 인천도시 | C12: 하늘14 지역정압기 후단공급관 연결공사 | D12: 하늘14공구 | E12: 하늘14공구 | F12: 345 | G12: 0 | H12: 196510 | I12: 0
A13: 경제청 | B13: 인천도시 | C13: 하늘14 지역정압기 설치공사 | D13: 하늘14공구 | E13: 하늘14공구 | F13: 0 | G13: 1 | H13: 90360 | I13: 0
A14: 경제청 | B14: 삼천리 | C14: 송도8공구 A4블럭 SK뷰 | D14: 연수구 송도동 315-1 | E14: 연수구 송도8공구 A4블럭 SK뷰 | F14: 38.8 | G14: 0 | H14: 22480.688 | I14: 2100
A15: 경제청 | B15: 삼천리 | C15: 송도동8-2근생 | D15: 연수구 송도동8-3 | E15: 연수구 송도동8-2 | F15: 65 | G15: 0 | H15: 25000 | I15: 14
A16: 경제청 | B16: 삼천리 | C16: 송도동194-4온누리교회 | D16: 연수구 송도동194-4 | E16: 연수구 송도동194-4 | F16: 30 | G16: 0 | H16: 25000 | I16: 1
A17: 경제청 | B17: 삼천리 | C17: 송도9공구 | D17: 연수구 | E17: 연수구 | F17: 2121.2 | G17: 0 | H17: 1550000.3
A18: 경제청 | B18: 삼천리 | C18: 호반베르디움 | D18: 연수구 송도동 309-5 | E18: 연수구 송도동 309-5 | F18: 36.4 | G18: 0 | H18: 11928.951 | I18: 1530
A19: 경제청 | B19: 삼천리 | C19: 송도동 8-37롯데몰오피스텔 | D19: 연수구 송도동 8-37 | E19: 송도동 8-37 | F19: 61.6 | G19: 0 | H19: 27203.093 | I19: 22
A20: 중구 | B20: 인천도시 | C20: 운남동 655-1번지 일원 공급관 | D20: 운남동 601-7 | E20: 운남동 655-1 | F20: 331 | G20: 0 | H20: 168990 | I20: 29 | J20: 보수율가산
A21: 중구 | B21: 인천도시 | C21: 중산동 수변상업지구 일원 공급관 | D21: 중산동 136 | E21: 중산동 136 | F21: 968 | G21: 0 | H21: 514710 | I21: 9
A22: 중구 | B22: 인천도시 | C22: 운북동 560-4번지일원 공급관 연결공사 | D22: 운북동 560-4 | E22: 운북동 597-20 | F22: 2156 | G22: 0 | H22: 475570 | I22: 0 | J22: 보수율가산
A23: 중구 | B23: 인천도시 | C23: 운북동 1174-29~467-4(소1-48호선)일원 공급관 매설공사 | D23: 운북동 459-7 | E23: 운북동 33-94 | F23: 476 | G23: 0 | H23: 194820 | I23: 0 | J23: 보수율가산
A24: 중구 | B24: 인천도시 | C24: {=[11]!'!19계획!R28C4:R38C6'} -> 운남동 1540-7번지 일원 공급관 | D24: 운남동 1578 | E24: 운남동 1540-7 | F24: 50 | G24: 0 | H24: 23230 | I24: 16
A25: 중구 | B25: 인천도시 | C25: 중산동 1947-1 오션솔레뷰 인입공급관 | D25: 중산동 1947-1 | E25: 중산동 1947-1 | F25: 11 | G25: 0 | H25: 9150 | I25: 373
A26: 중구 | B26: 인천도시 | C26: 운서동 3087-2 솔리움센텀스카이 인입공급관 | D26: 운서동 3087-2 | E26: 운서동 3087-2 | F26: 18 | G26: 0 | H26: 10320 | I26: 562
A27: 중구 | B27: 인천도시 | C27: 중산동 1873-20 라마다오피스텔 인입공급관 | D27: 중산동 1873-20 | E27: 중산동 1873-20 | F27: 6 | G27: 0 | H27: 4660 | I27: 262
A28: 중구 | B28: 인천도시 | C28: 중산동 1873-20 라마다오피스텔 인입본관 | D28: 중산동 1873-20 | E28: 중산동 1873-20 | F28: 39 | G28: 0 | H28: 25690 | I28: 200
A29: 중구 | B29: 인천도시 | C29: 운서동 3098-2 센트럴타워오피스텔 인입공급관 | D29: 운서동 3098-2 | E29: 운서동 3098-2 | F29: 9 | G29: 0 | H29: 7030 | I29: 339
A30: 중구 | B30: 인천도시 | C30: 운서동 3088-8 더예스오션오피스텔 인입공급관 | D30: 운서동 3088-8 | E30: 운서동 3088-8 | F30: 9 | G30: 0 | H30: 7510 | I30: 200
A31: 중구 | B31: 인천도시 | C31: 운서동 3093-8 수린나오피스텔 인입공급관 | D31: 운서동 3093-8 | E31: 운서동 3093-8 | F31: 14 | G31: 0 | H31: 11970 | I31: 264
A32: 중구 | B32: 인천도시 | C32: 운서동 3092-3 더예스클라우드오피스텔 인입공급관 | D32: 운서동 3092-3 | E32: 운서동 3092-3 | F32: 3 | G32: 0 | H32: 5650 | I32: 440
A33: 중구 | B33: 인천도시 | C33: 중산동 1887-5 LH행복2차아파트 인입공급관 | D33: 중산동 1887-5 | E33: 중산동 1887-5 | F33: 4 | G33: 0 | H33: 7780 | I33: 450
A34: 중구 | B34: 인천도시 | C34: 운서동 3091-13 프라임시티3차오피스텔 인입공급관 | D34: 운서동 3091-13 | E34: 운서동 3091-13 | F34: 22 | G34: 0 | H34: 13680 | I34: 248
A35: 중구 | B35: 인천도시 | C35: 기타투자(예비비) | F35: 0 | G35: 0 | H35: 155117 | I35: 0
A36: 중구 | B36: 인천도시 | C36: 분기비 | F36: 563 | G36: 0 | H36: 100000 | I36: 1437
A37: 중구 | B37: 인천도시 | C37: 보수공사 | F37: 0 | G37: 0 | H37: 49000 | I37: 0
A38: 중구 | B38: 삼천리 | C38: 중구 항동7가 58-8번지일원 | D38: 중구 항동7가 58-8번지 | E38: 중구 항동7가 58-8번지 | F38: 80 | G38: 0 | H38: 28000 | I38: 7 | J38: 보수율가산
A39: 중구 | B39: 삼천리 | C39: 중구 해안동4가 3-6번지일원 | D39: 중구 해안동4가 3-6번지 | E39: 중구 해안동4가 3-6번지 | F39: 72 | G39: 0 | H39: 24190 | I39: 1 | J39: 보수율가산
A40: 중구 | B40: 삼천리 | C40: 중구 신포동 48-1번지일원 | D40: 중구 신포동 48-1번지 | E40: 중구 신포동 48-1번지 | F40: 58 | G40: 0 | H40: 20300 | I40: 3 | J40: 보수율가산
A41: 중구 | B41: 삼천리 | C41: 중구 신흥동3가 7-103번지일원 | D41: 중구 신흥동3가 6-22 | E41: 중구 신흥동3가 7-103 | F41: 126 | G41: 0 | H41: 31294 | I41: 21 | J41: 보수율가산
A42: 중구 | B42: 삼천리 | C42: 중구 항동7가 58-57 만다린 | D42: 중구 항동7가58-57 | E42: 중구 항동7가58-57 | F42: 10 | G42: 0 | H42: 11000 | I42: 1
A43: 중구 | B43: 삼천리 | C43: 중구 항동7가 67-4 연안해수일원 | D43: 중구 항동7가65-44 | E43: 중구 항동7가67-4 | F43: 480 | G43: 0 | H43: 150000 | I43: 3
A44: 중구 | B44: 삼천리 | C44: 인입배관투자(중구) | D44: 중구 일원 | E44: 중구 일원 | H44: 120987.6
A45: 중구 | B45: 삼천리 | C45: 안전투자 | D45: 중구 일원 | E45: 중구 일원 | H45: 78104
A46: 중구 | B46: 삼천리 | C46: 중구 관동3가 6-9번지일원공급관 | D46: 중구 관동3가 6-4 | E46: 중구 관동3가 6-9 | F46: 10 | G46: 0 | H46: 5522.915 | I46: 2 | J46: 보수율가산
A47: 중구 | B47: 삼천리 | C47: 중구 유동 2-52번지일원 | D47: 중구 유동 2-79 | E47: 중구 유동 4-7 | F47: 145 | G47: 0 | H47: 40355 | I47: 25 | J47: 보수율가산
A48: 중구 | B48: 삼천리 | C48: 중구 유동 17-3번지일원 | D48: 중구 유동 17-2 | E48: 중구 유동 18-11 | F48: 147 | G48: 0 | H48: 44460 | I48: 15 | J48: 보수율가산
A49: 중구 | B49: 삼천리 | C49: 중구 유동 21-4번지일원 | D49: 중구 유동 21-1 | E49: 중구 유동 22-1 | F49: 66 | G49: 0 | H49: 22610 | I49: 7 | J49: 보수율가산
A50: 중구 | B50: 삼천리 | C50: 중구 사동 26-18번지일원 | D50: 중구 신생동 25-27 | E50: 중구 사동 23-1 | F50: 80 | G50: 0 | H50: 26333 | I50: 13 | J50: 보수율가산
A51: 중구 | B51: 삼천리 | C51: 중구 선화동 28-11번지일원 | D51: 중구 선화동 35-7 | E51: 중구 선화동 3-16 | F51: 29 | G51: 0 | H51: 14989 | I51: 5 | J51: 보수율가산
A52: 중구 | B52: 삼천리 | C52: 중구 송학동1가 8-7번지일원 | D52: 중구 송학동1가 5-1 | E52: 중구 송학동1가 8-4 | F52: 130 | G52: 0 | H52: 39450 | I52: 5 | J52: 보수율가산
A53: 중구 | B53: 삼천리 | C53: 중구 신흥동3가 21-41번지일원 | D53: 중구 도원동 54-21 | E53: 중구 신흥동3가 22-14 | F53: 90 | G53: 0 | H53: 28064 | I53: 20 | J53: 보수율가산
A54: 중구 | B54: 삼천리 | C54: 중구 신흥동3가 36-11번지일원 | D54: 중구 신흥동3가 35-10 | E54: 중구 신흥동3가 36-11 | F54: 85 | G54: 0 | H54: 27772 | I54: 16 | J54: 보수율가산
A55: 중구 | B55: 삼천리 | C55: 중구 신흥동3가 36-19번지일원 | D55: 중구 신흥동3가 33-1 | E55: 중구 신흥동3가 36-17 | F55: 127 | G55: 0 | H55: 38520 | I55: 16 | J55: 보수율가산
A56: 중구 | B56: 삼천리 | C56: 중구 유동 22-4번지일원 | D56: 중구 유동 22-37 | E56: 중구 유동 22-7 | F56: 71 | G56: 0 | H56: 24652 | I56: 15 | J56: 보수율가산
A57: 중구 | B57: 삼천리 | C57: 중구 송월동1가 12-36번지일원 | D57: 중구 송월동 12-133 | E57: 중구 송월동 12-134 | F57: 25.3 | G57: 0 | H57: 6461.031 | I57: 6 | J57: 보수율가산
... A60: 중구 | B60: 삼천리 | C60: 중구 도원동 70-65번지일원 | D60: 중구 도원동 71-5 | E60: 중구 도원동 70-64 | F60: 10 | G60: 0 | H60: 10822 | I60: 2 | J60: 보수율가산
A61: 동구 | B61: 삼천리 | C61: 동인천역 코아루시티 | D61: 동구 송현동 64-3 | E61: 동구 송현동 64-3 | F61: 3.4 | G61: 0 | H61: 14364.524 | I61: 370
A62: 동구 | B62: 삼천리 | C62: 동구 송현동 98-381번지일원 | D62: 동구 송현동 98-381번지 | E62: 동구 송현동 98-381번지 | F62: 90 | G62: 0 | H62: 34000 | I62: 18 | J62: 보수율가산
A63: 동구 | B63: 삼천리 | C63: 동구 송림동 235-13번지일원 | D63: 동구 송림동 235-13번지 | E63: 동구 송림동 235-13번지 | F63: 104 | G63: 0 | H63: 21796 | I63: 5 | J63: 보수율가산
A64: 동구 | B64: 삼천리 | C64: 동구 송림동 8-344번지 일원 | D64: 동구 송림동 8-344 | E64: 동구 송림동 8-344 | F64: 200 | G64: 0 | H64: 100000 | I64: 1
A65: 동구 | B65: 삼천리 | C65: 인입배관투자(동구) | D65: 동구 일원 | E65: 동구 일원 | H65: 120987.6
A66: 동구 | B66: 삼천리 | C66: 안전투자 | D66: 동구 일원 | E66: 동구 일원 | H66: 29289
A67: 동구 | B67: 삼천리 | C67: 동구 만석동 7-33번지일원 | D67: 동구 만석동 6-59 | E67: 동구 만석동 7-59 | F67: 53 | G67: 0 | H67: 21264 | I67: 6 | J67: 보수율가산
A68: 동구 | B68: 삼천리 | C68: 동구 만석동 9-204번지일원 | D68: 동구 만석동 7-4 | E68: 동구 만석동 9-570 | F68: 105 | G68: 0 | H68: 32432 | I68: 16 | J68: 보수율가산
A69: 동구 | B69: 삼천리 | C69: 동구 송림동 56-8번지일원 | D69: 동구 송림동 56-10 | E69: 동구 송림동 56-2 | F69: 85 | G69: 0 | H69: 27521 | I69: 27 | J69: 보수율가산
A70: 동구 | B70: 삼천리 | C70: 동구 송림동 57-22번지일원 | D70: 동구 송림동 57-18 | E70: 동구 송림동 58-69 | F70: 245 | G70: 0 | H70: 70875 | I70: 45 | J70: 보수율가산
A71: 동구 | B71: 삼천리 | C71: 동구 송림동 102-109번지일원 | D71: 동구 송림동 102-107 | E71: 동구 송림동 102-117 | F71: 125 | G71: 0 | H71: 38029 | I71: 23 | J71: 보수율가산
A72: 동구 | B72: 삼천리 | C72: 동구 송림동 229-2번지일원 | D72: 동구 송림동 118-53 | E72: 동구 송림동 231-6 | F72: 410 | G72: 0 | H72: 140822 | I72: 52 | J72: 보수율가산
A73: 동구 | B73: 삼천리 | C73: 동구 송림동 68-18번지일원 | D73: 동구 송림동 68-18 | E73: 동구 송림동 68-18 | F73: 34.7 | G73: 0 | H73: 6717.014 | I73: 4 | J73: 보수율가산
A74: 동구 | B74: 삼천리 | C74: 동구 송림동 55-14번지일원 | D74: 동구 송림동 56-2 | E74: 동구 송림동 55-14 | F74: 77 | G74: 0 | H74: 26857 | I74: 12 | J74: 보수율가산
A75: 동구 | B75: 삼천리 | C75: 동구 송림동 55-215번지일원 | D75: 동구 송림동 55-1 | E75: 동구 송림동 55-11 | F75: 140 | G75: 0 | H75: 48458 | I75: 11 | J75: 보수율가산
A76: 미추홀구 | B76: 삼천리 | C76: 미추홀구 숭의동 438-1 신축공동주택 | D76: 미추홀구 숭의동 438-1 | E76: 미추홀구 숭의동 438-1 | F76: 100 | G76: 0 | H76: 30276 | I76: 322
A77: 미추홀구 | B77: 삼천리 | C77: 미추홀구 주안지웰에스테이트 | D77: 미추홀구 주안동 77-3 | E77: 미추홀구 주안동 77-3 | F77: 5 | G77: 0 | H77: 7660 | I77: 456
A78: 미추홀구 | B78: 삼천리 | C78: 미추홀구 주안1동 295 우남연립 재건축 | D78: 미추홀구 주안1동 295 | E78: 미추홀구 주안1동 295 | F78: 10 | G78: 0 | H78: 7888 | I78: 100
A79: 미추홀구 | B79: 삼천리 | C79: 미추홀구 숭의동 331-46 신축공동주택 | D79: 미추홀구 숭의동 331-46 | E79: 미추홀구 숭의동 331-46 | F79: 10 | G79: 0 | H79: 7888 | I79: 165
A80: 미추홀구 | B80: 삼천리 | C80: 미추홀구 숭의동 82-31 신축공동주택 | D80: 미추홀구 숭의동 82-31 | E80: 미추홀구 숭의동 82-31 | F80: 10 | G80: 0 | H80: 9606 | I80: 201
A81: 미추홀구 | B81: 삼천리 | C81: 미추홀구 주안동 623-6 신축오피스텔 | D81: 미추홀구 주안동 623-6 | E81: 미추홀구 주안동 623-6 | F81: 10 | G81: 0 | H81: 7888 | I81: 170
A82: 미추홀구 | B82: 삼천리 | C82: 미추홀구 주안동 1422 신축공동주택 | D82: 미추홀구 주안동 1422 | E82: 미추홀구 주안동 1422 | F82: 10 | G82: 0 | H82: 9606 | I82: 204
A83: 미추홀구 | B83: 삼천리 | C83: 미추홀구 학익동 661-3번지일원 | D83: 미추홀구 학익동 401-34 | E83: 미추홀구 학익동 661-3번지 | F83: 120 | G83: 0 | H83: 42000 | I83: 3 | J83: 보수율가산
A84: 미추홀구 | B84: 삼천리 | C84: 미추홀구 주안동 1506일원 | D84: 미추홀구 주안동 1506 | E84: 미추홀구 주안동 1506 | F84: 140 | G84: 0 | H84: 49000 | I84: 7 | J84: 보수율가산
A85: 미추홀구 | B85: 삼천리 | C85: 미추홀구 주안동 1486일원 | D85: 미추홀구 주안동 1486 | E85: 미추홀구 주안동 1486 | F85: 100 | G85: 0 | H85: 35000 | I85: 5 | J85: 보수율가산
A86: 미추홀구 | B86: 삼천리 | C86: 미추홀구 주안동 1482일원 | D86: 미추홀구 주안동 1482 | E86: 미추홀구 주안동 1482 | F86: 150 | G86: 0 | H86: 52500 | I86: 6 | J86: 보수율가산
A87: 미추홀구 | B87: 삼천리 | C87: 미추홀구 주안동 1469번지일원 | D87: 미추홀구 주안동 1469번지 | E87: 미추홀구 주안동 1469번지 | F87: 150 | G87: 0 | H87: 52500 | I87: 10 | J87: 보수율가산
A88: 미추홀구 | B88: 삼천리 | C88: 미추홀구 주안동 1422번지일원 | D88: 미추홀구 주안동 1422번지 | E88: 미추홀구 주안동 1422번지 | F88: 75 | G88: 0 | H88: 26250 | I88: 3 | J88: 보수율가산
A89: 미추홀구 | B89: 삼천리 | C89: 미추홀구 주안동 720번지일원 | D89: 미추홀구 주안동 720번지 | E89: 미추홀구 주안동 720번지 | F89: 87 | G89: 0 | H89: 30450 | I89: 4 | J89: 보수율가산
A90: 미추홀구 | B90: 삼천리 | C90: 미추홀구 주안동 184-9번지일원 | D90: 미추홀구 주안동 180-20 | E90: 미추홀구 주안동 184-10 | F90: 72.2 | G90: 0 | H90: 10429.829 | I90: 6 | J90: 보수율가산
A91: 미추홀구 | B91: 삼천리 | C91: 미추홀구 주안동 622-15번지일원 | D91: 미추홀구 주안동 622-1 | E91: 미추홀구 주안동 622-15 | F91: 29.2 | G91: 0 | H91: 7373.365 | I91: 1 | J91: 보수율가산
A92: 미추홀구 | B92: 삼천리 | C92: 미추홀구 학익동 401-21 복합시설 | D92: 미추홀구 학익동 401-34 | E92: 미추홀구 학익동 401-21 | F92: 50 | G92: 0 | H92: 38318 | I92: 54
A93: 미추홀구 | B93: 삼천리 | C93: 미추홀구 주안동 989-3 설악추어탕 | D93: 미추홀구 주안동 989-4 | E93: 미추홀구 주안동 989-3 | F93: 30 | G93: 0 | H93: 11704 | I93: 1
A94: 미추홀구 | B94: 삼천리 | C94: 인입배관투자(미추홀구) | D94: 미추홀구 일원 | E94: 미추홀구 일원 | H94: 120987.6
A95: 미추홀구 | B95: 삼천리 | C95: 안전투자 | D95: 미추홀구 일원 | E95: 미추홀구 일원 | H95: 111831
A96: 미추홀구 | B96: 삼천리 | C96: 미추홀구 주안동 1497-13번지일원 | D96: 미추홀구 주안동 1497-11 | E96: 미추홀구 주안동 1497-12 | F96: 25 | G96: 0 | H96: 13360 | I96: 3 | J96: 보수율가산
A97: 미추홀구 | B97: 삼천리 | C97: 미추홀구 도화동 221-4번지일원 | D97: 미추홀구 도화동 221-6 | E97: 미추홀구 도화동 221-4 | F97: 70 | G97: 0 | H97: 23620 | I97: 13 | J97: 보수율가산
A98: 미추홀구 | B98: 삼천리 | C98: 미추홀구 도화동 222-2번지일원 | D98: 미추홀구 도화동 222-2 | E98: 미추홀구 도화동 222-4 | F98: 110 | G98: 0 | H98: 33941 | I98: 15 | J98: 보수율가산
A99: 미추홀구 | B99: 삼천리 | C99: 미추홀구 도화동 250-1번지일원 | D99: 미추홀구 도화동 251-29 | E99: 미추홀구 도화동 250-7 | F99: 40 | G99: 0 | H99: 17142 | I99: 6 | J99: 보수율가산
A100: 미추홀구 | B100: 삼천리 | C100: 미추홀구 도화동 553-1번지일원 | D100: 미추홀구 도화동 553-7 | E100: 미추홀구 도화동 552-3 | F100: 130 | G100: 0 | H100: 38326 | I100: 18 | J100: 보수율가산
A101: 미추홀구 | B101: 삼천리 | C101: 미추홀구 숭의동 122번지일원 | D101: 미추홀구 도화동 122-9 | E101: 미추홀구 도화동 78-18 | F101: 200 | G101: 0 | H101: 63987 | I101: 26 | J101: 보수율가산
A102: 미추홀구 | B102: 삼천리 | C102: 미추홀구 용현동 149-18번지일원 | D102: 미추홀구 용현동 433-72 | E102: 미추홀구 용현동 158-11 | F102: 80 | G102: 0 | H102: 26333 | I102: 10 | J102: 보수율가산
...

Sheet 20계획(변경
A1: 도시가스 공급시설 2개년 공사계획(변경)
I2: (2020년도)
A3: 구별 | B3: 구별(사) | C3: 공사명 | D3: 설치시점 | E3: 설치종점 | F3: 배관연장(m) | G3: 정압기 | H3: 공사비(천원) | I3: 보급세대 | J3: 비고
A4: 합계 | F4: =SUM(F5:F67) -> 55234.453 | G4: =SUM(G5:G67) -> 3.880829 | H4: =SUM(H5:H67) -> 17008527 | I4: =SUM(I5:I67) -> 31934.028
A5: 중구 | B5: 인천도시 | C5: 주택 및 산∙영업용 공급시설공사 | F5: 3800 | G5: ='[12]3.공급시설 확충, 투자 및 보급 촉진 계획'!R18 -> 1 | H5: 1700000 | I5: 2965
A6: 중구 | B6: 삼천리 | C6: 중구 해안동1가 9번지일원 | D6: 중구 해안동1가 9번지일원 | E6: 중구 해안동1가 9번지일원 | F6: 200 | H6: 70000 | I6: 800
A7: 중구 | B7: 삼천리 | C7: 중구 선린동 48-1번지일원 | D7: 중구 선린동 48-1번지일원 | E7: 중구 선린동 48-1번지일원 | F7: 90 | H7: 31500 | I7: 5
A8: 중구 | B8: 삼천리 | C8: 중구 내동 114번지일원 | D8: 중구 내동 114번지일원 | E8: 중구 내동 114번지일원 | F8: 97 | H8: 33950 | I8: 8
A9: 중구 | B9: 삼천리 | C9: 인입배관투자(중구) | D9: 중구 일원 | E9: 중구 일원 | H9: 120987.6
A10: 중구 | B10: 삼천리 | C10: 도로개설 및 우회관로 이설투자 | D10: 중구 일원 | E10: 중구 일원 | F10: 230 | H10: 140000
A11: 중구 | B11: 삼천리 | C11: 안전투자 | D11: 중구 일원 | E11: 중구 일원 | H11: 49469
A12: 동구 | B12: 삼천리 | C12: 송림초교(뉴스테이) | D12: 송림초교(뉴스테이) | E12: 송림초교(뉴스테이) | F12: 20 | H12: 15000 | I12: 3350
A13: 동구 | B13: 삼천리 | C13: 금송-샛골구역 | D13: 금송-샛골구역 | E13: 금송-샛골구역 | F13: 20 | H13: 15000 | I13: 6000
A14: 동구 | B14: 삼천리 | C14: 동구 만석동 2-81번지일원 | D14: 동구 만석동 2-81번지일원 | E14: 동구 만석동 2-81번지일원 | F14: 81 | H14: 28350 | I14: 5
A15: 동구 | B15: 삼천리 | C15: 동구 만석동 9-377번지일원 | D15: 동구 만석동 9-377번지일원 | E15: 동구 만석동 9-377번지일원 | F15: 45 | H15: 15750 | I15: 4
A16: 동구 | B16: 삼천리 | C16: 인입배관투자(동구) | D16: 동구 일원 | E16: 동구 일원 | H16: 120987.6
A17: 동구 | B17: 삼천리 | C17: 도로개설 및 우회관로 이설투자 | D17: 동구 일원 | E17: 동구 일원 | F17: 200 | H17: 100000
A18: 동구 | B18: 삼천리 | C18: 안전투자 | D18: 동구 일원 | E18: 동구 일원 | H18: 49469
A19: 미추홀구 | B19: 삼천리 | C19: 미추홀구 학익동 293번지일원 | D19: 미추홀구 학익동 293번지일원 | E19: 미추홀구 학익동 293번지일원 | F19: 475 | H19: 166250 | I19: 325
A20: 미추홀구 | B20: 삼천리 | C20: 미추홀구 학익동 256번지일원 | D20: 미추홀구 학익동 256번지일원 | E20: 미추홀구 학익동 256번지일원 | F20: 125 | H20: 43750 | I20: 308
A21: 미추홀구 | B21: 삼천리 | C21: 미추홀구 학익동 212번지일원 | D21: 미추홀구 학익동 212번지일원 | E21: 미추홀구 학익동 212번지일원 | F21: 250 | H21: 87500 | I21: 522
A22: 미추홀구 | B22: 삼천리 | C22: 미추홀구 학익동 191-1번지일원 | D22: 미추홀구 학익동 191-1번지일원 | E22: 미추홀구 학익동 191-1번지일원 | F22: 300 | H22: 105000 | I22: 531
A23: 미추홀구 | B23: 삼천리 | C23: 미추홀구 숭의동 121번지일원 | D23: 미추홀구 숭의동 121번지일원 | E23: 미추홀구 숭의동 121번지일원 | F23: 220 | H23: 77000 | I23: 306
A24: 미추홀구 | B24: 삼천리 | C24: 미추홀구 주안동 722번지일원 | D24: 미추홀구 주안동 722번지일원 | E24: 미추홀구 주안동 722번지일원 | F24: 300 | H24: 105000 | I24: 724
A25: 미추홀구 | B25: 삼천리 | C25: 서울여성병원(이전) | D25: 미추홀구 주안동 190-4 | E25: 미추홀구 주안동 454-1 | F25: 50 | H25: 24224 | I25: 4
A26: 미추홀구 | B26: 삼천리 | C26: 해이네감자탕외 | D26: 미추홀구 용현동 일원 | E26: 미추홀구 용현동 일원 | F26: 40 | H26: 14169 | I26: 1
A27: 미추홀구 | B27: 삼천리 | C27: 인천복합터미널 | D27: 남동구 구월동 1470-2 | E27: 미추홀구 관교동 15 | F27: 250 | H27: 150000 | I27: 2
A28: 미추홀구 | B28: 삼천리 | C28: 기타단구간Ⅰ(영업용) | D28: 미추홀구 일원 | E28: 미추홀구 일원 | F28: 425 | H28: 148000 | I28: 50
A29: 미추홀구 | B29: 삼천리 | C29: 정암목욕탕 | D29: 미추홀구 주안동 698-5 | E29: 미추홀구 주안동 698-10 | F29: 50 | H29: 36108 | I29: 1
A30: 미추홀구 | B30: 삼천리 | C30: 수봉도서관 | D30: 미추홀구 일원 | E30: 미추홀구 일원 | F30: 30 | H30: 10627 | I30: 1
A31: 미추홀구 | B31: 삼천리 | C31: 인입배관투자(미추홀구) | D31: 미추홀구 일원 | E31: 미추홀구 일원 | H31: 120987.6
A32: 미추홀구 | B32: 삼천리 | C32: 도로개설 및 우회관로 이설투자 | D32: 미추홀구 일원 | E32: 미추홀구 일원 | F32: 200 | H32: 100000
A33: 미추홀구 | B33: 삼천리 | C33: 안전투자 | D33: 미추홀구 일원 | E33: 미추홀구 일원 | H33: 223672
A34: 연수구 | B34: 삼천리 | C34: 연수구 옥련동 205-5번지일원 | D34: 연수구 옥련동 205-5번지일원 | E34: 연수구 옥련동 205-5번지일원 | F34: 50 | H34: 17500 | I34: 252
A35: 연수구 | B35: 삼천리 | C35: 연수구 옥련동 572번지일원 | D35: 연수구 옥련동 572번지일원 | E35: 연수구 옥련동 572번지일원 | F35: 100 | H35: 35000 | I35: 253
A36: 연수구 | B36: 삼천리 | C36: 연수구 옥련동 576번지일원 | D36: 연수구 옥련동 576번지일원 | E36: 연수구 옥련동 576번지일원 | F36: 75 | H36: 26250 | I36: 102
A37: 연수구 | B37: 삼천리 | C37: 연수구 옥련동 526번지일원 | D37: 연수구 옥련동 526번지일원 | E37: 연수구 옥련동 526번지일원 | F37: 175 | H37: 61250 | I37: 106
A38: 연수구 | B38: 삼천리 | C38: 연수구 동춘동 809번지일원 | D38: 연수구 동춘동 809번지일원 | E38: 연수구 동춘동 809번지일원 | F38: 75 | H38: 26250 | I38: 3
A39: 연수구 | B39: 삼천리 | C39: 연수구 동춘동 818번지일원 | D39: 연수구 동춘동 818번지일원 | E39: 연수구 동춘동 818번지일원 | F39: 100 | H39: 35000 | I39: 4
A40: 연수구 | B40: 삼천리 | C40: 연수구 동춘동 816번지일원 | D40: 연수구 동춘동 816번지일원 | E40: 연수구 동춘동 816번지일원 | F40: 250 | H40: 87500 | I40: 307
A41: 연수구 | B41: 삼천리 | C41: 연수구 선학동 98-7번지일원 | D41: 연수구 선학동 98-7번지일원 | E41: 연수구 선학동 98-7번지일원 | F41: 400 | H41: 140000 | I41: 503
A42: 연수구 | B42: 삼천리 | C42: 연수구 동춘동 568-2번지일원 | D42: 연수구 동춘동 568-2번지일원 | E42: 연수구 동춘동 568-2번지일원 | F42: 250 | H42: 87500 | I42: 5
A43: 연수구 | B43: 삼천리 | C43: 연수구 옥련동 329-1번지일원 | D43: 연수구 옥련동 329-1번지일원 | E43: 연수구 옥련동 329-1번지일원 | F43: 120 | H43: 42000 | I43: 5
A44: 연수구 | B44: 삼천리 | C44: 연수구 선학동 325번지일원 | D44: 연수구 선학동 325번지일원 | E44: 연수구 선학동 325번지일원 | F44: 250 | H44: 87500 | I44: 5
A45: 연수구 | B45: 삼천리 | C45: 기타단구간Ⅲ(영업용) | D45: 연수구 일원 | E45: 연수구 일원 | F45: 1000 | H45: 340000 | I45: 300
A46: 연수구 | B46: 삼천리 | C46: 엠코테크놀로지 (2차) | D46: 연수구 송도미래로 150 일원 | E46: 연수구 송도미래로 150 일원 | F46: 300 | H46: 118500 | I46: 1
A47: 연수구 | B47: 삼천리 | C47: 송도택지(10공구) | D47: 송도택지(10공구) | E47: 송도택지(10공구) | F47: 4500 | H47: 1825902
A48: 연수구 | B48: 삼천리 | C48: 송도택지(11공구) | D48: 송도택지(11공구) | E48: 송도택지(11공구) | F48: 3000 | H48: 764069.76
A49: 연수구 | B49: 삼천리 | C49: 인입배관투자(연수구) | D49: 연수구 일원 | E49: 연수구 일원 | H49: 220987.6
A50: 연수구 | B50: 삼천리 | C50: 도로개설 및 우회관로 이설투자 | D50: 연수구 일원 | E50: 연수구 일원 | F50: 200 | H50: 100000
A51: 연수구 | B51: 삼천리 | C51: 안전투자 | D51: 연수구 일원 | E51: 연수구 일원 | H51: 248407
A52: 남동구 | B52: 인천도시 | C52: 주택 및 산∙영업용 공급시설공사 | F52: ='[12]3.공급시설 확충, 투자 및 보급 촉진 계획'!R25 -> 7318.7644 | G52: ='[12]3.공급시설 확충, 투자 및 보급 촉진 계획'!R26 -> 0 | H52: 1202000 | I52: ='[12]2.가스수요공급계획'!Q32 -> 3276.1127
A53: 남동구 | B53: 삼천리 | C53: (주)창성하이테크 | D53: 남동구 청능대로 392 일원 | E53: 남동구 청능대로 392 일원 | F53: 50 | H53: 19750 | I53: 1
A54: 남동구 | B54: 삼천리 | C54: 한국닛켄(주) | D54: 남동구 남동대로 170 일원 | E54: 남동구 남동대로 170 일원 | F54: 40 | H54: 15800 | I54: 1
A55: 남동구 | B55: 삼천리 | C55: 오티씨코스메틱 | D55: 남동구 고잔동 664-14 일원 | E55: 남동구 고잔동 664-14 일원 | F55: 40 | H55: 15800 | I55: 1
A56: 남동구 | B56: 삼천리 | C56: 미드림 | D56: 남동구 은봉로75번길 77 일원 | E56: 남동구 은봉로75번길 77 일원 | F56: 70 | H56: 27650 | I56: 1
A57: 남동구 | B57: 삼천리 | C57: 우성기업 | D57: 남동구 논현고잔로109번길 105 일원 | E57: 남동구 논현고잔로109번길 105 일원 | F57: 40 | H57: 15800 | I57: 1
A58: 남동구 | B58: 삼천리 | C58: 우성엔프라 | D58: 남동구 남동서로144번길 4 일원 | E58: 남동구 남동서로144번길 4 일원 | F58: 60 | H58: 23700 | I58: 1
A59: 남동구 | B59: 삼천리 | C59: 남촌에코산단 | D59: 남동구 남촌동 625-31번지 일원 | E59: 남동구 남촌동 625-31번지 일원 | F59: 150 | H59: 59250 | I59: 4
A60: 남동구 | B60: 삼천리 | C60: 인천도시첨단 | D60: 남동구 남촌. 도림동 일원 | E60: 남동구 남촌. 도림동 일원 | F60: 50 | H60: 19750 | I60: 1
A61: 남동구 | B61: 삼천리 | C61: 인입배관투자(남동구) | D61: 남동구 일원 | E61: 남동구 일원 | H61: 120987.6
A62: 남동구 | B62: 삼천리 | C62: 도로개설 및 우회관로 이설투자 | D62: 남동구 일원 | E62: 남동구 일원 | F62: 200 | H62: 100000
A63: 남동구 | B63: 삼천리 | C63: 안전투자 | D63: 남동구 일원 | E63: 남동구 일원 | H63: 123672
A64: 부평구 | B64: 인천도시 | C64: 주택 및 산∙영업용 공급시설공사 | F64: ='[12]3.공급시설 확충, 투자 및 보급 촉진 계획'!R29 -> 11356.571 | G64: ='[12]3.공급시설 확충, 투자 및 보급 촉진 계획'!R30 -> 1 | H64: 1490000 | I64: ='[12]2.가스수요공급계획'!Q38 -> 4135.023
A65: 계양구 | B65: 인천도시 | C65: 주택 및 산∙영업용 공급시설공사 | F65: ='[12]3.공급시설 확충, 투자 및 보급 촉진 계획'!R33 -> 5001.3772 | G65: ='[12]3.공급시설 확충, 투자 및 보급 촉진 계획'!R34 -> 0.74093264 | H65: 850000 | I65: ='[12]2.가스수요공급계획'!Q44 -> 2346.633
A66: 서구 | B66: 인천도시 | C66: 주택 및 산∙영업용 공급시설공사 | F66: ='[12]3.공급시설 확충, 투자 및 보급 촉진 계획'!R37 -> 8534.74 | G66: ='[12]3.공급시설 확충, 투자 및 보급 촉진 계획'!R38 -> 1.1398964 | H66: 1758000 | I66: ='[12]2.가스수요공급계획'!Q50 -> 4017.2593
A67: 강화군 | B67: 인천도시 | C67: 주택 및 산∙영업용 공급시설공사 | F67: 3980 | G67: ='[12]3.공급시설 확충, 투자 및 보급 촉진 계획'!R42 -> 0 | H67: 3000000 | I67: 390

Sheet 15계획 (투보)
A1: =#REF! -> #REF!
A2: =#REF! -> #REF! | B2: =#REF! -> #REF! | C2: =#REF! -> #REF! | D2: =#REF! -> #REF! | E2: =#REF! -> #REF! | F2: =#REF! -> #REF! | G2: =#REF! -> #REF! | H2: =#REF! -> #REF! | ... K2: =#REF! -> #REF!
A3: =#REF! -> #REF! | B3: =#REF! -> #REF! | C3: =#REF! -> #REF! | D3: =#REF! -> #REF! | E3: =#REF! -> #REF! | F3: =#REF! -> #REF! | G3: =#REF! -> #REF! | H3: =#REF! -> #REF! | ... K3: =#REF! -> #REF!
A4: =#REF! -> #REF! | B4: =#REF! -> #REF! | C4: =#REF! -> #REF! | D4: =#REF! -> #REF! | E4: =#REF! -> #REF! | F4: =#REF! -> #REF! | G4: =#REF! -> #REF! | H4: =#REF! -> #REF! | ... K4: =#REF! -> #REF!
A5: =#REF! -> #REF! | B5: =#REF! -> #REF! | C5: =#REF! -> #REF! | D5: =#REF! -> #REF! | E5: =#REF! -> #REF! | F5: =#REF! -> #REF! | G5: =#REF! -> #REF! | H5: =#REF! -> #REF! | ... K5: =#REF! -> #REF!
A6: =#REF! -> #REF! | B6: =#REF! -> #REF! | C6: =#REF! -> #REF! | D6: =#REF! -> #REF! | E6: =#REF! -> #REF! | F6: =#REF! -> #REF! | G6: =#REF! -> #REF! | H6: =#REF! -> #REF! | ... K6: =#REF! -> #REF!
A7: =#REF! -> #REF! | B7: =#REF! -> #REF! | C7: =#REF! -> #REF! | D7: =#REF! -> #REF! | E7: =#REF! -> #REF! | F7: =#REF! -> #REF! | G7: =#REF! -> #REF! | H7: =#REF! -> #REF! | ... K7: =#REF! -> #REF!
A8: =#REF! -> #REF! | B8: =#REF! -> #REF! | C8: =#REF! -> #REF! | D8: =#REF! -> #REF! | E8: =#REF! -> #REF! | F8: =#REF! -> #REF! | G8: =#REF! -> #REF! | H8: =#REF! -> #REF! | ... K8: =#REF! -> #REF!
A9: =#REF! -> #REF! | B9: =#REF! -> #REF! | C9: =#REF! -> #REF! | D9: =#REF! -> #REF! | E9: =#REF! -> #REF! | F9: =#REF! -> #REF! | G9: =#REF! -> #REF! | H9: =#REF! -> #REF! | ... K9: =#REF! -> #REF!
A10: =#REF! -> #REF! | B10: =#REF! -> #REF! | C10: =#REF! -> #REF! | D10: =#REF! -> #REF! | E10: =#REF! -> #REF! | F10: =#REF! -> #REF! | G10: =#REF! -> #REF! | H10: =#REF! -> #REF! | ... K10: =#REF! -> #REF!
A11: =#REF! -> #REF! | B11: =#REF! -> #REF! | C11: =#REF! -> #REF! | D11: =#REF! -> #REF! | E11: =#REF! -> #REF! | F11: =#REF! -> #REF! | G11: =#REF! -> #REF! | H11: =#REF! -> #REF! | ... K11: =#REF! -> #REF!
A12: =#REF! -> #REF! | B12: =#REF! -> #REF! | C12: =#REF! -> #REF! | D12: =#REF! -> #REF! | E12: =#REF! -> #REF! | F12: =#REF! -> #REF! | G12: =#REF! -> #REF! | H12: =#REF! -> #REF! | ... K12: =#REF! -> #REF!
A13: =#REF! -> #REF! | B13: =#REF! -> #REF! | C13: =#REF! -> #REF! | D13: =#REF! -> #REF! | E13: =#REF! -> #REF! | F13: =#REF! -> #REF! | G13: =#REF! -> #REF! | H13: =#REF! -> #REF! | ... K13: =#REF! -> #REF!
... A78: =#REF! -> #REF! | B78: =#REF! -> #REF! | C78: =#REF! -> #REF! | D78: =#REF! -> #REF! | E78: =#REF! -> #REF! | F78: =#REF! -> #REF! | G78: =#REF! -> #REF! | H78: =#REF! -> #REF! | ... K78: =#REF! -> #REF!

Sheet 15실적(정리)
A1: =#REF! -> #REF!
A2: =#REF! -> #REF! | B2: =#REF! -> #REF! | C2: =#REF! -> #REF! | D2: =#REF! -> #REF! | E2: =#REF! -> #REF! | F2: =#REF! -> #REF! | G2: =#REF! -> #REF! | H2: =#REF! -> #REF! | ... N2: =#REF! -> #REF!
A3: =#REF! -> #REF! | B3: =#REF! -> #REF! | C3: =#REF! -> #REF! | D3: =#REF! -> #REF! | E3: =#REF! -> #REF! | F3: =#REF! -> #REF! | G3: =#REF! -> #REF! | H3: =#REF! -> #REF! | ... N3: =#REF! -> #REF!
A4: =#REF! -> #REF! | B4: =#REF! -> #REF! | C4: =#REF! -> #REF! | D4: =#REF! -> #REF! | E4: =#REF! -> #REF! | F4: =SUM(F5:F241) -> #REF! | G4: =SUM(G5:G241) -> #REF! | H4: =SUM(H5:H241) -> #REF! | I4: =SUM(I5:I241) -> #REF! | J4: =#REF! -> #REF! | K4: =#REF! -> #REF! | L4: =#REF! -> #REF! | M4: =#REF! -> #REF! | N4: =#REF! -> #REF!
A5: =#REF! -> #REF! | B5: =#REF! -> #REF! | C5: =#REF! -> #REF! | D5: =#REF! -> #REF! | E5: =#REF! -> #REF! | F5: =#REF! -> #REF! | G5: =#REF! -> #REF! | H5: =#REF! -> #REF! | ... N5: =#REF! -> #REF!
A6: =#REF! -> #REF! | B6: =#REF! -> #REF! | C6: =#REF! -> #REF! | D6: =#REF! -> #REF! | E6: =#REF! -> #REF! | F6: =#REF! -> #REF! | G6: =#REF! -> #REF! | H6: =#REF! -> #REF! | ... N6: =#REF! -> #REF!
A7: =#REF! -> #REF! | B7: =#REF! -> #REF! | C7: =#REF! -> #REF! | D7: =#REF! -> #REF! | E7: =#REF! -> #REF! | F7: =#REF! -> #REF! | G7: =#REF! -> #REF! | H7: =#REF! -> #REF! | ... N7: =#REF! -> #REF!
A8: =#REF! -> #REF! | B8: =#REF! -> #REF! | C8: =#REF! -> #REF! | D8: =#REF! -> #REF! | E8: =#REF! -> #REF! | F8: =#REF! -> #REF! | G8: =#REF! -> #REF! | H8: =#REF! -> #REF! | ... N8: =#REF! -> #REF!
A9: =#REF! -> #REF! | B9: =#REF! -> #REF! | C9: =#REF! -> #REF! | D9: =#REF! -> #REF! | E9: =#REF! -> #REF! | F9: =#REF! -> #REF! | G9: =#REF! -> #REF! | H9: =#REF! -> #REF! | ... N9: =#REF! -> #REF!
A10: =#REF! -> #REF! | B10: =#REF! -> #REF! | C10: =#REF! -> #REF! | D10: =#REF! -> #REF! | E10: =#REF! -> #REF! | F10: =#REF! -> #REF! | G10: =#REF! -> #REF! | H10: =#REF! -> #REF! | ... N10: =#REF! -> #REF!
A11: =#REF! -> #REF! | B11: =#REF! -> #REF! | C11: =#REF! -> #REF! | D11: =#REF! -> #REF! | E11: =#REF! -> #REF! | F11: =#REF! -> #REF! | G11: =#REF! -> #REF! | H11: =#REF! -> #REF! | ... N11: =#REF! -> #REF!
A12: =#REF! -> #REF! | B12: =#REF! -> #REF! | C12: =#REF! -> #REF! | D12: =#REF! -> #REF! | E12: =#REF! -> #REF! | F12: =#REF! -> #REF! | G12: =#REF! -> #REF! | H12: =#REF! -> #REF! | ... N12: =#REF! -> #REF!
A13: =#REF! -> #REF! | B13: =#REF! -> #REF! | C13: =#REF! -> #REF! | D13: =#REF! -> #REF! | E13: =#REF! -> #REF! | F13: =#REF! -> #REF! | G13: =#REF! -> #REF! | H13: =#REF! -> #REF! | ... N13: =#REF! -> #REF!
A14: =#REF! -> #REF! | B14: =#REF! -> #REF! | C14: =#REF! -> #REF! | D14: =#REF! -> #REF! | E14: =#REF! -> #REF! | F14: =#REF! -> #REF! | G14: =#REF! -> #REF! | H14: =#REF! -> #REF! | ... N14: =#REF! -> #REF!
A15: =#REF! -> #REF! | B15: =#REF! -> #REF! | C15: =#REF! -> #REF! | D15: =#REF! -> #REF! | E15: =#REF! -> #REF! | F15: =#REF! -> #REF! | G15: =#REF! -> #REF! | H15: =#REF! -> #REF! | ... N15: =#REF! -> #REF!
A16: =#REF! -> #REF! | B16: =#REF! -> #REF! | C16: =#REF! -> #REF! | D16: =#REF! -> #REF! | E16: =#REF! -> #REF! | F16: =#REF! -> #REF! | G16: =#REF! -> #REF! | H16: =#REF! -> #REF! | ... N16: =#REF! -> #REF!
... A240: =#REF! -> #REF! | B240: =#REF! -> #REF! | C240: =#REF! -> #REF! | D240: =#REF! -> #REF! | E240: =#REF! -> #REF! | F240: =#REF! -> #REF! | G240: =#REF! -> #REF! | H240: =#REF! -> #REF! | ... N240: =#REF! -> #REF!

Sheet 15실적(투보)
A1: =#REF! -> #REF!
A2: =#REF! -> #REF! | B2: =#REF! -> #REF! | C2: =#REF! -> #REF! | D2: =#REF! -> #REF! | E2: =#REF! -> #REF! | F2: =#REF! -> #REF! | G2: =#REF! -> #REF! | H2: =#REF! -> #REF! | ... N2: =#REF! -> #REF!
A3: =#REF! -> #REF! | B3: =#REF! -> #REF! | C3: =#REF! -> #REF! | D3: =#REF! -> #REF! | E3: =#REF! -> #REF! | F3: =#REF! -> #REF! | G3: =#REF! -> #REF! | H3: =#REF! -> #REF! | ... N3: =#REF! -> #REF!
C4: 소계 | F4: =SUM(F5:F70) -> #REF! | G4: =SUM(G5:G70) -> #REF! | H4: =SUM(H5:H70) -> #REF! | I4: =SUM(I5:I70) -> #REF!
A5: =#REF! -> #REF! | B5: =#REF! -> #REF! | C5: =#REF! -> #REF! | D5: =#REF! -> #REF! | E5: =#REF! -> #REF! | F5: =#REF! -> #REF! | G5: =#REF! -> #REF! | H5: =#REF! -> #REF! | ... J5: =#REF! -> #REF! | L5: =#REF! -> #REF! | N5: =#REF! -> #REF!
A6: =#REF! -> #REF! | B6: =#REF! -> #REF! | C6: =#REF! -> #REF! | D6: =#REF! -> #REF! | E6: =#REF! -> #REF! | F6: =#REF! -> #REF! | G6: =#REF! -> #REF! | H6: =#REF! -> #REF! | ... J6: =#REF! -> #REF! | L6: =#REF! -> #REF! | N6: =#REF! -> #REF!
A7: =#REF! -> #REF! | B7: =#REF! -> #REF! | C7: =#REF! -> #REF! | D7: =#REF! -> #REF! | E7: =#REF! -> #REF! | F7: =#REF! -> #REF! | G7: =#REF! -> #REF! | H7: =#REF! -> #REF! | ... J7: =#REF! -> #REF! | L7: =#REF! -> #REF! | N7: =#REF! -> #REF!
A8: =#REF! -> #REF! | B8: =#REF! -> #REF! | C8: =#REF! -> #REF! | D8: =#REF! -> #REF! | E8: =#REF! -> #REF! | F8: =#REF! -> #REF! | G8: =#REF! -> #REF! | H8: =#REF! -> #REF! | ... J8: =#REF! -> #REF! | L8: =#REF! -> #REF! | N8: =#REF! -> #REF!
A9: =#REF! -> #REF! | B9: =#REF! -> #REF! | C9: =#REF! -> #REF! | D9: =#REF! -> #REF! | E9: =#REF! -> #REF! | F9: =#REF! -> #REF! | G9: =#REF! -> #REF! | H9: =#REF! -> #REF! | ... J9: =#REF! -> #REF! | L9: =#REF! -> #REF! | N9: =#REF! -> #REF!
A10: =#REF! -> #REF! | B10: =#REF! -> #REF! | C10: =#REF! -> #REF! | D10: =#REF! -> #REF! | E10: =#REF! -> #REF! | F10: =#REF! -> #REF! | G10: =#REF! -> #REF! | H10: =#REF! -> #REF! | ... J10: =#REF! -> #REF! | L10: =#REF! -> #REF! | N10: =#REF! -> #REF!
A11: =#REF! -> #REF! | B11: =#REF! -> #REF! | C11: =#REF! -> #REF! | D11: =#REF! -> #REF! | E11: =#REF! -> #REF! | F11: =#REF! -> #REF! | G11: =#REF! -> #REF! | H11: =#REF! -> #REF! | ... J11: =#REF! -> #REF! | L11: =#REF! -> #REF! | N11: =#REF! -> #REF!
A12: =#REF! -> #REF! | B12: =#REF! -> #REF! | C12: =#REF! -> #REF! | D12: =#REF! -> #REF! | E12: =#REF! -> #REF! | F12: =#REF! -> #REF! | G12: =#REF! -> #REF! | H12: =#REF! -> #REF! | ... J12: =#REF! -> #REF! | L12: =#REF! -> #REF! | N12: =#REF! -> #REF!
A13: =#REF! -> #REF! | B13: =#REF! -> #REF! | C13: =#REF! -> #REF! | D13: =#REF! -> #REF! | E13: =#REF! -> #REF! | F13: =#REF! -> #REF! | G13: =#REF! -> #REF! | H13: =#REF! -> #REF! | ... J13: =#REF! -> #REF! | L13: =#REF! -> #REF! | N13: =#REF! -> #REF!
A14: =#REF! -> #REF! | B14: =#REF! -> #REF! | C14: =#REF! -> #REF! | D14: =#REF! -> #REF! | E14: =#REF! -> #REF! | F14: =#REF! -> #REF! | G14: =#REF! -> #REF! | H14: =#REF! -> #REF! | ... J14: =#REF! -> #REF! | L14: =#REF! -> #REF! | N14: =#REF! -> #REF!
A15: =#REF! -> #REF! | B15: =#REF! -> #REF! | C15: =#REF! -> #REF! | D15: =#REF! -> #REF! | E15: =#REF! -> #REF! | F15: =#REF! -> #REF! | G15: =#REF! -> #REF! | H15: =#REF! -> #REF! | ... J15: =#REF! -> #REF! | L15: =#REF! -> #REF! | N15: =#REF! -> #REF!
A16: =#REF! -> #REF! | B16: =#REF! -> #REF! | C16: =#REF! -> #REF! | D16: =#REF! -> #REF! | E16: =#REF! -> #REF! | F16: =#REF! -> #REF! | G16: =#REF! -> #REF! | H16: =#REF! -> #REF! | ... J16: =#REF! -> #REF! | L16: =#REF! -> #REF! | N16: =#REF! -> #REF!
... A70: =#REF! -> #REF! | B70: =#REF! -> #REF! | C70: =#REF! -> #REF! | D70: =#REF! -> #REF! | E70: =#REF! -> #REF! | F70: =#REF! -> #REF! | G70: =#REF! -> #REF! | H70: =#REF! -> #REF! | ... J70: =#REF! -> #REF! | L70: =#REF! -> #REF! | N70: =#REF! -> #REF!
