Workbook

Sheet 목록
A1: 유휴 공유재산 목록
A2: 연번 | B2: 지자체 | C2: 우편번호 | D2: 소재지(지번) | E2: 소재지(도로명) | F2: 토지/건물 | G2: 토지 | I2: 건물 | L2: 공개여부 | M2: 재산구분(행정/일반) | N2: 재산관리관 | O2: 행정재산 | P2: 일반재신 | Q2: 사용허가·대부 불가 사유 | R2: 유휴사유코드 | S2: 유휴사유명 | T2: 유휴사유 상세설명 | U2: 활용계획(예: 대부, 매각, 용도폐지 등) | Y2: 오류 검증
G3: (공부상)지목 | H3: (공부상)면적(㎡) | I3: 건물구분 | J3: 건물용도 | K3: 연면적 | O3: 사용허가가능여부 | P3: 대부/매각선택 | AA3: 담당자연락처
D4: 27건 | H4: =SUBTOTAL(9,H5:H24) -> 8327.27
A5: 1 | B5: 인천광역시 | C5: 404140 | D5: 백석동 210-3 | E5: - | F5: 토지 | G5: 답 | H5: 2753 | I5: - | J5: - | K5: - | L5: 공개 | M5: 일반재산 | N5: 인천광역시 재산담당관 | O5: - | P5: 대부/매각 | Q5: - | R5: G05 | S5: 단순미활용 | T5: 나대지 | U5: 대부, 매각 검토(수요 발생 시) | W5: =VLOOKUP(M5,코드!$E$3:$F$5,2) -> G | X5: =LEFT(R5,1) -> G | Y5: =EXACT(W5,X5) -> TRUE | AA5: 032-560-4163
A6: 5 | B6: 인천광역시 | C6: 404835 | D6: 심곡동 327-12 | E6: - | F6: 토지 | G6: 공원 | H6: 183.1 | I6: - | J6: - | K6: - | L6: 공개 | M6: 일반재산 | N6: 인천광역시 재산담당관 | O6: - | P6: 대부/매각 | Q6: - | R6: G05 | S6: 단순미활용 | T6: 나대지 | U6: 대부, 매각 검토(수요 발생 시) | W6: =VLOOKUP(M6,코드!$E$3:$F$5,2) -> G | X6: =LEFT(R6,1) -> G | Y6: =EXACT(W6,X6) -> TRUE | AA6: 032-560-4163
A7: 6 | B7: 인천광역시 | C7: 404230 | D7: 가정동 475-2 | E7: - | F7: 토지 | G7: 도로 | H7: 119.2 | I7: - | J7: - | K7: - | L7: 공개 | M7: 일반재산 | N7: 인천광역시 재산담당관 | O7: - | P7: 대부/매각 | Q7: - | R7: G05 | S7: 단순미활용 | T7: 나대지 | U7: 대부, 매각 검토(수요 발생 시) | W7: =VLOOKUP(M7,코드!$E$3:$F$5,2) -> G | X7: =LEFT(R7,1) -> G | Y7: =EXACT(W7,X7) -> TRUE | AA7: 032-560-4163
A8: 7 | B8: 인천광역시 | C8: 404230 | D8: 가정동 543-31 | E8: - | F8: 토지 | G8: 대 | H8: 49.5 | I8: - | J8: - | K8: - | L8: 공개 | M8: 일반재산 | N8: 인천광역시 재산담당관 | O8: - | P8: 대부/매각 | Q8: - | R8: G05 | S8: 단순미활용 | T8: 나대지 | U8: 대부, 매각 검토(수요 발생 시) | W8: =VLOOKUP(M8,코드!$E$3:$F$5,2) -> G | X8: =LEFT(R8,1) -> G | Y8: =EXACT(W8,X8) -> TRUE | AA8: 032-560-4163
A9: 8 | B9: 인천광역시 | C9: 404230 | D9: 가정동 543-32 | E9: - | F9: 토지 | G9: 대 | H9: 17.6 | I9: - | J9: - | K9: - | L9: 공개 | M9: 일반재산 | N9: 인천광역시 재산담당관 | O9: - | P9: 대부/매각 | Q9: - | R9: G05 | S9: 단순미활용 | T9: 나대지 | U9: 대부, 매각 검토(수요 발생 시) | W9: =VLOOKUP(M9,코드!$E$3:$F$5,2) -> G | X9: =LEFT(R9,1) -> G | Y9: =EXACT(W9,X9) -> TRUE | AA9: 032-560-4163
A10: 9 | B10: 인천광역시 | C10: 404220 | D10: 석남동 산 118-9 | E10: - | F10: 토지 | G10: 임야 | H10: 1414 | I10: - | J10: - | K10: - | L10: 공개 | M10: 일반재산 | N10: 인천광역시 재산담당관 | O10: - | P10: 대부/매각 | Q10: - | R10: G05 | S10: 단순미활용 | T10: 나대지 | U10: 대부, 매각 검토(수요 발생 시) | W10: =VLOOKUP(M10,코드!$E$3:$F$5,2) -> G | X10: =LEFT(R10,1) -> G | Y10: =EXACT(W10,X10) -> TRUE | AA10: 032-560-4163
A11: 10 | B11: 인천광역시 | C11: 22815 | D11: 가좌동 43-8 | E11: 장고개로337번길 3 | F11: 토지 | G11: 대 | H11: 102 | I11: - | J11: - | K11: - | L11: 공개 | M11: 일반재산 | N11: 인천광역시 재산담당관 | O11: - | P11: 대부/매각 | Q11: - | R11: G05 | S11: 단순미활용 | T11: 나대지 | U11: 대부, 매각 검토(수요 발생 시) | W11: =VLOOKUP(M11,코드!$E$3:$F$5,2) -> G | X11: =LEFT(R11,1) -> G | Y11: =EXACT(W11,X11) -> TRUE | AA11: 032-560-4163
A12: 11 | B12: 인천광역시 | C12: 22648 | D12: 금곡동 509-2 | E12: 봉수대로 1653 | F12: 토지 | G12: 잡종지 | H12: 119 | I12: - | J12: - | K12: - | L12: 공개 | M12: 일반재산 | N12: 인천광역시 재산담당관 | O12: - | P12: 대부/매각 | Q12: - | R12: G05 | S12: 단순미활용 | T12: 나대지 | U12: 대부, 매각 검토(수요 발생 시) | W12: =VLOOKUP(M12,코드!$E$3:$F$5,2) -> G | X12: =LEFT(R12,1) -> G | Y12: =EXACT(W12,X12) -> TRUE | AA12: 032-560-4163
A13: 13 | B13: 인천광역시 | C13: 404270 | D13: 불로동 317-6 | E13: - | F13: 토지 | G13: 임야 | H13: 301 | I13: - | J13: - | K13: - | L13: 공개 | M13: 일반재산 | N13: 인천광역시 재산담당관 | O13: - | P13: 대부/매각 | Q13: - | R13: G05 | S13: 단순미활용 | T13: 나대지 | U13: 대부, 매각 검토(수요 발생 시) | W13: =VLOOKUP(M13,코드!$E$3:$F$5,2) -> G | X13: =LEFT(R13,1) -> G | Y13: =EXACT(W13,X13) -> TRUE | AA13: 032-560-4163
A14: 15 | B14: 인천광역시 | C14: 404220 | D14: 석남동 649-1 | E14: - | F14: 토지 | G14: 도로 | H14: 636 | I14: - | J14: - | K14: - | L14: 공개 | M14: 일반재산 | N14: 인천광역시 재산담당관 | O14: - | P14: 대부/매각 | Q14: - | R14: G05 | S14: 단순미활용 | T14: 나대지 | U14: 대부, 매각 검토(수요 발생 시) | W14: =VLOOKUP(M14,코드!$E$3:$F$5,2) -> G | X14: =LEFT(R14,1) -> G | Y14: =EXACT(W14,X14) -> TRUE | AA14: 032-560-4163
A15: 16 | B15: 인천 서구 | C15: 404140 | D15: 백석동 1-27 | E15: - | F15: 토지 | G15: 임야 | H15: 372.27 | I15: - | J15: - | K15: - | L15: 공개 | M15: 일반재산 | N15: 서구 재무과 | O15: - | P15: 대부/매각 | Q15: - | R15: G05 | S15: 단순미활용 | T15: 나대지 | U15: 대부, 매각 검토(수요 발생 시) | Y15: =EXACT(W15,X15) -> TRUE | AA15: 032-560-4163
A16: 17 | B16: 인천 서구 | C16: 404845 | D16: 검암동 636-9 | E16: - | F16: 토지 | G16: 잡종지 | H16: 654.2 | I16: - | J16: - | K16: - | L16: 공개 | M16: 일반재산 | N16: 서구 재무과 | O16: - | P16: 대부/매각 | Q16: - | R16: G05 | S16: 단순미활용 | T16: 나대지 | U16: 대부, 매각 검토(수요 발생 시) | Y16: =EXACT(W16,X16) -> TRUE | AA16: 032-560-4163
A17: 20 | B17: 인천 서구 | C17: 404821 | D17: 마전동 896-6 | E17: - | F17: 토지 | G17: 잡종지 | H17: 41.2 | I17: - | J17: - | K17: - | L17: 공개 | M17: 일반재산 | N17: 서구 재무과 | O17: - | P17: 대부/매각 | Q17: - | R17: G05 | S17: 단순미활용 | T17: 나대지 | U17: 대부, 매각 검토(수요 발생 시) | W17: =VLOOKUP(M17,코드!$E$3:$F$5,2) -> G | X17: =LEFT(R17,1) -> G | Y17: =EXACT(W17,X17) -> TRUE | AA17: 032-560-4163
A18: 21 | B18: 인천 서구 | C18: 404260 | D18: 마전동 905-8 | E18: - | F18: 토지 | G18: 잡종지 | H18: 35.4 | I18: - | J18: - | K18: - | L18: 공개 | M18: 일반재산 | N18: 서구 재무과 | O18: - | P18: 대부/매각 | Q18: - | R18: G05 | S18: 단순미활용 | T18: 나대지 | U18: 대부, 매각 검토(수요 발생 시) | W18: =VLOOKUP(M18,코드!$E$3:$F$5,2) -> G | X18: =LEFT(R18,1) -> G | Y18: =EXACT(W18,X18) -> TRUE | AA18: 032-560-4163
A19: 22 | B19: 인천 서구 | C19: 22617 | D19: 마전동 913-2 | E19: 완정로178번안길 4 | F19: 토지 | G19: 대 | H19: 231.3 | I19: - | J19: - | K19: - | L19: 공개 | M19: 일반재산 | N19: 서구 재무과 | O19: - | P19: 대부/매각 | Q19: - | R19: G05 | S19: 단순미활용 | T19: 나대지 | U19: 대부, 매각 검토(수요 발생 시) | W19: =VLOOKUP(M19,코드!$E$3:$F$5,2) -> G | X19: =LEFT(R19,1) -> G | Y19: =EXACT(W19,X19) -> TRUE | AA19: 032-560-4163
A20: 23 | B20: 인천 서구 | C20: 404260 | D20: 마전동 921-4 | E20: - | F20: 토지 | G20: 잡종지 | H20: 123.5 | I20: - | J20: - | K20: - | L20: 공개 | M20: 일반재산 | N20: 서구 재무과 | O20: - | P20: 대부/매각 | Q20: - | R20: G05 | S20: 단순미활용 | T20: 나대지 | U20: 대부, 매각 검토(수요 발생 시) | W20: =VLOOKUP(M20,코드!$E$3:$F$5,2) -> G | X20: =LEFT(R20,1) -> G | Y20: =EXACT(W20,X20) -> TRUE | AA20: 032-560-4163
A21: 24 | B21: 인천 서구 | C21: 404280 | D21: 대곡동 543-7 | E21: - | F21: 토지 | G21: 답 | H21: 640 | I21: - | J21: - | K21: - | L21: 공개 | M21: 일반재산 | N21: 서구 재무과 | O21: - | P21: 대부/매각 | Q21: - | R21: G05 | S21: 단순미활용 | T21: 나대지 | U21: 대부, 매각 검토(수요 발생 시) | W21: =VLOOKUP(M21,코드!$E$3:$F$5,2) -> G | X21: =LEFT(R21,1) -> G | Y21: =EXACT(W21,X21) -> TRUE | AA21: 032-560-4163
A22: 25 | B22: 인천 서구 | C22: 404270 | D22: 불로동 55-1 | E22: - | F22: 토지 | G22: 답 | H22: 131 | I22: - | J22: - | K22: - | L22: 공개 | M22: 일반재산 | N22: 서구 재무과 | O22: - | P22: 대부/매각 | Q22: - | R22: G05 | S22: 단순미활용 | T22: 나대지 | U22: 대부, 매각 검토(수요 발생 시) | W22: =VLOOKUP(M22,코드!$E$3:$F$5,2) -> G | X22: =LEFT(R22,1) -> G | Y22: =EXACT(W22,X22) -> TRUE | AA22: 032-560-4163
A23: 26 | B23: 인천 서구 | C23: 404290 | D23: 왕길동 253 | E23: - | F23: 토지 | G23: 잡종지 | H23: 346 | I23: - | J23: - | K23: - | L23: 공개 | M23: 일반재산 | N23: 서구 재무과 | O23: - | P23: 대부/매각 | Q23: - | R23: G05 | S23: 단순미활용 | T23: 나대지 | U23: 대부, 매각 검토(수요 발생 시) | W23: =VLOOKUP(M23,코드!$E$3:$F$5,2) -> G | X23: =LEFT(R23,1) -> G | Y23: =EXACT(W23,X23) -> TRUE | AA23: 032-560-4163
A24: 27 | B24: 인천 서구 | C24: 404290 | D24: 왕길동 253-6 | E24: - | F24: 토지 | G24: 잡종지 | H24: 58 | I24: - | J24: - | K24: - | L24: 공개 | M24: 일반재산 | N24: 서구 재무과 | O24: - | P24: 대부/매각 | Q24: - | R24: G05 | S24: 단순미활용 | T24: 나대지 | U24: 대부, 매각 검토(수요 발생 시) | W24: =VLOOKUP(M24,코드!$E$3:$F$5,2) -> G | X24: =LEFT(R24,1) -> G | Y24: =EXACT(W24,X24) -> TRUE | AA24: 032-560-4163

Sheet 코드
B3: 코드 | C3: 유휴사유 분류 | E3: 구분 | F3: 코드
B4: A01 | C4: 사용허가 가능 재산(공실 등) | E4: 일반재산 | F4: G
B5: A02 | C5: 용도폐지 대상 | E5: 행정재산 | F5: A
B6: G01 | C6: 대부계약 만료 후 미대부 상태
B7: G02 | C7: 대부 예정 재산
B8: G03 | C8: 무단점유 재산
B9: G04 | C9: 누락재산 중 미활용 상태
B10: G05 | C10: 단순 미활용
