Workbook

Sheet Sheet2
A2: 시도별 | B2: 급경사지 현황 | D2: 2017.12기준 | E2: 계 | F2: 신규 | G2: 시특법시설물 지정 | H2: 규모미달 | I2: 정비해소 | J2: 개발공사로 인한 해소 | K2: 중복대상지 정정
A3: 계 | B3: =SUM(B4:B20) -> #REF! | D3: =SUM(D4:D20) -> 14325 | E3: =F3-G3-H3-I3-J3-K3 -> #REF! | F3: =SUM(F4:F20) -> #REF! | G3: =SUM(G4:G20) -> 30 | H3: =SUM(H4:H20) -> 6 | I3: =SUM(I4:I20) -> 4 | J3: =SUM(J4:J20) -> 5 | K3: =SUM(K4:K20) -> 3 | N3: =B4-D4 -> 23
A4: 서울 | B4: =관리기관별!B5 -> 844 | D4: 821 | E4: =F4-G4-H4-I4-J4-K4 -> 0 | N4: =B5-D5 -> #REF!
A5: 부산 | B5: =관리기관별!B6 -> #REF! | C5: 완료 | D5: 701 | E5: =F5-G5-H5-I5-J5-K5 -> -2 | F5: 22 | G5: 11 | H5: 5 | J5: 5 | K5: 3 | N5: =B6-D6 -> #REF!
A6: 대구 | B6: =관리기관별!B7 -> #REF! | D6: 196 | E6: =F6-G6-H6-I6-J6-K6 -> -15 | F6: 4 | G6: 19 | N6: =B7-D7 -> #REF!
A7: 인천 | B7: =관리기관별!B8 -> #REF! | C7: 완료 | D7: 248 | E7: =F7-G7-H7-I7-J7-K7 -> -3 | F7: 2 | H7: 1 | I7: 4 | N7: =B8-D8 -> #REF!
A8: 광주 | B8: =관리기관별!B9 -> #REF! | D8: 143 | E8: =F8-G8-H8-I8-J8-K8 -> 0 | N8: =B9-D9 -> #REF!
A9: 대전 | B9: =관리기관별!B10 -> #REF! | D9: 211 | E9: =F9-G9-H9-I9-J9-K9 -> 0 | N9: =B10-D10 -> #REF!
A10: 울산 | B10: =관리기관별!B11 -> #REF! | C10: 완료 | D10: 389 | E10: =F10-G10-H10-I10-J10-K10 -> 67 | F10: =456-389 -> 67 | N10: =B11-D11 -> #REF!
A11: 세종 | B11: =관리기관별!B12 -> #REF! | D11: 66 | E11: =F11-G11-H11-I11-J11-K11 -> 1 | F11: 1 | L11: 시스템 확인사항 | N11: =B12-D12 -> #REF!
A12: 경기 | B12: =관리기관별!B13 -> #REF! | C12: 완료 | D12: 887 | E12: =F12-G12-H12-I12-J12-K12 -> #REF! | F12: =B12-D12 -> #REF! | N12: =B13-D13 -> #REF!
A13: 강원 | B13: =관리기관별!B14 -> #REF! | D13: 2327 | E13: =F13-G13-H13-I13-J13-K13 -> 0 | N13: =B14-D14 -> #REF!
A14: 충북 | B14: =관리기관별!B15 -> #REF! | D14: 1283 | E14: =F14-G14-H14-I14-J14-K14 -> 0 | N14: =B15-D15 -> #REF!
A15: 충남 | B15: =관리기관별!B16 -> #REF! | C15: 완료 | D15: 314 | E15: =F15-G15-H15-I15-J15-K15 -> #REF! | F15: =B15-D15 -> #REF! | N15: =B16-D16 -> #REF!
A16: 전북 | B16: =관리기관별!B17 -> #REF! | D16: 1155 | E16: =F16-G16-H16-I16-J16-K16 -> 0 | N16: =B17-D17 -> #REF!
A17: 전남 | B17: =관리기관별!B18 -> #REF! | D17: 1296 | E17: =F17-G17-H17-I17-J17-K17 -> 0 | N17: =B18-D18 -> #REF!
A18: 경북 | B18: =관리기관별!B19 -> #REF! | D18: 1179 | E18: =F18-G18-H18-I18-J18-K18 -> 0 | L18: =D18-B18 -> #REF! | N18: =B19-D19 -> #REF!
A19: 경남 | B19: =관리기관별!B20 -> #REF! | D19: 3068 | E19: =F19-G19-H19-I19-J19-K19 -> 0 | N19: =B20-D20 -> -4
A20: 제주 | B20: =관리기관별!B21 -> 37 | D20: 41 | E20: =F20-G20-H20-I20-J20-K20 -> 0 | N20: =B21-D21 -> 0
D24: =1149-1155 -> -6

Sheet 관리기관별
A1: 급경사지 관리기관별 현황('18. 12월말 기준)
A3: 시도 | B3: 계 | C3: 지자체 | D3: 지방산림청 | E3: 한국 농어촌공사 | F3: 한국토지 주택공사 | G3: 한국철도 시설공단 | H3: 도시 철도공사 | I3: 국립공원 관리공단 | J3: 기타 (개인,기업,공공기관)
A4: 총계 | B4: =SUM(B5:B21) -> #REF! | C4: =SUM(C5:C21) -> 10383 | D4: =SUM(D5:D21) -> #REF! | E4: =SUM(E5:E21) -> #REF! | F4: =SUM(F5:F21) -> #REF! | G4: =SUM(G5:G21) -> #REF! | H4: =SUM(H5:H21) -> #REF! | I4: =SUM(I5:I21) -> #REF! | J4: =SUM(J5:J21) -> 1798
A5: 서울 | B5: =SUM(C5:J5) -> 844 | C5: 809 | D5: =COUNTIF('서구 해빙기 점검결과'!$L$8:$L$29,"지방산림청") -> 0 | E5: =COUNTIF('서구 해빙기 점검결과'!$L$8:$L$29,"한국농어촌공사") -> 0 | F5: =COUNTIF('서구 해빙기 점검결과'!$L$8:$L$29,"한국토지주택공사") -> 0 | G5: =COUNTIF('서구 해빙기 점검결과'!$L$8:$L$29,"한국철도시설공단") -> 0 | H5: =COUNTIF('서구 해빙기 점검결과'!$L$8:$L$29,"도시철도공사") -> 0 | I5: =COUNTIF('서구 해빙기 점검결과'!$L$8:$L$29,"국립공원관리공단") -> 0 | J5: 35 | K5: 완료
A6: 부산 | B6: =SUM(C6:J6) -> #REF! | C6: 342 | D6: =COUNTIF('서구 해빙기 점검결과'!#REF!,"지방산림청") -> #REF! | E6: =COUNTIF('서구 해빙기 점검결과'!#REF!,"한국농어촌공사") -> #REF! | F6: =COUNTIF('서구 해빙기 점검결과'!#REF!,"한국토지주택공사") -> #REF! | G6: =COUNTIF('서구 해빙기 점검결과'!#REF!,"한국철도시설공단") -> #REF! | H6: =COUNTIF('서구 해빙기 점검결과'!#REF!,"도시철도공사") -> #REF! | I6: =COUNTIF('서구 해빙기 점검결과'!#REF!,"국립공원관리공단") -> #REF! | J6: 306 | K6: 최종완료
A7: 대구 | B7: =SUM(C7:J7) -> #REF! | C7: 83 | D7: =COUNTIF('서구 해빙기 점검결과'!#REF!,"지방산림청") -> #REF! | E7: =COUNTIF('서구 해빙기 점검결과'!#REF!,"한국농어촌공사") -> #REF! | F7: =COUNTIF('서구 해빙기 점검결과'!#REF!,"한국토지주택공사") -> #REF! | G7: =COUNTIF('서구 해빙기 점검결과'!#REF!,"한국철도시설공단") -> #REF! | H7: =COUNTIF('서구 해빙기 점검결과'!#REF!,"도시철도공사") -> #REF! | I7: =COUNTIF('서구 해빙기 점검결과'!#REF!,"국립공원관리공단") -> #REF! | J7: 77 | K7: 최종완료
A8: 인천 | B8: =SUM(C8:J8) -> #REF! | C8: 82 | D8: =COUNTIF('서구 해빙기 점검결과'!#REF!,"지방산림청") -> #REF! | E8: =COUNTIF('서구 해빙기 점검결과'!#REF!,"한국농어촌공사") -> #REF! | F8: =COUNTIF('서구 해빙기 점검결과'!#REF!,"한국토지주택공사") -> #REF! | G8: =COUNTIF('서구 해빙기 점검결과'!#REF!,"한국철도시설공단") -> #REF! | H8: =COUNTIF('서구 해빙기 점검결과'!#REF!,"도시철도공사") -> #REF! | I8: =COUNTIF('서구 해빙기 점검결과'!#REF!,"국립공원관리공단") -> #REF! | J8: 159 | K8: 최종완료
A9: 광주 | B9: =SUM(C9:J9) -> #REF! | C9: 67 | D9: =COUNTIF('서구 해빙기 점검결과'!#REF!,"지방산림청") -> #REF! | E9: =COUNTIF('서구 해빙기 점검결과'!#REF!,"한국농어촌공사") -> #REF! | F9: =COUNTIF('서구 해빙기 점검결과'!#REF!,"한국토지주택공사") -> #REF! | G9: =COUNTIF('서구 해빙기 점검결과'!#REF!,"한국철도시설공단") -> #REF! | H9: =COUNTIF('서구 해빙기 점검결과'!#REF!,"도시철도공사") -> #REF! | I9: =COUNTIF('서구 해빙기 점검결과'!#REF!,"국립공원관리공단") -> #REF! | J9: 55 | K9: 최종완료
A10: 대전 | B10: =SUM(C10:J10) -> #REF! | C10: 123 | D10: =COUNTIF('서구 해빙기 점검결과'!#REF!,"지방산림청") -> #REF! | E10: =COUNTIF('서구 해빙기 점검결과'!#REF!,"한국농어촌공사") -> #REF! | F10: =COUNTIF('서구 해빙기 점검결과'!#REF!,"한국토지주택공사") -> #REF! | G10: =COUNTIF('서구 해빙기 점검결과'!#REF!,"한국철도시설공단") -> #REF! | H10: =COUNTIF('서구 해빙기 점검결과'!#REF!,"도시철도공사") -> #REF! | I10: =COUNTIF('서구 해빙기 점검결과'!#REF!,"국립공원관리공단") -> #REF! | J10: 26 | K10: 최종완료
A11: 울산 | B11: =SUM(C11:J11) -> #REF! | C11: 281 | D11: =COUNTIF('서구 해빙기 점검결과'!#REF!,"지방산림청") -> #REF! | E11: =COUNTIF('서구 해빙기 점검결과'!#REF!,"한국농어촌공사") -> #REF! | F11: =COUNTIF('서구 해빙기 점검결과'!#REF!,"한국토지주택공사") -> #REF! | G11: =COUNTIF('서구 해빙기 점검결과'!#REF!,"한국철도시설공단") -> #REF! | H11: =COUNTIF('서구 해빙기 점검결과'!#REF!,"도시철도공사") -> #REF! | I11: =COUNTIF('서구 해빙기 점검결과'!#REF!,"국립공원관리공단") -> #REF! | J11: 27 | K11: 완료
A12: 세종 | B12: =SUM(C12:J12) -> #REF! | C12: 52 | D12: =COUNTIF('서구 해빙기 점검결과'!#REF!,"지방산림청") -> #REF! | E12: =COUNTIF('서구 해빙기 점검결과'!#REF!,"한국농어촌공사") -> #REF! | F12: =COUNTIF('서구 해빙기 점검결과'!#REF!,"한국토지주택공사") -> #REF! | G12: =COUNTIF('서구 해빙기 점검결과'!#REF!,"한국철도시설공단") -> #REF! | H12: =COUNTIF('서구 해빙기 점검결과'!#REF!,"도시철도공사") -> #REF! | I12: =COUNTIF('서구 해빙기 점검결과'!#REF!,"국립공원관리공단") -> #REF! | J12: 7 | K12: 완료
A13: 경기 | B13: =SUM(C13:J13) -> #REF! | C13: 502 | D13: =COUNTIF('서구 해빙기 점검결과'!#REF!,"지방산림청") -> #REF! | E13: =COUNTIF('서구 해빙기 점검결과'!#REF!,"한국농어촌공사") -> #REF! | F13: =COUNTIF('서구 해빙기 점검결과'!#REF!,"한국토지주택공사") -> #REF! | G13: =COUNTIF('서구 해빙기 점검결과'!#REF!,"한국철도시설공단") -> #REF! | H13: =COUNTIF('서구 해빙기 점검결과'!#REF!,"도시철도공사") -> #REF! | I13: =COUNTIF('서구 해빙기 점검결과'!#REF!,"국립공원관리공단") -> #REF! | J13: 373 | K13: 최종완료
A14: 강원 | B14: =SUM(C14:J14) -> #REF! | C14: 1880 | D14: =COUNTIF('서구 해빙기 점검결과'!#REF!,"지방산림청") -> #REF! | E14: =COUNTIF('서구 해빙기 점검결과'!#REF!,"한국농어촌공사") -> #REF! | F14: =COUNTIF('서구 해빙기 점검결과'!#REF!,"한국토지주택공사") -> #REF! | G14: =COUNTIF('서구 해빙기 점검결과'!#REF!,"한국철도시설공단") -> #REF! | H14: =COUNTIF('서구 해빙기 점검결과'!#REF!,"도시철도공사") -> #REF! | I14: =COUNTIF('서구 해빙기 점검결과'!#REF!,"국립공원관리공단") -> #REF! | J14: 115
A15: 충북 | B15: =SUM(C15:J15) -> #REF! | C15: 953 | D15: =COUNTIF('서구 해빙기 점검결과'!#REF!,"지방산림청") -> #REF! | E15: =COUNTIF('서구 해빙기 점검결과'!#REF!,"한국농어촌공사") -> #REF! | F15: =COUNTIF('서구 해빙기 점검결과'!#REF!,"한국토지주택공사") -> #REF! | G15: =COUNTIF('서구 해빙기 점검결과'!#REF!,"한국철도시설공단") -> #REF! | H15: =COUNTIF('서구 해빙기 점검결과'!#REF!,"도시철도공사") -> #REF! | I15: =COUNTIF('서구 해빙기 점검결과'!#REF!,"국립공원관리공단") -> #REF! | J15: 249 | K15: 최종완료
A16: 충남 | B16: =SUM(C16:J16) -> #REF! | C16: 199 | D16: =COUNTIF('서구 해빙기 점검결과'!#REF!,"지방산림청") -> #REF! | E16: =COUNTIF('서구 해빙기 점검결과'!#REF!,"한국농어촌공사") -> #REF! | F16: =COUNTIF('서구 해빙기 점검결과'!#REF!,"한국토지주택공사") -> #REF! | G16: =COUNTIF('서구 해빙기 점검결과'!#REF!,"한국철도시설공단") -> #REF! | H16: =COUNTIF('서구 해빙기 점검결과'!#REF!,"도시철도공사") -> #REF! | I16: =COUNTIF('서구 해빙기 점검결과'!#REF!,"국립공원관리공단") -> #REF! | J16: 39
A17: 전북 | B17: =SUM(C17:J17) -> #REF! | C17: 972 | D17: =COUNTIF('서구 해빙기 점검결과'!#REF!,"지방산림청") -> #REF! | E17: =COUNTIF('서구 해빙기 점검결과'!#REF!,"한국농어촌공사") -> #REF! | F17: =COUNTIF('서구 해빙기 점검결과'!#REF!,"한국토지주택공사") -> #REF! | G17: =COUNTIF('서구 해빙기 점검결과'!#REF!,"한국철도시설공단") -> #REF! | H17: =COUNTIF('서구 해빙기 점검결과'!#REF!,"도시철도공사") -> #REF! | I17: =COUNTIF('서구 해빙기 점검결과'!#REF!,"국립공원관리공단") -> #REF! | J17: 95 | XFC17: =COUNTIF('서구 해빙기 점검결과'!#REF!,"지방산림청") -> #REF!
A18: 전남 | B18: =SUM(C18:J18) -> #REF! | C18: 832 | D18: =COUNTIF('서구 해빙기 점검결과'!#REF!,"지방산림청") -> #REF! | E18: =COUNTIF('서구 해빙기 점검결과'!#REF!,"한국농어촌공사") -> #REF! | F18: =COUNTIF('서구 해빙기 점검결과'!#REF!,"한국토지주택공사") -> #REF! | G18: =COUNTIF('서구 해빙기 점검결과'!#REF!,"한국철도시설공단") -> #REF! | H18: =COUNTIF('서구 해빙기 점검결과'!#REF!,"도시철도공사") -> #REF! | I18: =COUNTIF('서구 해빙기 점검결과'!#REF!,"국립공원관리공단") -> #REF! | J18: 62
A19: 경북 | B19: =SUM(C19:J19) -> #REF! | C19: 995 | D19: =COUNTIF('서구 해빙기 점검결과'!#REF!,"지방산림청") -> #REF! | E19: =COUNTIF('서구 해빙기 점검결과'!#REF!,"한국농어촌공사") -> #REF! | F19: =COUNTIF('서구 해빙기 점검결과'!#REF!,"한국토지주택공사") -> #REF! | G19: =COUNTIF('서구 해빙기 점검결과'!#REF!,"한국철도시설공단") -> #REF! | H19: =COUNTIF('서구 해빙기 점검결과'!#REF!,"도시철도공사") -> #REF! | I19: =COUNTIF('서구 해빙기 점검결과'!#REF!,"국립공원관리공단") -> #REF! | J19: 21 | K19: 최종완료
A20: 경남 | B20: =SUM(C20:J20) -> #REF! | C20: 2174 | D20: =COUNTIF('서구 해빙기 점검결과'!#REF!,"지방산림청") -> #REF! | E20: =COUNTIF('서구 해빙기 점검결과'!#REF!,"한국농어촌공사") -> #REF! | F20: =COUNTIF('서구 해빙기 점검결과'!#REF!,"한국토지주택공사") -> #REF! | G20: =COUNTIF('서구 해빙기 점검결과'!#REF!,"한국철도시설공단") -> #REF! | H20: =COUNTIF('서구 해빙기 점검결과'!#REF!,"도시철도공사") -> #REF! | I20: =COUNTIF('서구 해빙기 점검결과'!#REF!,"국립공원관리공단") -> #REF! | J20: 152 | K20: 최종완료
A21: 제주 | B21: =SUM(C21:J21) -> 37 | C21: 37 | D21: 0 | E21: 0 | F21: 0 | G21: 0 | H21: 0 | I21: 0 | J21: 0 | K21: 최종완료

Sheet 급경사지 등급별
A1: 급경사지 등급별 현황('18. 12월말 기준)
H3: (단위 : 개소)
A4: 시도 | B4: 계 | C4: A | D4: B | E4: C | F4: D | G4: E | H4: 비고
A5: 총계 | B5: =SUM(B6:B22) -> #REF! | C5: =SUM(C6:C22) -> #REF! | D5: =SUM(D6:D22) -> #REF! | E5: =SUM(E6:E22) -> #REF! | F5: =SUM(F6:F22) -> #REF! | G5: =SUM(G6:G22) -> #REF! | H5: =SUM(H6:H22) -> 0
A6: 서울 | B6: =SUM(C6:H6) -> #REF! | C6: =COUNTIF('서구 해빙기 점검결과'!#REF!,"A") -> #REF! | D6: =COUNTIF('서구 해빙기 점검결과'!#REF!,"B") -> #REF! | E6: =COUNTIF('서구 해빙기 점검결과'!#REF!,"C") -> #REF! | F6: =COUNTIF('서구 해빙기 점검결과'!#REF!,"D") -> #REF! | G6: =COUNTIF('서구 해빙기 점검결과'!#REF!,"E") -> #REF!
A7: 부산 | B7: =SUM(C7:H7) -> #REF! | C7: =COUNTIF('서구 해빙기 점검결과'!#REF!,"A") -> #REF! | D7: =COUNTIF('서구 해빙기 점검결과'!#REF!,"B") -> #REF! | E7: =COUNTIF('서구 해빙기 점검결과'!#REF!,"C") -> #REF! | F7: =COUNTIF('서구 해빙기 점검결과'!#REF!,"D") -> #REF! | G7: =COUNTIF('서구 해빙기 점검결과'!#REF!,"E") -> #REF!
A8: 대구 | B8: =SUM(C8:H8) -> #REF! | C8: =COUNTIF('서구 해빙기 점검결과'!#REF!,"A") -> #REF! | D8: =COUNTIF('서구 해빙기 점검결과'!#REF!,"B") -> #REF! | E8: =COUNTIF('서구 해빙기 점검결과'!#REF!,"C") -> #REF! | F8: =COUNTIF('서구 해빙기 점검결과'!#REF!,"D") -> #REF! | G8: =COUNTIF('서구 해빙기 점검결과'!#REF!,"E") -> #REF!
A9: 인천 | B9: =SUM(C9:H9) -> #REF! | C9: =COUNTIF('서구 해빙기 점검결과'!#REF!,"A") -> #REF! | D9: =COUNTIF('서구 해빙기 점검결과'!#REF!,"B") -> #REF! | E9: =COUNTIF('서구 해빙기 점검결과'!#REF!,"C") -> #REF! | F9: =COUNTIF('서구 해빙기 점검결과'!#REF!,"D") -> #REF! | G9: =COUNTIF('서구 해빙기 점검결과'!#REF!,"E") -> #REF!
A10: 광주 | B10: =SUM(C10:H10) -> #REF! | C10: =COUNTIF('서구 해빙기 점검결과'!#REF!,"A") -> #REF! | D10: =COUNTIF('서구 해빙기 점검결과'!#REF!,"B") -> #REF! | E10: =COUNTIF('서구 해빙기 점검결과'!#REF!,"C") -> #REF! | F10: =COUNTIF('서구 해빙기 점검결과'!#REF!,"D") -> #REF! | G10: =COUNTIF('서구 해빙기 점검결과'!#REF!,"E") -> #REF!
A11: 대전 | B11: =SUM(C11:H11) -> #REF! | C11: =COUNTIF('서구 해빙기 점검결과'!#REF!,"A") -> #REF! | D11: =COUNTIF('서구 해빙기 점검결과'!#REF!,"B") -> #REF! | E11: =COUNTIF('서구 해빙기 점검결과'!#REF!,"C") -> #REF! | F11: =COUNTIF('서구 해빙기 점검결과'!#REF!,"D") -> #REF! | G11: =COUNTIF('서구 해빙기 점검결과'!#REF!,"E") -> #REF!
A12: 울산 | B12: =SUM(C12:H12) -> #REF! | C12: =COUNTIF('서구 해빙기 점검결과'!#REF!,"A") -> #REF! | D12: =COUNTIF('서구 해빙기 점검결과'!#REF!,"B") -> #REF! | E12: =COUNTIF('서구 해빙기 점검결과'!#REF!,"C") -> #REF! | F12: =COUNTIF('서구 해빙기 점검결과'!#REF!,"D") -> #REF! | G12: =COUNTIF('서구 해빙기 점검결과'!#REF!,"E") -> #REF!
A13: 세종 | B13: =SUM(C13:H13) -> #REF! | C13: =COUNTIF('서구 해빙기 점검결과'!#REF!,"A") -> #REF! | D13: =COUNTIF('서구 해빙기 점검결과'!#REF!,"B") -> #REF! | E13: =COUNTIF('서구 해빙기 점검결과'!#REF!,"C") -> #REF! | F13: =COUNTIF('서구 해빙기 점검결과'!#REF!,"D") -> #REF! | G13: =COUNTIF('서구 해빙기 점검결과'!#REF!,"E") -> #REF!
A14: 경기 | B14: =SUM(C14:H14) -> #REF! | C14: =COUNTIF('서구 해빙기 점검결과'!#REF!,"A") -> #REF! | D14: =COUNTIF('서구 해빙기 점검결과'!#REF!,"B") -> #REF! | E14: =COUNTIF('서구 해빙기 점검결과'!#REF!,"C") -> #REF! | F14: =COUNTIF('서구 해빙기 점검결과'!#REF!,"D") -> #REF! | G14: =COUNTIF('서구 해빙기 점검결과'!#REF!,"E") -> #REF!
A15: 강원 | B15: =SUM(C15:H15) -> #REF! | C15: =COUNTIF('서구 해빙기 점검결과'!#REF!,"A") -> #REF! | D15: =COUNTIF('서구 해빙기 점검결과'!#REF!,"B") -> #REF! | E15: =COUNTIF('서구 해빙기 점검결과'!#REF!,"C") -> #REF! | F15: =COUNTIF('서구 해빙기 점검결과'!#REF!,"D") -> #REF! | G15: =COUNTIF('서구 해빙기 점검결과'!#REF!,"E") -> #REF!
A16: 충북 | B16: =SUM(C16:H16) -> #REF! | C16: =COUNTIF('서구 해빙기 점검결과'!#REF!,"A") -> #REF! | D16: =COUNTIF('서구 해빙기 점검결과'!#REF!,"B") -> #REF! | E16: =COUNTIF('서구 해빙기 점검결과'!#REF!,"C") -> #REF! | F16: =COUNTIF('서구 해빙기 점검결과'!#REF!,"D") -> #REF! | G16: =COUNTIF('서구 해빙기 점검결과'!#REF!,"E") -> #REF!
A17: 충남 | B17: =SUM(C17:H17) -> #REF! | C17: =COUNTIF('서구 해빙기 점검결과'!#REF!,"A") -> #REF! | D17: =COUNTIF('서구 해빙기 점검결과'!#REF!,"B") -> #REF! | E17: =COUNTIF('서구 해빙기 점검결과'!#REF!,"C") -> #REF! | F17: =COUNTIF('서구 해빙기 점검결과'!#REF!,"D") -> #REF! | G17: =COUNTIF('서구 해빙기 점검결과'!#REF!,"E") -> #REF!
A18: 전북 | B18: =SUM(C18:H18) -> #REF! | C18: =COUNTIF('서구 해빙기 점검결과'!#REF!,"A") -> #REF! | D18: =COUNTIF('서구 해빙기 점검결과'!#REF!,"B") -> #REF! | E18: =COUNTIF('서구 해빙기 점검결과'!#REF!,"C") -> #REF! | F18: =COUNTIF('서구 해빙기 점검결과'!#REF!,"D") -> #REF! | G18: =COUNTIF('서구 해빙기 점검결과'!#REF!,"E") -> #REF! | XFA18: =COUNTIF('서구 해빙기 점검결과'!#REF!,"지방산림청") -> #REF!
A19: 전남 | B19: =SUM(C19:H19) -> #REF! | C19: =COUNTIF('서구 해빙기 점검결과'!#REF!,"A") -> #REF! | D19: =COUNTIF('서구 해빙기 점검결과'!#REF!,"B") -> #REF! | E19: =COUNTIF('서구 해빙기 점검결과'!#REF!,"C") -> #REF! | F19: =COUNTIF('서구 해빙기 점검결과'!#REF!,"D") -> #REF! | G19: =COUNTIF('서구 해빙기 점검결과'!#REF!,"E") -> #REF!
A20: 경북 | B20: =SUM(C20:H20) -> #REF! | C20: =COUNTIF('서구 해빙기 점검결과'!#REF!,"A") -> #REF! | D20: 767 | E20: =COUNTIF('서구 해빙기 점검결과'!#REF!,"C") -> #REF! | F20: =COUNTIF('서구 해빙기 점검결과'!#REF!,"D") -> #REF! | G20: =COUNTIF('서구 해빙기 점검결과'!#REF!,"E") -> #REF!
A21: 경남 | B21: =SUM(C21:H21) -> #REF! | C21: =COUNTIF('서구 해빙기 점검결과'!#REF!,"A") -> #REF! | D21: =COUNTIF('서구 해빙기 점검결과'!#REF!,"B") -> #REF! | E21: =COUNTIF('서구 해빙기 점검결과'!#REF!,"C") -> #REF! | F21: =COUNTIF('서구 해빙기 점검결과'!#REF!,"D") -> #REF! | G21: =COUNTIF('서구 해빙기 점검결과'!#REF!,"E") -> #REF!
A22: 제주 | B22: =SUM(C22:H22) -> #REF! | C22: =COUNTIF('서구 해빙기 점검결과'!#REF!,"A") -> #REF! | D22: =COUNTIF('서구 해빙기 점검결과'!#REF!,"b") -> #REF! | E22: =COUNTIF('서구 해빙기 점검결과'!#REF!,"C") -> #REF! | F22: =COUNTIF('서구 해빙기 점검결과'!#REF!,"D") -> #REF! | G22: =COUNTIF('서구 해빙기 점검결과'!#REF!,"E") -> #REF!

Sheet 급경사지 용도별
A1: 급경사지 관리기관별 현황('18. 12월말 기준)
A3: 시도 | B3: 계 | C3: 도로 | D3: 아파트 | E3: 주택 | F3: 공단 | G3: 공원 | H3: 철도 | I3: 기타 | J3: 비고
A4: 총계 | B4: =SUM(B5:B21) -> #REF! | C4: =SUM(C5:C21) -> #REF! | D4: =SUM(D5:D21) -> #REF! | E4: =SUM(E5:E21) -> #REF! | F4: =SUM(F5:F21) -> #REF! | G4: =SUM(G5:G21) -> #REF! | H4: =SUM(H5:H21) -> #REF! | I4: =SUM(I5:I21) -> #REF!
A5: 서울 | B5: =SUM(C5:J5) -> 20 | C5: =COUNTIF('서구 해빙기 점검결과'!$G$8:$G$29,"도로(지,군,비)") -> 0 | D5: =COUNTIF('서구 해빙기 점검결과'!$G$8:$G$29,"아파트") -> 13 | E5: =COUNTIF('서구 해빙기 점검결과'!$G$8:$G$29,"주택") -> 2 | F5: =COUNTIF('서구 해빙기 점검결과'!$G$8:$G$29,"공단") -> 0 | G5: =COUNTIF('서구 해빙기 점검결과'!$G$8:$G$29,"공원") -> 3 | H5: =COUNTIF('서구 해빙기 점검결과'!$G$8:$G$29,"철도") -> 0 | I5: =COUNTIF('서구 해빙기 점검결과'!$G$8:$G$29,"기타") -> 2
A6: 부산 | B6: =SUM(C6:J6) -> #REF! | C6: =COUNTIF('서구 해빙기 점검결과'!#REF!,"도로") -> #REF! | D6: =COUNTIF('서구 해빙기 점검결과'!#REF!,"아파트") -> #REF! | E6: =COUNTIF('서구 해빙기 점검결과'!#REF!,"주택") -> #REF! | F6: =COUNTIF('서구 해빙기 점검결과'!#REF!,"공단") -> #REF! | G6: =COUNTIF('서구 해빙기 점검결과'!#REF!,"공원") -> #REF! | H6: =COUNTIF('서구 해빙기 점검결과'!#REF!,"철도") -> #REF! | I6: =COUNTIF('서구 해빙기 점검결과'!#REF!,"기타") -> #REF!
A7: 대구 | B7: =SUM(C7:J7) -> #REF! | C7: =COUNTIF('서구 해빙기 점검결과'!#REF!,"도로") -> #REF! | D7: =COUNTIF('서구 해빙기 점검결과'!#REF!,"아파트") -> #REF! | E7: =COUNTIF('서구 해빙기 점검결과'!#REF!,"주택") -> #REF! | F7: =COUNTIF('서구 해빙기 점검결과'!#REF!,"공단") -> #REF! | G7: =COUNTIF('서구 해빙기 점검결과'!#REF!,"공원") -> #REF! | H7: =COUNTIF('서구 해빙기 점검결과'!#REF!,"철도") -> #REF! | I7: =COUNTIF('서구 해빙기 점검결과'!#REF!,"기타") -> #REF!
A8: 인천 | B8: =SUM(C8:J8) -> #REF! | C8: =COUNTIF('서구 해빙기 점검결과'!#REF!,"도로") -> #REF! | D8: =COUNTIF('서구 해빙기 점검결과'!#REF!,"아파트") -> #REF! | E8: =COUNTIF('서구 해빙기 점검결과'!#REF!,"주택") -> #REF! | F8: =COUNTIF('서구 해빙기 점검결과'!#REF!,"공단") -> #REF! | G8: =COUNTIF('서구 해빙기 점검결과'!#REF!,"공원") -> #REF! | H8: =COUNTIF('서구 해빙기 점검결과'!#REF!,"철도") -> #REF! | I8: =COUNTIF('서구 해빙기 점검결과'!#REF!,"기타") -> #REF!
A9: 광주 | B9: =SUM(C9:J9) -> #REF! | C9: =COUNTIF('서구 해빙기 점검결과'!#REF!,"도로") -> #REF! | D9: =COUNTIF('서구 해빙기 점검결과'!#REF!,"아파트") -> #REF! | E9: =COUNTIF('서구 해빙기 점검결과'!#REF!,"주택") -> #REF! | F9: =COUNTIF('서구 해빙기 점검결과'!#REF!,"공단") -> #REF! | G9: =COUNTIF('서구 해빙기 점검결과'!#REF!,"공원") -> #REF! | H9: =COUNTIF('서구 해빙기 점검결과'!#REF!,"철도") -> #REF! | I9: =COUNTIF('서구 해빙기 점검결과'!#REF!,"기타") -> #REF!
A10: 대전 | B10: =SUM(C10:J10) -> #REF! | C10: =COUNTIF('서구 해빙기 점검결과'!#REF!,"도로") -> #REF! | D10: =COUNTIF('서구 해빙기 점검결과'!#REF!,"아파트") -> #REF! | E10: =COUNTIF('서구 해빙기 점검결과'!#REF!,"주택") -> #REF! | F10: =COUNTIF('서구 해빙기 점검결과'!#REF!,"공단") -> #REF! | G10: =COUNTIF('서구 해빙기 점검결과'!#REF!,"공원") -> #REF! | H10: =COUNTIF('서구 해빙기 점검결과'!#REF!,"철도") -> #REF! | I10: =COUNTIF('서구 해빙기 점검결과'!#REF!,"기타") -> #REF!
A11: 울산 | B11: =SUM(C11:J11) -> #REF! | C11: =COUNTIF('서구 해빙기 점검결과'!#REF!,"도로") -> #REF! | D11: =COUNTIF('서구 해빙기 점검결과'!#REF!,"아파트") -> #REF! | E11: =COUNTIF('서구 해빙기 점검결과'!#REF!,"주택") -> #REF! | F11: =COUNTIF('서구 해빙기 점검결과'!#REF!,"공단") -> #REF! | G11: =COUNTIF('서구 해빙기 점검결과'!#REF!,"공원") -> #REF! | H11: =COUNTIF('서구 해빙기 점검결과'!#REF!,"철도") -> #REF! | I11: =COUNTIF('서구 해빙기 점검결과'!#REF!,"기타") -> #REF!
A12: 세종 | B12: =SUM(C12:J12) -> #REF! | C12: =COUNTIF('서구 해빙기 점검결과'!#REF!,"도로") -> #REF! | D12: =COUNTIF('서구 해빙기 점검결과'!#REF!,"아파트") -> #REF! | E12: =COUNTIF('서구 해빙기 점검결과'!#REF!,"주택") -> #REF! | F12: =COUNTIF('서구 해빙기 점검결과'!#REF!,"공단") -> #REF! | G12: =COUNTIF('서구 해빙기 점검결과'!#REF!,"공원") -> #REF! | H12: =COUNTIF('서구 해빙기 점검결과'!#REF!,"철도") -> #REF! | I12: =COUNTIF('서구 해빙기 점검결과'!#REF!,"기타") -> #REF!
A13: 경기 | B13: =SUM(C13:J13) -> #REF! | C13: =COUNTIF('서구 해빙기 점검결과'!#REF!,"도로") -> #REF! | D13: =COUNTIF('서구 해빙기 점검결과'!#REF!,"아파트") -> #REF! | E13: =COUNTIF('서구 해빙기 점검결과'!#REF!,"주택") -> #REF! | F13: =COUNTIF('서구 해빙기 점검결과'!#REF!,"공단") -> #REF! | G13: =COUNTIF('서구 해빙기 점검결과'!#REF!,"공원") -> #REF! | H13: =COUNTIF('서구 해빙기 점검결과'!#REF!,"철도") -> #REF! | I13: =COUNTIF('서구 해빙기 점검결과'!#REF!,"기타") -> #REF!
A14: 강원 | B14: =SUM(C14:J14) -> #REF! | C14: =COUNTIF('서구 해빙기 점검결과'!#REF!,"도로") -> #REF! | D14: =COUNTIF('서구 해빙기 점검결과'!#REF!,"아파트") -> #REF! | E14: =COUNTIF('서구 해빙기 점검결과'!#REF!,"주택") -> #REF! | F14: =COUNTIF('서구 해빙기 점검결과'!#REF!,"공단") -> #REF! | G14: =COUNTIF('서구 해빙기 점검결과'!#REF!,"공원") -> #REF! | H14: =COUNTIF('서구 해빙기 점검결과'!#REF!,"철도") -> #REF! | I14: =COUNTIF('서구 해빙기 점검결과'!#REF!,"기타") -> #REF!
A15: 충북 | B15: =SUM(C15:J15) -> #REF! | C15: =COUNTIF('서구 해빙기 점검결과'!#REF!,"도로") -> #REF! | D15: =COUNTIF('서구 해빙기 점검결과'!#REF!,"아파트") -> #REF! | E15: =COUNTIF('서구 해빙기 점검결과'!#REF!,"주택") -> #REF! | F15: =COUNTIF('서구 해빙기 점검결과'!#REF!,"공단") -> #REF! | G15: =COUNTIF('서구 해빙기 점검결과'!#REF!,"공원") -> #REF! | H15: =COUNTIF('서구 해빙기 점검결과'!#REF!,"철도") -> #REF! | I15: =COUNTIF('서구 해빙기 점검결과'!#REF!,"기타") -> #REF!
A16: 충남 | B16: =SUM(C16:J16) -> #REF! | C16: =COUNTIF('서구 해빙기 점검결과'!#REF!,"도로") -> #REF! | D16: =COUNTIF('서구 해빙기 점검결과'!#REF!,"아파트") -> #REF! | E16: =COUNTIF('서구 해빙기 점검결과'!#REF!,"주택") -> #REF! | F16: =COUNTIF('서구 해빙기 점검결과'!#REF!,"공단") -> #REF! | G16: =COUNTIF('서구 해빙기 점검결과'!#REF!,"공원") -> #REF! | H16: =COUNTIF('서구 해빙기 점검결과'!#REF!,"철도") -> #REF! | I16: =COUNTIF('서구 해빙기 점검결과'!#REF!,"기타") -> #REF!
A17: 전북 | B17: =SUM(C17:J17) -> #REF! | C17: =COUNTIF('서구 해빙기 점검결과'!#REF!,"도로") -> #REF! | D17: =COUNTIF('서구 해빙기 점검결과'!#REF!,"아파트") -> #REF! | E17: =COUNTIF('서구 해빙기 점검결과'!#REF!,"주택") -> #REF! | F17: =COUNTIF('서구 해빙기 점검결과'!#REF!,"공단") -> #REF! | G17: =COUNTIF('서구 해빙기 점검결과'!#REF!,"공원") -> #REF! | H17: =COUNTIF('서구 해빙기 점검결과'!#REF!,"철도") -> #REF! | I17: =COUNTIF('서구 해빙기 점검결과'!#REF!,"기타") -> #REF! | XFC17: =COUNTIF('서구 해빙기 점검결과'!#REF!,"지방산림청") -> #REF!
A18: 전남 | B18: =SUM(C18:J18) -> #REF! | C18: =COUNTIF('서구 해빙기 점검결과'!#REF!,"도로") -> #REF! | D18: =COUNTIF('서구 해빙기 점검결과'!#REF!,"아파트") -> #REF! | E18: =COUNTIF('서구 해빙기 점검결과'!#REF!,"주택") -> #REF! | F18: =COUNTIF('서구 해빙기 점검결과'!#REF!,"공단") -> #REF! | G18: =COUNTIF('서구 해빙기 점검결과'!#REF!,"공원") -> #REF! | H18: =COUNTIF('서구 해빙기 점검결과'!#REF!,"철도") -> #REF! | I18: =COUNTIF('서구 해빙기 점검결과'!#REF!,"기타") -> #REF!
A19: 경북 | B19: =SUM(C19:J19) -> #REF! | C19: =COUNTIF('서구 해빙기 점검결과'!#REF!,"도로") -> #REF! | D19: =COUNTIF('서구 해빙기 점검결과'!#REF!,"아파트") -> #REF! | E19: =COUNTIF('서구 해빙기 점검결과'!#REF!,"주택") -> #REF! | F19: =COUNTIF('서구 해빙기 점검결과'!#REF!,"공단") -> #REF! | G19: =COUNTIF('서구 해빙기 점검결과'!#REF!,"공원") -> #REF! | H19: =COUNTIF('서구 해빙기 점검결과'!#REF!,"철도") -> #REF! | I19: =COUNTIF('서구 해빙기 점검결과'!#REF!,"기타") -> #REF!
A20: 경남 | B20: =SUM(C20:J20) -> #REF! | C20: =COUNTIF('서구 해빙기 점검결과'!#REF!,"도로") -> #REF! | D20: =COUNTIF('서구 해빙기 점검결과'!#REF!,"아파트") -> #REF! | E20: =COUNTIF('서구 해빙기 점검결과'!#REF!,"주택") -> #REF! | F20: =COUNTIF('서구 해빙기 점검결과'!#REF!,"공단") -> #REF! | G20: =COUNTIF('서구 해빙기 점검결과'!#REF!,"공원") -> #REF! | H20: =COUNTIF('서구 해빙기 점검결과'!#REF!,"철도") -> #REF! | I20: =COUNTIF('서구 해빙기 점검결과'!#REF!,"기타") -> #REF!
A21: 제주 | B21: =SUM(C21:J21) -> 0 | C21: =COUNTIF('서구 해빙기 점검결과'!$G$30:$G$93952,"도로") -> 0 | D21: =COUNTIF('서구 해빙기 점검결과'!$G$30:$G$93952,"아파트") -> 0 | E21: =COUNTIF('서구 해빙기 점검결과'!$G$30:$G$93952,"주택") -> 0 | F21: =COUNTIF('서구 해빙기 점검결과'!$G$30:$G$93952,"공단") -> 0 | G21: =COUNTIF('서구 해빙기 점검결과'!$G$30:$G$93952,"공원") -> 0 | H21: =COUNTIF('서구 해빙기 점검결과'!$G$30:$G$93952,"철도") -> 0 | I21: =COUNTIF('서구 해빙기 점검결과'!$G$30:$G$93952,"기타") -> 0

Sheet 급경사지 구조별 현황
A1: 급경사지 관리기관별 현황('18. 12월말 기준)
A3: 시도 | B3: 계 | C3: 토사 | D3: 옹벽 | E3: 석축 | F3: 암반 | G3: 복합
A4: 총계 | B4: =SUM(B5:B21) -> #REF! | C4: =SUM(C5:C21) -> #REF! | D4: =SUM(D5:D21) -> #REF! | E4: =SUM(E5:E21) -> #REF! | F4: =SUM(F5:F21) -> #REF! | G4: =SUM(G5:G21) -> #REF!
A5: 서울 | B5: =SUM(C5:G5) -> 0 | C5: =COUNTIF('서구 해빙기 점검결과'!$H$8:$H$29,"토사") -> 0 | D5: =COUNTIF('서구 해빙기 점검결과'!$H$8:$H$29,"옹벽") -> 0 | E5: =COUNTIF('서구 해빙기 점검결과'!$H$8:$H$29,"석축") -> 0 | F5: =COUNTIF('서구 해빙기 점검결과'!$H$8:$H$29,"암반") -> 0 | G5: =COUNTIF('서구 해빙기 점검결과'!$H$8:$H$29,"복합") -> 0
A6: 부산 | B6: =SUM(C6:G6) -> #REF! | C6: =COUNTIF('서구 해빙기 점검결과'!#REF!,"토사") -> #REF! | D6: =COUNTIF('서구 해빙기 점검결과'!#REF!,"옹벽") -> #REF! | E6: =COUNTIF('서구 해빙기 점검결과'!#REF!,"석축") -> #REF! | F6: =COUNTIF('서구 해빙기 점검결과'!#REF!,"암반") -> #REF! | G6: =COUNTIF('서구 해빙기 점검결과'!#REF!,"복합") -> #REF!
A7: 대구 | B7: =SUM(C7:G7) -> #REF! | C7: =COUNTIF('서구 해빙기 점검결과'!#REF!,"토사") -> #REF! | D7: =COUNTIF('서구 해빙기 점검결과'!#REF!,"옹벽") -> #REF! | E7: =COUNTIF('서구 해빙기 점검결과'!#REF!,"석축") -> #REF! | F7: =COUNTIF('서구 해빙기 점검결과'!#REF!,"암반") -> #REF! | G7: =COUNTIF('서구 해빙기 점검결과'!#REF!,"복합") -> #REF!
A8: 인천 | B8: =SUM(C8:G8) -> #REF! | C8: =COUNTIF('서구 해빙기 점검결과'!#REF!,"토사") -> #REF! | D8: =COUNTIF('서구 해빙기 점검결과'!#REF!,"옹벽") -> #REF! | E8: =COUNTIF('서구 해빙기 점검결과'!#REF!,"석축") -> #REF! | F8: =COUNTIF('서구 해빙기 점검결과'!#REF!,"암반") -> #REF! | G8: =COUNTIF('서구 해빙기 점검결과'!#REF!,"복합") -> #REF!
A9: 광주 | B9: =SUM(C9:G9) -> #REF! | C9: =COUNTIF('서구 해빙기 점검결과'!#REF!,"토사") -> #REF! | D9: =COUNTIF('서구 해빙기 점검결과'!#REF!,"옹벽") -> #REF! | E9: =COUNTIF('서구 해빙기 점검결과'!#REF!,"석축") -> #REF! | F9: =COUNTIF('서구 해빙기 점검결과'!#REF!,"암반") -> #REF! | G9: =COUNTIF('서구 해빙기 점검결과'!#REF!,"복합") -> #REF!
A10: 대전 | B10: =SUM(C10:G10) -> #REF! | C10: =COUNTIF('서구 해빙기 점검결과'!#REF!,"토사") -> #REF! | D10: =COUNTIF('서구 해빙기 점검결과'!#REF!,"옹벽") -> #REF! | E10: =COUNTIF('서구 해빙기 점검결과'!#REF!,"석축") -> #REF! | F10: =COUNTIF('서구 해빙기 점검결과'!#REF!,"암반") -> #REF! | G10: =COUNTIF('서구 해빙기 점검결과'!#REF!,"복합") -> #REF!
A11: 울산 | B11: =SUM(C11:G11) -> #REF! | C11: =COUNTIF('서구 해빙기 점검결과'!#REF!,"토사") -> #REF! | D11: =COUNTIF('서구 해빙기 점검결과'!#REF!,"옹벽") -> #REF! | E11: =COUNTIF('서구 해빙기 점검결과'!#REF!,"석축") -> #REF! | F11: =COUNTIF('서구 해빙기 점검결과'!#REF!,"암반") -> #REF! | G11: =COUNTIF('서구 해빙기 점검결과'!#REF!,"복합") -> #REF!
A12: 세종 | B12: =SUM(C12:G12) -> #REF! | C12: =COUNTIF('서구 해빙기 점검결과'!#REF!,"토사") -> #REF! | D12: =COUNTIF('서구 해빙기 점검결과'!#REF!,"옹벽") -> #REF! | E12: =COUNTIF('서구 해빙기 점검결과'!#REF!,"석축") -> #REF! | F12: =COUNTIF('서구 해빙기 점검결과'!#REF!,"암반") -> #REF! | G12: =COUNTIF('서구 해빙기 점검결과'!#REF!,"복합") -> #REF!
A13: 경기 | B13: =SUM(C13:G13) -> #REF! | C13: =COUNTIF('서구 해빙기 점검결과'!#REF!,"토사") -> #REF! | D13: =COUNTIF('서구 해빙기 점검결과'!#REF!,"옹벽") -> #REF! | E13: =COUNTIF('서구 해빙기 점검결과'!#REF!,"석축") -> #REF! | F13: =COUNTIF('서구 해빙기 점검결과'!#REF!,"암반") -> #REF! | G13: =COUNTIF('서구 해빙기 점검결과'!#REF!,"복합") -> #REF!
A14: 강원 | B14: =SUM(C14:G14) -> #REF! | C14: =COUNTIF('서구 해빙기 점검결과'!#REF!,"토사") -> #REF! | D14: =COUNTIF('서구 해빙기 점검결과'!#REF!,"옹벽") -> #REF! | E14: =COUNTIF('서구 해빙기 점검결과'!#REF!,"석축") -> #REF! | F14: =COUNTIF('서구 해빙기 점검결과'!#REF!,"암반") -> #REF! | G14: =COUNTIF('서구 해빙기 점검결과'!#REF!,"복합") -> #REF!
A15: 충북 | B15: =SUM(C15:G15) -> #REF! | C15: =COUNTIF('서구 해빙기 점검결과'!#REF!,"토사") -> #REF! | D15: =COUNTIF('서구 해빙기 점검결과'!#REF!,"옹벽") -> #REF! | E15: =COUNTIF('서구 해빙기 점검결과'!#REF!,"석축") -> #REF! | F15: =COUNTIF('서구 해빙기 점검결과'!#REF!,"암반") -> #REF! | G15: =COUNTIF('서구 해빙기 점검결과'!#REF!,"복합") -> #REF!
A16: 충남 | B16: =SUM(C16:G16) -> #REF! | C16: =COUNTIF('서구 해빙기 점검결과'!#REF!,"토사") -> #REF! | D16: =COUNTIF('서구 해빙기 점검결과'!#REF!,"옹벽") -> #REF! | E16: =COUNTIF('서구 해빙기 점검결과'!#REF!,"석축") -> #REF! | F16: =COUNTIF('서구 해빙기 점검결과'!#REF!,"암반") -> #REF! | G16: =COUNTIF('서구 해빙기 점검결과'!#REF!,"복합") -> #REF!
A17: 전북 | B17: =SUM(C17:G17) -> #REF! | C17: =COUNTIF('서구 해빙기 점검결과'!#REF!,"토사") -> #REF! | D17: =COUNTIF('서구 해빙기 점검결과'!#REF!,"옹벽") -> #REF! | E17: =COUNTIF('서구 해빙기 점검결과'!#REF!,"석축") -> #REF! | F17: =COUNTIF('서구 해빙기 점검결과'!#REF!,"암반") -> #REF! | G17: =COUNTIF('서구 해빙기 점검결과'!#REF!,"복합") -> #REF! | XEZ17: =COUNTIF('서구 해빙기 점검결과'!#REF!,"지방산림청") -> #REF!
A18: 전남 | B18: =SUM(C18:G18) -> #REF! | C18: =COUNTIF('서구 해빙기 점검결과'!#REF!,"토사") -> #REF! | D18: =COUNTIF('서구 해빙기 점검결과'!#REF!,"옹벽") -> #REF! | E18: =COUNTIF('서구 해빙기 점검결과'!#REF!,"석축") -> #REF! | F18: =COUNTIF('서구 해빙기 점검결과'!#REF!,"암반") -> #REF! | G18: =COUNTIF('서구 해빙기 점검결과'!#REF!,"복합") -> #REF!
A19: 경북 | B19: =SUM(C19:G19) -> #REF! | C19: =COUNTIF('서구 해빙기 점검결과'!#REF!,"토사") -> #REF! | D19: =COUNTIF('서구 해빙기 점검결과'!#REF!,"옹벽") -> #REF! | E19: =COUNTIF('서구 해빙기 점검결과'!#REF!,"석축") -> #REF! | F19: =COUNTIF('서구 해빙기 점검결과'!#REF!,"암반") -> #REF! | G19: =COUNTIF('서구 해빙기 점검결과'!#REF!,"복합") -> #REF!
A20: 경남 | B20: =SUM(C20:G20) -> #REF! | C20: =COUNTIF('서구 해빙기 점검결과'!#REF!,"토사") -> #REF! | D20: =COUNTIF('서구 해빙기 점검결과'!#REF!,"옹벽") -> #REF! | E20: =COUNTIF('서구 해빙기 점검결과'!#REF!,"석축") -> #REF! | F20: =COUNTIF('서구 해빙기 점검결과'!#REF!,"암반") -> #REF! | G20: =COUNTIF('서구 해빙기 점검결과'!#REF!,"복합") -> #REF!
A21: 제주 | B21: =SUM(C21:G21) -> 0 | C21: =COUNTIF('서구 해빙기 점검결과'!$H$30:$H$93952,"토사") -> 0 | D21: =COUNTIF('서구 해빙기 점검결과'!$H$30:$H$93952,"옹벽") -> 0 | E21: =COUNTIF('서구 해빙기 점검결과'!$H$30:$H$93952,"석축") -> 0 | F21: =COUNTIF('서구 해빙기 점검결과'!$H$30:$H$93952,"암반") -> 0 | G21: =COUNTIF('서구 해빙기 점검결과'!$H$30:$H$93952,"복합") -> 0

Sheet 급경사지 유형별 현황
A1: 급경사지 관리기관별 현황('18. 12월말 기준)
A3: 시도 | B3: 합계 | E3: 자연비탈면 | H3: 인공비탈면 | K3: 비고
B4: 소계 | C4: 공공 | D4: 민간 | E4: 소계 | F4: 공공 | G4: 민간 | H4: 소계 | I4: 공공 | J4: 민간
A5: 계 | B5: =SUM(B6:B22) -> 15075 | C5: =SUM(C6:C22) -> 12693 | D5: =SUM(D6:D22) -> 2382 | E5: =SUM(E6:E22) -> 2660 | F5: =SUM(F6:F22) -> 2299 | G5: =SUM(G6:G22) -> 361 | H5: =SUM(H6:H22) -> 12415 | I5: =SUM(I6:I22) -> 10394 | J5: =SUM(J6:J22) -> 2021
A6: 서울 | B6: =C6+D6 -> 889 | C6: =F6+I6 -> 489 | D6: =G6+J6 -> 400 | E6: =F6+G6 -> 57 | F6: 33 | G6: 24 | H6: =I6+J6 -> 832 | I6: 456 | J6: 376
A7: 부산 | B7: =C7+D7 -> 704 | C7: =F7+I7 -> 385 | D7: =G7+J7 -> 319 | E7: =F7+G7 -> 119 | F7: 61 | G7: 58 | H7: =I7+J7 -> 585 | I7: 324 | J7: 261
A8: 대구 | B8: =C8+D8 -> 186 | C8: =F8+I8 -> 131 | D8: =G8+J8 -> 55 | E8: =F8+G8 -> 21 | F8: 19 | G8: 2 | H8: =I8+J8 -> 165 | I8: 112 | J8: 53
A9: 인천 | B9: =C9+D9 -> 247 | C9: =F9+I9 -> 114 | D9: =G9+J9 -> 133 | E9: =F9+G9 -> 34 | F9: 18 | G9: 16 | H9: =I9+J9 -> 213 | I9: 96 | J9: 117
A10: 광주 | B10: =C10+D10 -> 157 | C10: =F10+I10 -> 93 | D10: =G10+J10 -> 64 | E10: =F10+G10 -> 2 | F10: 2 | H10: =I10+J10 -> 155 | I10: 91 | J10: 64
A11: 대전 | B11: =C11+D11 -> 198 | C11: =F11+I11 -> 165 | D11: =G11+J11 -> 33 | E11: =F11+G11 -> 4 | G11: 4 | H11: =I11+J11 -> 194 | I11: 165 | J11: 29
A12: 울산 | B12: =C12+D12 -> 466 | C12: =F12+I12 -> 420 | D12: =G12+J12 -> 46 | E12: =F12+G12 -> 21 | F12: 19 | G12: 2 | H12: =I12+J12 -> 445 | I12: 401 | J12: 44
A13: 세종 | B13: =C13+D13 -> 83 | C13: =F13+I13 -> 75 | D13: =G13+J13 -> 8 | E13: =F13+G13 -> 5 | F13: 3 | G13: 2 | H13: =I13+J13 -> 78 | I13: 72 | J13: 6
A14: 경기 | B14: =C14+D14 -> 1097 | C14: =F14+I14 -> 758 | D14: =G14+J14 -> 339 | E14: =F14+G14 -> 80 | F14: 54 | G14: 26 | H14: =I14+J14 -> 1017 | I14: 704 | J14: 313
A15: 강원 | B15: =C15+D15 -> 2342 | C15: =F15+I15 -> 2238 | D15: =G15+J15 -> 104 | E15: =F15+G15 -> 523 | F15: 479 | G15: 44 | H15: =I15+J15 -> 1819 | I15: 1759 | J15: 60
A16: 충북 | B16: =C16+D16 -> 1410 | C16: =F16+I16 -> 1145 | D16: =G16+J16 -> 265 | E16: =F16+G16 -> 185 | F16: 130 | G16: 55 | H16: =I16+J16 -> 1225 | I16: 1015 | J16: 210
A17: 충남 | B17: =C17+D17 -> 333 | C17: =F17+I17 -> 262 | D17: =G17+J17 -> 71 | E17: =F17+G17 -> 76 | F17: 50 | G17: 26 | H17: =I17+J17 -> 257 | I17: 212 | J17: 45
A18: 전북 | B18: =C18+D18 -> 1149 | C18: =F18+I18 -> 1044 | D18: =G18+J18 -> 105 | E18: =F18+G18 -> 174 | F18: 162 | G18: 12 | H18: =I18+J18 -> 975 | I18: 882 | J18: 93 | XFC18: =COUNTIF('서구 해빙기 점검결과'!#REF!,"지방산림청") -> #REF!
A19: 전남 | B19: =C19+D19 -> 1296 | C19: =F19+I19 -> 1129 | D19: =G19+J19 -> 167 | E19: =F19+G19 -> 339 | F19: 271 | G19: 68 | H19: =I19+J19 -> 957 | I19: 858 | J19: 99
A20: 경북 | B20: =C20+D20 -> 1542 | C20: =F20+I20 -> 1507 | D20: =G20+J20 -> 35 | E20: =F20+G20 -> 443 | F20: 439 | G20: 4 | H20: =I20+J20 -> 1099 | I20: 1068 | J20: 31
A21: 경남 | B21: =C21+D21 -> 2939 | C21: =F21+I21 -> 2703 | D21: =G21+J21 -> 236 | E21: =F21+G21 -> 562 | F21: 544 | G21: 18 | H21: =I21+J21 -> 2377 | I21: 2159 | J21: 218
A22: 제주 | B22: =C22+D22 -> 37 | C22: =F22+I22 -> 35 | D22: =G22+J22 -> 2 | E22: =F22+G22 -> 15 | F22: 15 | H22: =I22+J22 -> 22 | I22: 20 | J22: 2

Sheet 붕괴위험지역 정비사업 현황
A1: 급경사지 관리기관별 현황('18. 12월말 기준)
A3: 시도 | B3: 급경사지 현황 | C3: 급경사지 붕괴위험지역 지정(고시) 현황
C4: 계 (1+2) | D4: 공공시설 | H4: 민간시설
D5: 소계 | E5: 정비완료 | F5: 정비중 | G5: 정비예정 | H5: 소계 | I5: 정비완료 | J5: 정비중 | K5: 정비예정
A6: 계 | B6: 15075 | C6: =SUM(C7:C23) -> 0 | D6: =SUM(D7:D23) -> 0 | E6: =SUM(E7:E23) -> 0 | F6: =SUM(F7:F23) -> 0 | G6: =SUM(G7:G23) -> 0 | H6: =SUM(H7:H23) -> 0 | I6: =SUM(I7:I23) -> 0 | J6: =SUM(J7:J23) -> 0 | K6: =SUM(K7:K23) -> 0
A7: 서울 | B7: 889 | C7: =D7+H7 -> 0 | D7: =E7+F7+G7 -> 0 | H7: =I7+J7+K7 -> 0
A8: 부산 | B8: 704 | C8: =D8+H8 -> 0 | D8: =E8+F8+G8 -> 0 | H8: =I8+J8+K8 -> 0
A9: 대구 | B9: 186 | C9: =D9+H9 -> 0 | D9: =E9+F9+G9 -> 0 | H9: =I9+J9+K9 -> 0
A10: 인천 | B10: 247 | C10: =D10+H10 -> 0 | D10: =E10+F10+G10 -> 0 | H10: =I10+J10+K10 -> 0
A11: 광주 | B11: 157 | C11: =D11+H11 -> 0 | D11: =E11+F11+G11 -> 0 | H11: =I11+J11+K11 -> 0
A12: 대전 | B12: 198 | C12: =D12+H12 -> 0 | D12: =E12+F12+G12 -> 0 | H12: =I12+J12+K12 -> 0
A13: 울산 | B13: 466 | C13: =D13+H13 -> 0 | D13: =E13+F13+G13 -> 0 | H13: =I13+J13+K13 -> 0
A14: 세종 | B14: 83 | C14: =D14+H14 -> 0 | D14: =E14+F14+G14 -> 0 | H14: =I14+J14+K14 -> 0
A15: 경기 | B15: 1097 | C15: =D15+H15 -> 0 | D15: =E15+F15+G15 -> 0 | H15: =I15+J15+K15 -> 0
A16: 강원 | B16: 2342 | C16: =D16+H16 -> 0 | D16: =E16+F16+G16 -> 0 | H16: =I16+J16+K16 -> 0
A17: 충북 | B17: 1410 | C17: =D17+H17 -> 0 | D17: =E17+F17+G17 -> 0 | H17: =I17+J17+K17 -> 0
A18: 충남 | B18: 333 | C18: =D18+H18 -> 0 | D18: =E18+F18+G18 -> 0 | H18: =I18+J18+K18 -> 0
A19: 전북 | B19: 1149 | C19: =D19+H19 -> 0 | D19: =E19+F19+G19 -> 0 | H19: =I19+J19+K19 -> 0 | XFC19: =COUNTIF('서구 해빙기 점검결과'!#REF!,"지방산림청") -> #REF!
A20: 전남 | B20: 1296 | C20: =D20+H20 -> 0 | D20: =E20+F20+G20 -> 0 | H20: =I20+J20+K20 -> 0
A21: 경북 | B21: 1542 | C21: =D21+H21 -> 0 | D21: =E21+F21+G21 -> 0 | H21: =I21+J21+K21 -> 0
A22: 경남 | B22: 2939 | C22: =D22+H22 -> 0 | D22: =E22+F22+G22 -> 0 | H22: =I22+J22+K22 -> 0
A23: 제주 | B23: 37 | C23: =D23+H23 -> 0 | D23: =E23+F23+G23 -> 0 | H23: =I23+J23+K23 -> 0
C36: 185 | I36: 93 | J36: 166206 | P36: 79
J37: 83103

Sheet 붕괴위험지역 정비사업 대상
G1: =G7+G9+G11+G12+G14+G16+G18+G20+G22+G24+G26+G28+G30+G32+G34+G36+G38 -> 141
A2: 시도별 | B2: 급경사지 현황 | C2: 정비대상 | E2: 2018년까지 | G2: 2019년 추진 | I2: 2020년 이후
C3: 완료 | D3: 627 | E3: 완료 | F3: =E5 -> 627 | G3: 완료예정 | H3: =G6 -> 43 | I3: 잔량 | J3: =I5 -> 868
C4: 사업량 (완료) | D4: 사업비 (국비) | E4: 사업량 | F4: 사업비 (국비) | G4: 사업량 (완료예정) | H4: 사업비 (국비) | I4: 사업량 * 계속사업포함 | J4: 사업비 (국비) | K4: =M4+O4 -> 0
A5: 계 | B5: 15075 | C5: =C7+C9+C12+C14+C16+C18+C20+C22+C24+C26+C28+C30+C32+C34+C36+C38 -> 1565 | D5: =D7+D9+D11+D12+D14+D16+D18+D20+D22+D24+D26+D28+D30+D32+D34+D36+D38 -> 2240781 | E5: =E7+E9+E12+E14+E16+E18+E20+E22+E24+E26+E28+E30+E32+E34+E36+E38 -> 627 | F5: =F7+F9+F11+F12+F14+F16+F18+F20+F22+F24+F28+F30+F32+F34+F36+F38+F26 -> 875561 | G5: =G7+G9+G11+G12+G14+G16+G18+G20+G22+G24+G28+G30+G32+G34+G36+G38+G26 -> 141 | H5: =H7+H9+H11+H12+H14+H16+H18+H20+H22+H24+H28+H30+H32+H34+H36+H38+H26 -> 169332 | I5: =I7+I9+I11+I12+I14+I16+I18+I20+I22+I24+I28+I30+I32+I34+I36+I38+I26 -> 868 | J5: =J7+J9+J11+J12+J14+J16+J18+J20+J22+J24+J28+J30+J32+J34+J36+J38+J26 -> 1195888
C6: =C8+C10+C13+C15+C17+C19+C21+C23+C25+C27+C29+C31+C33+C35+C37+C39 -> 627 | D6: =ROUNDUP(D8+D10+D13+D15+D17+D19+D21+D23+D25+D27+D29+D31+D33+D35+D37+D39,0) -> 1073538 | F6: =F8+F10+F13+F15+F17+F19+F21+F23+F25+F27+F29+F31+F33+F35+F37+F39 -> 394284 | G6: 43 | H6: =H8+H10+H13+H15+H17+H19+H21+H23+H25+H27+H29+H31+H33+H35+H37+H39 -> 84666 | J6: =J8+J10+J13+J15+J17+J19+J21+J23+J25+J27+J29+J31+J33+J35+J37+J39 -> 594588
A7: 서울 | B7: 889 | C7: 7 | D7: =F7+H7+J7 -> 6907 | E7: 6 | F7: 6907 | G7: 0 | H7: 0 | I7: 1 | J7: 0
C8: 6 | D8: =F8+H8+J8 -> 870 | F8: 870
A9: 부산 | B9: 704 | C9: 10 | D9: =F9+H9+J9 -> 25429 | E9: 10 | F9: 25429 | G9: 0 | H9: 0 | J9: 0
C10: 10 | D10: =F10+H10+J10 -> 12698 | F10: 12698 | G10: 0 | H10: 0 | J10: 0
A11: 대구 | B11: 186 | C11: 없음 | D11: =F11+H11+J11 -> 0 | E11: 없음
A12: 인천 | B12: 247 | C12: 3 | D12: =F12+H12+J12 -> 1414 | E12: 3 | F12: 1414 | G12: 0 | H12: 0 | J12: 0
C13: 3 | D13: =F13+H13+J13 -> 0
A14: 광주 | B14: 157 | C14: 11 | D14: =F14+H14+J14 -> 6610 | E14: 8 | F14: 5550 | I14: 3 | J14: 1060
C15: 8 | D15: =F15+H15+J15 -> 3105 | F15: 2775 | J15: 330
A16: 대전 | B16: 198 | C16: 1 | D16: =F16+H16+J16 -> 300 | E16: 1 | F16: 300
C17: 1 | D17: =F17+H17+J17 -> 0
A18: 울산 | B18: 466 | C18: 2 | D18: =F18+H18+J18 -> 4000 | E18: 2 | F18: 4000
C19: 2 | D19: =F19+H19+J19 -> 2000 | F19: 2000
A20: 세종 | B20: 83 | C20: 1 | D20: =F20+H20+J20 -> 4000 | F20: 0 | G20: 1 | H20: 1000 | I20: 1 | J20: 3000
D21: =F21+H21+J21 -> 2000 | H21: 500 | J21: 1500
A22: 경기 | B22: 1097 | C22: 89 | D22: =F22+H22+J22 -> 43474 | E22: 70 | F22: 29373 | G22: 2 | H22: 2518 | I22: 18 | J22: 11583
C23: 70 | D23: =F23+H23+J23 -> 19339.5 | F23: 13169 | G23: 1 | H23: 1259 | J23: 4911.5
A24: 강원 | B24: 2342 | C24: 363 | D24: =F24+H24+J24 -> 623923 | E24: 133 | F24: 246722 | G24: 33 | H24: 39822 | I24: 211 | J24: 337379
C25: 133 | D25: =F25+H25+J25 -> 309246.5 | F25: 120671 | G25: 19 | H25: 19911 | J25: 168664.5
A26: 충북 | B26: 1410 | C26: 188 | D26: =F26+H26+J26 -> 184016 | E26: 74 | F26: 63756 | G26: 12 | H26: 10680 | I26: 109 | J26: 109580
C27: 74 | D27: =F27+H27+J27 -> 86347 | F27: 26517 | G27: 5 | H27: 5340 | J27: 54490
A28: 충남 | B28: 333 | C28: 87 | D28: =F28+H28+J28 -> 78167 | E28: 32 | F28: 32369 | G28: 13 | H28: 9628 | I28: 48 | J28: 36170
C29: 32 | D29: =F29+H29+J29 -> 37573 | F29: 14949 | G29: 7 | H29: 4814 | J29: 17810
A30: 전북 | B30: 1149 | C30: 107 | D30: =F30+H30+J30 -> 192512 | E30: 47 | F30: 76254 | G30: 17 | H30: 18960 | I30: 55 | J30: 97298
C31: 47 | D31: =F31+H31+J31 -> 90901 | F31: 33692 | G31: 5 | H31: 9480 | J31: 47729
A32: 전남 | B32: 1296 | C32: 337 | D32: =F32+H32+J32 -> 456081 | E32: 90 | F32: 125055 | G32: 27 | H32: 32316 | I32: 230 | J32: 298710
C33: 90 | D33: =F33+H33+J33 -> 219814 | F33: 54507 | G33: 17 | H33: 16158 | J33: 149149
A34: 경북 | B34: 1542 | C34: 160 | D34: =F34+H34+J34 -> 239773 | E34: 56 | F34: 85241 | G34: 13 | H34: 22530 | I34: 96 | J34: 132002 | XER34: =COUNTIF('서구 해빙기 점검결과'!#REF!,"지방산림청") -> #REF!
C35: 56 | D35: =F35+H35+J35 -> 108522 | F35: 31556 | G35: 8 | H35: 11265 | J35: 65701
A36: 경남 | B36: 2939 | C36: 185 | D36: =F36+H36+J36 -> 331825 | E36: 85 | F36: 139017 | G36: 20 | H36: 26102 | I36: 94 | J36: 166706 | P36: 79
C37: 85 | D37: =F37+H37+J37 -> 162447 | F37: 66293 | G37: 6 | H37: 13051 | J37: 83103
A38: 제주 | B38: 37 | C38: 14 | D38: =F38+H38+J38 -> 42350 | E38: 10 | F38: 34174 | G38: 3 | H38: 5776 | I38: 2 | J38: 2400
C39: 10 | D39: =F39+H39+J39 -> 18675 | F39: 14587 | G39: 2 | H39: 2888 | J39: 1200

Sheet 서구 해빙기 점검결과
B2: 2025년 해빙기 안전점검 결과
B4: ① 해빙기 급경사지 안전점검 대상 | X4: ③ 후속 조치 | AH4: 비고
B5: 급경사지명 | C5: 위 치 | G5: 용도 | H5: 분류 | J5: 제 원 | M5: 관리기관 | P5: 점검일자 (MM-DD) | Q5: 점검결과 | X5: 조치 현황(건) | AB5: 조치 현황 중 "미완료" 건에 대한 진행사항 또는 조치계획
C6: 시·도 | D6: 시.군.구 | E6: 읍·면·동 | F6: 지번 | G6: 종류 | H6: 유형 | I6: 구조 | J6: 길이(m) | K6: 높이(m) | L6: 경사(°) | M6: 관리기관 | N6: 소유자·점유자, 관계인 | O6: 공공/민간 | Q6: 지적 건수(건) (A+B+C+D) | V6: 지적내용 (전체 기재) | W6: 조치 유형 (현장조치, 보수보강, 정밀안전진단, 긴급안전조치) | X6: 계 (A+B+C) | Y6: 완료 (A) | Z6: 미완료 (B) | AA6: 관계인 안전점검 결과 통보 (C) | AB6: 계(건, A+B) | AC6: 조치 중(건, A) | AE6: 조치 예정(건, B)
R7: 비탈면(자연, 인공) 상태 (A) | S7: 비탈면 시설물 상태 (B) | T7: 옹벽 및 축대 상태 (C) | U7: 공사장 안전실태 (D) | AD7: 완료 예정일 (~M월) | AF7: 조치계획 | AG7: 완료 예정시기 ('00.00월)
B8: 원흥아파트 | C8: 인천광역시 | D8: 서구 | E8: 왕길동 | F8: 273-5 | G8: 아파트 | H8: 인공 | I8: 옹벽 | J8: 20 | K8: 5.4 | L8: 85 | M8: 지자체 | N8: 관계인 | O8: 민간 | P8: 02-24 | Q8: =SUM(R8:T8) -> 1 | R8: - | S8: 1 | T8: - | U8: - | V8: 배수시설불량 | W8: 현장조치 | X8: =SUM(Y8:AA8) -> 1 | Y8: 1 | Z8: - | AA8: - | AB8: - | AC8: - | AD8: - | AE8: - | AF8: - | AG8: -
B9: 마전영남탑스빌 | C9: 인천광역시 | D9: 서구 | E9: 마전동 | F9: 999-5 | G9: 아파트 | H9: 인공 | I9: 옹벽 | J9: 280 | K9: 9 | L9: 90 | M9: 지자체 | N9: 관계인 | O9: 민간 | P9: 02-24 | Q9: =SUM(R9:T9) -> 1 | R9: - | S9: 1 | T9: - | U9: - | V9: 배수시설불량 | W9: 현장조치 | X9: 1 | Y9: 1 | Z9: - | AA9: - | AB9: - | AC9: - | AD9: - | AE9: - | AF9: - | AG9: -
B10: 우림필유아파트 107~109동 뒤 | C10: 인천광역시 | D10: 서구 | E10: 마전동 | F10: 999-8 | G10: 아파트 | H10: 인공 | I10: 옹벽 | J10: 164 | K10: 8 | L10: 90 | M10: 지자체 | N10: 관계인 | O10: 민간 | P10: 02-24 | Q10: =SUM(R10:T10) -> 0 | R10: - | S10: - | T10: - | U10: - | V10: - | W10: - | X10: =SUM(Y10:AA10) -> 0 | Y10: - | Z10: - | AA10: - | AB10: - | AC10: - | AD10: - | AE10: - | AF10: - | AG10: -
B11: 가좌현대아파트 | C11: 인천광역시 | D11: 서구 | E11: 가좌2동 | F11: 81-22 | G11: 아파트 | H11: 인공 | I11: 복합 | J11: 30 | K11: 7 | L11: 85 | M11: 지자체 | N11: 관계인 | O11: 민간 | P11: 02-25 | Q11: =SUM(R11:T11) -> 0 | R11: - | S11: - | T11: - | U11: - | V11: - | W11: - | X11: =SUM(Y11:AA11) -> 0 | Y11: - | Z11: - | AA11: - | AB11: - | AC11: - | AD11: - | AE11: - | AF11: - | AG11: -
B12: 범양파크아파트 | C12: 인천광역시 | D12: 서구 | E12: 가좌2동 | F12: 81-59 | G12: 아파트 | H12: 인공 | I12: 옹벽 | J12: 60 | K12: 6.3 | L12: 85 | M12: 지자체 | N12: 관계인 | O12: 민간 | P12: 02-25 | Q12: =SUM(R12:T12) -> 1 | R12: - | S12: 1 | T12: - | U12: - | V12: 전도가능 수목존재 | W12: 현장조치 | X12: 1 | Y12: 1 | Z12: - | AA12: - | AB12: - | AC12: - | AD12: - | AE12: - | AF12: - | AG12: -
B13: 신현효성아파트 | C13: 인천광역시 | D13: 서구 | E13: 신현동 | F13: 151-3 | G13: 아파트 | H13: 인공 | I13: 옹벽 | J13: 20 | K13: 6 | L13: 85 | M13: 지자체 | N13: 관계인 | O13: 민간 | P13: 02-25 | Q13: =SUM(R13:T13) -> 1 | R13: - | S13: 1 | T13: - | U13: - | V13: 배수시설불량 | W13: 현장조치 | X13: 1 | Y13: - | Z13: 1 | AA13: - | AB13: - | AC13: - | AD13: - | AE13: - | AF13: - | AG13: -
B14: 동진아파트 | C14: 인천광역시 | D14: 서구 | E14: 석남3동 | F14: 490 | G14: 아파트 | H14: 인공 | I14: 옹벽 | J14: 185 | K14: 6 | L14: 90 | M14: 지자체 | N14: 관계인 | O14: 민간 | P14: 02-25 | Q14: =SUM(R14:T14) -> 0 | R14: - | S14: - | T14: - | U14: - | V14: - | W14: - | X14: =SUM(Y14:AA14) -> 0 | Y14: - | Z14: - | AA14: - | AB14: - | AC14: - | AD14: - | AE14: - | AF14: - | AG14: -
B15: 뉴서울아파트 | C15: 인천광역시 | D15: 서구 | E15: 가정2동 | F15: 284-401 | G15: 아파트 | H15: 인공 | I15: 옹벽 | J15: 20 | K15: 6 | L15: 85 | M15: 지자체 | N15: 관계인 | O15: 민간 | P15: 02-26 | Q15: 1 | R15: - | S15: 1 | T15: - | U15: - | V15: 낙석방지망 파손 | W15: 보수·보강 | X15: 1 | Y15: 1 | Z15: - | AA15: - | AB15: - | AC15: - | AD15: - | AE15: - | AF15: - | AG15: -
B16: 하나1~2차아파트 | C16: 인천광역시 | D16: 서구 | E16: 가정2동 | F16: 341-14 | G16: 아파트 | H16: 인공 | I16: 옹벽 | J16: 97 | K16: 9 | L16: 85 | M16: 지자체 | N16: 관계인 | O16: 민간 | P16: 02-26 | Q16: =SUM(R16:T16) -> 0 | R16: - | S16: - | T16: - | U16: - | V16: - | W16: - | X16: =SUM(Y16:AA16) -> 0 | Y16: - | Z16: - | AA16: - | AB16: - | AC16: - | AD16: - | AE16: - | AF16: - | AG16: -
B17: 하나2차아파트 | C17: 인천광역시 | D17: 서구 | E17: 가정2동 | F17: 산21-3 | G17: 아파트 | H17: 인공 | I17: 복합 | J17: 190 | K17: 45 | L17: 65 | M17: 지자체 | N17: 관계인 | O17: 민간 | P17: 02-26 | Q17: =SUM(R17:T17) -> 0 | R17: - | S17: - | T17: - | U17: - | V17: - | W17: - | X17: =SUM(Y17:AA17) -> 0 | Y17: - | Z17: - | AA17: - | AB17: - | AC17: - | AD17: - | AE17: - | AF17: - | AG17: -
B18: 한성아파트 배후 비탈면 | C18: 인천광역시 | D18: 서구 | E18: 가정2동 | F18: 산17-1 | G18: 아파트 | H18: 인공 | I18: 옹벽 | J18: 120 | K18: 7 | L18: 90 | M18: 지자체 | N18: 관계인 | O18: 민간 | P18: 02-26 | Q18: =SUM(R18:T18) -> 0 | R18: - | S18: - | T18: - | U18: - | V18: - | W18: - | X18: =SUM(Y18:AA18) -> 0 | Y18: - | Z18: - | AA18: - | AB18: - | AC18: - | AD18: - | AE18: - | AF18: - | AG18: -
B19: 가정19지구 급경사지 | C19: 인천광역시 | D19: 서구 | E19: 가정동 | F19: 545 | G19: 아파트 | H19: 인공 | I19: 암반 | J19: 76 | K19: 25 | L19: 50 | M19: 지자체 | N19: 관계인 | O19: 민간 | P19: 02-27 | Q19: =SUM(R19:T19) -> 0 | R19: - | S19: - | T19: - | U19: - | V19: - | W19: - | X19: =SUM(Y19:AA19) -> 0 | Y19: - | Z19: - | AA19: - | AB19: - | AC19: - | AD19: - | AE19: - | AF19: - | AG19: -
B20: 가정20지구 급경사지 | C20: 인천광역시 | D20: 서구 | E20: 가정동 | F20: 341-3 | G20: 아파트 | H20: 인공 | I20: 암반 | J20: 43 | K20: 12 | L20: 90 | M20: 지자체 | N20: 관계인 | O20: 민간 | P20: 02-27 | Q20: =SUM(R20:T20) -> 0 | R20: - | S20: - | T20: - | U20: - | V20: - | W20: - | X20: =SUM(Y20:AA20) -> 0 | Y20: - | Z20: - | AA20: - | AB20: - | AC20: - | AD20: - | AE20: - | AF20: - | AG20: -
B21: 발산초등학교 | C21: 인천광역시 | D21: 서구 | E21: 당하동 | F21: 산100-5 | G21: 기타 | H21: 인공 | I21: 토사 | J21: 108 | K21: 12 | L21: 50 | M21: 지자체 | N21: 관계인 | O21: 민간 | P21: 03-19 | Q21: =SUM(R21:T21) -> 0 | R21: - | S21: - | T21: - | U21: - | V21: - | W21: - | X21: =SUM(Y21:AA21) -> 0 | Y21: - | Z21: - | AA21: - | AB21: - | AC21: - | AD21: - | AE21: - | AF21: - | AG21: - | AH21: 삭제 조치 예정
B22: 우성타운앞 | C22: 인천광역시 | D22: 서구 | E22: 원당동 | F22: 802 | G22: 주택 | H22: 인공 | I22: 토사 | J22: 250 | K22: 15 | L22: 45 | M22: 지자체 | N22: 관계인 | O22: 민간 | P22: 03-19 | Q22: =SUM(R22:T22) -> 1 | R22: - | S22: 1 | T22: - | U22: - | V22: 배수로 내 이물질 제거 및 주변 제초 등 정비 필요 | W22: 현장조치 | X22: =SUM(Y22:AA22) -> 1 | Y22: - | Z22: 1 | AA22: - | AB22: =AC22+AE22 -> 1 | AE22: 1 | AF22: 조치예정 | AG22: 25.4월
B23: 원적산터널입구 | C23: 인천광역시 | D23: 서구 | E23: 석남동 | F23: 산48-63 | G23: 도로 | H23: 인공 | I23: 토사 | J23: 660 | K23: 23 | L23: 60 | M23: 해당없음 | N23: 소유자 | O23: 민간 | P23: 03-12 | Q23: =SUM(R23:T23) -> 2 | R23: - | S23: 2 | T23: - | U23: - | V23: 낙석방지책 이완 배수로 불량 | W23: 현장조치 | X23: =SUM(Y23:AA23) -> 2 | Y23: 2 | Z23: - | AA23: - | AB23: - | AC23: - | AD23: - | AE23: - | AF23: - | AG23: -
B24: 풍성빌라 | C24: 인천광역시 | D24: 서구 | E24: 석남동 | F24: 109-57 | G24: 주택 | H24: 인공 | I24: 옹벽 | J24: 69 | K24: 8 | L24: 85 | M24: 지자체 | N24: 관계인 | O24: 민간 | P24: 03-25 | Q24: =SUM(R24:T24) -> 1 | R24: - | S24: - | T24: 1 | U24: - | V24: 균열 및 철근 노출 | W24: 보수·보강 | X24: =SUM(Y24:AA24) -> 0 | Y24: - | Z24: - | AA24: - | AB24: =AC24+AE24 -> 1 | AE24: 1 | AF24: 소유자 및 관리주체 통보 예정 | AG24: 25.4월(통보)
B25: 원당자이 아파트정문 | C25: 인천광역시 | D25: 서구 | E25: 원당동 | F25: 810-10 | G25: 도로 | H25: 인공 | I25: 옹벽 | J25: 60 | K25: 6 | L25: 90 | M25: 지자체 | N25: 관계인 | O25: 민간 | P25: 03-25 | Q25: =SUM(R25:T25) -> 0 | R25: - | S25: - | T25: - | U25: - | V25: - | W25: - | X25: =SUM(Y25:AA25) -> 0 | Y25: - | Z25: - | AA25: - | AB25: - | AC25: - | AD25: - | AE25: - | AF25: - | AG25: -
B26: 녹청자박물관 | C26: 인천광역시 | D26: 서구 | E26: 경서동 | F26: 209-3 | G26: 기타 | H26: 인공 | I26: 옹벽 | J26: 50 | K26: 7 | L26: 90 | M26: 지자체 | N26: 소유자 | O26: 공공 | P26: 03-25 | Q26: =SUM(R26:T26) -> 0 | R26: - | S26: - | T26: - | U26: - | V26: - | W26: - | X26: =SUM(Y26:AA26) -> 0 | Y26: - | Z26: - | AA26: - | AB26: - | AC26: - | AD26: - | AE26: - | AF26: - | AG26: -
B27: 마전18지구 급경사지 붕괴위험지역 | C27: 인천광역시 | D27: 서구 | E27: 마전동 | F27: 629-26 | G27: 공원 | H27: 인공 | I27: 암반 | J27: 12 | K27: 105 | L27: 75 | M27: 지자체 | N27: 소유자 | O27: 공공 | P27: 02-14 | Q27: =SUM(R27:T27) -> 0 | R27: - | S27: - | T27: - | U27: - | V27: - | W27: - | X27: =SUM(Y27:AA27) -> 0 | Y27: - | Z27: - | AA27: - | AB27: - | AC27: - | AD27: - | AE27: - | AF27: - | AG27: -
B28: 마전N3지구 | C28: 인천광역시 | D28: 서구 | E28: 마전동 | F28: 산33-26 | G28: 공원 | H28: 인공 | I28: 암반 | J28: 214 | K28: 24 | L28: 37 | M28: 지자체 | N28: 소유자, 관계인 | O28: 민간 | P28: 03-19 | Q28: =SUM(R28:T28) -> 1 | R28: - | S28: 1 | T28: - | U28: - | V28: 배수로 불량 | W28: 현장조치 | X28: =SUM(Y28:AA28) -> 1 | Y28: - | Z28: 1 | AA28: - | AB28: =AC28+AE28 -> 1 | AE28: 1 | AF28: 배수로 청소예정 | AG28: 25.4월 | AH28: 공공/민간
B29: 원당N1지구 | C29: 인천광역시 | D29: 서구 | E29: 원당동 | F29: 986 | G29: 공원 | H29: 인공 | I29: 복합 | J29: 155 | K29: 10 | L29: 37 | M29: 해당없음 | N29: 소유자 | O29: 공공 | P29: 03-14 | Q29: =SUM(R29:T29) -> 3 | R29: 2 | S29: 1 | T29: - | U29: - | V29: 수목 및 토양 제거 필요 배수로 토사 청소 필요 낙석 제거 필요 | W29: 현장조치 | X29: 3 | Z29: 3 | AB29: 3 | AE29: 3 | AF29: 수목 및 토양 제거 배수로 청소 낙석 제거 | AG29: 25.4월
