Workbook

Sheet 목록
A1: 유휴 공유재산 리스트 지자체 누리집 공개 서식
A2: 연번 | B2: 지자체 | C2: 소재지 | D2: 지목 | E2: 면적(㎡) | F2: 재산구분(행정/일반) | G2: 재산관리관 | H2: 사용허가·대부 가능 여부(○/×) | I2: 사용허가·대부 불가 사유 | J2: 유휴사유코드 | K2: 유휴사유명 | L2: 유휴사유 상세설명 | M2: 활용계획(예: 대부, 매각, 용도폐지 등) | Q2: 오류 검증 | S2: 담당자연락처
C3: 23 | E3: =SUBTOTAL(9,E4:E50) -> 10906.77
A4: 1 | B4: 인천 서구 | C4: 인천광역시 서구 백석동 1-27(구 산8-4) | D4: 임야 | E4: 372.27 | F4: 일반재산 | G4: 서구 재무과 | H4: ○ | J4: G05 | K4: =VLOOKUP(J4,코드!$B$3:$C$10,2) -> 단순 미활용 | L4: 공유지분 | M4: 대부 검토 | O4: =VLOOKUP(F4,코드!$E$3:$F$5,2) -> G | P4: =LEFT(J4,1) -> G | Q4: =EXACT(O4,P4) -> TRUE | S4: 032-560-4167
A5: 2 | B5: 인천 서구 | C5: 인천광역시 서구 검암동 636-9 | D5: 잡종지 | E5: 654.2 | F5: 일반재산 | G5: 서구 재무과 | H5: ○ | J5: G05 | K5: =VLOOKUP(J5,코드!$B$3:$C$10,2) -> 단순 미활용 | L5: 나대지 | M5: 대부 검토 | O5: =VLOOKUP(F5,코드!$E$3:$F$5,2) -> G | P5: =LEFT(J5,1) -> G | Q5: =EXACT(O5,P5) -> TRUE | S5: 032-560-4167
A6: 3 | B6: 인천 서구 | C6: 인천광역시 서구 가좌동 311-12 | D6: 대 | E6: 3 | F6: 일반재산 | G6: 서구 재무과 | H6: × | I6: 소규모 필지 | J6: G05 | K6: =VLOOKUP(J6,코드!$B$3:$C$10,2) -> 단순 미활용 | L6: 나대지(소규모 도로여유지) | M6: 매각 검토중 | O6: =VLOOKUP(F6,코드!$E$3:$F$5,2) -> G | P6: =LEFT(J6,1) -> G | Q6: =EXACT(O6,P6) -> TRUE | S6: 032-560-4167
A7: 4 | B7: 인천 서구 | C7: 인천광역시 서구 마전동 512-4 | D7: 답 | E7: 60 | F7: 일반재산 | G7: 서구 재무과 | H7: × | I7: 소규모 필지 | J7: G05 | K7: =VLOOKUP(J7,코드!$B$3:$C$10,2) -> 단순 미활용 | L7: 나대지(택지개발사업 진행중) | M7: 매각 검토중 | O7: =VLOOKUP(F7,코드!$E$3:$F$5,2) -> G | P7: =LEFT(J7,1) -> G | Q7: =EXACT(O7,P7) -> TRUE | S7: 032-560-4167
A8: 5 | B8: 인천 서구 | C8: 인천광역시 서구 마전동 896-6 | D8: 잡종지 | E8: 41.2 | F8: 일반재산 | G8: 서구 재무과 | H8: ○ | J8: G05 | K8: =VLOOKUP(J8,코드!$B$3:$C$10,2) -> 단순 미활용 | L8: 나대지 | M8: 대부 검토 | O8: =VLOOKUP(F8,코드!$E$3:$F$5,2) -> G | P8: =LEFT(J8,1) -> G | Q8: =EXACT(O8,P8) -> TRUE | S8: 032-560-4167
A9: 6 | B9: 인천 서구 | C9: 인천광역시 서구 마전동 905-8 | D9: 잡종지 | E9: 35.4 | F9: 일반재산 | G9: 서구 재무과 | H9: ○ | J9: G05 | K9: =VLOOKUP(J9,코드!$B$3:$C$10,2) -> 단순 미활용 | L9: 나대지(소규모임야) | M9: 대부 검토 | O9: =VLOOKUP(F9,코드!$E$3:$F$5,2) -> G | P9: =LEFT(J9,1) -> G | Q9: =EXACT(O9,P9) -> TRUE | S9: 032-560-4167
A10: 7 | B10: 인천 서구 | C10: 인천광역시 서구 마전동 913-2 | D10: 대 | E10: 231.3 | F10: 일반재산 | G10: 서구 재무과 | H10: ○ | J10: G05 | K10: =VLOOKUP(J10,코드!$B$3:$C$10,2) -> 단순 미활용 | L10: 나대지 | M10: 대부 검토 | O10: =VLOOKUP(F10,코드!$E$3:$F$5,2) -> G | P10: =LEFT(J10,1) -> G | Q10: =EXACT(O10,P10) -> TRUE | S10: 032-560-4167
A11: 8 | B11: 인천 서구 | C11: 인천광역시 서구 마전동 921-4 | D11: 잡종지 | E11: 123.5 | F11: 일반재산 | G11: 서구 재무과 | H11: ○ | J11: G05 | K11: =VLOOKUP(J11,코드!$B$3:$C$10,2) -> 단순 미활용 | L11: 나대지(소규모필지) | M11: 대부 검토 | O11: =VLOOKUP(F11,코드!$E$3:$F$5,2) -> G | P11: =LEFT(J11,1) -> G | Q11: =EXACT(O11,P11) -> TRUE | S11: 032-560-4167
A12: 9 | B12: 인천 서구 | C12: 인천광역시 서구 당하동 753 | D12: 전 | E12: 598 | F12: 일반재산 | G12: 서구 재무과 | H12: ○ | J12: G05 | K12: =VLOOKUP(J12,코드!$B$3:$C$10,2) -> 단순 미활용 | L12: 나대지 | M12: 대부 검토 | O12: =VLOOKUP(F12,코드!$E$3:$F$5,2) -> G | P12: =LEFT(J12,1) -> G | Q12: =EXACT(O12,P12) -> TRUE | S12: 032-560-4167
A13: 10 | B13: 인천 서구 | C13: 인천광역시 서구 불로동 55-1 | D13: 답 | E13: 131 | F13: 일반재산 | G13: 서구 재무과 | H13: ○ | J13: G05 | K13: =VLOOKUP(J13,코드!$B$3:$C$10,2) -> 단순 미활용 | L13: 나대지(관정) | M13: 대부 검토 | O13: =VLOOKUP(F13,코드!$E$3:$F$5,2) -> G | P13: =LEFT(J13,1) -> G | Q13: =EXACT(O13,P13) -> TRUE | S13: 032-560-4167
A14: 11 | B14: 인천 서구 | C14: 인천광역시 서구 왕길동 253 | D14: 잡종지 | E14: 346 | F14: 일반재산 | G14: 서구 재무과 | H14: ○ | J14: G05 | K14: =VLOOKUP(J14,코드!$B$3:$C$10,2) -> 단순 미활용 | L14: 나대지(아파트상가 뒷편) | M14: 매각 검토중 | O14: =VLOOKUP(F14,코드!$E$3:$F$5,2) -> G | P14: =LEFT(J14,1) -> G | Q14: =EXACT(O14,P14) -> TRUE | S14: 032-560-4167
A15: 12 | B15: 인천광역시 | C15: 인천광역시 서구 백석동 210-3 | D15: 답 | E15: 2753 | F15: 일반재산 | G15: 인천광역시 재산담당관 | H15: ○ | J15: G05 | K15: =VLOOKUP(J15,코드!$B$3:$C$10,2) -> 단순 미활용 | L15: 나대지 | M15: 매각 검토중 | O15: =VLOOKUP(F15,코드!$E$3:$F$5,2) -> G | P15: =LEFT(J15,1) -> G | Q15: =EXACT(O15,P15) -> TRUE | S15: 032-560-4167
A16: 13 | B16: 인천광역시 | C16: 인천광역시 서구 백석동 210-4 | D16: 답 | E16: 13 | F16: 일반재산 | G16: 인천광역시 재산담당관 | H16: × | I16: 소규모 필지 | J16: G05 | K16: =VLOOKUP(J16,코드!$B$3:$C$10,2) -> 단순 미활용 | L16: 나대지 | M16: 매각 검토중 | O16: =VLOOKUP(F16,코드!$E$3:$F$5,2) -> G | P16: =LEFT(J16,1) -> G | Q16: =EXACT(O16,P16) -> TRUE | S16: 032-560-4167
A17: 14 | B17: 인천광역시 | C17: 인천광역시 서구 백석동 210-24 | D17: 답 | E17: 19 | F17: 일반재산 | G17: 인천광역시 재산담당관 | H17: × | I17: 소규모 필지 | J17: G05 | K17: =VLOOKUP(J17,코드!$B$3:$C$10,2) -> 단순 미활용 | L17: 나대지 | M17: 매각 검토중 | O17: =VLOOKUP(F17,코드!$E$3:$F$5,2) -> G | P17: =LEFT(J17,1) -> G | Q17: =EXACT(O17,P17) -> TRUE | S17: 032-560-4167
A18: 15 | B18: 인천광역시 | C18: 인천광역시 서구 백석동 210-25 | D18: 답 | E18: 13 | F18: 일반재산 | G18: 인천광역시 재산담당관 | H18: × | I18: 소규모 필지 | J18: G05 | K18: =VLOOKUP(J18,코드!$B$3:$C$10,2) -> 단순 미활용 | L18: 나대지 | M18: 매각 검토중 | O18: =VLOOKUP(F18,코드!$E$3:$F$5,2) -> G | P18: =LEFT(J18,1) -> G | Q18: =EXACT(O18,P18) -> TRUE | S18: 032-560-4167
A19: 16 | B19: 인천광역시 | C19: 인천광역시 서구 금곡동 509-2 | D19: 잡종지 | E19: 119 | F19: 일반재산 | G19: 인천광역시 재산담당관 | H19: ○ | J19: G05 | K19: =VLOOKUP(J19,코드!$B$3:$C$10,2) -> 단순 미활용 | L19: 나대지 | M19: 매각 검토중 | O19: =VLOOKUP(F19,코드!$E$3:$F$5,2) -> G | P19: =LEFT(J19,1) -> G | Q19: =EXACT(O19,P19) -> TRUE | S19: 032-560-4167
A20: 17 | B20: 인천광역시 | C20: 인천광역시 서구 가좌동 591-2 | D20: 공장용지 | E20: 79.5 | F20: 일반재산 | G20: 인천광역시 재산담당관 | H20: ○ | J20: G01 | K20: =VLOOKUP(J20,코드!$B$3:$C$10,2) -> 대부계약 만료 후 미대부 상태 | L20: 나대지(공장용지에 포함) | M20: 매각 검토중 | O20: =VLOOKUP(F20,코드!$E$3:$F$5,2) -> G | P20: =LEFT(J20,1) -> G | Q20: =EXACT(O20,P20) -> TRUE | S20: 032-560-4167
A21: 18 | B21: 인천광역시 | C21: 인천광역시 서구 석남동 산118-9 | D21: 임야 | E21: 1414 | F21: 일반재산 | G21: 인천광역시 재산담당관 | H21: ○ | J21: G05 | K21: =VLOOKUP(J21,코드!$B$3:$C$10,2) -> 단순 미활용 | L21: 공유임야 | M21: 대부 검토 | Q21: =EXACT(O21,P21) -> TRUE | S21: 032-560-4167
A22: 19 | B22: 인천광역시 | C22: 인천광역시 서구 석남동 223-956 | D22: 도로 | E22: 14 | F22: 일반재산 | G22: 인천광역시 재산담당관 | H22: × | I22: 소규모 필지 | J22: G05 | K22: =VLOOKUP(J22,코드!$B$3:$C$10,2) -> 단순 미활용 | L22: 소규모 도로 | M22: 매각 검토중 | Q22: =EXACT(O22,P22) -> TRUE | S22: 032-560-4167
A23: 20 | B23: 인천광역시 | C23: 인천광역시 서구 가좌동 43-8 | D23: 대 | E23: 102 | F23: 일반재산 | G23: 인천광역시 재산담당관 | H23: ○ | J23: G05 | K23: =VLOOKUP(J23,코드!$B$3:$C$10,2) -> 단순 미활용 | L23: 나대지 | M23: 대부 검토 | Q23: =EXACT(O23,P23) -> TRUE | S23: 032-560-4167
A24: 21 | B24: 인천광역시 | C24: 인천광역시 서구 가좌동 480-15 | D24: 공장용지 | E24: 3480.4 | F24: 일반재산 | G24: 인천광역시 재산담당관 | H24: ○ | J24: G05 | K24: =VLOOKUP(J24,코드!$B$3:$C$10,2) -> 단순 미활용 | L24: 나대지 | M24: 대부 검토 | Q24: =EXACT(O24,P24) -> TRUE | S24: 032-560-4167
A25: 22 | B25: 인천광역시 | C25: 인천광역시 서구 왕길동 107-8 | D25: 답 | E25: 3 | F25: 일반재산 | G25: 인천광역시 재산담당관 | H25: × | I25: 소규모 필지 | J25: G05 | K25: =VLOOKUP(J25,코드!$B$3:$C$10,2) -> 단순 미활용 | L25: 소규모 도로 | M25: 매각 검토중 | Q25: =EXACT(O25,P25) -> TRUE | S25: 032-560-4167
A26: 23 | B26: 인천광역시 | C26: 인천광역시 서구 불로동 317-6 | D26: 임야 | E26: 301 | F26: 일반재산 | G26: 인천광역시 재산담당관 | H26: ○ | J26: G05 | K26: =VLOOKUP(J26,코드!$B$3:$C$10,2) -> 단순 미활용 | L26: 임야 | M26: 대부 검토 | Q26: =EXACT(O26,P26) -> TRUE | S26: 032-560-4167

Sheet 코드
B3: 코드 | C3: 유휴사유 분류 | E3: 구분 | F3: 코드
B4: A01 | C4: 사용허가 가능 재산(공실 등) | E4: 일반재산 | F4: G
B5: A02 | C5: 용도폐지 대상 | E5: 행정재산 | F5: A
B6: G01 | C6: 대부계약 만료 후 미대부 상태
B7: G02 | C7: 대부 예정 재산
B8: G03 | C8: 무단점유 재산
B9: G04 | C9: 누락재산 중 미활용 상태
B10: G05 | C10: 단순 미활용
